{"text_format":"1","workbook":"xlsx","n_sheets":17,"sheets":["Anleitung","24","22","20","18","16","14","12","10","8","6","4","12DR","10DR","8DR","6DR","4DR"],"not_rendered":{"charts":0,"images":87,"macros":1,"external_links":0,"defined_names":412,"comments":16,"pivot_tables":0},"unopened":[],"bounds":{"document_bytes":16777216,"sheet_cells":100000,"rows_first":2000,"rows_last":500,"rows_between":2000,"halvings":0,"cell_chars":16384,"cell_head_chars":4096},"cells_cut":0,"cells_raw":0,"read":"whole","date_system":"1900"}

{"sheet":"Anleitung","index":0,"n_rows":44,"n_cols":5,"rows_kept":44,"cut":false,"hidden":false,"merged":[[26,2,26,6]]}
[null,"Turniertabellen für Rundenturniere im Schach"]
[]
[null,"A)","Neues Turnier"]
[null,1,"Tabelle auswählen (DR für Doppelrundige Turniere)"]
[null,2,"Button\"Neu\"",null,"oder Blatt manuell in neue Mappe kopieren"]
[null,3,"Kopierte Tabelle speichern, Turniernamen etc. eintragen"]
[null,4,"Teilnehmer erfassen in Turniertabelle"]
[null,5,"bei ungrader Teilnehmerzahl an letzter Position ein * einfügen"]
[null,6,"die Paarungen werden automatisch ausgelost"]
[null,null,"(Rutschsystem Gegenuhrzeigersinn)"]
[null,7,"Zweitwertung: Unterhalb der Rangliste befindet sich eine Auswahlliste"]
[null,null,"mit 10 verschiedenen Varianten, nach welcher Reihenfolge"]
[null,null,"die Zweitwertung (Tie Break) erfolgen soll."]
[null,null,"Achtung: Die Zweitwertung kommt nur bei gleicher Punktzahl zum Tragen."]
[null,null,"Das Kriterium: \"Anzahl Partien\" ist nur relevant, wenn während dem Turnier nicht alle Teilnehmer"]
[null,null,"die gleiche Anzahl Partien aufweisen."]
[]
[null,"B)","Ergebnisse eintragen"]
[null,1,"Ergebnisse  in der Paarungsliste eintragen."]
[null,2,"erlaubte Ergebnisse: 1-0; 0-1; ½ +, -"]
[null,null,"(+ und - sind nur zur Info (Forfait) und werden wie 1-0 und 0-1 gerechnet)"]
[null,3,"Tipp: Per Doppelklick in der Turniertabelle kann direkt zu einer bestimmten"]
[null,null,"Paarung zur Resultateingabe gesprungen werden."]
[null,null,"In der Turniertabelle einfach auf das Feld doppelklicken, wo das Ergebnis rein sollte."]
[null,null,"Das macht dann Sinn, wenn man nur die Namen hat, man aber nicht weiss, in welcher Runde dies gespielt wurde."]
[null,4,"Rangliste: Die Ergebnisse werden laufend ausgewertet und die Rangliste aktualisert"]
[null,null,"Hinweis: Sämtliche Berechnungen erfolgen mit Formeln ohne Programmcode und funktionieren somit \nauch dann, wenn Makros in Excel nicht zugelassen wurden!"]
[]
[null,"C)","Sonderfunktion (Makros müssen zugelassen sein)"]
[null,1,"Drucken: Optimierter Druck ohne Leerseiten"]
[null,null,"Tipp: Die Turniertabelle kann für den Druck auch ausgeblendet werden!"]
[null,null,"Dazu einfach das kleine Plus + oberhalb der Tabelle  in ein Minus - umwandeln"]
[null,2,"Tabelle leeren: Entfernt alle Daten (Namen/Ergebnisse)"]
[null,null,"Tabelle natürlich vorher speichern!"]
[null,3,"<HTML> Erstellt aus der Rangliste oder der Paarungliste"]
[null,null,"mit den Ergebnissen ein HTML-Code, welcher direkt für dieHomepage "]
[null,null,"verwendet werden kann."]
[null,null,"Hinweis: Nach Ablauf des Programms befindet sich der Code im Arbeitsspeicher und"]
[null,null,"kann einfach per 'einfügen' (Ctrl-C) in den Webeditor eingefügt werden."]
[null,3,"gelb/grau Neutralisiert gelbe Zellen"]
[null,null," -> diese werden grau/weiss analog übrige Tabellenslayout"]
[null,null," -> diese Funktion für Veröffentlichungen wählen"]
[null,null,"Hinweis: Evt vorher \"nue\" drücken um eine Kopie zu erhalten, damit beim"]
[null,null,"Original, die beschreibbaren zellen noch sichtbar bleiben."]

{"sheet":"24","index":1,"n_rows":172,"n_cols":160,"rows_kept":172,"cut":false,"hidden":false,"merged":[[61,126,61,128],[61,140,61,142],[0,1,0,33],[1,140,1,142],[3,126,3,142],[5,126,5,128],[5,140,5,142],[19,126,19,128],[19,140,19,142],[34,31,34,32],[33,126,33,128],[33,140,33,142],[47,126,47,128],[47,140,47,142],[75,126,75,128],[75,140,75,142],[89,126,89,128],[89,140,89,142],[103,126,103,128],[103,140,103,142],[159,126,159,128],[117,126,117,128],[117,140,117,142],[131,126,131,128],[131,140,131,142],[145,126,145,128],[145,140,145,142]]}
[null,"Turniername",null,null,null,null,null,null,null,null,null,null,null,null,null,null,null,null,null,null,null,null,null,null,null,null,null,null,null,null,null,null,null,null,null,null,null,null,null,null,null,null,null,null,null,null,null,null,null,null,null,null,null,null,null,null,null,null,null,null,null,null,null,1,"1) Punkte 2) So-Be 3) Manuelle Feinwertung ",null,null,null,null,null,null,null,null,null,null,null,null,null,null,null,null,null,null,null,null,null,null,null,null,null,null,null,null,null,null,null,null,null,null,null,null,null,null,null,null,null,null,"Wiederholung Kriterien:",null,null,null,null,null,null,null,null,null,null,null,null,null,null,null,null,{"$f":"\"Paarungsliste und Resultate \"&IF(Turnier=\"\",\"\",Turnier)","v":"Paarungsliste und Resultate Turniername"},null,null,null,null,null,null,null,null,null,null,null,null,null,null,null,null,null,null,null,null,null,null,null,null,null,null,null,"Paarungsliste Darstellung Rutschsystem",null,null,null,null,null,{"$f":"IF(Datum=\"\",\"\",\"Datum:\")","v":""}]
[null,null,null,null,null,null,null,null,null,null,null,null,null,null,null,null,null,null,null,null,null,null,null,null,null,null,null,null,null,null,null,null,null,null,null,null,null,null,null,null,null,null,null,null,null,null,null,null,null,null,null,null,null,null,null,null,null,null,null,null,"a","b","P",2,"1) Punkte 2) So-Be 3) direkte Begegnung 4) Manuelle Feinwertung ",null,null,null,null,null,null,null,null,null,null,null,null,null,null,null,null,null,null,null,null,null,null,null,null,null,null,null,null,null,null,null,null,null,null,null,null,null,null,null,null,null,1,{"$f":"BM1","v":"1) Punkte 2) So-Be 3) Manuelle Feinwertung "},null,null,null,null,null,null,null,null,null,null,null,null,null,null,null,null,{"$f":"IF(Turnier=\"\",\"\",\"Turniername:\")","v":"Turniername:"},null,{"$f":"IF(Turnier=\"\",\"\",Turnier)","v":"Turniername"},null,null,null,null,null,null,null,null,null,null,null,null,"Datum:",null,null,null,null,null,null,null,null,null,null,null,null,{"$f":"IF(Turnier=\"\",\"\",\"Turniername:\")","v":"Turniername:"},null,{"$f":"IF(Turnier=\"\",\"\",Turnier)&IF(Datum=\"\",\"\",\", \"&TEXT(Datum,\"TT.MM.JJJJ\"))","v":"Turniername"}]
[null,null,null,null,null,null,null,null,null,null,null,null,null,null,null,null,null,null,null,null,null,null,null,null,null,null,null,null,null,null,null,null,null,null,null,null,null,null,null,null,null,null,null,null,null,null,null,null,null,null,null,null,null,null,null,null,null,null,null,null,"1","0",1,3,"1) Punkte 2) Anz. Partien 3) So-Be 4) Manuelle Feinwertung "]
[null,"Rangliste",null,null,null,null,null,null,null,null,null,null,null,null,null,null,null,null,null,null,null,null,null,null,null,null,null,null,null,null,null,null,null,null,null,null,null,null,null,null,null,null,null,null,null,null,null,null,null,null,null,null,null,null,null,null,null,null,null,null,"0","1",0,4,"1) Punkte 2) Anz. Partien 3) So-Be 4) direkte Begegnung 5) Manuelle Feinwertung ",null,null,null,null,null,null,null,null,null,null,null,null,null,null,null,null,null,null,null,null,null,null,null,null,null,null,null,null,null,null,null,null,null,null,null,null,null,null,null,null,null,2,{"$f":"BM2","v":"1) Punkte 2) So-Be 3) direkte Begegnung 4) Manuelle Feinwertung "},null,null,null,null,null,null,null,null,null,null,null,null,null,null,null,null,"Turnierleitung:",null,null,null,null,null,null,null,null,null,null,null,null,null,null,null,null,null,null,null,null,null,null,null,null,null,null,null,{"$f":"IF(Turnierleitung=\"\",\"\",\"Turnierleitung:\")","v":""},null,{"$f":"IF(Turnierleitung=\"\",\"\",Turnierleitung)","v":""}]
[null,null,null,null,null,null,null,null,null,null,null,null,null,null,null,null,null,null,null,null,null,null,null,null,null,null,null,null,null,null,null,null,null,null,null,null,null,null,null,null,null,null,null,null,null,null,null,null,null,null,null,null,null,null,null,null,null,null,null,null,"½","½",0.5,5,"1) Punkte 2) Anz. Partien 3) So-Be 4) direkte Begegnung 5) Anz.Schwarzpartien 6) Manuelle Feinwertung ",null,null,null,null,null,null,null,null,null,null,null,null,null,null,null,null,null,null,null,null,null,null,null,null,null,null,null,null,null,null,null,null,null,null,null,null,null,null,null,null,null,3,"1) Punkte 2) Anz. Partien 3) So-Be 4) Manuelle Feinwertung "]
[null,"Rang","Teilnehmer",1,2,3,4,5,6,7,8,9,10,11,12,13,14,15,16,17,18,19,20,21,22,23,24,"Punkte","Spiele","So-Be",{"$f":"IF(AE36=\"\",\"FWm\",AE36)","v":"FW+"},1,"½",0,"Nr",null,null,null,null,null,null,null,null,null,null,null,null,null,null,null,null,null,null,null,null,null,null,null,null,null,"+","-",1,6,"1) Punkte 2) Anz. Partien 3) So-Be 4) Anz.Schwarzpartien 5) direkte Begegnung 6) Manuelle Feinwertung ",null,null,null,null,null,null,null,null,null,null,null,null,null,null,null,null,null,null,null,null,null,null,null,null,null,null,null,null,null,null,null,null,null,null,null,null,null,null,null,null,null,4,"1) Punkte 2) Anz. Partien 3) So-Be 4) direkte Begegnung 5) Manuelle Feinwertung ",null,null,null,null,null,null,null,null,null,null,null,null,null,null,null,null,1,null,null,null,null,"R","B","SpNr w","SpNr s","Res w","Res s","AdrTTw","AdrTTs",null,{"$f":"DU6+1","v":2},null,null,null,null,"R","B","SpNr w","SpNr s","Res w","Res s","AdrTTw","AdrTTs",null,{"$f":"DU6","v":1},1,null,null,null,{"$f":"EI6","v":2}]
[null,{"$f":"IF(INDEX($DO$37:$DO$60,MATCH(B37,$DS$37:$DS$60,0)),\"--\",IF(INDEX($DN$37:$DN$60,MATCH(B37,$DS$37:$DS$60,0))<ROW()-ROW($B$6),\"\",INDEX($DN$37:$DN$60,MATCH(B37,$DS$37:$DS$60,0))))","v":1},{"$f":"IF(INDEX($C$37:$C$60,MATCH(B37,$DS$37:$DS$60,0))=0,\"Spieler \"&TEXT(AI7,\"00\"),INDEX($C$37:$C$60,MATCH(B37,$DS$37:$DS$60,0)))","v":"Spieler 01"},{"$f":"IF(INDEX($B$36:$AA$60,MATCH($AI7,$B$36:$B$60,0),MATCH(INDEX($B$37:$B$60,MATCH(OFFSET($AI$6,D$6,0),$B$37:$B$60,0)),$B$36:$AA$36,0))=\"\",\"\",INDEX($B$36:$AA$60,MATCH($AI7,$B$36:$B$60,0),MATCH(INDEX($B$37:$B$60,MATCH(OFFSET($AI$6,D$6,0),$B$37:$B$60,0)),$B$36:$AA$36,0)))","v":""},"","","","","","","","","",{"$f":"IF(INDEX($B$36:$AA$60,MATCH($AI7,$B$36:$B$60,0),MATCH(INDEX($B$37:$B$60,MATCH(OFFSET($AI$6,N$6,0),$B$37:$B$60,0)),$B$36:$AA$36,0))=\"\",\"\",INDEX($B$36:$AA$60,MATCH($AI7,$B$36:$B$60,0),MATCH(INDEX($B$37:$B$60,MATCH(OFFSET($AI$6,N$6,0),$B$37:$B$60,0)),$B$36:$AA$36,0)))","v":""},"","","","","","","","","","","","","",{"$f":"INDEX($BH$37:$BH$60,MATCH(AI7,$B$37:$B$60,0))","v":0},{"$f":"INDEX($AC$37:$AC$60,MATCH(AI7,$B$37:$B$60,0))","v":0},{"$f":"INDEX($AD$37:$AD$60,MATCH(AI7,$B$37:$B$60,0))","v":0},{"$f":"INDEX($AE$37:$AE$60,MATCH(AI7,$B$37:$B$60,0))","v":0},{"$f":"COUNTIF($D7:$AA7,1)+COUNTIF($D7:$AA7,\"+\")","v":0},{"$f":"COUNTIF($D7:$AA7,\"½\")","v":0},{"$f":"COUNTIF($D7:$AA7,0)+COUNTIF($D7:$AA7,\"-\")","v":0},{"$f":"INDEX($B$37:$B$60,MATCH(B37,$DS$37:$DS$60,0))","v":1},null,null,null,null,null,null,null,null,null,null,null,null,null,null,null,null,null,null,null,null,null,null,null,null,null,"-","+",0,7,"1) Punkte 2) Anz. Partien 3) direkte Begegnung 4) So-Be 5) Anz.Schwarzpartien 6) Manuelle Feinwertung ",null,null,null,null,null,null,null,null,null,null,null,null,null,null,null,null,null,null,null,null,null,null,null,null,null,null,null,null,null,null,null,null,null,null,null,null,null,null,null,null,null,5,"1) Punkte 2) Anz. Partien 3) So-Be 4) direkte Begegnung 5) Anz.Schwarzpartien 6) Manuelle Feinwertung ",null,null,null,null,null,null,null,null,null,null,null,null,null,null,null,{"$f":"IF(OR(INDEX($DO$37:$DO$60,EB7),INDEX($DO$37:$DO$60,EC7)),0,1)","v":1},{"$f":"INDEX($DP$37:$DP$60,MATCH($EB7,TeilnNr,0))","v":"Spieler 01"},"-",{"$f":"INDEX($DP$37:$DP$60,MATCH($EC7,TeilnNr,0))","v":"Spieler 24"},null,null,{"$f":"DU6","v":1},1,{"$f":"IF(AND(EA7=1,MOD(DZ7,2)=0),MAX(TeilnNr),IF(MOD(EA7,2)=0,IF(MAX(TeilnNr)/2-EA7+1-(DZ7-MAX(TeilnNr)/2-1)>=1,MAX(TeilnNr)/2-EA7+1-(DZ7-MAX(TeilnNr)/2-1),MAX(TeilnNr)/2-EA7+1-(DZ7-MAX(TeilnNr)/2-1)+MAX(TeilnNr)-1),IF(EA7-(DZ7-1)>=1,EA7-(DZ7-1),EA7-(DZ7-1)+MAX(TeilnNr)-1)))","v":1},{"$f":"IF(AND(EA7=1,MOD(DZ7,2)<>0),MAX(TeilnNr),IF(MOD(EA7,2)<>0,IF(MAX(TeilnNr)/2-EA7+1-(DZ7-MAX(TeilnNr)/2-1)>=1,MAX(TeilnNr)/2-EA7+1-(DZ7-MAX(TeilnNr)/2-1),MAX(TeilnNr)/2-EA7+1-(DZ7-MAX(TeilnNr)/2-1)+MAX(TeilnNr)-1),IF(EA7-(DZ7-1)>=1,EA7-(DZ7-1),EA7-(DZ7-1)+MAX(TeilnNr)-1)))","v":24},{"$f":"IF(LEFT(DY7,1)=\"V\",\"\",LEFT(DY7,1))","v":""},{"$f":"IF(RIGHT(DY7,1)=\"V\",\"\",RIGHT(DY7,1))","v":""},{"$f":"ADDRESS(ROW(Teilnehmer)+EB7,COLUMN(Teilnehmer)+EC7)","v":"$AA$37"},{"$f":"ADDRESS(ROW(Teilnehmer)+EC7,COLUMN(Teilnehmer)+EB7)","v":"$D$60"},{"$f":"IF(OR(INDEX($DO$37:$DO$60,EP7),INDEX($DO$37:$DO$60,EQ7)),0,1)","v":1},{"$f":"INDEX($DP$37:$DP$60,MATCH($EP7,TeilnNr,0))","v":"Spieler 24"},"-",{"$f":"INDEX($DP$37:$DP$60,MATCH($EQ7,TeilnNr,0))","v":"Spieler 23"},null,null,{"$f":"EI6","v":2},1,{"$f":"IF(AND(EO7=1,MOD(EN7,2)=0),MAX(TeilnNr),IF(MOD(EO7,2)=0,IF(MAX(TeilnNr)/2-EO7+1-(EN7-MAX(TeilnNr)/2-1)>=1,MAX(TeilnNr)/2-EO7+1-(EN7-MAX(TeilnNr)/2-1),MAX(TeilnNr)/2-EO7+1-(EN7-MAX(TeilnNr)/2-1)+MAX(TeilnNr)-1),IF(EO7-(EN7-1)>=1,EO7-(EN7-1),EO7-(EN7-1)+MAX(TeilnNr)-1)))","v":24},{"$f":"IF(AND(EO7=1,MOD(EN7,2)<>0),MAX(TeilnNr),IF(MOD(EO7,2)<>0,IF(MAX(TeilnNr)/2-EO7+1-(EN7-MAX(TeilnNr)/2-1)>=1,MAX(TeilnNr)/2-EO7+1-(EN7-MAX(TeilnNr)/2-1),MAX(TeilnNr)/2-EO7+1-(EN7-MAX(TeilnNr)/2-1)+MAX(TeilnNr)-1),IF(EO7-(EN7-1)>=1,EO7-(EN7-1),EO7-(EN7-1)+MAX(TeilnNr)-1)))","v":23},{"$f":"IF(LEFT(EM7,1)=\"V\",\"\",LEFT(EM7,1))","v":""},{"$f":"IF(RIGHT(EM7,1)=\"V\",\"\",RIGHT(EM7,1))","v":""},{"$f":"ADDRESS(ROW(Teilnehmer)+EP7,COLUMN(Teilnehmer)+EQ7)","v":"$Z$60"},{"$f":"ADDRESS(ROW(Teilnehmer)+EQ7,COLUMN(Teilnehmer)+EP7)","v":"$AA$59"},{"$f":"DT7","v":1},{"$f":"DU7","v":"Spieler 01"},"-",{"$f":"DW7","v":"Spieler 24"},null,{"$f":"EH7","v":1},{"$f":"EK7","v":"Spieler 23"},"-",{"$f":"EI7","v":"Spieler 24"}]
[null,"","Spieler 02","","","","","","","","","","","","","","","","","","","","","","","","",0,0,0,0,0,0,0,2,null,null,null,null,null,null,null,null,null,null,null,null,null,null,null,null,null,null,null,null,null,null,null,null,null,null,null,null,8,"1) Punkte 2) Anz. Partien 3) direkte Begegnung 4) Anz.Schwarzpartien 5) So-Be 6) Manuelle Feinwertung ",null,null,null,null,null,null,null,null,null,null,null,null,null,null,null,null,null,null,null,null,null,null,null,null,null,null,null,null,null,null,null,null,null,null,null,null,null,null,null,null,null,6,"1) Punkte 2) Anz. Partien 3) So-Be 4) Anz.Schwarzpartien 5) direkte Begegnung 6) Manuelle Feinwertung ",null,null,null,null,null,null,null,null,null,null,null,null,null,null,null,{"$f":"DT7+1","v":2},"Spieler 23","-","Spieler 02",null,null,{"$f":"DZ7","v":1},{"$f":"EA7+1","v":2},23,2,"","","$E$59","$Z$38",{"$f":"EH7+1","v":2},"Spieler 22","-","Spieler 01",null,null,{"$f":"EN7","v":2},{"$f":"EO7+1","v":2},22,1,"","","$D$58","$Y$37",{"$f":"DT8","v":2},{"$f":"DW8","v":"Spieler 02"},"-",{"$f":"DU8","v":"Spieler 23"},null,{"$f":"EH8","v":2},{"$f":"EK8","v":"Spieler 01"},"-",{"$f":"EI8","v":"Spieler 22"}]
[null,"","Spieler 03","","","","","","","","","","","","","","","","","","","","","","","","",0,0,0,0,0,0,0,3,null,null,null,null,null,null,null,null,null,null,null,null,null,null,null,null,null,null,null,null,null,null,null,null,null,null,null,null,9,"1) Punkte 2) Anz. Partien 3) Anz.Schwarzpartien 4) So-Be 5) direkte Begegnung 6) Manuelle Feinwertung ",null,null,null,null,null,null,null,null,null,null,null,null,null,null,null,null,null,null,null,null,null,null,null,null,null,null,null,null,null,null,null,null,null,null,null,null,null,null,null,null,null,7,"1) Punkte 2) Anz. Partien 3) direkte Begegnung 4) So-Be 5) Anz.Schwarzpartien 6) Manuelle Feinwertung ",null,null,null,null,null,null,null,null,null,null,null,null,null,null,null,{"$f":"DT8+1","v":3},"Spieler 03","-","Spieler 22",null,null,{"$f":"DZ8","v":1},{"$f":"EA8+1","v":3},3,22,"","","$Y$39","$F$58",{"$f":"EH8+1","v":3},"Spieler 02","-","Spieler 21",null,null,{"$f":"EN8","v":2},{"$f":"EO8+1","v":3},2,21,"","","$X$38","$E$57",{"$f":"DT9","v":3},{"$f":"DU9","v":"Spieler 03"},"-",{"$f":"DW9","v":"Spieler 22"},null,{"$f":"EH9","v":3},{"$f":"EI9","v":"Spieler 02"},"-",{"$f":"EK9","v":"Spieler 21"}]
[null,"","Spieler 04","","","","","","","","","","","","","","","","","","","","","","","","",0,0,0,0,0,0,0,4,null,null,null,null,null,null,null,null,null,null,null,null,null,null,null,null,null,null,null,null,null,null,null,null,null,null,null,4,10,"1) Punkte 2) Anz. Partien 3) Anz.Schwarzpartien 4) direkte Begegnung 5) So-Be 6) Manuelle Feinwertung ",null,null,null,null,null,null,null,null,null,null,null,null,null,null,null,null,null,null,null,null,null,null,null,null,null,null,null,null,null,null,null,null,null,null,null,null,null,null,null,null,null,8,"1) Punkte 2) Anz. Partien 3) direkte Begegnung 4) Anz.Schwarzpartien 5) So-Be 6) Manuelle Feinwertung ",null,null,null,null,null,null,null,null,null,null,null,null,null,null,null,4,"Spieler 21","-","Spieler 04",null,null,{"$f":"DZ9","v":1},4,21,4,"","","$G$57","$X$40",4,"Spieler 20","-","Spieler 03",null,null,{"$f":"EN9","v":2},4,20,3,"","","$F$56","$W$39",{"$f":"DT10","v":4},{"$f":"DW10","v":"Spieler 04"},"-",{"$f":"DU10","v":"Spieler 21"},null,{"$f":"EH10","v":4},{"$f":"EK10","v":"Spieler 03"},"-",{"$f":"EI10","v":"Spieler 20"}]
[null,"","Spieler 05","","","","","","","","","","","","","","","","","","","","","","","","",0,0,0,0,0,0,0,5,null,null,null,null,null,null,null,null,null,null,null,null,null,null,null,null,null,null,null,null,null,null,null,null,null,null,null,null,null,null,null,null,null,null,null,null,null,null,null,null,null,null,null,null,null,null,null,null,null,null,null,null,null,null,null,null,null,null,null,null,null,null,null,null,null,null,null,null,null,null,null,9,"1) Punkte 2) Anz. Partien 3) Anz.Schwarzpartien 4) So-Be 5) direkte Begegnung 6) Manuelle Feinwertung ",null,null,null,null,null,null,null,null,null,null,null,null,null,null,null,5,"Spieler 05","-","Spieler 20",null,null,1,5,5,20,"","","$W$41","$H$56",5,"Spieler 04","-","Spieler 19",null,null,2,5,4,19,"","","$V$40","$G$55",5,{"$f":"DU11","v":"Spieler 05"},"-",{"$f":"DW11","v":"Spieler 20"},null,5,{"$f":"EI11","v":"Spieler 04"},"-",{"$f":"EK11","v":"Spieler 19"}]
[null,"","Spieler 06","","","","","","","","","","","","","","","","","","","","","","","","",0,0,0,0,0,0,0,6,null,null,null,null,null,null,null,null,null,null,null,null,null,null,null,null,null,null,null,null,null,null,null,null,null,null,null,null,null,null,null,null,null,null,null,null,null,null,null,null,null,null,null,null,null,null,null,null,null,null,null,null,null,null,null,null,null,null,null,null,null,null,null,null,null,null,null,null,null,null,null,10,"1) Punkte 2) Anz. Partien 3) Anz.Schwarzpartien 4) direkte Begegnung 5) So-Be 6) Manuelle Feinwertung ",null,null,null,null,null,null,null,null,null,null,null,null,null,null,null,6,"Spieler 19","-","Spieler 06",null,null,1,6,19,6,"","","$I$55","$V$42",6,"Spieler 18","-","Spieler 05",null,null,2,6,18,5,"","","$H$54","$U$41",6,{"$f":"DW12","v":"Spieler 06"},"-",{"$f":"DU12","v":"Spieler 19"},null,6,{"$f":"EK12","v":"Spieler 05"},"-",{"$f":"EI12","v":"Spieler 18"}]
[null,"","Spieler 07","","","","","","","","","","","","","","","","","","","","","","","","",0,0,0,0,0,0,0,7,null,null,null,null,null,null,null,null,null,null,null,null,null,null,null,null,null,null,null,null,null,null,null,null,null,null,null,null,null,null,null,null,null,null,null,null,null,null,null,null,null,null,null,null,null,null,null,null,null,null,null,null,null,null,null,null,null,null,null,null,null,null,null,null,null,null,null,null,null,null,null,null,null,null,null,null,null,null,null,null,null,null,null,null,null,null,null,null,7,"Spieler 07","-","Spieler 18",null,null,1,7,7,18,"","",{"$f":"ADDRESS(ROW(Teilnehmer)+EB13,COLUMN(Teilnehmer)+EC13)","v":"$U$43"},{"$f":"ADDRESS(ROW(Teilnehmer)+EC13,COLUMN(Teilnehmer)+EB13)","v":"$J$54"},7,"Spieler 06","-","Spieler 17",null,null,2,7,6,17,"","",{"$f":"ADDRESS(ROW(Teilnehmer)+EP13,COLUMN(Teilnehmer)+EQ13)","v":"$T$42"},{"$f":"ADDRESS(ROW(Teilnehmer)+EQ13,COLUMN(Teilnehmer)+EP13)","v":"$I$53"},7,{"$f":"DU13","v":"Spieler 07"},"-",{"$f":"DW13","v":"Spieler 18"},null,7,{"$f":"EI13","v":"Spieler 06"},"-",{"$f":"EK13","v":"Spieler 17"}]
[null,"","Spieler 08","","","","","","","","","","","","","","","","","","","","","","","","",0,0,0,0,0,0,0,8,null,null,null,null,null,null,null,null,null,null,null,null,null,null,null,null,null,null,null,null,null,null,null,null,null,null,null,null,null,null,null,null,null,null,null,null,null,null,null,null,null,null,null,null,null,null,null,null,null,null,null,null,null,null,null,null,null,null,null,null,null,null,null,null,null,null,null,null,null,null,null,null,null,null,null,null,null,null,null,null,null,null,null,null,null,null,null,null,8,"Spieler 17","-","Spieler 08",null,null,1,8,17,8,"","","$K$53","$T$44",8,"Spieler 16","-","Spieler 07",null,null,2,8,16,7,"","","$J$52","$S$43",8,{"$f":"DW14","v":"Spieler 08"},"-",{"$f":"DU14","v":"Spieler 17"},null,8,{"$f":"EK14","v":"Spieler 07"},"-",{"$f":"EI14","v":"Spieler 16"}]
[null,"","Spieler 09","","","","","","","","","","","","","","","","","","","","","","","","",0,0,0,0,0,0,0,9,null,null,null,null,null,null,null,null,null,null,null,null,null,null,null,null,null,null,null,null,null,null,null,null,null,null,null,null,null,null,null,null,null,null,null,null,null,null,null,null,null,null,null,null,null,null,null,null,null,null,null,null,null,null,null,null,null,null,null,null,null,null,null,null,null,null,null,null,null,null,null,null,null,null,null,null,null,null,null,null,null,null,null,null,null,null,null,null,9,"Spieler 09","-","Spieler 16",null,null,1,9,9,16,"","","$S$45","$L$52",9,"Spieler 08","-","Spieler 15",null,null,2,9,8,15,"","","$R$44","$K$51",9,{"$f":"DU15","v":"Spieler 09"},"-",{"$f":"DW15","v":"Spieler 16"},null,9,{"$f":"EI15","v":"Spieler 08"},"-",{"$f":"EK15","v":"Spieler 15"}]
[null,"","Spieler 10","","","","","","","","","","","","","","","","","","","","","","","","",0,0,0,0,0,0,0,10,null,null,null,null,null,null,null,null,null,null,null,null,null,null,null,null,null,null,null,null,null,null,null,null,null,null,null,null,null,null,null,null,null,null,null,null,null,null,null,null,null,null,null,null,null,null,null,null,null,null,null,null,null,null,null,null,null,null,null,null,null,null,null,null,null,null,null,null,null,null,null,null,null,null,null,null,null,null,null,null,null,null,null,null,null,null,null,null,10,"Spieler 15","-","Spieler 10",null,null,1,10,15,10,"","","$M$51","$R$46",10,"Spieler 14","-","Spieler 09",null,null,2,10,14,9,"","","$L$50","$Q$45",10,{"$f":"DW16","v":"Spieler 10"},"-",{"$f":"DU16","v":"Spieler 15"},null,10,{"$f":"EK16","v":"Spieler 09"},"-",{"$f":"EI16","v":"Spieler 14"}]
[null,"","Spieler 11",{"$f":"IF(INDEX($B$36:$AA$60,MATCH($AI17,$B$36:$B$60,0),MATCH(INDEX($B$37:$B$60,MATCH(OFFSET($AI$6,D$6,0),$B$37:$B$60,0)),$B$36:$AA$36,0))=\"\",\"\",INDEX($B$36:$AA$60,MATCH($AI17,$B$36:$B$60,0),MATCH(INDEX($B$37:$B$60,MATCH(OFFSET($AI$6,D$6,0),$B$37:$B$60,0)),$B$36:$AA$36,0)))","v":""},"","","","","","","","","",{"$f":"IF(INDEX($B$36:$AA$60,MATCH($AI17,$B$36:$B$60,0),MATCH(INDEX($B$37:$B$60,MATCH(OFFSET($AI$6,N$6,0),$B$37:$B$60,0)),$B$36:$AA$36,0))=\"\",\"\",INDEX($B$36:$AA$60,MATCH($AI17,$B$36:$B$60,0),MATCH(INDEX($B$37:$B$60,MATCH(OFFSET($AI$6,N$6,0),$B$37:$B$60,0)),$B$36:$AA$36,0)))","v":""},"","","","","","","","","","","","","",0,0,0,0,0,0,0,11,null,null,null,null,null,null,null,null,null,null,null,null,null,null,null,null,null,null,null,null,null,null,null,null,null,null,null,null,null,null,null,null,null,null,null,null,null,null,null,null,null,null,null,null,null,null,null,null,null,null,null,null,null,null,null,null,null,null,null,null,null,null,null,null,null,null,null,null,null,null,null,null,null,null,null,null,null,null,null,null,null,null,null,null,null,null,null,null,11,"Spieler 11","-","Spieler 14",null,null,1,11,11,14,"","","$Q$47","$N$50",11,"Spieler 10","-","Spieler 13",null,null,2,11,10,13,"","","$P$46","$M$49",11,{"$f":"DU17","v":"Spieler 11"},"-",{"$f":"DW17","v":"Spieler 14"},null,11,{"$f":"EI17","v":"Spieler 10"},"-",{"$f":"EK17","v":"Spieler 13"}]
[null,"","Spieler 12","","","","","","","","","","","","","","","","","","","","","","","","",0,0,0,0,0,0,0,12,null,null,null,null,null,null,null,null,null,null,null,null,null,null,null,null,null,null,null,null,null,null,null,null,null,null,null,null,null,null,null,null,null,null,null,null,null,null,null,null,null,null,null,null,null,null,null,null,null,null,null,null,null,null,null,null,null,null,null,null,null,null,null,null,null,null,null,null,null,null,null,null,null,null,null,null,null,null,null,null,null,null,null,null,null,null,null,null,12,"Spieler 13","-","Spieler 12",null,null,1,12,13,12,"","","$O$49","$P$48",12,"Spieler 12","-","Spieler 11",null,null,2,12,12,11,"","","$N$48","$O$47",12,{"$f":"DW18","v":"Spieler 12"},"-",{"$f":"DU18","v":"Spieler 13"},null,12,{"$f":"EK18","v":"Spieler 11"},"-",{"$f":"EI18","v":"Spieler 12"}]
[null,"","Spieler 13","","","","","","","","","","","","","","","","","","","","","","","","",0,0,0,0,0,0,0,13]
[null,"","Spieler 14","","","","","","","","","","","","","","","","","","","","","","","","",0,0,0,0,0,0,0,14,null,null,null,null,null,null,null,null,null,null,null,null,null,null,null,null,null,null,null,null,null,null,null,null,null,null,null,null,null,null,null,null,null,null,null,null,null,null,null,null,null,null,null,null,null,null,null,null,null,null,null,null,null,null,null,null,null,null,null,null,null,null,null,null,null,null,null,null,null,null,null,null,null,null,null,null,null,null,null,null,null,null,null,null,null,null,null,null,null,{"$f":"DU6+2","v":3},null,null,null,null,"R","B","SpNr w","SpNr s","Res w","Res s",null,null,null,{"$f":"EI6+2","v":4},null,null,null,null,"R","B","SpNr w","SpNr s","Res w","Res s",null,null,null,{"$f":"DU20","v":3},1,null,null,null,{"$f":"EI20","v":4}]
[null,"","Spieler 15","","","","","","","","","","","","","","","","","","","","","","","","",0,0,0,0,0,0,0,15,null,null,null,null,null,null,null,null,null,null,null,null,null,null,null,null,null,null,null,null,null,null,null,null,null,null,null,null,null,null,null,null,null,null,null,null,null,null,null,null,null,null,null,null,null,null,null,null,null,null,null,null,null,null,null,null,null,null,null,null,null,null,null,null,null,null,null,null,null,null,null,null,null,null,null,null,null,null,null,null,null,null,null,null,null,null,null,null,{"$f":"IF(OR(INDEX($DO$37:$DO$60,EB21),INDEX($DO$37:$DO$60,EC21)),0,1)","v":1},{"$f":"INDEX($DP$37:$DP$60,MATCH($EB21,TeilnNr,0))","v":"Spieler 22"},"-",{"$f":"INDEX($DP$37:$DP$60,MATCH($EC21,TeilnNr,0))","v":"Spieler 24"},null,null,{"$f":"DU20","v":3},1,{"$f":"IF(AND(EA21=1,MOD(DZ21,2)=0),MAX(TeilnNr),IF(MOD(EA21,2)=0,IF(MAX(TeilnNr)/2-EA21+1-(DZ21-MAX(TeilnNr)/2-1)>=1,MAX(TeilnNr)/2-EA21+1-(DZ21-MAX(TeilnNr)/2-1),MAX(TeilnNr)/2-EA21+1-(DZ21-MAX(TeilnNr)/2-1)+MAX(TeilnNr)-1),IF(EA21-(DZ21-1)>=1,EA21-(DZ21-1),EA21-(DZ21-1)+MAX(TeilnNr)-1)))","v":22},{"$f":"IF(AND(EA21=1,MOD(DZ21,2)<>0),MAX(TeilnNr),IF(MOD(EA21,2)<>0,IF(MAX(TeilnNr)/2-EA21+1-(DZ21-MAX(TeilnNr)/2-1)>=1,MAX(TeilnNr)/2-EA21+1-(DZ21-MAX(TeilnNr)/2-1),MAX(TeilnNr)/2-EA21+1-(DZ21-MAX(TeilnNr)/2-1)+MAX(TeilnNr)-1),IF(EA21-(DZ21-1)>=1,EA21-(DZ21-1),EA21-(DZ21-1)+MAX(TeilnNr)-1)))","v":24},{"$f":"IF(LEFT(DY21,1)=\"V\",\"\",LEFT(DY21,1))","v":""},{"$f":"IF(RIGHT(DY21,1)=\"V\",\"\",RIGHT(DY21,1))","v":""},{"$f":"ADDRESS(ROW(Teilnehmer)+EB21,COLUMN(Teilnehmer)+EC21)","v":"$AA$58"},{"$f":"ADDRESS(ROW(Teilnehmer)+EC21,COLUMN(Teilnehmer)+EB21)","v":"$Y$60"},{"$f":"IF(OR(INDEX($DO$37:$DO$60,EP21),INDEX($DO$37:$DO$60,EQ21)),0,1)","v":1},{"$f":"INDEX($DP$37:$DP$60,MATCH($EP21,TeilnNr,0))","v":"Spieler 24"},"-",{"$f":"INDEX($DP$37:$DP$60,MATCH($EQ21,TeilnNr,0))","v":"Spieler 21"},null,null,{"$f":"EI20","v":4},1,{"$f":"IF(AND(EO21=1,MOD(EN21,2)=0),MAX(TeilnNr),IF(MOD(EO21,2)=0,IF(MAX(TeilnNr)/2-EO21+1-(EN21-MAX(TeilnNr)/2-1)>=1,MAX(TeilnNr)/2-EO21+1-(EN21-MAX(TeilnNr)/2-1),MAX(TeilnNr)/2-EO21+1-(EN21-MAX(TeilnNr)/2-1)+MAX(TeilnNr)-1),IF(EO21-(EN21-1)>=1,EO21-(EN21-1),EO21-(EN21-1)+MAX(TeilnNr)-1)))","v":24},{"$f":"IF(AND(EO21=1,MOD(EN21,2)<>0),MAX(TeilnNr),IF(MOD(EO21,2)<>0,IF(MAX(TeilnNr)/2-EO21+1-(EN21-MAX(TeilnNr)/2-1)>=1,MAX(TeilnNr)/2-EO21+1-(EN21-MAX(TeilnNr)/2-1),MAX(TeilnNr)/2-EO21+1-(EN21-MAX(TeilnNr)/2-1)+MAX(TeilnNr)-1),IF(EO21-(EN21-1)>=1,EO21-(EN21-1),EO21-(EN21-1)+MAX(TeilnNr)-1)))","v":21},{"$f":"IF(LEFT(EM21,1)=\"V\",\"\",LEFT(EM21,1))","v":""},{"$f":"IF(RIGHT(EM21,1)=\"V\",\"\",RIGHT(EM21,1))","v":""},{"$f":"ADDRESS(ROW(Teilnehmer)+EP21,COLUMN(Teilnehmer)+EQ21)","v":"$X$60"},{"$f":"ADDRESS(ROW(Teilnehmer)+EQ21,COLUMN(Teilnehmer)+EP21)","v":"$AA$57"},{"$f":"DT21","v":1},"Spieler 22","-",{"$f":"DW21","v":"Spieler 24"},null,{"$f":"EH21","v":1},{"$f":"EK21","v":"Spieler 21"},"-",{"$f":"EI21","v":"Spieler 24"}]
[null,"","Spieler 16","","","","","","","","","","","","","","","","","","","","","","","","",0,0,0,0,0,0,0,16,null,null,null,null,null,null,null,null,null,null,null,null,null,null,null,null,null,null,null,null,null,null,null,null,null,null,null,null,null,null,null,null,null,null,null,null,null,null,null,null,null,null,null,null,null,null,null,null,null,null,null,null,null,null,null,null,null,null,null,null,null,null,null,null,null,null,null,null,null,null,null,null,null,null,null,null,null,null,null,null,null,null,null,null,null,null,null,null,{"$f":"DT21+1","v":2},"Spieler 21","-","Spieler 23",null,null,{"$f":"DZ21","v":3},{"$f":"EA21+1","v":2},21,23,"","","$Z$57","$X$59",{"$f":"EH21+1","v":2},"Spieler 20","-","Spieler 22",null,null,{"$f":"EN21","v":4},{"$f":"EO21+1","v":2},20,22,"","","$Y$56","$W$58",{"$f":"DT22","v":2},{"$f":"DW22","v":"Spieler 23"},"-",{"$f":"DU22","v":"Spieler 21"},null,2,"Spieler 22","-","Spieler 20"]
[null,"","Spieler 17","","","","","","","","","","","","","","","","","","","","","","","","",0,0,0,0,0,0,0,17,null,null,null,null,null,null,null,null,null,null,null,null,null,null,null,null,null,null,null,null,null,null,null,null,null,null,null,null,null,null,null,null,null,null,null,null,null,null,null,null,null,null,null,null,null,null,null,null,null,null,null,null,null,null,null,null,null,null,null,null,null,null,null,null,null,null,null,null,null,null,null,null,null,null,null,null,null,null,null,null,null,null,null,null,null,null,null,null,{"$f":"DT22+1","v":3},"Spieler 01","-","Spieler 20",null,null,{"$f":"DZ22","v":3},{"$f":"EA22+1","v":3},1,20,"","","$W$37","$D$56",{"$f":"EH22+1","v":3},"Spieler 23","-","Spieler 19",null,null,{"$f":"EN22","v":4},{"$f":"EO22+1","v":3},23,19,"","","$V$59","$Z$55",3,{"$f":"DU23","v":"Spieler 01"},"-",{"$f":"DW23","v":"Spieler 20"},null,3,{"$f":"EI23","v":"Spieler 23"},"-",{"$f":"EK23","v":"Spieler 19"}]
[null,"","Spieler 18","","","","","","","","","","","","","","","","","","","","","","","","",0,0,0,0,0,0,0,18,null,null,null,null,null,null,null,null,null,null,null,null,null,null,null,null,null,null,null,null,null,null,null,null,null,null,null,null,null,null,null,null,null,null,null,null,null,null,null,null,null,null,null,null,null,null,null,null,null,null,null,null,null,null,null,null,null,null,null,null,null,null,null,null,null,null,null,null,null,null,null,null,null,null,null,null,null,null,null,null,null,null,null,null,null,null,null,null,4,"Spieler 19","-","Spieler 02",null,null,{"$f":"DZ23","v":3},4,19,2,"","","$E$55","$V$38",4,"Spieler 18","-","Spieler 01",null,null,{"$f":"EN23","v":4},4,18,1,"","","$D$54","$U$37",4,{"$f":"DW24","v":"Spieler 02"},"-",{"$f":"DU24","v":"Spieler 19"},null,4,{"$f":"EK24","v":"Spieler 01"},"-",{"$f":"EI24","v":"Spieler 18"}]
[null,"","Spieler 19","","","","","","","","","","","","","","","","","","","","","","","","",0,0,0,0,0,0,0,19,null,null,null,null,null,null,null,null,null,null,null,null,null,null,null,null,null,null,null,null,null,null,null,null,null,null,null,null,null,null,null,null,null,null,null,null,null,null,null,null,null,null,null,null,null,null,null,null,null,null,null,null,null,null,null,null,null,null,null,null,null,null,null,null,null,null,null,null,null,null,null,null,null,null,null,null,null,null,null,null,null,null,null,null,null,null,null,null,5,"Spieler 03","-","Spieler 18",null,null,3,5,3,18,"","","$U$39","$F$54",5,"Spieler 02","-","Spieler 17",null,null,4,5,2,17,"","","$T$38","$E$53",5,{"$f":"DU25","v":"Spieler 03"},"-",{"$f":"DW25","v":"Spieler 18"},null,5,{"$f":"EI25","v":"Spieler 02"},"-",{"$f":"EK25","v":"Spieler 17"}]
[null,"","Spieler 20","","","","","","","","","","","","","","","","","","","","","","","","",0,0,0,0,0,0,0,20,null,null,null,null,null,null,null,null,null,null,null,null,null,null,null,null,null,null,null,null,null,null,null,null,null,null,null,null,null,null,null,null,null,null,null,null,null,null,null,null,null,null,null,null,null,null,null,null,null,null,null,null,null,null,null,null,null,null,null,null,null,null,null,null,null,null,null,null,null,null,null,null,null,null,null,null,null,null,null,null,null,null,null,null,null,null,null,null,6,"Spieler 17","-","Spieler 04",null,null,3,6,17,4,"","","$G$53","$T$40",6,"Spieler 16","-","Spieler 03",null,null,4,6,16,3,"","","$F$52","$S$39",6,{"$f":"DW26","v":"Spieler 04"},"-",{"$f":"DU26","v":"Spieler 17"},null,6,{"$f":"EK26","v":"Spieler 03"},"-",{"$f":"EI26","v":"Spieler 16"}]
[null,"","Spieler 21","","","","","","","","","","","","","","","","","","","","","","","","",0,0,0,0,0,0,0,21,null,null,null,null,null,null,null,null,null,null,null,null,null,null,null,null,null,null,null,null,null,null,null,null,null,null,null,null,null,null,null,null,null,null,null,null,null,null,null,null,null,null,null,null,null,null,null,null,null,null,null,null,null,null,null,null,null,null,null,null,null,null,null,null,null,null,null,null,null,null,null,null,null,null,null,null,null,null,null,null,null,null,null,null,null,null,null,null,7,"Spieler 05","-","Spieler 16",null,null,3,7,5,16,"","",{"$f":"ADDRESS(ROW(Teilnehmer)+EB27,COLUMN(Teilnehmer)+EC27)","v":"$S$41"},{"$f":"ADDRESS(ROW(Teilnehmer)+EC27,COLUMN(Teilnehmer)+EB27)","v":"$H$52"},7,"Spieler 04","-","Spieler 15",null,null,4,7,4,15,"","",{"$f":"ADDRESS(ROW(Teilnehmer)+EP27,COLUMN(Teilnehmer)+EQ27)","v":"$R$40"},{"$f":"ADDRESS(ROW(Teilnehmer)+EQ27,COLUMN(Teilnehmer)+EP27)","v":"$G$51"},7,{"$f":"DU27","v":"Spieler 05"},"-",{"$f":"DW27","v":"Spieler 16"},null,7,{"$f":"EI27","v":"Spieler 04"},"-",{"$f":"EK27","v":"Spieler 15"}]
[null,"","Spieler 22","","","","","","","","","","","","","","","","","","","","","","","","",0,0,0,0,0,0,0,22,null,null,null,null,null,null,null,null,null,null,null,null,null,null,null,null,null,null,null,null,null,null,null,null,null,null,null,null,null,null,null,null,null,null,null,null,null,null,null,null,null,null,null,null,null,null,null,null,null,null,null,null,null,null,null,null,null,null,null,null,null,null,null,null,null,null,null,null,null,null,null,null,null,null,null,null,null,null,null,null,null,null,null,null,null,null,null,null,8,"Spieler 15","-","Spieler 06",null,null,3,8,15,6,"","","$I$51","$R$42",8,"Spieler 14","-","Spieler 05",null,null,4,8,14,5,"","","$H$50","$Q$41",8,{"$f":"DW28","v":"Spieler 06"},"-",{"$f":"DU28","v":"Spieler 15"},null,8,{"$f":"EK28","v":"Spieler 05"},"-",{"$f":"EI28","v":"Spieler 14"}]
[null,"","Spieler 23","","","","","","","","","","","","","","","","","","","","","","","","",0,0,0,0,0,0,0,23,null,null,null,null,null,null,null,null,null,null,null,null,null,null,null,null,null,null,null,null,null,null,null,null,null,null,null,null,null,null,null,null,null,null,null,null,null,null,null,null,null,null,null,null,null,null,null,null,null,null,null,null,null,null,null,null,null,null,null,null,null,null,null,null,null,null,null,null,null,null,null,null,null,null,null,null,null,null,null,null,null,null,null,null,null,null,null,null,9,"Spieler 07","-","Spieler 14",null,null,3,9,7,14,"","","$Q$43","$J$50",9,"Spieler 06","-","Spieler 13",null,null,4,9,6,13,"","","$P$42","$I$49",9,{"$f":"DU29","v":"Spieler 07"},"-",{"$f":"DW29","v":"Spieler 14"},null,9,{"$f":"EI29","v":"Spieler 06"},"-",{"$f":"EK29","v":"Spieler 13"}]
[null,{"$f":"IF(INDEX($DO$37:$DO$60,MATCH(B60,$DS$37:$DS$60,0)),\"--\",IF(INDEX($DN$37:$DN$60,MATCH(B60,$DS$37:$DS$60,0))<ROW()-ROW($B$6),\"\",INDEX($DN$37:$DN$60,MATCH(B60,$DS$37:$DS$60,0))))","v":""},"Spieler 24","","","","","","","","","","","","","","","","","","","","","","","","",0,0,0,0,0,0,0,24,null,null,null,null,null,null,null,null,null,null,null,null,null,null,null,null,null,null,null,null,null,null,null,null,null,null,null,null,null,null,null,null,null,null,null,null,null,null,null,null,null,null,null,null,null,null,null,null,null,null,null,null,null,null,null,null,null,null,null,null,null,null,null,null,null,null,null,null,null,null,null,null,null,null,null,null,null,null,null,null,null,null,null,null,null,null,null,null,10,"Spieler 13","-","Spieler 08",null,null,3,10,13,8,"","","$K$49","$P$44",10,"Spieler 12","-","Spieler 07",null,null,4,10,12,7,"","","$J$48","$O$43",10,{"$f":"DW30","v":"Spieler 08"},"-",{"$f":"DU30","v":"Spieler 13"},null,10,{"$f":"EK30","v":"Spieler 07"},"-",{"$f":"EI30","v":"Spieler 12"}]
[null,"Wertungskriterien:",null,null,null,null,null,null,null,null,null,null,null,null,null,null,null,null,null,null,null,null,null,null,null,null,null,null,null,null,null,null,null,null,null,null,null,null,null,null,null,null,null,null,null,null,null,null,null,null,null,null,null,null,null,null,null,null,null,null,null,null,null,null,null,null,null,null,null,null,null,null,null,null,null,null,null,null,null,null,null,null,null,null,null,null,null,null,null,null,null,null,null,null,null,null,null,null,null,null,null,null,null,null,null,null,null,null,null,null,null,null,null,null,null,null,null,null,null,null,null,null,null,11,"Spieler 09","-","Spieler 12",null,null,3,11,9,12,"","","$O$45","$L$48",11,"Spieler 08","-","Spieler 11",null,null,4,11,8,11,"","","$N$44","$K$47",11,{"$f":"DU31","v":"Spieler 09"},"-",{"$f":"DW31","v":"Spieler 12"},null,11,{"$f":"EI31","v":"Spieler 08"},"-",{"$f":"EK31","v":"Spieler 11"}]
[null,{"$f":"INDEX(Wertungskriterien,WertungskriterienA)","v":"1) Punkte 2) Anz. Partien 3) So-Be 4) direkte Begegnung 5) Manuelle Feinwertung "},null,null,null,null,null,null,null,null,null,null,null,null,null,null,null,null,null,null,null,null,null,null,null,null,null,null,null,null,null,null,null,null,null,null,null,null,null,null,null,null,null,null,null,null,null,null,null,null,null,null,null,null,null,null,null,null,null,null,null,null,null,null,null,null,null,null,null,null,null,null,null,null,null,null,null,null,null,null,null,null,null,null,null,null,null,null,null,null,null,null,null,null,null,null,null,null,null,null,null,null,null,null,null,null,null,null,null,null,null,null,null,null,null,null,null,null,null,null,null,null,null,{"$f":"DT31+1","v":12},"Spieler 11","-","Spieler 10",null,null,{"$f":"DZ31","v":3},{"$f":"EA31+1","v":12},11,10,"","","$M$47","$N$46",{"$f":"EH31+1","v":12},"Spieler 10","-","Spieler 09",null,null,{"$f":"EN31","v":4},{"$f":"EO31+1","v":12},10,9,"","","$L$46","$M$45",12,{"$f":"DW32","v":"Spieler 10"},"-",{"$f":"DU32","v":"Spieler 11"},null,12,{"$f":"EK32","v":"Spieler 09"},"-",{"$f":"EI32","v":"Spieler 10"}]
[]
[null,"+",null,null,null,null,null,null,null,null,null,null,null,null,null,null,null,null,null,null,null,null,null,null,null,null,null,null,null,null,{"$f":"IF(EinAusblenden=\"-\",\"\",IF(FWPlusMinus=\"+\",\"é\",\"ê\"))","v":"é"},null,null,null,null,null,null,null,null,null,null,null,null,null,null,null,null,null,null,null,null,null,null,null,null,null,null,null,null,null,null,null,null,null,null,null,null,null,null,null,null,null,null,null,null,null,null,null,null,null,null,null,null,null,null,null,null,null,null,null,null,null,null,null,null,null,null,null,null,null,null,null,null,null,null,null,null,null,null,null,null,null,null,null,null,null,null,null,null,null,null,null,null,null,{"$f":"DU20+2","v":5},null,null,null,null,"R","B","SpNr w","SpNr s","Res w","Res s",null,null,null,{"$f":"EI20+2","v":6},null,null,null,null,"R","B","SpNr w","SpNr s","Res w","Res s",null,null,null,{"$f":"DU34","v":5},1,null,null,null,{"$f":"EI34","v":6}]
[null,"Turniertabelle",null,null,null,null,null,null,null,null,null,null,null,null,null,null,null,null,null,null,null,null,null,null,null,null,null,null,null,"manuelle Feinwertung: ","+","Partien",null,null,null,"Punkte",null,null,null,null,null,null,null,null,null,null,null,null,null,null,null,null,null,null,null,null,null,null,null,null,null,"Sonneborn-Berger-Berechnung",null,null,null,null,null,null,null,null,null,null,null,null,null,null,null,null,null,null,null,null,null,null,null,null,null,{"$f":"MAX(CJ37:CJ60)","v":0},null,null,null,null,{"$f":"FWPlusMinus=\"+\"","v":true},"Summierung Wertungskriterien vor direkter Begegnung",null,null,null,null,null,null,null,null,null,null,null,null,"Summierung Wertungskriterien nach direkter Begegnung",null,null,null,null,null,null,null,null,null,null,null,null,null,null,null,null,{"$f":"IF(OR(INDEX($DO$37:$DO$60,EB35),INDEX($DO$37:$DO$60,EC35)),0,1)","v":1},{"$f":"INDEX($DP$37:$DP$60,MATCH($EB35,TeilnNr,0))","v":"Spieler 20"},"-",{"$f":"INDEX($DP$37:$DP$60,MATCH($EC35,TeilnNr,0))","v":"Spieler 24"},null,null,{"$f":"DU34","v":5},1,{"$f":"IF(AND(EA35=1,MOD(DZ35,2)=0),MAX(TeilnNr),IF(MOD(EA35,2)=0,IF(MAX(TeilnNr)/2-EA35+1-(DZ35-MAX(TeilnNr)/2-1)>=1,MAX(TeilnNr)/2-EA35+1-(DZ35-MAX(TeilnNr)/2-1),MAX(TeilnNr)/2-EA35+1-(DZ35-MAX(TeilnNr)/2-1)+MAX(TeilnNr)-1),IF(EA35-(DZ35-1)>=1,EA35-(DZ35-1),EA35-(DZ35-1)+MAX(TeilnNr)-1)))","v":20},{"$f":"IF(AND(EA35=1,MOD(DZ35,2)<>0),MAX(TeilnNr),IF(MOD(EA35,2)<>0,IF(MAX(TeilnNr)/2-EA35+1-(DZ35-MAX(TeilnNr)/2-1)>=1,MAX(TeilnNr)/2-EA35+1-(DZ35-MAX(TeilnNr)/2-1),MAX(TeilnNr)/2-EA35+1-(DZ35-MAX(TeilnNr)/2-1)+MAX(TeilnNr)-1),IF(EA35-(DZ35-1)>=1,EA35-(DZ35-1),EA35-(DZ35-1)+MAX(TeilnNr)-1)))","v":24},{"$f":"IF(LEFT(DY35,1)=\"V\",\"\",LEFT(DY35,1))","v":""},{"$f":"IF(RIGHT(DY35,1)=\"V\",\"\",RIGHT(DY35,1))","v":""},{"$f":"ADDRESS(ROW(Teilnehmer)+EB35,COLUMN(Teilnehmer)+EC35)","v":"$AA$56"},{"$f":"ADDRESS(ROW(Teilnehmer)+EC35,COLUMN(Teilnehmer)+EB35)","v":"$W$60"},{"$f":"IF(OR(INDEX($DO$37:$DO$60,EP35),INDEX($DO$37:$DO$60,EQ35)),0,1)","v":1},{"$f":"INDEX($DP$37:$DP$60,MATCH($EP35,TeilnNr,0))","v":"Spieler 24"},"-",{"$f":"INDEX($DP$37:$DP$60,MATCH($EQ35,TeilnNr,0))","v":"Spieler 19"},null,null,{"$f":"EI34","v":6},1,{"$f":"IF(AND(EO35=1,MOD(EN35,2)=0),MAX(TeilnNr),IF(MOD(EO35,2)=0,IF(MAX(TeilnNr)/2-EO35+1-(EN35-MAX(TeilnNr)/2-1)>=1,MAX(TeilnNr)/2-EO35+1-(EN35-MAX(TeilnNr)/2-1),MAX(TeilnNr)/2-EO35+1-(EN35-MAX(TeilnNr)/2-1)+MAX(TeilnNr)-1),IF(EO35-(EN35-1)>=1,EO35-(EN35-1),EO35-(EN35-1)+MAX(TeilnNr)-1)))","v":24},{"$f":"IF(AND(EO35=1,MOD(EN35,2)<>0),MAX(TeilnNr),IF(MOD(EO35,2)<>0,IF(MAX(TeilnNr)/2-EO35+1-(EN35-MAX(TeilnNr)/2-1)>=1,MAX(TeilnNr)/2-EO35+1-(EN35-MAX(TeilnNr)/2-1),MAX(TeilnNr)/2-EO35+1-(EN35-MAX(TeilnNr)/2-1)+MAX(TeilnNr)-1),IF(EO35-(EN35-1)>=1,EO35-(EN35-1),EO35-(EN35-1)+MAX(TeilnNr)-1)))","v":19},{"$f":"IF(LEFT(EM35,1)=\"V\",\"\",LEFT(EM35,1))","v":""},{"$f":"IF(RIGHT(EM35,1)=\"V\",\"\",RIGHT(EM35,1))","v":""},{"$f":"ADDRESS(ROW(Teilnehmer)+EP35,COLUMN(Teilnehmer)+EQ35)","v":"$V$60"},{"$f":"ADDRESS(ROW(Teilnehmer)+EQ35,COLUMN(Teilnehmer)+EP35)","v":"$AA$55"},{"$f":"DT35","v":1},"Spieler 20","-",{"$f":"DW35","v":"Spieler 24"},null,{"$f":"EH35","v":1},{"$f":"EK35","v":"Spieler 19"},"-",{"$f":"EI35","v":"Spieler 24"}]
[null,"Nr.","Teilnehmer",1,2,3,4,5,6,7,8,9,10,11,12,13,14,15,16,17,18,19,20,21,22,23,24,"Punkte","Spiele","So-Be","FW+","weiss","schw.","Rang",null,1,2,3,4,5,6,7,8,9,10,11,12,13,14,15,16,17,18,19,20,21,22,23,24,"P",null,1,2,3,4,5,6,7,8,9,10,11,12,13,14,15,16,17,18,19,20,21,22,23,24,"So-Be",null,{"$f":"IF(AE36=\"\",\"FW2\",AE36)","v":"FW+"},"Rang\nPunkte","Rang\nPartien","Rang\nSo-Be","Rang\nschwrz","Rang\nFW?","Wertung 1","Wertung 2","Wertung 3","Wertung 4","Wertung 5","Wertung 6","Wertung 7","Wertung 8","Wertung 9","Wertung 10","Wertung","direkte Begegnung","Rang\ndir.Begegn.","Wertung 1","Wertung 2","Wertung 3","Wertung 4","Wertung 5","Wertung 6","Wertung 7","Wertung 8","Wertung 9","Wertung 10","Wertung2","Rang","Platz-halter?","Name","Alphabet","Rang & Alphabet","Reihen-folge",{"$f":"DT35+1","v":2},"Spieler 19","-","Spieler 21",null,null,{"$f":"DZ35","v":5},{"$f":"EA35+1","v":2},19,21,"","",{"$f":"ADDRESS(ROW(Teilnehmer)+EB36,COLUMN(Teilnehmer)+EC36)","v":"$X$55"},{"$f":"ADDRESS(ROW(Teilnehmer)+EC36,COLUMN(Teilnehmer)+EB36)","v":"$V$57"},{"$f":"EH35+1","v":2},"Spieler 18","-","Spieler 20",null,null,{"$f":"EN35","v":6},{"$f":"EO35+1","v":2},18,20,"","",{"$f":"ADDRESS(ROW(Teilnehmer)+EP36,COLUMN(Teilnehmer)+EQ36)","v":"$W$54"},{"$f":"ADDRESS(ROW(Teilnehmer)+EQ36,COLUMN(Teilnehmer)+EP36)","v":"$U$56"},{"$f":"DT36","v":2},{"$f":"DW36","v":"Spieler 21"},"-",{"$f":"DU36","v":"Spieler 19"},null,2,"Spieler 20","-","Spieler 18"]
[null,1,null,{"$f":"IF(ISNA(MATCH(ADDRESS(ROW(),COLUMN()),$EF:$EF,0)),\"\",INDEX($ED:$ED,MATCH(ADDRESS(ROW(),COLUMN()),$EF:$EF,0)))&IF(ISNA(MATCH(ADDRESS(ROW(),COLUMN()),$EG:$EG,0)),\"\",INDEX($EE:$EE,MATCH(ADDRESS(ROW(),COLUMN()),$EG:$EG,0)))&IF(ISNA(MATCH(ADDRESS(ROW(),COLUMN()),$ET:$ET,0)),\"\",INDEX($ER:$ER,MATCH(ADDRESS(ROW(),COLUMN()),$ET:$ET,0)))&IF(ISNA(MATCH(ADDRESS(ROW(),COLUMN()),$EU:$EU,0)),\"\",INDEX($ES:$ES,MATCH(ADDRESS(ROW(),COLUMN()),$EU:$EU,0)))","v":""},"","","","","","","","","",{"$f":"IF(ISNA(MATCH(ADDRESS(ROW(),COLUMN()),$EF:$EF,0)),\"\",INDEX($ED:$ED,MATCH(ADDRESS(ROW(),COLUMN()),$EF:$EF,0)))&IF(ISNA(MATCH(ADDRESS(ROW(),COLUMN()),$EG:$EG,0)),\"\",INDEX($EE:$EE,MATCH(ADDRESS(ROW(),COLUMN()),$EG:$EG,0)))&IF(ISNA(MATCH(ADDRESS(ROW(),COLUMN()),$ET:$ET,0)),\"\",INDEX($ER:$ER,MATCH(ADDRESS(ROW(),COLUMN()),$ET:$ET,0)))&IF(ISNA(MATCH(ADDRESS(ROW(),COLUMN()),$EU:$EU,0)),\"\",INDEX($ES:$ES,MATCH(ADDRESS(ROW(),COLUMN()),$EU:$EU,0)))","v":""},"","","","","","","","","","","","","",{"$f":"BH37","v":0},{"$f":"MAX($B$37:$B$60)-COUNTIF(D37:AA37,\"\")","v":0},{"$f":"CH37","v":0},null,{"$f":"IF($DO37,0,COUNTIFS($EB:$EB,$B37,$DY:$DY,\"<>\")+COUNTIFS($EP:$EP,$B37,$EM:$EM,\"<>\"))","v":0},{"$f":"IF($DO37,0,COUNTIFS($EC:$EC,$B37,$DY:$DY,\"<>\")+COUNTIFS($EQ:$EQ,$B37,$EM:$EM,\"<>\"))","v":0},{"$f":"DN37","v":1},null,{"$f":"IF(D37=\"\",0,VLOOKUP(D37,Wertung,3,FALSE))","v":0},{"$f":"IF(E37=\"\",0,VLOOKUP(E37,Wertung,3,FALSE))","v":0},{"$f":"IF(F37=\"\",0,VLOOKUP(F37,Wertung,3,FALSE))","v":0},{"$f":"IF(G37=\"\",0,VLOOKUP(G37,Wertung,3,FALSE))","v":0},{"$f":"IF(H37=\"\",0,VLOOKUP(H37,Wertung,3,FALSE))","v":0},{"$f":"IF(I37=\"\",0,VLOOKUP(I37,Wertung,3,FALSE))","v":0},{"$f":"IF(J37=\"\",0,VLOOKUP(J37,Wertung,3,FALSE))","v":0},{"$f":"IF(K37=\"\",0,VLOOKUP(K37,Wertung,3,FALSE))","v":0},{"$f":"IF(L37=\"\",0,VLOOKUP(L37,Wertung,3,FALSE))","v":0},{"$f":"IF(M37=\"\",0,VLOOKUP(M37,Wertung,3,FALSE))","v":0},{"$f":"IF(N37=\"\",0,VLOOKUP(N37,Wertung,3,FALSE))","v":0},{"$f":"IF(O37=\"\",0,VLOOKUP(O37,Wertung,3,FALSE))","v":0},{"$f":"IF(P37=\"\",0,VLOOKUP(P37,Wertung,3,FALSE))","v":0},{"$f":"IF(Q37=\"\",0,VLOOKUP(Q37,Wertung,3,FALSE))","v":0},{"$f":"IF(R37=\"\",0,VLOOKUP(R37,Wertung,3,FALSE))","v":0},{"$f":"IF(S37=\"\",0,VLOOKUP(S37,Wertung,3,FALSE))","v":0},{"$f":"IF(T37=\"\",0,VLOOKUP(T37,Wertung,3,FALSE))","v":0},{"$f":"IF(U37=\"\",0,VLOOKUP(U37,Wertung,3,FALSE))","v":0},{"$f":"IF(V37=\"\",0,VLOOKUP(V37,Wertung,3,FALSE))","v":0},{"$f":"IF(W37=\"\",0,VLOOKUP(W37,Wertung,3,FALSE))","v":0},{"$f":"IF(X37=\"\",0,VLOOKUP(X37,Wertung,3,FALSE))","v":0},{"$f":"IF(Y37=\"\",0,VLOOKUP(Y37,Wertung,3,FALSE))","v":0},{"$f":"IF(Z37=\"\",0,VLOOKUP(Z37,Wertung,3,FALSE))","v":0},{"$f":"IF(AA37=\"\",0,VLOOKUP(AA37,Wertung,3,FALSE))","v":0},{"$f":"SUM(AJ37:BG37)","v":0},null,{"$f":"AJ37*INDEX($BH:$BH,ROW($BJ$36)+AJ$36)","v":0},{"$f":"AK37*INDEX($BH:$BH,ROW($BJ$36)+AK$36)","v":0},{"$f":"AL37*INDEX($BH:$BH,ROW($BJ$36)+AL$36)","v":0},{"$f":"AM37*INDEX($BH:$BH,ROW($BJ$36)+AM$36)","v":0},{"$f":"AN37*INDEX($BH:$BH,ROW($BJ$36)+AN$36)","v":0},{"$f":"AO37*INDEX($BH:$BH,ROW($BJ$36)+AO$36)","v":0},{"$f":"AP37*INDEX($BH:$BH,ROW($BJ$36)+AP$36)","v":0},{"$f":"AQ37*INDEX($BH:$BH,ROW($BJ$36)+AQ$36)","v":0},{"$f":"AR37*INDEX($BH:$BH,ROW($BJ$36)+AR$36)","v":0},{"$f":"AS37*INDEX($BH:$BH,ROW($BJ$36)+AS$36)","v":0},{"$f":"AT37*INDEX($BH:$BH,ROW($BJ$36)+AT$36)","v":0},{"$f":"AU37*INDEX($BH:$BH,ROW($BJ$36)+AU$36)","v":0},{"$f":"AV37*INDEX($BH:$BH,ROW($BJ$36)+AV$36)","v":0},{"$f":"AW37*INDEX($BH:$BH,ROW($BJ$36)+AW$36)","v":0},{"$f":"AX37*INDEX($BH:$BH,ROW($BJ$36)+AX$36)","v":0},{"$f":"AY37*INDEX($BH:$BH,ROW($BJ$36)+AY$36)","v":0},{"$f":"AZ37*INDEX($BH:$BH,ROW($BJ$36)+AZ$36)","v":0},{"$f":"BA37*INDEX($BH:$BH,ROW($BJ$36)+BA$36)","v":0},{"$f":"BB37*INDEX($BH:$BH,ROW($BJ$36)+BB$36)","v":0},{"$f":"BC37*INDEX($BH:$BH,ROW($BJ$36)+BC$36)","v":0},{"$f":"BD37*INDEX($BH:$BH,ROW($BJ$36)+BD$36)","v":0},{"$f":"BE37*INDEX($BH:$BH,ROW($BJ$36)+BE$36)","v":0},{"$f":"BF37*INDEX($BH:$BH,ROW($BJ$36)+BF$36)","v":0},{"$f":"BG37*INDEX($BH:$BH,ROW($BJ$36)+BG$36)","v":0},{"$f":"SUM(BJ37:CG37)","v":0},null,{"$f":"AE37","v":0},{"$f":"RANK($BH37,$BH$37:$BH$60,0)","v":1},{"$f":"RANK($AC37,$AC$37:$AC$60,1)","v":1},{"$f":"RANK($CH37,$CH$37:$CH$60,0)","v":1},{"$f":"RANK($AG37,$AG$37:$AG$60,0)","v":1},{"$f":"RANK($CJ37,$CJ$37:$CJ$60,IF($CO$35,0,1))","v":1},{"$f":"VALUE(CONCATENATE(IF($DO37,\"1\",\"0\"),TEXT($CK37,\"00\"),TEXT($CM37,\"00\"),TEXT($CO37,\"00\")))","v":10101},{"$f":"VALUE(CONCATENATE(IF($DO37,\"1\",\"0\"),TEXT($CK37,\"00\"),TEXT($CM37,\"00\")))","v":101},{"$f":"VALUE(CONCATENATE(IF($DO37,\"1\",\"0\"),TEXT($CK37,\"00\"),TEXT($CL37,\"00\"),TEXT($CM37,\"00\"),TEXT($CO37,\"00\")))","v":1010101},{"$f":"VALUE(CONCATENATE(IF($DO37,\"1\",\"0\"),TEXT($CK37,\"00\"),TEXT($CL37,\"00\"),TEXT($CM37,\"00\")))","v":10101},{"$f":"VALUE(CONCATENATE(IF($DO37,\"1\",\"0\"),TEXT($CK37,\"00\"),TEXT($CL37,\"00\"),TEXT($CM37,\"00\")))","v":10101},{"$f":"VALUE(CONCATENATE(IF($DO37,\"1\",\"0\"),TEXT($CK37,\"00\"),TEXT($CL37,\"00\"),TEXT($CM37,\"00\"),TEXT($CN37,\"00\")))","v":1010101},{"$f":"VALUE(CONCATENATE(IF($DO37,\"1\",\"0\"),TEXT($CK37,\"00\"),TEXT($CL37,\"00\")))","v":101},{"$f":"VALUE(CONCATENATE(IF($DO37,\"1\",\"0\"),TEXT($CK37,\"00\"),TEXT($CL37,\"00\")))","v":101},{"$f":"VALUE(CONCATENATE(IF($DO37,\"1\",\"0\"),TEXT($CK37,\"00\"),TEXT($CL37,\"00\"),TEXT($CN37,\"00\"),TEXT($CM37,\"00\")))","v":1010101},{"$f":"VALUE(CONCATENATE(IF($DO37,\"1\",\"0\"),TEXT($CK37,\"00\"),TEXT($CL37,\"00\"),TEXT($CN37,\"00\")))","v":10101},{"$f":"INDEX($CP37:$CY37,1,WertungskriterienA)","v":10101},{"$f":"SUM((TRANSPOSE($CZ$37:$CZ$60)=CZ37)*$AJ37:$BG37)","v":0},{"$f":"RANK($DA37,$DA$37:$DA$60,0)","v":1},{"$f":"$CZ37","v":10101},{"$f":"VALUE(CONCATENATE($CZ37,TEXT($DB37,\"00\"),TEXT($CO37,\"00\")))","v":101010101},{"$f":"$CZ37","v":10101},{"$f":"VALUE(CONCATENATE($CZ37,TEXT($DB37,\"00\"),TEXT($CO37,\"00\")))","v":101010101},{"$f":"VALUE(CONCATENATE($CZ37,TEXT($DB37,\"00\"),TEXT($CN37,\"00\"),TEXT($CO37,\"00\")))","v":10101010101},{"$f":"VALUE(CONCATENATE($CZ37,TEXT($DB37,\"00\"),TEXT($CO37,\"00\")))","v":101010101},{"$f":"VALUE(CONCATENATE($CZ37,TEXT($DB37,\"00\"),TEXT($CM37,\"00\"),TEXT($CN37,\"00\"),TEXT($CO37,\"00\")))","v":1010101010101},{"$f":"VALUE(CONCATENATE($CZ37,TEXT($DB37,\"00\"),TEXT($CN37,\"00\"),TEXT($CM37,\"00\"),TEXT($CO37,\"00\")))","v":1010101010101},{"$f":"VALUE(CONCATENATE($CZ37,TEXT($DB37,\"00\"),TEXT($CO37,\"00\")))","v":101010101},{"$f":"VALUE(CONCATENATE($CZ37,TEXT($DB37,\"00\"),TEXT($CM37,\"00\"),TEXT($CO37,\"00\")))","v":10101010101},{"$f":"INDEX(DC37:DL37,1,WertungskriterienA)","v":101010101},{"$f":"RANK(DM37,$DM$37:$DM$60,1)","v":1},{"$f":"IF($C37=\"\",FALSE,AND(LEN($C37)=1,OR(CODE($C37)<65,CODE($C37)>122,AND(CODE($C37)>90,CODE($C37)<97)),NOT(AND(CODE($C37)>48,CODE($C37)<58))))","v":false},{"$f":"IF(DO37,$C37,IF($C37=\"\",\"Spieler \"&TEXT($B37,\"00\"),$C37))","v":"Spieler 01"},{"$f":"IF(DO37,MAX(TeilnNr),0)+SUMPRODUCT((DP37>$DP$37:$DP$60)*1)","v":0},{"$f":"DN37+DQ37/1000+B37/1000000","v":1.0000009999999999},{"$f":"RANK(DR37,$DR$37:$DR$60,1)","v":1},{"$f":"DT36+1","v":3},"Spieler 22","-","Spieler 18",null,null,{"$f":"DZ36","v":5},{"$f":"EA36+1","v":3},22,18,"","",{"$f":"ADDRESS(ROW(Teilnehmer)+EB37,COLUMN(Teilnehmer)+EC37)","v":"$U$58"},{"$f":"ADDRESS(ROW(Teilnehmer)+EC37,COLUMN(Teilnehmer)+EB37)","v":"$Y$54"},{"$f":"EH36+1","v":3},"Spieler 21","-","Spieler 17",null,null,{"$f":"EN36","v":6},{"$f":"EO36+1","v":3},21,17,"","",{"$f":"ADDRESS(ROW(Teilnehmer)+EP37,COLUMN(Teilnehmer)+EQ37)","v":"$T$57"},{"$f":"ADDRESS(ROW(Teilnehmer)+EQ37,COLUMN(Teilnehmer)+EP37)","v":"$X$53"},3,{"$f":"DU37","v":"Spieler 22"},"-",{"$f":"DW37","v":"Spieler 18"},null,3,{"$f":"EI37","v":"Spieler 21"},"-",{"$f":"EK37","v":"Spieler 17"}]
[null,2,null,"","","","","","","","","","","","","","","","","","","","","","","","",{"$f":"BH38","v":0},0,0,null,0,0,1,null,0,0,0,0,0,0,0,0,0,0,0,0,0,0,0,0,0,0,0,0,0,{"$f":"IF(Y38=\"\",0,VLOOKUP(Y38,Wertung,3,FALSE))","v":0},{"$f":"IF(Z38=\"\",0,VLOOKUP(Z38,Wertung,3,FALSE))","v":0},{"$f":"IF(AA38=\"\",0,VLOOKUP(AA38,Wertung,3,FALSE))","v":0},0,null,0,0,0,0,0,0,0,0,0,0,0,0,0,0,0,0,0,0,0,0,0,0,0,0,0,null,0,1,1,1,1,1,{"$f":"VALUE(CONCATENATE(IF($DO38,\"1\",\"0\"),TEXT($CK38,\"00\"),TEXT($CM38,\"00\"),TEXT($CO38,\"00\")))","v":10101},{"$f":"VALUE(CONCATENATE(IF($DO38,\"1\",\"0\"),TEXT($CK38,\"00\"),TEXT($CM38,\"00\")))","v":101},{"$f":"VALUE(CONCATENATE(IF($DO38,\"1\",\"0\"),TEXT($CK38,\"00\"),TEXT($CL38,\"00\"),TEXT($CM38,\"00\"),TEXT($CO38,\"00\")))","v":1010101},{"$f":"VALUE(CONCATENATE(IF($DO38,\"1\",\"0\"),TEXT($CK38,\"00\"),TEXT($CL38,\"00\"),TEXT($CM38,\"00\")))","v":10101},10101,{"$f":"VALUE(CONCATENATE(IF($DO38,\"1\",\"0\"),TEXT($CK38,\"00\"),TEXT($CL38,\"00\"),TEXT($CM38,\"00\"),TEXT($CN38,\"00\")))","v":1010101},{"$f":"VALUE(CONCATENATE(IF($DO38,\"1\",\"0\"),TEXT($CK38,\"00\"),TEXT($CL38,\"00\")))","v":101},101,{"$f":"VALUE(CONCATENATE(IF($DO38,\"1\",\"0\"),TEXT($CK38,\"00\"),TEXT($CL38,\"00\"),TEXT($CN38,\"00\"),TEXT($CM38,\"00\")))","v":1010101},{"$f":"VALUE(CONCATENATE(IF($DO38,\"1\",\"0\"),TEXT($CK38,\"00\"),TEXT($CL38,\"00\"),TEXT($CN38,\"00\")))","v":10101},10101,{"$f":"SUM((TRANSPOSE($CZ$37:$CZ$60)=CZ38)*$AJ38:$BG38)","v":0},1,{"$f":"$CZ38","v":10101},{"$f":"VALUE(CONCATENATE($CZ38,TEXT($DB38,\"00\"),TEXT($CO38,\"00\")))","v":101010101},{"$f":"$CZ38","v":10101},{"$f":"VALUE(CONCATENATE($CZ38,TEXT($DB38,\"00\"),TEXT($CO38,\"00\")))","v":101010101},{"$f":"VALUE(CONCATENATE($CZ38,TEXT($DB38,\"00\"),TEXT($CN38,\"00\"),TEXT($CO38,\"00\")))","v":10101010101},{"$f":"VALUE(CONCATENATE($CZ38,TEXT($DB38,\"00\"),TEXT($CO38,\"00\")))","v":101010101},{"$f":"VALUE(CONCATENATE($CZ38,TEXT($DB38,\"00\"),TEXT($CM38,\"00\"),TEXT($CN38,\"00\"),TEXT($CO38,\"00\")))","v":1010101010101},{"$f":"VALUE(CONCATENATE($CZ38,TEXT($DB38,\"00\"),TEXT($CN38,\"00\"),TEXT($CM38,\"00\"),TEXT($CO38,\"00\")))","v":1010101010101},{"$f":"VALUE(CONCATENATE($CZ38,TEXT($DB38,\"00\"),TEXT($CO38,\"00\")))","v":101010101},{"$f":"VALUE(CONCATENATE($CZ38,TEXT($DB38,\"00\"),TEXT($CM38,\"00\"),TEXT($CO38,\"00\")))","v":10101010101},101010101,1,{"$f":"IF($C38=\"\",FALSE,AND(LEN($C38)=1,OR(CODE($C38)<65,CODE($C38)>122,AND(CODE($C38)>90,CODE($C38)<97)),NOT(AND(CODE($C38)>48,CODE($C38)<58))))","v":false},"Spieler 02",1,1.0010019999999999,2,4,"Spieler 17","-","Spieler 23",null,null,{"$f":"DZ37","v":5},4,17,23,"","",{"$f":"ADDRESS(ROW(Teilnehmer)+EB38,COLUMN(Teilnehmer)+EC38)","v":"$Z$53"},{"$f":"ADDRESS(ROW(Teilnehmer)+EC38,COLUMN(Teilnehmer)+EB38)","v":"$T$59"},4,"Spieler 16","-","Spieler 22",null,null,{"$f":"EN37","v":6},4,16,22,"","",{"$f":"ADDRESS(ROW(Teilnehmer)+EP38,COLUMN(Teilnehmer)+EQ38)","v":"$Y$52"},{"$f":"ADDRESS(ROW(Teilnehmer)+EQ38,COLUMN(Teilnehmer)+EP38)","v":"$S$58"},4,{"$f":"DW38","v":"Spieler 23"},"-",{"$f":"DU38","v":"Spieler 17"},null,4,{"$f":"EK38","v":"Spieler 22"},"-",{"$f":"EI38","v":"Spieler 16"}]
[null,3,null,"","","","","","","","","","","","","","","","","","","","","","","","",0,0,0,null,0,0,1,null,0,0,0,0,0,0,0,0,0,0,0,0,0,0,0,0,0,0,0,0,0,{"$f":"IF(Y39=\"\",0,VLOOKUP(Y39,Wertung,3,FALSE))","v":0},{"$f":"IF(Z39=\"\",0,VLOOKUP(Z39,Wertung,3,FALSE))","v":0},{"$f":"IF(AA39=\"\",0,VLOOKUP(AA39,Wertung,3,FALSE))","v":0},0,null,0,0,0,0,0,0,0,0,0,0,0,0,0,0,0,0,0,0,0,0,0,0,0,0,0,null,0,1,1,1,1,1,10101,101,1010101,10101,10101,1010101,101,101,1010101,10101,10101,{"$f":"SUM((TRANSPOSE($CZ$37:$CZ$60)=CZ39)*$AJ39:$BG39)","v":0},1,10101,101010101,10101,101010101,10101010101,101010101,1010101010101,1010101010101,101010101,10101010101,101010101,1,false,"Spieler 03",2,1.002003,3,5,"Spieler 01","-","Spieler 16",null,null,{"$f":"DZ38","v":5},5,1,16,"","",{"$f":"ADDRESS(ROW(Teilnehmer)+EB39,COLUMN(Teilnehmer)+EC39)","v":"$S$37"},{"$f":"ADDRESS(ROW(Teilnehmer)+EC39,COLUMN(Teilnehmer)+EB39)","v":"$D$52"},5,"Spieler 23","-","Spieler 15",null,null,6,5,23,15,"","",{"$f":"ADDRESS(ROW(Teilnehmer)+EP39,COLUMN(Teilnehmer)+EQ39)","v":"$R$59"},{"$f":"ADDRESS(ROW(Teilnehmer)+EQ39,COLUMN(Teilnehmer)+EP39)","v":"$Z$51"},5,{"$f":"DU39","v":"Spieler 01"},"-",{"$f":"DW39","v":"Spieler 16"},null,5,{"$f":"EI39","v":"Spieler 23"},"-",{"$f":"EK39","v":"Spieler 15"}]
[null,4,null,"","","","","","","","","","","","","","","","","","","","","","","","",0,0,0,null,0,0,1,null,0,0,0,0,0,0,0,0,0,0,0,0,0,0,0,0,0,0,0,0,0,{"$f":"IF(Y40=\"\",0,VLOOKUP(Y40,Wertung,3,FALSE))","v":0},{"$f":"IF(Z40=\"\",0,VLOOKUP(Z40,Wertung,3,FALSE))","v":0},{"$f":"IF(AA40=\"\",0,VLOOKUP(AA40,Wertung,3,FALSE))","v":0},{"$f":"SUM(AJ40:BG40)","v":0},null,0,0,0,0,0,0,0,0,0,0,0,0,0,0,0,0,0,0,0,0,0,0,0,0,{"$f":"SUM(BJ40:CG40)","v":0},null,0,1,1,1,1,1,10101,101,1010101,10101,10101,1010101,101,101,1010101,10101,10101,{"$f":"SUM((TRANSPOSE($CZ$37:$CZ$60)=CZ40)*$AJ40:$BG40)","v":0},1,10101,101010101,10101,101010101,10101010101,101010101,1010101010101,1010101010101,101010101,10101010101,101010101,1,false,"Spieler 04",3,1.0030039999999998,4,6,"Spieler 15","-","Spieler 02",null,null,{"$f":"DZ39","v":5},6,15,2,"","",{"$f":"ADDRESS(ROW(Teilnehmer)+EB40,COLUMN(Teilnehmer)+EC40)","v":"$E$51"},{"$f":"ADDRESS(ROW(Teilnehmer)+EC40,COLUMN(Teilnehmer)+EB40)","v":"$R$38"},6,"Spieler 14","-","Spieler 01",null,null,6,6,14,1,"","",{"$f":"ADDRESS(ROW(Teilnehmer)+EP40,COLUMN(Teilnehmer)+EQ40)","v":"$D$50"},{"$f":"ADDRESS(ROW(Teilnehmer)+EQ40,COLUMN(Teilnehmer)+EP40)","v":"$Q$37"},6,{"$f":"DW40","v":"Spieler 02"},"-",{"$f":"DU40","v":"Spieler 15"},null,6,{"$f":"EK40","v":"Spieler 01"},"-",{"$f":"EI40","v":"Spieler 14"}]
[null,5,null,"","","","","","","","","","","","","","","","","","","","","","","","",0,0,0,null,0,0,1,null,0,0,0,0,0,0,0,0,0,0,0,0,0,0,0,0,0,0,0,0,0,{"$f":"IF(Y41=\"\",0,VLOOKUP(Y41,Wertung,3,FALSE))","v":0},{"$f":"IF(Z41=\"\",0,VLOOKUP(Z41,Wertung,3,FALSE))","v":0},{"$f":"IF(AA41=\"\",0,VLOOKUP(AA41,Wertung,3,FALSE))","v":0},0,null,0,0,0,0,0,0,0,0,0,0,0,0,0,0,0,0,0,0,0,0,0,0,0,0,0,null,0,1,1,1,1,1,10101,101,1010101,10101,10101,1010101,101,101,1010101,10101,10101,{"$f":"SUM((TRANSPOSE($CZ$37:$CZ$60)=CZ41)*$AJ41:$BG41)","v":0},1,10101,101010101,10101,101010101,10101010101,101010101,1010101010101,1010101010101,101010101,10101010101,101010101,1,false,"Spieler 05",4,1.004005,5,7,"Spieler 03","-","Spieler 14",null,null,{"$f":"DZ40","v":5},7,3,14,"","",{"$f":"ADDRESS(ROW(Teilnehmer)+EB41,COLUMN(Teilnehmer)+EC41)","v":"$Q$39"},{"$f":"ADDRESS(ROW(Teilnehmer)+EC41,COLUMN(Teilnehmer)+EB41)","v":"$F$50"},7,"Spieler 02","-","Spieler 13",null,null,6,7,2,13,"","",{"$f":"ADDRESS(ROW(Teilnehmer)+EP41,COLUMN(Teilnehmer)+EQ41)","v":"$P$38"},{"$f":"ADDRESS(ROW(Teilnehmer)+EQ41,COLUMN(Teilnehmer)+EP41)","v":"$E$49"},7,{"$f":"DU41","v":"Spieler 03"},"-",{"$f":"DW41","v":"Spieler 14"},null,7,{"$f":"EI41","v":"Spieler 02"},"-",{"$f":"EK41","v":"Spieler 13"}]
[null,6,null,"","","","","","","","","","","","","","","","","","","","","","","","",0,0,0,null,0,0,1,null,0,0,0,0,0,0,0,0,0,0,0,0,0,0,0,0,0,0,0,0,0,{"$f":"IF(Y42=\"\",0,VLOOKUP(Y42,Wertung,3,FALSE))","v":0},{"$f":"IF(Z42=\"\",0,VLOOKUP(Z42,Wertung,3,FALSE))","v":0},{"$f":"IF(AA42=\"\",0,VLOOKUP(AA42,Wertung,3,FALSE))","v":0},0,null,0,0,0,0,0,0,0,0,0,0,0,0,0,0,0,0,0,0,0,0,0,0,0,0,{"$f":"SUM(BJ42:CG42)","v":0},null,0,1,1,1,1,1,10101,101,1010101,10101,10101,1010101,101,101,1010101,10101,10101,{"$f":"SUM((TRANSPOSE($CZ$37:$CZ$60)=CZ42)*$AJ42:$BG42)","v":0},1,10101,101010101,10101,101010101,10101010101,101010101,1010101010101,1010101010101,101010101,10101010101,101010101,1,false,"Spieler 06",5,1.0050059999999998,6,8,"Spieler 13","-","Spieler 04",null,null,5,8,13,4,"","",{"$f":"ADDRESS(ROW(Teilnehmer)+EB42,COLUMN(Teilnehmer)+EC42)","v":"$G$49"},{"$f":"ADDRESS(ROW(Teilnehmer)+EC42,COLUMN(Teilnehmer)+EB42)","v":"$P$40"},8,"Spieler 12","-","Spieler 03",null,null,6,8,12,3,"","",{"$f":"ADDRESS(ROW(Teilnehmer)+EP42,COLUMN(Teilnehmer)+EQ42)","v":"$F$48"},{"$f":"ADDRESS(ROW(Teilnehmer)+EQ42,COLUMN(Teilnehmer)+EP42)","v":"$O$39"},8,{"$f":"DW42","v":"Spieler 04"},"-",{"$f":"DU42","v":"Spieler 13"},null,8,{"$f":"EK42","v":"Spieler 03"},"-",{"$f":"EI42","v":"Spieler 12"}]
[null,7,null,"","","","","","","","","","","","","","","","","","","","","","","","",0,0,0,null,0,0,1,null,0,0,0,0,0,0,0,0,0,0,0,0,0,0,0,0,0,0,0,0,0,{"$f":"IF(Y43=\"\",0,VLOOKUP(Y43,Wertung,3,FALSE))","v":0},{"$f":"IF(Z43=\"\",0,VLOOKUP(Z43,Wertung,3,FALSE))","v":0},{"$f":"IF(AA43=\"\",0,VLOOKUP(AA43,Wertung,3,FALSE))","v":0},0,null,0,0,0,0,0,0,0,0,0,0,0,0,0,0,0,0,0,0,0,0,0,0,0,0,0,null,0,1,1,1,1,1,10101,101,1010101,10101,10101,1010101,101,101,1010101,10101,10101,{"$f":"SUM((TRANSPOSE($CZ$37:$CZ$60)=CZ43)*$AJ43:$BG43)","v":0},1,10101,101010101,10101,101010101,10101010101,101010101,1010101010101,1010101010101,101010101,10101010101,101010101,1,false,"Spieler 07",6,1.0060070000000001,7,9,"Spieler 05","-","Spieler 12",null,null,5,9,5,12,"","",{"$f":"ADDRESS(ROW(Teilnehmer)+EB43,COLUMN(Teilnehmer)+EC43)","v":"$O$41"},{"$f":"ADDRESS(ROW(Teilnehmer)+EC43,COLUMN(Teilnehmer)+EB43)","v":"$H$48"},9,"Spieler 04","-","Spieler 11",null,null,6,9,4,11,"","",{"$f":"ADDRESS(ROW(Teilnehmer)+EP43,COLUMN(Teilnehmer)+EQ43)","v":"$N$40"},{"$f":"ADDRESS(ROW(Teilnehmer)+EQ43,COLUMN(Teilnehmer)+EP43)","v":"$G$47"},9,{"$f":"DU43","v":"Spieler 05"},"-",{"$f":"DW43","v":"Spieler 12"},null,9,{"$f":"EI43","v":"Spieler 04"},"-",{"$f":"EK43","v":"Spieler 11"}]
[null,8,null,"","","","","","","","","","","","","","","","","","","","","","","","",0,0,0,null,0,0,1,null,0,0,0,0,0,0,0,0,0,0,0,0,0,0,0,0,0,0,0,0,0,{"$f":"IF(Y44=\"\",0,VLOOKUP(Y44,Wertung,3,FALSE))","v":0},{"$f":"IF(Z44=\"\",0,VLOOKUP(Z44,Wertung,3,FALSE))","v":0},{"$f":"IF(AA44=\"\",0,VLOOKUP(AA44,Wertung,3,FALSE))","v":0},0,null,0,0,0,0,0,0,0,0,0,0,0,0,0,0,0,0,0,0,0,0,0,0,0,0,0,null,0,1,1,1,1,1,10101,101,1010101,10101,10101,1010101,101,101,1010101,10101,10101,{"$f":"SUM((TRANSPOSE($CZ$37:$CZ$60)=CZ44)*$AJ44:$BG44)","v":0},1,10101,101010101,10101,101010101,10101010101,101010101,1010101010101,1010101010101,101010101,10101010101,101010101,1,false,"Spieler 08",7,1.0070079999999999,8,10,"Spieler 11","-","Spieler 06",null,null,5,10,11,6,"","",{"$f":"ADDRESS(ROW(Teilnehmer)+EB44,COLUMN(Teilnehmer)+EC44)","v":"$I$47"},{"$f":"ADDRESS(ROW(Teilnehmer)+EC44,COLUMN(Teilnehmer)+EB44)","v":"$N$42"},10,"Spieler 10","-","Spieler 05",null,null,6,10,10,5,"","",{"$f":"ADDRESS(ROW(Teilnehmer)+EP44,COLUMN(Teilnehmer)+EQ44)","v":"$H$46"},{"$f":"ADDRESS(ROW(Teilnehmer)+EQ44,COLUMN(Teilnehmer)+EP44)","v":"$M$41"},10,{"$f":"DW44","v":"Spieler 06"},"-",{"$f":"DU44","v":"Spieler 11"},null,10,{"$f":"EK44","v":"Spieler 05"},"-",{"$f":"EI44","v":"Spieler 10"}]
[null,9,null,"","","","","","","","","","","","","","","","","","","","","","","","",0,0,0,null,0,0,1,null,0,0,0,0,0,0,0,0,0,0,0,0,0,0,0,0,0,0,0,0,0,{"$f":"IF(Y45=\"\",0,VLOOKUP(Y45,Wertung,3,FALSE))","v":0},{"$f":"IF(Z45=\"\",0,VLOOKUP(Z45,Wertung,3,FALSE))","v":0},{"$f":"IF(AA45=\"\",0,VLOOKUP(AA45,Wertung,3,FALSE))","v":0},0,null,0,0,0,0,0,0,0,0,0,0,0,0,0,0,0,0,0,0,0,0,0,0,0,0,0,null,0,1,1,1,1,1,10101,101,1010101,10101,10101,1010101,101,101,1010101,10101,10101,{"$f":"SUM((TRANSPOSE($CZ$37:$CZ$60)=CZ45)*$AJ45:$BG45)","v":0},1,10101,101010101,10101,101010101,10101010101,101010101,1010101010101,1010101010101,101010101,10101010101,101010101,1,false,"Spieler 09",8,1.0080089999999999,9,11,"Spieler 07","-","Spieler 10",null,null,5,11,7,10,"","",{"$f":"ADDRESS(ROW(Teilnehmer)+EB45,COLUMN(Teilnehmer)+EC45)","v":"$M$43"},{"$f":"ADDRESS(ROW(Teilnehmer)+EC45,COLUMN(Teilnehmer)+EB45)","v":"$J$46"},11,"Spieler 06","-","Spieler 09",null,null,6,11,6,9,"","",{"$f":"ADDRESS(ROW(Teilnehmer)+EP45,COLUMN(Teilnehmer)+EQ45)","v":"$L$42"},{"$f":"ADDRESS(ROW(Teilnehmer)+EQ45,COLUMN(Teilnehmer)+EP45)","v":"$I$45"},11,{"$f":"DU45","v":"Spieler 07"},"-",{"$f":"DW45","v":"Spieler 10"},null,11,{"$f":"EI45","v":"Spieler 06"},"-",{"$f":"EK45","v":"Spieler 09"}]
[null,10,null,"","","","","","","","","","","","","","","","","","","","","","","","",0,0,0,null,0,0,1,null,0,0,0,0,0,0,0,0,0,0,0,0,0,0,0,0,0,0,0,0,0,{"$f":"IF(Y46=\"\",0,VLOOKUP(Y46,Wertung,3,FALSE))","v":0},{"$f":"IF(Z46=\"\",0,VLOOKUP(Z46,Wertung,3,FALSE))","v":0},{"$f":"IF(AA46=\"\",0,VLOOKUP(AA46,Wertung,3,FALSE))","v":0},0,null,0,0,0,0,0,0,0,0,0,0,0,0,0,0,0,0,0,0,0,0,0,0,0,0,0,null,0,1,1,1,1,1,10101,101,1010101,10101,10101,1010101,101,101,1010101,10101,10101,{"$f":"SUM((TRANSPOSE($CZ$37:$CZ$60)=CZ46)*$AJ46:$BG46)","v":0},1,10101,101010101,10101,101010101,10101010101,101010101,1010101010101,1010101010101,101010101,10101010101,101010101,1,false,"Spieler 10",9,1.00901,10,12,"Spieler 09","-","Spieler 08",null,null,5,12,9,8,"","",{"$f":"ADDRESS(ROW(Teilnehmer)+EB46,COLUMN(Teilnehmer)+EC46)","v":"$K$45"},{"$f":"ADDRESS(ROW(Teilnehmer)+EC46,COLUMN(Teilnehmer)+EB46)","v":"$L$44"},12,"Spieler 08","-","Spieler 07",null,null,6,12,8,7,"","",{"$f":"ADDRESS(ROW(Teilnehmer)+EP46,COLUMN(Teilnehmer)+EQ46)","v":"$J$44"},{"$f":"ADDRESS(ROW(Teilnehmer)+EQ46,COLUMN(Teilnehmer)+EP46)","v":"$K$43"},12,{"$f":"DW46","v":"Spieler 08"},"-",{"$f":"DU46","v":"Spieler 09"},null,12,{"$f":"EK46","v":"Spieler 07"},"-",{"$f":"EI46","v":"Spieler 08"}]
[null,11,null,{"$f":"IF(ISNA(MATCH(ADDRESS(ROW(),COLUMN()),$EF:$EF,0)),\"\",INDEX($ED:$ED,MATCH(ADDRESS(ROW(),COLUMN()),$EF:$EF,0)))&IF(ISNA(MATCH(ADDRESS(ROW(),COLUMN()),$EG:$EG,0)),\"\",INDEX($EE:$EE,MATCH(ADDRESS(ROW(),COLUMN()),$EG:$EG,0)))&IF(ISNA(MATCH(ADDRESS(ROW(),COLUMN()),$ET:$ET,0)),\"\",INDEX($ER:$ER,MATCH(ADDRESS(ROW(),COLUMN()),$ET:$ET,0)))&IF(ISNA(MATCH(ADDRESS(ROW(),COLUMN()),$EU:$EU,0)),\"\",INDEX($ES:$ES,MATCH(ADDRESS(ROW(),COLUMN()),$EU:$EU,0)))","v":""},"","","","","","","","","",{"$f":"IF(ISNA(MATCH(ADDRESS(ROW(),COLUMN()),$EF:$EF,0)),\"\",INDEX($ED:$ED,MATCH(ADDRESS(ROW(),COLUMN()),$EF:$EF,0)))&IF(ISNA(MATCH(ADDRESS(ROW(),COLUMN()),$EG:$EG,0)),\"\",INDEX($EE:$EE,MATCH(ADDRESS(ROW(),COLUMN()),$EG:$EG,0)))&IF(ISNA(MATCH(ADDRESS(ROW(),COLUMN()),$ET:$ET,0)),\"\",INDEX($ER:$ER,MATCH(ADDRESS(ROW(),COLUMN()),$ET:$ET,0)))&IF(ISNA(MATCH(ADDRESS(ROW(),COLUMN()),$EU:$EU,0)),\"\",INDEX($ES:$ES,MATCH(ADDRESS(ROW(),COLUMN()),$EU:$EU,0)))","v":""},"","","","","","","","","","","","","",0,0,0,null,0,0,1,null,0,0,0,0,0,0,0,0,0,0,0,0,0,0,0,0,0,0,0,0,0,{"$f":"IF(Y47=\"\",0,VLOOKUP(Y47,Wertung,3,FALSE))","v":0},{"$f":"IF(Z47=\"\",0,VLOOKUP(Z47,Wertung,3,FALSE))","v":0},{"$f":"IF(AA47=\"\",0,VLOOKUP(AA47,Wertung,3,FALSE))","v":0},0,null,0,0,0,0,0,0,0,0,0,0,0,0,0,0,0,0,0,0,0,0,0,0,0,0,0,null,0,1,1,1,1,1,10101,101,1010101,10101,10101,1010101,101,101,1010101,10101,10101,{"$f":"SUM((TRANSPOSE($CZ$37:$CZ$60)=CZ47)*$AJ47:$BG47)","v":0},1,10101,101010101,10101,101010101,10101010101,101010101,1010101010101,1010101010101,101010101,10101010101,101010101,1,false,"Spieler 11",10,1.010011,11]
[null,12,null,"","","","","","","","","","","","","","","","","","","","","","","","",0,0,0,null,0,0,1,null,0,0,0,0,0,0,0,0,0,0,0,0,0,0,0,0,0,0,0,0,0,{"$f":"IF(Y48=\"\",0,VLOOKUP(Y48,Wertung,3,FALSE))","v":0},{"$f":"IF(Z48=\"\",0,VLOOKUP(Z48,Wertung,3,FALSE))","v":0},{"$f":"IF(AA48=\"\",0,VLOOKUP(AA48,Wertung,3,FALSE))","v":0},0,null,0,0,0,0,0,0,0,0,0,0,0,0,0,0,0,0,0,0,0,0,0,0,0,0,0,null,0,1,1,1,1,1,10101,101,1010101,10101,10101,1010101,101,101,1010101,10101,10101,{"$f":"SUM((TRANSPOSE($CZ$37:$CZ$60)=CZ48)*$AJ48:$BG48)","v":0},1,10101,101010101,10101,101010101,10101010101,101010101,1010101010101,1010101010101,101010101,10101010101,101010101,1,false,"Spieler 12",11,1.0110119999999998,12,null,{"$f":"DU34+2","v":7},null,null,null,null,"R","B","SpNr w","SpNr s","Res w","Res s",null,null,null,{"$f":"EI34+2","v":8},null,null,null,null,"R","B","SpNr w","SpNr s","Res w","Res s",null,null,null,{"$f":"DU48","v":7},1,null,null,null,{"$f":"EI48","v":8}]
[null,13,null,"","","","","","","","","","","","","","","","","","","","","","","","",0,0,0,null,0,0,1,null,0,0,0,0,0,0,0,0,0,0,0,0,0,0,0,0,0,0,0,0,0,{"$f":"IF(Y49=\"\",0,VLOOKUP(Y49,Wertung,3,FALSE))","v":0},{"$f":"IF(Z49=\"\",0,VLOOKUP(Z49,Wertung,3,FALSE))","v":0},{"$f":"IF(AA49=\"\",0,VLOOKUP(AA49,Wertung,3,FALSE))","v":0},0,null,0,0,0,0,0,0,0,0,0,0,0,0,0,0,0,0,0,0,0,0,0,0,0,0,0,null,0,1,1,1,1,1,10101,101,1010101,10101,10101,1010101,101,101,1010101,10101,10101,{"$f":"SUM((TRANSPOSE($CZ$37:$CZ$60)=CZ49)*$AJ49:$BG49)","v":0},1,10101,101010101,10101,101010101,10101010101,101010101,1010101010101,1010101010101,101010101,10101010101,101010101,1,false,"Spieler 13",12,1.0120130000000001,13,{"$f":"IF(OR(INDEX($DO$37:$DO$60,EB49),INDEX($DO$37:$DO$60,EC49)),0,1)","v":1},{"$f":"INDEX($DP$37:$DP$60,MATCH($EB49,TeilnNr,0))","v":"Spieler 18"},"-",{"$f":"INDEX($DP$37:$DP$60,MATCH($EC49,TeilnNr,0))","v":"Spieler 24"},null,null,{"$f":"DU48","v":7},1,{"$f":"IF(AND(EA49=1,MOD(DZ49,2)=0),MAX(TeilnNr),IF(MOD(EA49,2)=0,IF(MAX(TeilnNr)/2-EA49+1-(DZ49-MAX(TeilnNr)/2-1)>=1,MAX(TeilnNr)/2-EA49+1-(DZ49-MAX(TeilnNr)/2-1),MAX(TeilnNr)/2-EA49+1-(DZ49-MAX(TeilnNr)/2-1)+MAX(TeilnNr)-1),IF(EA49-(DZ49-1)>=1,EA49-(DZ49-1),EA49-(DZ49-1)+MAX(TeilnNr)-1)))","v":18},{"$f":"IF(AND(EA49=1,MOD(DZ49,2)<>0),MAX(TeilnNr),IF(MOD(EA49,2)<>0,IF(MAX(TeilnNr)/2-EA49+1-(DZ49-MAX(TeilnNr)/2-1)>=1,MAX(TeilnNr)/2-EA49+1-(DZ49-MAX(TeilnNr)/2-1),MAX(TeilnNr)/2-EA49+1-(DZ49-MAX(TeilnNr)/2-1)+MAX(TeilnNr)-1),IF(EA49-(DZ49-1)>=1,EA49-(DZ49-1),EA49-(DZ49-1)+MAX(TeilnNr)-1)))","v":24},{"$f":"IF(LEFT(DY49,1)=\"V\",\"\",LEFT(DY49,1))","v":""},{"$f":"IF(RIGHT(DY49,1)=\"V\",\"\",RIGHT(DY49,1))","v":""},{"$f":"ADDRESS(ROW(Teilnehmer)+EB49,COLUMN(Teilnehmer)+EC49)","v":"$AA$54"},{"$f":"ADDRESS(ROW(Teilnehmer)+EC49,COLUMN(Teilnehmer)+EB49)","v":"$U$60"},{"$f":"IF(OR(INDEX($DO$37:$DO$60,EP49),INDEX($DO$37:$DO$60,EQ49)),0,1)","v":1},{"$f":"INDEX($DP$37:$DP$60,MATCH($EP49,TeilnNr,0))","v":"Spieler 24"},"-",{"$f":"INDEX($DP$37:$DP$60,MATCH($EQ49,TeilnNr,0))","v":"Spieler 17"},null,null,{"$f":"EI48","v":8},1,{"$f":"IF(AND(EO49=1,MOD(EN49,2)=0),MAX(TeilnNr),IF(MOD(EO49,2)=0,IF(MAX(TeilnNr)/2-EO49+1-(EN49-MAX(TeilnNr)/2-1)>=1,MAX(TeilnNr)/2-EO49+1-(EN49-MAX(TeilnNr)/2-1),MAX(TeilnNr)/2-EO49+1-(EN49-MAX(TeilnNr)/2-1)+MAX(TeilnNr)-1),IF(EO49-(EN49-1)>=1,EO49-(EN49-1),EO49-(EN49-1)+MAX(TeilnNr)-1)))","v":24},{"$f":"IF(AND(EO49=1,MOD(EN49,2)<>0),MAX(TeilnNr),IF(MOD(EO49,2)<>0,IF(MAX(TeilnNr)/2-EO49+1-(EN49-MAX(TeilnNr)/2-1)>=1,MAX(TeilnNr)/2-EO49+1-(EN49-MAX(TeilnNr)/2-1),MAX(TeilnNr)/2-EO49+1-(EN49-MAX(TeilnNr)/2-1)+MAX(TeilnNr)-1),IF(EO49-(EN49-1)>=1,EO49-(EN49-1),EO49-(EN49-1)+MAX(TeilnNr)-1)))","v":17},{"$f":"IF(LEFT(EM49,1)=\"V\",\"\",LEFT(EM49,1))","v":""},{"$f":"IF(RIGHT(EM49,1)=\"V\",\"\",RIGHT(EM49,1))","v":""},{"$f":"ADDRESS(ROW(Teilnehmer)+EP49,COLUMN(Teilnehmer)+EQ49)","v":"$T$60"},{"$f":"ADDRESS(ROW(Teilnehmer)+EQ49,COLUMN(Teilnehmer)+EP49)","v":"$AA$53"},{"$f":"DT49","v":1},"Spieler 18","-",{"$f":"DW49","v":"Spieler 24"},null,{"$f":"EH49","v":1},{"$f":"EK49","v":"Spieler 17"},"-",{"$f":"EI49","v":"Spieler 24"}]
[null,14,null,"","","","","","","","","","","","","","","","","","","","","","","","",0,0,0,null,0,0,1,null,0,0,0,0,0,0,0,0,0,0,0,0,0,0,0,0,0,0,0,0,0,{"$f":"IF(Y50=\"\",0,VLOOKUP(Y50,Wertung,3,FALSE))","v":0},{"$f":"IF(Z50=\"\",0,VLOOKUP(Z50,Wertung,3,FALSE))","v":0},{"$f":"IF(AA50=\"\",0,VLOOKUP(AA50,Wertung,3,FALSE))","v":0},0,null,0,0,0,0,0,0,0,0,0,0,0,0,0,0,0,0,0,0,0,0,0,0,0,0,0,null,0,1,1,1,1,1,10101,101,1010101,10101,10101,1010101,101,101,1010101,10101,10101,{"$f":"SUM((TRANSPOSE($CZ$37:$CZ$60)=CZ50)*$AJ50:$BG50)","v":0},1,10101,101010101,10101,101010101,10101010101,101010101,1010101010101,1010101010101,101010101,10101010101,101010101,1,false,"Spieler 14",13,1.0130139999999999,14,{"$f":"DT49+1","v":2},"Spieler 17","-","Spieler 19",null,null,{"$f":"DZ49","v":7},{"$f":"EA49+1","v":2},17,19,"","",{"$f":"ADDRESS(ROW(Teilnehmer)+EB50,COLUMN(Teilnehmer)+EC50)","v":"$V$53"},{"$f":"ADDRESS(ROW(Teilnehmer)+EC50,COLUMN(Teilnehmer)+EB50)","v":"$T$55"},{"$f":"EH49+1","v":2},"Spieler 16","-","Spieler 18",null,null,{"$f":"EN49","v":8},{"$f":"EO49+1","v":2},16,18,"","",{"$f":"ADDRESS(ROW(Teilnehmer)+EP50,COLUMN(Teilnehmer)+EQ50)","v":"$U$52"},{"$f":"ADDRESS(ROW(Teilnehmer)+EQ50,COLUMN(Teilnehmer)+EP50)","v":"$S$54"},{"$f":"DT50","v":2},{"$f":"DW50","v":"Spieler 19"},"-",{"$f":"DU50","v":"Spieler 17"},null,2,"Spieler 18","-","Spieler 16"]
[null,15,null,"","","","","","","","","","","","","","","","","","","","","","","","",0,0,0,null,0,0,1,null,0,0,0,0,0,0,0,0,0,0,0,0,0,0,0,0,0,0,0,0,0,{"$f":"IF(Y51=\"\",0,VLOOKUP(Y51,Wertung,3,FALSE))","v":0},{"$f":"IF(Z51=\"\",0,VLOOKUP(Z51,Wertung,3,FALSE))","v":0},{"$f":"IF(AA51=\"\",0,VLOOKUP(AA51,Wertung,3,FALSE))","v":0},0,null,0,0,0,0,0,0,0,0,0,0,0,0,0,0,0,0,0,0,0,0,0,0,0,0,0,null,0,1,1,1,1,1,10101,101,1010101,10101,10101,1010101,101,101,1010101,10101,10101,{"$f":"SUM((TRANSPOSE($CZ$37:$CZ$60)=CZ51)*$AJ51:$BG51)","v":0},1,10101,101010101,10101,101010101,10101010101,101010101,1010101010101,1010101010101,101010101,10101010101,101010101,1,false,"Spieler 15",14,1.0140150000000001,15,{"$f":"DT50+1","v":3},"Spieler 20","-","Spieler 16",null,null,{"$f":"DZ50","v":7},{"$f":"EA50+1","v":3},20,16,"","",{"$f":"ADDRESS(ROW(Teilnehmer)+EB51,COLUMN(Teilnehmer)+EC51)","v":"$S$56"},{"$f":"ADDRESS(ROW(Teilnehmer)+EC51,COLUMN(Teilnehmer)+EB51)","v":"$W$52"},{"$f":"EH50+1","v":3},"Spieler 19","-","Spieler 15",null,null,{"$f":"EN50","v":8},{"$f":"EO50+1","v":3},19,15,"","",{"$f":"ADDRESS(ROW(Teilnehmer)+EP51,COLUMN(Teilnehmer)+EQ51)","v":"$R$55"},{"$f":"ADDRESS(ROW(Teilnehmer)+EQ51,COLUMN(Teilnehmer)+EP51)","v":"$V$51"},3,{"$f":"DU51","v":"Spieler 20"},"-",{"$f":"DW51","v":"Spieler 16"},null,3,{"$f":"EI51","v":"Spieler 19"},"-",{"$f":"EK51","v":"Spieler 15"}]
[null,16,null,"","","","","","","","","","","","","","","","","","","","","","","","",0,0,0,null,0,0,1,null,0,0,0,0,0,0,0,0,0,0,0,0,0,0,0,0,0,0,0,0,0,{"$f":"IF(Y52=\"\",0,VLOOKUP(Y52,Wertung,3,FALSE))","v":0},{"$f":"IF(Z52=\"\",0,VLOOKUP(Z52,Wertung,3,FALSE))","v":0},{"$f":"IF(AA52=\"\",0,VLOOKUP(AA52,Wertung,3,FALSE))","v":0},{"$f":"SUM(AJ52:BG52)","v":0},null,0,0,0,0,0,0,0,0,0,0,0,0,0,0,0,0,0,0,0,0,0,0,0,0,0,null,0,1,1,1,1,1,10101,101,1010101,10101,10101,1010101,101,101,1010101,10101,10101,{"$f":"SUM((TRANSPOSE($CZ$37:$CZ$60)=CZ52)*$AJ52:$BG52)","v":0},1,10101,101010101,10101,101010101,10101010101,101010101,1010101010101,1010101010101,101010101,10101010101,101010101,1,false,"Spieler 16",15,1.0150159999999999,16,4,"Spieler 15","-","Spieler 21",null,null,{"$f":"DZ51","v":7},4,15,21,"","",{"$f":"ADDRESS(ROW(Teilnehmer)+EB52,COLUMN(Teilnehmer)+EC52)","v":"$X$51"},{"$f":"ADDRESS(ROW(Teilnehmer)+EC52,COLUMN(Teilnehmer)+EB52)","v":"$R$57"},4,"Spieler 14","-","Spieler 20",null,null,{"$f":"EN51","v":8},4,14,20,"","",{"$f":"ADDRESS(ROW(Teilnehmer)+EP52,COLUMN(Teilnehmer)+EQ52)","v":"$W$50"},{"$f":"ADDRESS(ROW(Teilnehmer)+EQ52,COLUMN(Teilnehmer)+EP52)","v":"$Q$56"},4,{"$f":"DW52","v":"Spieler 21"},"-",{"$f":"DU52","v":"Spieler 15"},null,4,{"$f":"EK52","v":"Spieler 20"},"-",{"$f":"EI52","v":"Spieler 14"}]
[null,17,null,"","","","","","","","","","","","","","","","","","","","","","","","",0,0,0,null,0,0,1,null,0,0,0,0,0,0,0,0,0,0,0,0,0,0,0,0,0,0,0,0,0,{"$f":"IF(Y53=\"\",0,VLOOKUP(Y53,Wertung,3,FALSE))","v":0},{"$f":"IF(Z53=\"\",0,VLOOKUP(Z53,Wertung,3,FALSE))","v":0},{"$f":"IF(AA53=\"\",0,VLOOKUP(AA53,Wertung,3,FALSE))","v":0},0,null,0,0,0,0,0,0,0,0,0,0,0,0,0,0,0,0,0,0,0,0,0,0,0,0,0,null,0,1,1,1,1,1,10101,101,1010101,10101,10101,1010101,101,101,1010101,10101,10101,{"$f":"SUM((TRANSPOSE($CZ$37:$CZ$60)=CZ53)*$AJ53:$BG53)","v":0},1,10101,101010101,10101,101010101,10101010101,101010101,1010101010101,1010101010101,101010101,10101010101,101010101,1,false,"Spieler 17",16,1.0160169999999999,17,5,"Spieler 22","-","Spieler 14",null,null,{"$f":"DZ52","v":7},5,22,14,"","",{"$f":"ADDRESS(ROW(Teilnehmer)+EB53,COLUMN(Teilnehmer)+EC53)","v":"$Q$58"},{"$f":"ADDRESS(ROW(Teilnehmer)+EC53,COLUMN(Teilnehmer)+EB53)","v":"$Y$50"},5,"Spieler 21","-","Spieler 13",null,null,8,5,21,13,"","",{"$f":"ADDRESS(ROW(Teilnehmer)+EP53,COLUMN(Teilnehmer)+EQ53)","v":"$P$57"},{"$f":"ADDRESS(ROW(Teilnehmer)+EQ53,COLUMN(Teilnehmer)+EP53)","v":"$X$49"},5,{"$f":"DU53","v":"Spieler 22"},"-",{"$f":"DW53","v":"Spieler 14"},null,5,{"$f":"EI53","v":"Spieler 21"},"-",{"$f":"EK53","v":"Spieler 13"}]
[null,18,null,"","","","","","","","","","","","","","","","","","","","","","","","",0,0,0,null,0,0,1,null,0,0,0,0,0,0,0,0,0,0,0,0,0,0,0,0,0,0,0,0,0,{"$f":"IF(Y54=\"\",0,VLOOKUP(Y54,Wertung,3,FALSE))","v":0},{"$f":"IF(Z54=\"\",0,VLOOKUP(Z54,Wertung,3,FALSE))","v":0},{"$f":"IF(AA54=\"\",0,VLOOKUP(AA54,Wertung,3,FALSE))","v":0},0,null,0,0,0,0,0,0,0,0,0,0,0,0,0,0,0,0,0,0,0,0,0,0,0,0,0,null,0,1,1,1,1,1,10101,101,1010101,10101,10101,1010101,101,101,1010101,10101,10101,{"$f":"SUM((TRANSPOSE($CZ$37:$CZ$60)=CZ54)*$AJ54:$BG54)","v":0},1,10101,101010101,10101,101010101,10101010101,101010101,1010101010101,1010101010101,101010101,10101010101,101010101,1,false,"Spieler 18",17,1.017018,18,6,"Spieler 13","-","Spieler 23",null,null,{"$f":"DZ53","v":7},6,13,23,"","",{"$f":"ADDRESS(ROW(Teilnehmer)+EB54,COLUMN(Teilnehmer)+EC54)","v":"$Z$49"},{"$f":"ADDRESS(ROW(Teilnehmer)+EC54,COLUMN(Teilnehmer)+EB54)","v":"$P$59"},6,"Spieler 12","-","Spieler 22",null,null,8,6,12,22,"","",{"$f":"ADDRESS(ROW(Teilnehmer)+EP54,COLUMN(Teilnehmer)+EQ54)","v":"$Y$48"},{"$f":"ADDRESS(ROW(Teilnehmer)+EQ54,COLUMN(Teilnehmer)+EP54)","v":"$O$58"},6,{"$f":"DW54","v":"Spieler 23"},"-",{"$f":"DU54","v":"Spieler 13"},null,6,{"$f":"EK54","v":"Spieler 22"},"-",{"$f":"EI54","v":"Spieler 12"}]
[null,19,null,"","","","","","","","","","","","","","","","","","","","","","","","",0,0,0,null,0,0,1,null,0,0,0,0,0,0,0,0,0,0,0,0,0,0,0,0,0,0,0,0,0,{"$f":"IF(Y55=\"\",0,VLOOKUP(Y55,Wertung,3,FALSE))","v":0},{"$f":"IF(Z55=\"\",0,VLOOKUP(Z55,Wertung,3,FALSE))","v":0},{"$f":"IF(AA55=\"\",0,VLOOKUP(AA55,Wertung,3,FALSE))","v":0},0,null,0,0,0,0,0,0,0,0,0,0,0,0,0,0,0,0,0,0,0,0,0,0,0,0,0,null,0,1,1,1,1,1,10101,101,1010101,10101,10101,1010101,101,101,1010101,10101,10101,{"$f":"SUM((TRANSPOSE($CZ$37:$CZ$60)=CZ55)*$AJ55:$BG55)","v":0},1,10101,101010101,10101,101010101,10101010101,101010101,1010101010101,1010101010101,101010101,10101010101,101010101,1,false,"Spieler 19",18,1.018019,19,7,"Spieler 01","-","Spieler 12",null,null,{"$f":"DZ54","v":7},7,1,12,"","",{"$f":"ADDRESS(ROW(Teilnehmer)+EB55,COLUMN(Teilnehmer)+EC55)","v":"$O$37"},{"$f":"ADDRESS(ROW(Teilnehmer)+EC55,COLUMN(Teilnehmer)+EB55)","v":"$D$48"},7,"Spieler 23","-","Spieler 11",null,null,8,7,23,11,"","",{"$f":"ADDRESS(ROW(Teilnehmer)+EP55,COLUMN(Teilnehmer)+EQ55)","v":"$N$59"},{"$f":"ADDRESS(ROW(Teilnehmer)+EQ55,COLUMN(Teilnehmer)+EP55)","v":"$Z$47"},7,{"$f":"DU55","v":"Spieler 01"},"-",{"$f":"DW55","v":"Spieler 12"},null,7,{"$f":"EI55","v":"Spieler 23"},"-",{"$f":"EK55","v":"Spieler 11"}]
[null,20,null,"","","","","","","","","","","","","","","","","","","","","","","","",0,0,0,null,0,0,1,null,0,0,0,0,0,0,0,0,0,0,0,0,0,0,0,0,0,0,0,0,0,{"$f":"IF(Y56=\"\",0,VLOOKUP(Y56,Wertung,3,FALSE))","v":0},{"$f":"IF(Z56=\"\",0,VLOOKUP(Z56,Wertung,3,FALSE))","v":0},{"$f":"IF(AA56=\"\",0,VLOOKUP(AA56,Wertung,3,FALSE))","v":0},0,null,0,0,0,0,0,0,0,0,0,0,0,0,0,0,0,0,0,0,0,0,0,0,0,0,0,null,0,1,1,1,1,1,10101,101,1010101,10101,10101,1010101,101,101,1010101,10101,10101,{"$f":"SUM((TRANSPOSE($CZ$37:$CZ$60)=CZ56)*$AJ56:$BG56)","v":0},1,10101,101010101,10101,101010101,10101010101,101010101,1010101010101,1010101010101,101010101,10101010101,101010101,1,false,"Spieler 20",19,1.0190199999999998,20,8,"Spieler 11","-","Spieler 02",null,null,7,8,11,2,"","",{"$f":"ADDRESS(ROW(Teilnehmer)+EB56,COLUMN(Teilnehmer)+EC56)","v":"$E$47"},{"$f":"ADDRESS(ROW(Teilnehmer)+EC56,COLUMN(Teilnehmer)+EB56)","v":"$N$38"},8,"Spieler 10","-","Spieler 01",null,null,8,8,10,1,"","",{"$f":"ADDRESS(ROW(Teilnehmer)+EP56,COLUMN(Teilnehmer)+EQ56)","v":"$D$46"},{"$f":"ADDRESS(ROW(Teilnehmer)+EQ56,COLUMN(Teilnehmer)+EP56)","v":"$M$37"},8,{"$f":"DW56","v":"Spieler 02"},"-",{"$f":"DU56","v":"Spieler 11"},null,8,{"$f":"EK56","v":"Spieler 01"},"-",{"$f":"EI56","v":"Spieler 10"}]
[null,21,null,"","","","","","","","","","","","","","","","","","","","","","","","",0,0,0,null,0,0,1,null,0,0,0,0,0,0,0,0,0,0,0,0,0,0,0,0,0,0,0,0,0,{"$f":"IF(Y57=\"\",0,VLOOKUP(Y57,Wertung,3,FALSE))","v":0},{"$f":"IF(Z57=\"\",0,VLOOKUP(Z57,Wertung,3,FALSE))","v":0},{"$f":"IF(AA57=\"\",0,VLOOKUP(AA57,Wertung,3,FALSE))","v":0},0,null,0,0,0,0,0,0,0,0,0,0,0,0,0,0,0,0,0,0,0,0,0,0,0,0,0,null,0,1,1,1,1,1,10101,101,1010101,10101,10101,1010101,101,101,1010101,10101,10101,{"$f":"SUM((TRANSPOSE($CZ$37:$CZ$60)=CZ57)*$AJ57:$BG57)","v":0},1,10101,101010101,10101,101010101,10101010101,101010101,1010101010101,1010101010101,101010101,10101010101,101010101,1,false,"Spieler 21",20,1.0200210000000001,21,9,"Spieler 03","-","Spieler 10",null,null,7,9,3,10,"","",{"$f":"ADDRESS(ROW(Teilnehmer)+EB57,COLUMN(Teilnehmer)+EC57)","v":"$M$39"},{"$f":"ADDRESS(ROW(Teilnehmer)+EC57,COLUMN(Teilnehmer)+EB57)","v":"$F$46"},9,"Spieler 02","-","Spieler 09",null,null,8,9,2,9,"","",{"$f":"ADDRESS(ROW(Teilnehmer)+EP57,COLUMN(Teilnehmer)+EQ57)","v":"$L$38"},{"$f":"ADDRESS(ROW(Teilnehmer)+EQ57,COLUMN(Teilnehmer)+EP57)","v":"$E$45"},9,{"$f":"DU57","v":"Spieler 03"},"-",{"$f":"DW57","v":"Spieler 10"},null,9,{"$f":"EI57","v":"Spieler 02"},"-",{"$f":"EK57","v":"Spieler 09"}]
[null,22,null,"","","","","","","","","","","","","","","","","","","","","","","","",0,0,0,null,0,0,1,null,0,0,0,0,0,0,0,0,0,0,0,0,0,0,0,0,0,0,0,0,0,{"$f":"IF(Y58=\"\",0,VLOOKUP(Y58,Wertung,3,FALSE))","v":0},{"$f":"IF(Z58=\"\",0,VLOOKUP(Z58,Wertung,3,FALSE))","v":0},{"$f":"IF(AA58=\"\",0,VLOOKUP(AA58,Wertung,3,FALSE))","v":0},0,null,0,0,0,0,0,0,0,0,0,0,0,0,0,0,0,0,0,0,0,0,0,0,0,0,0,null,0,1,1,1,1,1,10101,101,1010101,10101,10101,1010101,101,101,1010101,10101,10101,{"$f":"SUM((TRANSPOSE($CZ$37:$CZ$60)=CZ58)*$AJ58:$BG58)","v":0},1,10101,101010101,10101,101010101,10101010101,101010101,1010101010101,1010101010101,101010101,10101010101,101010101,1,false,"Spieler 22",21,1.0210219999999999,22,10,{"$f":"INDEX($DP$37:$DP$60,MATCH($EB58,TeilnNr,0))","v":"Spieler 09"},"-",{"$f":"INDEX($DP$37:$DP$60,MATCH($EC58,TeilnNr,0))","v":"Spieler 04"},null,null,7,10,9,4,"","",{"$f":"ADDRESS(ROW(Teilnehmer)+EB58,COLUMN(Teilnehmer)+EC58)","v":"$G$45"},{"$f":"ADDRESS(ROW(Teilnehmer)+EC58,COLUMN(Teilnehmer)+EB58)","v":"$L$40"},10,{"$f":"INDEX($DP$37:$DP$60,MATCH($EP58,TeilnNr,0))","v":"Spieler 08"},"-",{"$f":"INDEX($DP$37:$DP$60,MATCH($EQ58,TeilnNr,0))","v":"Spieler 03"},null,null,8,10,8,3,"","",{"$f":"ADDRESS(ROW(Teilnehmer)+EP58,COLUMN(Teilnehmer)+EQ58)","v":"$F$44"},{"$f":"ADDRESS(ROW(Teilnehmer)+EQ58,COLUMN(Teilnehmer)+EP58)","v":"$K$39"},10,{"$f":"DW58","v":"Spieler 04"},"-",{"$f":"DU58","v":"Spieler 09"},null,10,{"$f":"EK58","v":"Spieler 03"},"-",{"$f":"EI58","v":"Spieler 08"}]
[null,23,null,"","","","","","","","","","","","","","","","","","","","","","","","",0,0,0,null,0,0,1,null,0,0,0,0,0,0,0,0,0,0,0,0,0,0,0,0,0,0,0,0,0,{"$f":"IF(Y59=\"\",0,VLOOKUP(Y59,Wertung,3,FALSE))","v":0},{"$f":"IF(Z59=\"\",0,VLOOKUP(Z59,Wertung,3,FALSE))","v":0},{"$f":"IF(AA59=\"\",0,VLOOKUP(AA59,Wertung,3,FALSE))","v":0},0,null,0,0,0,0,0,0,0,0,0,0,0,0,0,0,0,0,0,0,0,0,0,0,0,0,{"$f":"SUM(BJ59:CG59)","v":0},null,0,1,1,1,1,1,10101,101,1010101,10101,10101,1010101,101,101,1010101,10101,10101,{"$f":"SUM((TRANSPOSE($CZ$37:$CZ$60)=CZ59)*$AJ59:$BG59)","v":0},1,10101,101010101,10101,101010101,10101010101,101010101,1010101010101,1010101010101,101010101,10101010101,101010101,1,false,"Spieler 23",22,1.0220230000000001,23,11,"Spieler 05","-","Spieler 08",null,null,7,11,5,8,"","","$K$41","$H$44",11,"Spieler 04","-","Spieler 07",null,null,8,11,4,7,"","","$J$40","$G$43",11,{"$f":"DU59","v":"Spieler 05"},"-",{"$f":"DW59","v":"Spieler 08"},null,11,{"$f":"EI59","v":"Spieler 04"},"-",{"$f":"EK59","v":"Spieler 07"}]
[null,24,null,"","","","","","","","","","","","","","","","","","","","","","","","",0,0,0,null,0,0,1,null,0,0,0,0,0,0,0,0,0,0,0,0,0,0,0,0,0,0,0,0,0,{"$f":"IF(Y60=\"\",0,VLOOKUP(Y60,Wertung,3,FALSE))","v":0},{"$f":"IF(Z60=\"\",0,VLOOKUP(Z60,Wertung,3,FALSE))","v":0},{"$f":"IF(AA60=\"\",0,VLOOKUP(AA60,Wertung,3,FALSE))","v":0},0,null,0,0,0,0,0,0,0,0,0,0,0,0,0,0,0,0,0,0,0,0,0,0,0,0,0,null,0,1,1,1,1,1,10101,101,1010101,10101,10101,1010101,101,101,1010101,10101,10101,{"$f":"SUM((TRANSPOSE($CZ$37:$CZ$60)=CZ60)*$AJ60:$BG60)","v":0},1,10101,101010101,10101,101010101,10101010101,101010101,1010101010101,1010101010101,101010101,10101010101,101010101,1,false,{"$f":"IF(DO60,$C60,IF($C60=\"\",\"Spieler \"&TEXT($B60,\"00\"),$C60))","v":"Spieler 24"},23,1.0230239999999999,24,12,"Spieler 07","-","Spieler 06",null,null,7,12,7,6,"","","$I$43","$J$42",12,"Spieler 06","-","Spieler 05",null,null,8,12,6,5,"","","$H$42","$I$41",12,{"$f":"DW60","v":"Spieler 06"},"-",{"$f":"DU60","v":"Spieler 07"},null,12,{"$f":"EK60","v":"Spieler 05"},"-",{"$f":"EI60","v":"Spieler 06"}]
[null,null,{"$f":"\"-> bei nur \"&MAX(TeilnNr)-1&\" Spielern an Pos. \"&MAX(TeilnNr)&\" einen Stern (*) eintragen\"","v":"-> bei nur 23 Spielern an Pos. 24 einen Stern (*) eintragen"},null,null,null,null,null,null,null,null,null,null,null,null,null,null,null,null,null,null,null,null,null,null,null,null,null,{"$f":"SUM(AC37:AC60)","v":0},null,null,{"$f":"SUM(AF37:AF60)","v":0},{"$f":"SUM(AG37:AG60)","v":0}]
[null,null,null,null,null,null,null,null,null,null,null,null,null,null,null,null,null,null,null,null,null,null,null,null,null,null,null,null,null,null,null,null,null,null,null,null,null,null,null,null,null,null,null,null,null,null,null,null,null,null,null,null,null,null,null,null,null,null,null,null,null,null,null,null,null,null,null,null,null,null,null,null,null,null,null,null,null,null,null,null,null,null,null,null,null,null,null,null,null,null,null,null,null,null,null,null,null,null,null,null,null,null,null,null,null,null,null,null,null,null,null,null,null,null,null,null,null,null,null,null,null,null,null,null,{"$f":"DU48+2","v":9},null,null,null,null,"R","B","SpNr w","SpNr s","Res w","Res s",null,null,null,{"$f":"EI48+2","v":10},null,null,null,null,"R","B","SpNr w","SpNr s","Res w","Res s",null,null,null,{"$f":"DU62","v":9},1,null,null,null,{"$f":"EI62","v":10}]
[null,null,null,null,null,null,null,null,null,null,null,null,null,null,null,null,null,null,null,null,null,null,null,null,null,null,null,null,null,null,null,null,null,null,null,null,null,null,null,null,null,null,null,null,null,null,null,null,null,null,null,null,null,null,null,null,null,null,null,null,null,null,null,null,null,null,null,null,null,null,null,null,null,null,null,null,null,null,null,null,null,null,null,null,null,null,null,null,null,null,null,null,null,null,null,null,null,null,null,null,null,null,null,null,null,null,null,null,null,null,null,null,null,null,null,null,null,null,null,null,null,null,null,{"$f":"IF(OR(INDEX($DO$37:$DO$60,EB63),INDEX($DO$37:$DO$60,EC63)),0,1)","v":1},{"$f":"INDEX($DP$37:$DP$60,MATCH($EB63,TeilnNr,0))","v":"Spieler 16"},"-",{"$f":"INDEX($DP$37:$DP$60,MATCH($EC63,TeilnNr,0))","v":"Spieler 24"},null,null,{"$f":"DU62","v":9},1,{"$f":"IF(AND(EA63=1,MOD(DZ63,2)=0),MAX(TeilnNr),IF(MOD(EA63,2)=0,IF(MAX(TeilnNr)/2-EA63+1-(DZ63-MAX(TeilnNr)/2-1)>=1,MAX(TeilnNr)/2-EA63+1-(DZ63-MAX(TeilnNr)/2-1),MAX(TeilnNr)/2-EA63+1-(DZ63-MAX(TeilnNr)/2-1)+MAX(TeilnNr)-1),IF(EA63-(DZ63-1)>=1,EA63-(DZ63-1),EA63-(DZ63-1)+MAX(TeilnNr)-1)))","v":16},{"$f":"IF(AND(EA63=1,MOD(DZ63,2)<>0),MAX(TeilnNr),IF(MOD(EA63,2)<>0,IF(MAX(TeilnNr)/2-EA63+1-(DZ63-MAX(TeilnNr)/2-1)>=1,MAX(TeilnNr)/2-EA63+1-(DZ63-MAX(TeilnNr)/2-1),MAX(TeilnNr)/2-EA63+1-(DZ63-MAX(TeilnNr)/2-1)+MAX(TeilnNr)-1),IF(EA63-(DZ63-1)>=1,EA63-(DZ63-1),EA63-(DZ63-1)+MAX(TeilnNr)-1)))","v":24},{"$f":"IF(LEFT(DY63,1)=\"V\",\"\",LEFT(DY63,1))","v":""},{"$f":"IF(RIGHT(DY63,1)=\"V\",\"\",RIGHT(DY63,1))","v":""},{"$f":"ADDRESS(ROW(Teilnehmer)+EB63,COLUMN(Teilnehmer)+EC63)","v":"$AA$52"},{"$f":"ADDRESS(ROW(Teilnehmer)+EC63,COLUMN(Teilnehmer)+EB63)","v":"$S$60"},{"$f":"IF(OR(INDEX($DO$37:$DO$60,EP63),INDEX($DO$37:$DO$60,EQ63)),0,1)","v":1},{"$f":"INDEX($DP$37:$DP$60,MATCH($EP63,TeilnNr,0))","v":"Spieler 24"},"-",{"$f":"INDEX($DP$37:$DP$60,MATCH($EQ63,TeilnNr,0))","v":"Spieler 15"},null,null,{"$f":"EI62","v":10},1,{"$f":"IF(AND(EO63=1,MOD(EN63,2)=0),MAX(TeilnNr),IF(MOD(EO63,2)=0,IF(MAX(TeilnNr)/2-EO63+1-(EN63-MAX(TeilnNr)/2-1)>=1,MAX(TeilnNr)/2-EO63+1-(EN63-MAX(TeilnNr)/2-1),MAX(TeilnNr)/2-EO63+1-(EN63-MAX(TeilnNr)/2-1)+MAX(TeilnNr)-1),IF(EO63-(EN63-1)>=1,EO63-(EN63-1),EO63-(EN63-1)+MAX(TeilnNr)-1)))","v":24},{"$f":"IF(AND(EO63=1,MOD(EN63,2)<>0),MAX(TeilnNr),IF(MOD(EO63,2)<>0,IF(MAX(TeilnNr)/2-EO63+1-(EN63-MAX(TeilnNr)/2-1)>=1,MAX(TeilnNr)/2-EO63+1-(EN63-MAX(TeilnNr)/2-1),MAX(TeilnNr)/2-EO63+1-(EN63-MAX(TeilnNr)/2-1)+MAX(TeilnNr)-1),IF(EO63-(EN63-1)>=1,EO63-(EN63-1),EO63-(EN63-1)+MAX(TeilnNr)-1)))","v":15},{"$f":"IF(LEFT(EM63,1)=\"V\",\"\",LEFT(EM63,1))","v":""},{"$f":"IF(RIGHT(EM63,1)=\"V\",\"\",RIGHT(EM63,1))","v":""},{"$f":"ADDRESS(ROW(Teilnehmer)+EP63,COLUMN(Teilnehmer)+EQ63)","v":"$R$60"},{"$f":"ADDRESS(ROW(Teilnehmer)+EQ63,COLUMN(Teilnehmer)+EP63)","v":"$AA$51"},{"$f":"DT63","v":1},"Spieler 16","-",{"$f":"DW63","v":"Spieler 24"},null,{"$f":"EH63","v":1},{"$f":"EK63","v":"Spieler 15"},"-",{"$f":"EI63","v":"Spieler 24"}]
[null,null,null,null,null,null,null,null,null,null,null,null,null,null,null,null,null,null,null,null,null,null,null,null,null,null,null,null,null,null,null,null,null,null,null,null,null,null,null,null,null,null,null,null,null,null,null,null,null,null,null,null,null,null,null,null,null,null,null,null,null,null,null,null,null,null,null,null,null,null,null,null,null,null,null,null,null,null,null,null,null,null,null,null,null,null,null,null,null,null,null,null,null,null,null,null,null,null,null,null,null,null,null,null,null,null,null,null,null,null,null,null,null,null,null,null,null,null,null,null,null,null,null,{"$f":"DT63+1","v":2},"Spieler 15","-","Spieler 17",null,null,{"$f":"DZ63","v":9},{"$f":"EA63+1","v":2},15,17,"","","$T$51","$R$53",{"$f":"EH63+1","v":2},"Spieler 14","-","Spieler 16",null,null,{"$f":"EN63","v":10},{"$f":"EO63+1","v":2},14,16,"","","$S$50","$Q$52",{"$f":"DT64","v":2},{"$f":"DW64","v":"Spieler 17"},"-",{"$f":"DU64","v":"Spieler 15"},null,2,"Spieler 16","-","Spieler 14"]
[null,null,null,null,null,null,null,null,null,null,null,null,null,null,null,null,null,null,null,null,null,null,null,null,null,null,null,null,null,null,null,null,null,null,null,null,null,null,null,null,null,null,null,null,null,null,null,null,null,null,null,null,null,null,null,null,null,null,null,null,null,null,null,null,null,null,null,null,null,null,null,null,null,null,null,null,null,null,null,null,null,null,null,null,null,null,null,null,null,null,null,null,null,null,null,null,null,null,null,null,null,null,null,null,null,null,null,null,null,null,null,null,null,null,null,null,null,null,null,null,null,null,null,{"$f":"DT64+1","v":3},"Spieler 18","-","Spieler 14",null,null,{"$f":"DZ64","v":9},{"$f":"EA64+1","v":3},18,14,"","","$Q$54","$U$50",{"$f":"EH64+1","v":3},"Spieler 17","-","Spieler 13",null,null,{"$f":"EN64","v":10},{"$f":"EO64+1","v":3},17,13,"","","$P$53","$T$49",3,{"$f":"DU65","v":"Spieler 18"},"-",{"$f":"DW65","v":"Spieler 14"},null,3,{"$f":"EI65","v":"Spieler 17"},"-",{"$f":"EK65","v":"Spieler 13"}]
[null,null,null,null,null,null,null,null,null,null,null,null,null,null,null,null,null,null,null,null,null,null,null,null,null,null,null,null,null,null,null,null,null,null,null,null,null,null,null,null,null,null,null,null,null,null,null,null,null,null,null,null,null,null,null,null,null,null,null,null,null,null,null,null,null,null,null,null,null,null,null,null,null,null,null,null,null,null,null,null,null,null,null,null,null,null,null,null,null,null,null,null,null,null,null,null,null,null,null,null,null,null,null,null,null,null,null,null,null,null,null,null,null,null,null,null,null,null,null,null,null,null,null,4,"Spieler 13","-","Spieler 19",null,null,{"$f":"DZ65","v":9},4,13,19,"","","$V$49","$P$55",4,"Spieler 12","-","Spieler 18",null,null,{"$f":"EN65","v":10},4,12,18,"","","$U$48","$O$54",4,{"$f":"DW66","v":"Spieler 19"},"-",{"$f":"DU66","v":"Spieler 13"},null,4,{"$f":"EK66","v":"Spieler 18"},"-",{"$f":"EI66","v":"Spieler 12"}]
[null,null,null,null,null,null,null,null,null,null,null,null,null,null,null,null,null,null,null,null,null,null,null,null,null,null,null,null,null,null,null,null,null,null,null,null,null,null,null,null,null,null,null,null,null,null,null,null,null,null,null,null,null,null,null,null,null,null,null,null,null,null,null,null,null,null,null,null,null,null,null,null,null,null,null,null,null,null,null,null,null,null,null,null,null,null,null,null,null,null,null,null,null,null,null,null,null,null,null,null,null,null,null,null,null,null,null,null,null,null,null,null,null,null,null,null,null,null,null,null,null,null,null,5,"Spieler 20","-","Spieler 12",null,null,{"$f":"DZ66","v":9},5,20,12,"","","$O$56","$W$48",5,"Spieler 19","-","Spieler 11",null,null,10,5,19,11,"","","$N$55","$V$47",5,{"$f":"DU67","v":"Spieler 20"},"-",{"$f":"DW67","v":"Spieler 12"},null,5,{"$f":"EI67","v":"Spieler 19"},"-",{"$f":"EK67","v":"Spieler 11"}]
[null,null,null,null,null,null,null,null,null,null,null,null,null,null,null,null,null,null,null,null,null,null,null,null,null,null,null,null,null,null,null,null,null,null,null,null,null,null,null,null,null,null,null,null,null,null,null,null,null,null,null,null,null,null,null,null,null,null,null,null,null,null,null,null,null,null,null,null,null,null,null,null,null,null,null,null,null,null,null,null,null,null,null,null,null,null,null,null,null,null,null,null,null,null,null,null,null,null,null,null,null,null,null,null,null,null,null,null,null,null,null,null,null,null,null,null,null,null,null,null,null,null,null,6,"Spieler 11","-","Spieler 21",null,null,{"$f":"DZ67","v":9},6,11,21,"","","$X$47","$N$57",6,"Spieler 10","-","Spieler 20",null,null,10,6,10,20,"","","$W$46","$M$56",6,{"$f":"DW68","v":"Spieler 21"},"-",{"$f":"DU68","v":"Spieler 11"},null,6,{"$f":"EK68","v":"Spieler 20"},"-",{"$f":"EI68","v":"Spieler 10"}]
[null,null,null,null,null,null,null,null,null,null,null,null,null,null,null,null,null,null,null,null,null,null,null,null,null,null,null,null,null,null,null,null,null,null,null,null,null,null,null,null,null,null,null,null,null,null,null,null,null,null,null,null,null,null,null,null,null,null,null,null,null,null,null,null,null,null,null,null,null,null,null,null,null,null,null,null,null,null,null,null,null,null,null,null,null,null,null,null,null,null,null,null,null,null,null,null,null,null,null,null,null,null,null,null,null,null,null,null,null,null,null,null,null,null,null,null,null,null,null,null,null,null,null,7,"Spieler 22","-","Spieler 10",null,null,{"$f":"DZ68","v":9},7,22,10,"","",{"$f":"ADDRESS(ROW(Teilnehmer)+EB69,COLUMN(Teilnehmer)+EC69)","v":"$M$58"},{"$f":"ADDRESS(ROW(Teilnehmer)+EC69,COLUMN(Teilnehmer)+EB69)","v":"$Y$46"},7,"Spieler 21","-","Spieler 09",null,null,10,7,21,9,"","",{"$f":"ADDRESS(ROW(Teilnehmer)+EP69,COLUMN(Teilnehmer)+EQ69)","v":"$L$57"},{"$f":"ADDRESS(ROW(Teilnehmer)+EQ69,COLUMN(Teilnehmer)+EP69)","v":"$X$45"},7,{"$f":"DU69","v":"Spieler 22"},"-",{"$f":"DW69","v":"Spieler 10"},null,7,{"$f":"EI69","v":"Spieler 21"},"-",{"$f":"EK69","v":"Spieler 09"}]
[null,null,null,null,null,null,null,null,null,null,null,null,null,null,null,null,null,null,null,null,null,null,null,null,null,null,null,null,null,null,null,null,null,null,null,null,null,null,null,null,null,null,null,null,null,null,null,null,null,null,null,null,null,null,null,null,null,null,null,null,null,null,null,null,null,null,null,null,null,null,null,null,null,null,null,null,null,null,null,null,null,null,null,null,null,null,null,null,null,null,null,null,null,null,null,null,null,null,null,null,null,null,null,null,null,null,null,null,null,null,null,null,null,null,null,null,null,null,null,null,null,null,null,8,"Spieler 09","-","Spieler 23",null,null,9,8,9,23,"","","$Z$45","$L$59",8,"Spieler 08","-","Spieler 22",null,null,10,8,8,22,"","","$Y$44","$K$58",8,{"$f":"DW70","v":"Spieler 23"},"-",{"$f":"DU70","v":"Spieler 09"},null,8,{"$f":"EK70","v":"Spieler 22"},"-",{"$f":"EI70","v":"Spieler 08"}]
[null,null,null,null,null,null,null,null,null,null,null,null,null,null,null,null,null,null,null,null,null,null,null,null,null,null,null,null,null,null,null,null,null,null,null,null,null,null,null,null,null,null,null,null,null,null,null,null,null,null,null,null,null,null,null,null,null,null,null,null,null,null,null,null,null,null,null,null,null,null,null,null,null,null,null,null,null,null,null,null,null,null,null,null,null,null,null,null,null,null,null,null,null,null,null,null,null,null,null,null,null,null,null,null,null,null,null,null,null,null,null,null,null,null,null,null,null,null,null,null,null,null,null,9,"Spieler 01","-","Spieler 08",null,null,9,9,1,8,"","","$K$37","$D$44",9,"Spieler 23","-","Spieler 07",null,null,10,9,23,7,"","","$J$59","$Z$43",9,{"$f":"DU71","v":"Spieler 01"},"-",{"$f":"DW71","v":"Spieler 08"},null,9,{"$f":"EI71","v":"Spieler 23"},"-",{"$f":"EK71","v":"Spieler 07"}]
[null,null,null,null,null,null,null,null,null,null,null,null,null,null,null,null,null,null,null,null,null,null,null,null,null,null,null,null,null,null,null,null,null,null,null,null,null,null,null,null,null,null,null,null,null,null,null,null,null,null,null,null,null,null,null,null,null,null,null,null,null,null,null,null,null,null,null,null,null,null,null,null,null,null,null,null,null,null,null,null,null,null,null,null,null,null,null,null,null,null,null,null,null,null,null,null,null,null,null,null,null,null,null,null,null,null,null,null,null,null,null,null,null,null,null,null,null,null,null,null,null,null,null,10,"Spieler 07","-","Spieler 02",null,null,9,10,7,2,"","","$E$43","$J$38",10,"Spieler 06","-","Spieler 01",null,null,10,10,6,1,"","","$D$42","$I$37",10,{"$f":"DW72","v":"Spieler 02"},"-",{"$f":"DU72","v":"Spieler 07"},null,10,{"$f":"EK72","v":"Spieler 01"},"-",{"$f":"EI72","v":"Spieler 06"}]
[null,null,null,null,null,null,null,null,null,null,null,null,null,null,null,null,null,null,null,null,null,null,null,null,null,null,null,null,null,null,null,null,null,null,null,null,null,null,null,null,null,null,null,null,null,null,null,null,null,null,null,null,null,null,null,null,null,null,null,null,null,null,null,null,null,null,null,null,null,null,null,null,null,null,null,null,null,null,null,null,null,null,null,null,null,null,null,null,null,null,null,null,null,null,null,null,null,null,null,null,null,null,null,null,null,null,null,null,null,null,null,null,null,null,null,null,null,null,null,null,null,null,null,11,"Spieler 03","-","Spieler 06",null,null,9,11,3,6,"","","$I$39","$F$42",11,"Spieler 02","-","Spieler 05",null,null,10,11,2,5,"","","$H$38","$E$41",11,{"$f":"DU73","v":"Spieler 03"},"-",{"$f":"DW73","v":"Spieler 06"},null,11,{"$f":"EI73","v":"Spieler 02"},"-",{"$f":"EK73","v":"Spieler 05"}]
[null,null,null,null,null,null,null,null,null,null,null,null,null,null,null,null,null,null,null,null,null,null,null,null,null,null,null,null,null,null,null,null,null,null,null,null,null,null,null,null,null,null,null,null,null,null,null,null,null,null,null,null,null,null,null,null,null,null,null,null,null,null,null,null,null,null,null,null,null,null,null,null,null,null,null,null,null,null,null,null,null,null,null,null,null,null,null,null,null,null,null,null,null,null,null,null,null,null,null,null,null,null,null,null,null,null,null,null,null,null,null,null,null,null,null,null,null,null,null,null,null,null,null,12,"Spieler 05","-","Spieler 04",null,null,9,12,5,4,"","","$G$41","$H$40",12,"Spieler 04","-","Spieler 03",null,null,10,12,4,3,"","","$F$40","$G$39",12,{"$f":"DW74","v":"Spieler 04"},"-",{"$f":"DU74","v":"Spieler 05"},null,12,{"$f":"EK74","v":"Spieler 03"},"-",{"$f":"EI74","v":"Spieler 04"}]
[]
[null,null,null,null,null,null,null,null,null,null,null,null,null,null,null,null,null,null,null,null,null,null,null,null,null,null,null,null,null,null,null,null,null,null,null,null,null,null,null,null,null,null,null,null,null,null,null,null,null,null,null,null,null,null,null,null,null,null,null,null,null,null,null,null,null,null,null,null,null,null,null,null,null,null,null,null,null,null,null,null,null,null,null,null,null,null,null,null,null,null,null,null,null,null,null,null,null,null,null,null,null,null,null,null,null,null,null,null,null,null,null,null,null,null,null,null,null,null,null,null,null,null,null,null,{"$f":"DU62+2","v":11},null,null,null,null,"R","B","SpNr w","SpNr s","Res w","Res s",null,null,null,{"$f":"EI62+2","v":12},null,null,null,null,"R","B","SpNr w","SpNr s","Res w","Res s",null,null,null,{"$f":"DU76","v":11},1,null,null,null,{"$f":"EI76","v":12}]
[null,null,null,null,null,null,null,null,null,null,null,null,null,null,null,null,null,null,null,null,null,null,null,null,null,null,null,null,null,null,null,null,null,null,null,null,null,null,null,null,null,null,null,null,null,null,null,null,null,null,null,null,null,null,null,null,null,null,null,null,null,null,null,null,null,null,null,null,null,null,null,null,null,null,null,null,null,null,null,null,null,null,null,null,null,null,null,null,null,null,null,null,null,null,null,null,null,null,null,null,null,null,null,null,null,null,null,null,null,null,null,null,null,null,null,null,null,null,null,null,null,null,null,{"$f":"IF(OR(INDEX($DO$37:$DO$60,EB77),INDEX($DO$37:$DO$60,EC77)),0,1)","v":1},{"$f":"INDEX($DP$37:$DP$60,MATCH($EB77,TeilnNr,0))","v":"Spieler 14"},"-",{"$f":"INDEX($DP$37:$DP$60,MATCH($EC77,TeilnNr,0))","v":"Spieler 24"},null,null,{"$f":"DU76","v":11},1,{"$f":"IF(AND(EA77=1,MOD(DZ77,2)=0),MAX(TeilnNr),IF(MOD(EA77,2)=0,IF(MAX(TeilnNr)/2-EA77+1-(DZ77-MAX(TeilnNr)/2-1)>=1,MAX(TeilnNr)/2-EA77+1-(DZ77-MAX(TeilnNr)/2-1),MAX(TeilnNr)/2-EA77+1-(DZ77-MAX(TeilnNr)/2-1)+MAX(TeilnNr)-1),IF(EA77-(DZ77-1)>=1,EA77-(DZ77-1),EA77-(DZ77-1)+MAX(TeilnNr)-1)))","v":14},{"$f":"IF(AND(EA77=1,MOD(DZ77,2)<>0),MAX(TeilnNr),IF(MOD(EA77,2)<>0,IF(MAX(TeilnNr)/2-EA77+1-(DZ77-MAX(TeilnNr)/2-1)>=1,MAX(TeilnNr)/2-EA77+1-(DZ77-MAX(TeilnNr)/2-1),MAX(TeilnNr)/2-EA77+1-(DZ77-MAX(TeilnNr)/2-1)+MAX(TeilnNr)-1),IF(EA77-(DZ77-1)>=1,EA77-(DZ77-1),EA77-(DZ77-1)+MAX(TeilnNr)-1)))","v":24},{"$f":"IF(LEFT(DY77,1)=\"V\",\"\",LEFT(DY77,1))","v":""},{"$f":"IF(RIGHT(DY77,1)=\"V\",\"\",RIGHT(DY77,1))","v":""},{"$f":"ADDRESS(ROW(Teilnehmer)+EB77,COLUMN(Teilnehmer)+EC77)","v":"$AA$50"},{"$f":"ADDRESS(ROW(Teilnehmer)+EC77,COLUMN(Teilnehmer)+EB77)","v":"$Q$60"},{"$f":"IF(OR(INDEX($DO$37:$DO$60,EP77),INDEX($DO$37:$DO$60,EQ77)),0,1)","v":1},{"$f":"INDEX($DP$37:$DP$60,MATCH($EP77,TeilnNr,0))","v":"Spieler 24"},"-",{"$f":"INDEX($DP$37:$DP$60,MATCH($EQ77,TeilnNr,0))","v":"Spieler 13"},null,null,{"$f":"EI76","v":12},1,{"$f":"IF(AND(EO77=1,MOD(EN77,2)=0),MAX(TeilnNr),IF(MOD(EO77,2)=0,IF(MAX(TeilnNr)/2-EO77+1-(EN77-MAX(TeilnNr)/2-1)>=1,MAX(TeilnNr)/2-EO77+1-(EN77-MAX(TeilnNr)/2-1),MAX(TeilnNr)/2-EO77+1-(EN77-MAX(TeilnNr)/2-1)+MAX(TeilnNr)-1),IF(EO77-(EN77-1)>=1,EO77-(EN77-1),EO77-(EN77-1)+MAX(TeilnNr)-1)))","v":24},{"$f":"IF(AND(EO77=1,MOD(EN77,2)<>0),MAX(TeilnNr),IF(MOD(EO77,2)<>0,IF(MAX(TeilnNr)/2-EO77+1-(EN77-MAX(TeilnNr)/2-1)>=1,MAX(TeilnNr)/2-EO77+1-(EN77-MAX(TeilnNr)/2-1),MAX(TeilnNr)/2-EO77+1-(EN77-MAX(TeilnNr)/2-1)+MAX(TeilnNr)-1),IF(EO77-(EN77-1)>=1,EO77-(EN77-1),EO77-(EN77-1)+MAX(TeilnNr)-1)))","v":13},{"$f":"IF(LEFT(EM77,1)=\"V\",\"\",LEFT(EM77,1))","v":""},{"$f":"IF(RIGHT(EM77,1)=\"V\",\"\",RIGHT(EM77,1))","v":""},{"$f":"ADDRESS(ROW(Teilnehmer)+EP77,COLUMN(Teilnehmer)+EQ77)","v":"$P$60"},{"$f":"ADDRESS(ROW(Teilnehmer)+EQ77,COLUMN(Teilnehmer)+EP77)","v":"$AA$49"},{"$f":"DT77","v":1},"Spieler 14","-",{"$f":"DW77","v":"Spieler 24"},null,{"$f":"EH77","v":1},{"$f":"EK77","v":"Spieler 13"},"-",{"$f":"EI77","v":"Spieler 24"}]
[null,null,null,null,null,null,null,null,null,null,null,null,null,null,null,null,null,null,null,null,null,null,null,null,null,null,null,null,null,null,null,null,null,null,null,null,null,null,null,null,null,null,null,null,null,null,null,null,null,null,null,null,null,null,null,null,null,null,null,null,null,null,null,null,null,null,null,null,null,null,null,null,null,null,null,null,null,null,null,null,null,null,null,null,null,null,null,null,null,null,null,null,null,null,null,null,null,null,null,null,null,null,null,null,null,null,null,null,null,null,null,null,null,null,null,null,null,null,null,null,null,null,null,{"$f":"DT77+1","v":2},"Spieler 13","-","Spieler 15",null,null,{"$f":"DZ77","v":11},{"$f":"EA77+1","v":2},13,15,"","","$R$49","$P$51",{"$f":"EH77+1","v":2},"Spieler 12","-","Spieler 14",null,null,{"$f":"EN77","v":12},{"$f":"EO77+1","v":2},12,14,"","","$Q$48","$O$50",{"$f":"DT78","v":2},{"$f":"DW78","v":"Spieler 15"},"-",{"$f":"DU78","v":"Spieler 13"},null,2,"Spieler 14","-","Spieler 12"]
[null,null,null,null,null,null,null,null,null,null,null,null,null,null,null,null,null,null,null,null,null,null,null,null,null,null,null,null,null,null,null,null,null,null,null,null,null,null,null,null,null,null,null,null,null,null,null,null,null,null,null,null,null,null,null,null,null,null,null,null,null,null,null,null,null,null,null,null,null,null,null,null,null,null,null,null,null,null,null,null,null,null,null,null,null,null,null,null,null,null,null,null,null,null,null,null,null,null,null,null,null,null,null,null,null,null,null,null,null,null,null,null,null,null,null,null,null,null,null,null,null,null,null,{"$f":"DT78+1","v":3},"Spieler 16","-","Spieler 12",null,null,{"$f":"DZ78","v":11},{"$f":"EA78+1","v":3},16,12,"","","$O$52","$S$48",{"$f":"EH78+1","v":3},"Spieler 15","-","Spieler 11",null,null,{"$f":"EN78","v":12},{"$f":"EO78+1","v":3},15,11,"","","$N$51","$R$47",3,{"$f":"DU79","v":"Spieler 16"},"-",{"$f":"DW79","v":"Spieler 12"},null,3,{"$f":"EI79","v":"Spieler 15"},"-",{"$f":"EK79","v":"Spieler 11"}]
[null,null,null,null,null,null,null,null,null,null,null,null,null,null,null,null,null,null,null,null,null,null,null,null,null,null,null,null,null,null,null,null,null,null,null,null,null,null,null,null,null,null,null,null,null,null,null,null,null,null,null,null,null,null,null,null,null,null,null,null,null,null,null,null,null,null,null,null,null,null,null,null,null,null,null,null,null,null,null,null,null,null,null,null,null,null,null,null,null,null,null,null,null,null,null,null,null,null,null,null,null,null,null,null,null,null,null,null,null,null,null,null,null,null,null,null,null,null,null,null,null,null,null,4,"Spieler 11","-","Spieler 17",null,null,{"$f":"DZ79","v":11},4,11,17,"","","$T$47","$N$53",4,"Spieler 10","-","Spieler 16",null,null,{"$f":"EN79","v":12},4,10,16,"","","$S$46","$M$52",4,{"$f":"DW80","v":"Spieler 17"},"-",{"$f":"DU80","v":"Spieler 11"},null,4,{"$f":"EK80","v":"Spieler 16"},"-",{"$f":"EI80","v":"Spieler 10"}]
[null,null,null,null,null,null,null,null,null,null,null,null,null,null,null,null,null,null,null,null,null,null,null,null,null,null,null,null,null,null,null,null,null,null,null,null,null,null,null,null,null,null,null,null,null,null,null,null,null,null,null,null,null,null,null,null,null,null,null,null,null,null,null,null,null,null,null,null,null,null,null,null,null,null,null,null,null,null,null,null,null,null,null,null,null,null,null,null,null,null,null,null,null,null,null,null,null,null,null,null,null,null,null,null,null,null,null,null,null,null,null,null,null,null,null,null,null,null,null,null,null,null,null,5,"Spieler 18","-","Spieler 10",null,null,{"$f":"DZ80","v":11},5,18,10,"","","$M$54","$U$46",5,"Spieler 17","-","Spieler 09",null,null,12,5,17,9,"","","$L$53","$T$45",5,{"$f":"DU81","v":"Spieler 18"},"-",{"$f":"DW81","v":"Spieler 10"},null,5,{"$f":"EI81","v":"Spieler 17"},"-",{"$f":"EK81","v":"Spieler 09"}]
[null,null,null,null,null,null,null,null,null,null,null,null,null,null,null,null,null,null,null,null,null,null,null,null,null,null,null,null,null,null,null,null,null,null,null,null,null,null,null,null,null,null,null,null,null,null,null,null,null,null,null,null,null,null,null,null,null,null,null,null,null,null,null,null,null,null,null,null,null,null,null,null,null,null,null,null,null,null,null,null,null,null,null,null,null,null,null,null,null,null,null,null,null,null,null,null,null,null,null,null,null,null,null,null,null,null,null,null,null,null,null,null,null,null,null,null,null,null,null,null,null,null,null,6,"Spieler 09","-","Spieler 19",null,null,{"$f":"DZ81","v":11},6,9,19,"","","$V$45","$L$55",6,"Spieler 08","-","Spieler 18",null,null,12,6,8,18,"","","$U$44","$K$54",6,{"$f":"DW82","v":"Spieler 19"},"-",{"$f":"DU82","v":"Spieler 09"},null,6,{"$f":"EK82","v":"Spieler 18"},"-",{"$f":"EI82","v":"Spieler 08"}]
[null,null,null,null,null,null,null,null,null,null,null,null,null,null,null,null,null,null,null,null,null,null,null,null,null,null,null,null,null,null,null,null,null,null,null,null,null,null,null,null,null,null,null,null,null,null,null,null,null,null,null,null,null,null,null,null,null,null,null,null,null,null,null,null,null,null,null,null,null,null,null,null,null,null,null,null,null,null,null,null,null,null,null,null,null,null,null,null,null,null,null,null,null,null,null,null,null,null,null,null,null,null,null,null,null,null,null,null,null,null,null,null,null,null,null,null,null,null,null,null,null,null,null,7,"Spieler 20","-","Spieler 08",null,null,{"$f":"DZ82","v":11},7,20,8,"","",{"$f":"ADDRESS(ROW(Teilnehmer)+EB83,COLUMN(Teilnehmer)+EC83)","v":"$K$56"},{"$f":"ADDRESS(ROW(Teilnehmer)+EC83,COLUMN(Teilnehmer)+EB83)","v":"$W$44"},7,"Spieler 19","-","Spieler 07",null,null,12,7,19,7,"","",{"$f":"ADDRESS(ROW(Teilnehmer)+EP83,COLUMN(Teilnehmer)+EQ83)","v":"$J$55"},{"$f":"ADDRESS(ROW(Teilnehmer)+EQ83,COLUMN(Teilnehmer)+EP83)","v":"$V$43"},7,{"$f":"DU83","v":"Spieler 20"},"-",{"$f":"DW83","v":"Spieler 08"},null,7,{"$f":"EI83","v":"Spieler 19"},"-",{"$f":"EK83","v":"Spieler 07"}]
[null,null,null,null,null,null,null,null,null,null,null,null,null,null,null,null,null,null,null,null,null,null,null,null,null,null,null,null,null,null,null,null,null,null,null,null,null,null,null,null,null,null,null,null,null,null,null,null,null,null,null,null,null,null,null,null,null,null,null,null,null,null,null,null,null,null,null,null,null,null,null,null,null,null,null,null,null,null,null,null,null,null,null,null,null,null,null,null,null,null,null,null,null,null,null,null,null,null,null,null,null,null,null,null,null,null,null,null,null,null,null,null,null,null,null,null,null,null,null,null,null,null,null,8,"Spieler 07","-","Spieler 21",null,null,11,8,7,21,"","","$X$43","$J$57",8,"Spieler 06","-","Spieler 20",null,null,12,8,6,20,"","","$W$42","$I$56",8,{"$f":"DW84","v":"Spieler 21"},"-",{"$f":"DU84","v":"Spieler 07"},null,8,{"$f":"EK84","v":"Spieler 20"},"-",{"$f":"EI84","v":"Spieler 06"}]
[null,null,null,null,null,null,null,null,null,null,null,null,null,null,null,null,null,null,null,null,null,null,null,null,null,null,null,null,null,null,null,null,null,null,null,null,null,null,null,null,null,null,null,null,null,null,null,null,null,null,null,null,null,null,null,null,null,null,null,null,null,null,null,null,null,null,null,null,null,null,null,null,null,null,null,null,null,null,null,null,null,null,null,null,null,null,null,null,null,null,null,null,null,null,null,null,null,null,null,null,null,null,null,null,null,null,null,null,null,null,null,null,null,null,null,null,null,null,null,null,null,null,null,9,"Spieler 22","-","Spieler 06",null,null,11,9,22,6,"","","$I$58","$Y$42",9,"Spieler 21","-","Spieler 05",null,null,12,9,21,5,"","","$H$57","$X$41",9,{"$f":"DU85","v":"Spieler 22"},"-",{"$f":"DW85","v":"Spieler 06"},null,9,{"$f":"EI85","v":"Spieler 21"},"-",{"$f":"EK85","v":"Spieler 05"}]
[null,null,null,null,null,null,null,null,null,null,null,null,null,null,null,null,null,null,null,null,null,null,null,null,null,null,null,null,null,null,null,null,null,null,null,null,null,null,null,null,null,null,null,null,null,null,null,null,null,null,null,null,null,null,null,null,null,null,null,null,null,null,null,null,null,null,null,null,null,null,null,null,null,null,null,null,null,null,null,null,null,null,null,null,null,null,null,null,null,null,null,null,null,null,null,null,null,null,null,null,null,null,null,null,null,null,null,null,null,null,null,null,null,null,null,null,null,null,null,null,null,null,null,10,"Spieler 05","-","Spieler 23",null,null,11,10,5,23,"","","$Z$41","$H$59",10,"Spieler 04","-","Spieler 22",null,null,12,10,4,22,"","","$Y$40","$G$58",10,{"$f":"DW86","v":"Spieler 23"},"-",{"$f":"DU86","v":"Spieler 05"},null,10,{"$f":"EK86","v":"Spieler 22"},"-",{"$f":"EI86","v":"Spieler 04"}]
[null,null,null,null,null,null,null,null,null,null,null,null,null,null,null,null,null,null,null,null,null,null,null,null,null,null,null,null,null,null,null,null,null,null,null,null,null,null,null,null,null,null,null,null,null,null,null,null,null,null,null,null,null,null,null,null,null,null,null,null,null,null,null,null,null,null,null,null,null,null,null,null,null,null,null,null,null,null,null,null,null,null,null,null,null,null,null,null,null,null,null,null,null,null,null,null,null,null,null,null,null,null,null,null,null,null,null,null,null,null,null,null,null,null,null,null,null,null,null,null,null,null,null,11,"Spieler 01","-","Spieler 04",null,null,11,11,1,4,"","","$G$37","$D$40",11,"Spieler 23","-","Spieler 03",null,null,12,11,23,3,"","","$F$59","$Z$39",11,{"$f":"DU87","v":"Spieler 01"},"-",{"$f":"DW87","v":"Spieler 04"},null,11,{"$f":"EI87","v":"Spieler 23"},"-",{"$f":"EK87","v":"Spieler 03"}]
[null,null,null,null,null,null,null,null,null,null,null,null,null,null,null,null,null,null,null,null,null,null,null,null,null,null,null,null,null,null,null,null,null,null,null,null,null,null,null,null,null,null,null,null,null,null,null,null,null,null,null,null,null,null,null,null,null,null,null,null,null,null,null,null,null,null,null,null,null,null,null,null,null,null,null,null,null,null,null,null,null,null,null,null,null,null,null,null,null,null,null,null,null,null,null,null,null,null,null,null,null,null,null,null,null,null,null,null,null,null,null,null,null,null,null,null,null,null,null,null,null,null,null,12,"Spieler 03","-","Spieler 02",null,null,11,12,3,2,"","","$E$39","$F$38",12,"Spieler 02","-","Spieler 01",null,null,12,12,2,1,"","","$D$38","$E$37",12,{"$f":"DW88","v":"Spieler 02"},"-",{"$f":"DU88","v":"Spieler 03"},null,12,{"$f":"EK88","v":"Spieler 01"},"-",{"$f":"EI88","v":"Spieler 02"}]
[]
[null,null,null,null,null,null,null,null,null,null,null,null,null,null,null,null,null,null,null,null,null,null,null,null,null,null,null,null,null,null,null,null,null,null,null,null,null,null,null,null,null,null,null,null,null,null,null,null,null,null,null,null,null,null,null,null,null,null,null,null,null,null,null,null,null,null,null,null,null,null,null,null,null,null,null,null,null,null,null,null,null,null,null,null,null,null,null,null,null,null,null,null,null,null,null,null,null,null,null,null,null,null,null,null,null,null,null,null,null,null,null,null,null,null,null,null,null,null,null,null,null,null,null,null,{"$f":"DU76+2","v":13},null,null,null,null,"R","B","SpNr w","SpNr s","Res w","Res s",null,null,null,{"$f":"EI76+2","v":14},null,null,null,null,"R","B","SpNr w","SpNr s","Res w","Res s",null,null,null,{"$f":"DU90","v":13},1,null,null,null,{"$f":"EI90","v":14}]
[null,null,null,null,null,null,null,null,null,null,null,null,null,null,null,null,null,null,null,null,null,null,null,null,null,null,null,null,null,null,null,null,null,null,null,null,null,null,null,null,null,null,null,null,null,null,null,null,null,null,null,null,null,null,null,null,null,null,null,null,null,null,null,null,null,null,null,null,null,null,null,null,null,null,null,null,null,null,null,null,null,null,null,null,null,null,null,null,null,null,null,null,null,null,null,null,null,null,null,null,null,null,null,null,null,null,null,null,null,null,null,null,null,null,null,null,null,null,null,null,null,null,null,{"$f":"IF(OR(INDEX($DO$37:$DO$60,EB91),INDEX($DO$37:$DO$60,EC91)),0,1)","v":1},{"$f":"INDEX($DP$37:$DP$60,MATCH($EB91,TeilnNr,0))","v":"Spieler 12"},"-",{"$f":"INDEX($DP$37:$DP$60,MATCH($EC91,TeilnNr,0))","v":"Spieler 24"},null,null,{"$f":"DU90","v":13},1,{"$f":"IF(AND(EA91=1,MOD(DZ91,2)=0),MAX(TeilnNr),IF(MOD(EA91,2)=0,IF(MAX(TeilnNr)/2-EA91+1-(DZ91-MAX(TeilnNr)/2-1)>=1,MAX(TeilnNr)/2-EA91+1-(DZ91-MAX(TeilnNr)/2-1),MAX(TeilnNr)/2-EA91+1-(DZ91-MAX(TeilnNr)/2-1)+MAX(TeilnNr)-1),IF(EA91-(DZ91-1)>=1,EA91-(DZ91-1),EA91-(DZ91-1)+MAX(TeilnNr)-1)))","v":12},{"$f":"IF(AND(EA91=1,MOD(DZ91,2)<>0),MAX(TeilnNr),IF(MOD(EA91,2)<>0,IF(MAX(TeilnNr)/2-EA91+1-(DZ91-MAX(TeilnNr)/2-1)>=1,MAX(TeilnNr)/2-EA91+1-(DZ91-MAX(TeilnNr)/2-1),MAX(TeilnNr)/2-EA91+1-(DZ91-MAX(TeilnNr)/2-1)+MAX(TeilnNr)-1),IF(EA91-(DZ91-1)>=1,EA91-(DZ91-1),EA91-(DZ91-1)+MAX(TeilnNr)-1)))","v":24},{"$f":"IF(LEFT(DY91,1)=\"V\",\"\",LEFT(DY91,1))","v":""},{"$f":"IF(RIGHT(DY91,1)=\"V\",\"\",RIGHT(DY91,1))","v":""},{"$f":"ADDRESS(ROW(Teilnehmer)+EB91,COLUMN(Teilnehmer)+EC91)","v":"$AA$48"},{"$f":"ADDRESS(ROW(Teilnehmer)+EC91,COLUMN(Teilnehmer)+EB91)","v":"$O$60"},{"$f":"IF(OR(INDEX($DO$37:$DO$60,EP91),INDEX($DO$37:$DO$60,EQ91)),0,1)","v":1},{"$f":"INDEX($DP$37:$DP$60,MATCH($EP91,TeilnNr,0))","v":"Spieler 24"},"-",{"$f":"INDEX($DP$37:$DP$60,MATCH($EQ91,TeilnNr,0))","v":"Spieler 11"},null,null,{"$f":"EI90","v":14},1,{"$f":"IF(AND(EO91=1,MOD(EN91,2)=0),MAX(TeilnNr),IF(MOD(EO91,2)=0,IF(MAX(TeilnNr)/2-EO91+1-(EN91-MAX(TeilnNr)/2-1)>=1,MAX(TeilnNr)/2-EO91+1-(EN91-MAX(TeilnNr)/2-1),MAX(TeilnNr)/2-EO91+1-(EN91-MAX(TeilnNr)/2-1)+MAX(TeilnNr)-1),IF(EO91-(EN91-1)>=1,EO91-(EN91-1),EO91-(EN91-1)+MAX(TeilnNr)-1)))","v":24},{"$f":"IF(AND(EO91=1,MOD(EN91,2)<>0),MAX(TeilnNr),IF(MOD(EO91,2)<>0,IF(MAX(TeilnNr)/2-EO91+1-(EN91-MAX(TeilnNr)/2-1)>=1,MAX(TeilnNr)/2-EO91+1-(EN91-MAX(TeilnNr)/2-1),MAX(TeilnNr)/2-EO91+1-(EN91-MAX(TeilnNr)/2-1)+MAX(TeilnNr)-1),IF(EO91-(EN91-1)>=1,EO91-(EN91-1),EO91-(EN91-1)+MAX(TeilnNr)-1)))","v":11},{"$f":"IF(LEFT(EM91,1)=\"V\",\"\",LEFT(EM91,1))","v":""},{"$f":"IF(RIGHT(EM91,1)=\"V\",\"\",RIGHT(EM91,1))","v":""},{"$f":"ADDRESS(ROW(Teilnehmer)+EP91,COLUMN(Teilnehmer)+EQ91)","v":"$N$60"},{"$f":"ADDRESS(ROW(Teilnehmer)+EQ91,COLUMN(Teilnehmer)+EP91)","v":"$AA$47"},{"$f":"DT91","v":1},"Spieler 12","-",{"$f":"DW91","v":"Spieler 24"},null,{"$f":"EH91","v":1},{"$f":"EK91","v":"Spieler 11"},"-",{"$f":"EI91","v":"Spieler 24"}]
[null,null,null,null,null,null,null,null,null,null,null,null,null,null,null,null,null,null,null,null,null,null,null,null,null,null,null,null,null,null,null,null,null,null,null,null,null,null,null,null,null,null,null,null,null,null,null,null,null,null,null,null,null,null,null,null,null,null,null,null,null,null,null,null,null,null,null,null,null,null,null,null,null,null,null,null,null,null,null,null,null,null,null,null,null,null,null,null,null,null,null,null,null,null,null,null,null,null,null,null,null,null,null,null,null,null,null,null,null,null,null,null,null,null,null,null,null,null,null,null,null,null,null,{"$f":"DT91+1","v":2},"Spieler 11","-","Spieler 13",null,null,{"$f":"DZ91","v":13},{"$f":"EA91+1","v":2},11,13,"","","$P$47","$N$49",{"$f":"EH91+1","v":2},"Spieler 10","-","Spieler 12",null,null,{"$f":"EN91","v":14},{"$f":"EO91+1","v":2},10,12,"","","$O$46","$M$48",{"$f":"DT92","v":2},{"$f":"DW92","v":"Spieler 13"},"-",{"$f":"DU92","v":"Spieler 11"},null,2,"Spieler 12","-","Spieler 10"]
[null,null,null,null,null,null,null,null,null,null,null,null,null,null,null,null,null,null,null,null,null,null,null,null,null,null,null,null,null,null,null,null,null,null,null,null,null,null,null,null,null,null,null,null,null,null,null,null,null,null,null,null,null,null,null,null,null,null,null,null,null,null,null,null,null,null,null,null,null,null,null,null,null,null,null,null,null,null,null,null,null,null,null,null,null,null,null,null,null,null,null,null,null,null,null,null,null,null,null,null,null,null,null,null,null,null,null,null,null,null,null,null,null,null,null,null,null,null,null,null,null,null,null,{"$f":"DT92+1","v":3},"Spieler 14","-","Spieler 10",null,null,{"$f":"DZ92","v":13},{"$f":"EA92+1","v":3},14,10,"","","$M$50","$Q$46",{"$f":"EH92+1","v":3},"Spieler 13","-","Spieler 09",null,null,{"$f":"EN92","v":14},{"$f":"EO92+1","v":3},13,9,"","","$L$49","$P$45",3,{"$f":"DU93","v":"Spieler 14"},"-",{"$f":"DW93","v":"Spieler 10"},null,3,{"$f":"EI93","v":"Spieler 13"},"-",{"$f":"EK93","v":"Spieler 09"}]
[null,null,null,null,null,null,null,null,null,null,null,null,null,null,null,null,null,null,null,null,null,null,null,null,null,null,null,null,null,null,null,null,null,null,null,null,null,null,null,null,null,null,null,null,null,null,null,null,null,null,null,null,null,null,null,null,null,null,null,null,null,null,null,null,null,null,null,null,null,null,null,null,null,null,null,null,null,null,null,null,null,null,null,null,null,null,null,null,null,null,null,null,null,null,null,null,null,null,null,null,null,null,null,null,null,null,null,null,null,null,null,null,null,null,null,null,null,null,null,null,null,null,null,4,"Spieler 09","-","Spieler 15",null,null,{"$f":"DZ93","v":13},4,9,15,"","","$R$45","$L$51",4,"Spieler 08","-","Spieler 14",null,null,{"$f":"EN93","v":14},4,8,14,"","","$Q$44","$K$50",4,{"$f":"DW94","v":"Spieler 15"},"-",{"$f":"DU94","v":"Spieler 09"},null,4,{"$f":"EK94","v":"Spieler 14"},"-",{"$f":"EI94","v":"Spieler 08"}]
[null,null,null,null,null,null,null,null,null,null,null,null,null,null,null,null,null,null,null,null,null,null,null,null,null,null,null,null,null,null,null,null,null,null,null,null,null,null,null,null,null,null,null,null,null,null,null,null,null,null,null,null,null,null,null,null,null,null,null,null,null,null,null,null,null,null,null,null,null,null,null,null,null,null,null,null,null,null,null,null,null,null,null,null,null,null,null,null,null,null,null,null,null,null,null,null,null,null,null,null,null,null,null,null,null,null,null,null,null,null,null,null,null,null,null,null,null,null,null,null,null,null,null,5,"Spieler 16","-","Spieler 08",null,null,{"$f":"DZ94","v":13},5,16,8,"","","$K$52","$S$44",5,"Spieler 15","-","Spieler 07",null,null,14,5,15,7,"","","$J$51","$R$43",5,{"$f":"DU95","v":"Spieler 16"},"-",{"$f":"DW95","v":"Spieler 08"},null,5,{"$f":"EI95","v":"Spieler 15"},"-",{"$f":"EK95","v":"Spieler 07"}]
[null,null,null,null,null,null,null,null,null,null,null,null,null,null,null,null,null,null,null,null,null,null,null,null,null,null,null,null,null,null,null,null,null,null,null,null,null,null,null,null,null,null,null,null,null,null,null,null,null,null,null,null,null,null,null,null,null,null,null,null,null,null,null,null,null,null,null,null,null,null,null,null,null,null,null,null,null,null,null,null,null,null,null,null,null,null,null,null,null,null,null,null,null,null,null,null,null,null,null,null,null,null,null,null,null,null,null,null,null,null,null,null,null,null,null,null,null,null,null,null,null,null,null,6,"Spieler 07","-","Spieler 17",null,null,{"$f":"DZ95","v":13},6,7,17,"","","$T$43","$J$53",6,"Spieler 06","-","Spieler 16",null,null,14,6,6,16,"","","$S$42","$I$52",6,{"$f":"DW96","v":"Spieler 17"},"-",{"$f":"DU96","v":"Spieler 07"},null,6,{"$f":"EK96","v":"Spieler 16"},"-",{"$f":"EI96","v":"Spieler 06"}]
[null,null,null,null,null,null,null,null,null,null,null,null,null,null,null,null,null,null,null,null,null,null,null,null,null,null,null,null,null,null,null,null,null,null,null,null,null,null,null,null,null,null,null,null,null,null,null,null,null,null,null,null,null,null,null,null,null,null,null,null,null,null,null,null,null,null,null,null,null,null,null,null,null,null,null,null,null,null,null,null,null,null,null,null,null,null,null,null,null,null,null,null,null,null,null,null,null,null,null,null,null,null,null,null,null,null,null,null,null,null,null,null,null,null,null,null,null,null,null,null,null,null,null,7,"Spieler 18","-","Spieler 06",null,null,{"$f":"DZ96","v":13},7,18,6,"","","$I$54","$U$42",7,"Spieler 17","-","Spieler 05",null,null,14,7,17,5,"","","$H$53","$T$41",7,{"$f":"DU97","v":"Spieler 18"},"-",{"$f":"DW97","v":"Spieler 06"},null,7,{"$f":"EI97","v":"Spieler 17"},"-",{"$f":"EK97","v":"Spieler 05"}]
[null,null,null,null,null,null,null,null,null,null,null,null,null,null,null,null,null,null,null,null,null,null,null,null,null,null,null,null,null,null,null,null,null,null,null,null,null,null,null,null,null,null,null,null,null,null,null,null,null,null,null,null,null,null,null,null,null,null,null,null,null,null,null,null,null,null,null,null,null,null,null,null,null,null,null,null,null,null,null,null,null,null,null,null,null,null,null,null,null,null,null,null,null,null,null,null,null,null,null,null,null,null,null,null,null,null,null,null,null,null,null,null,null,null,null,null,null,null,null,null,null,null,null,8,"Spieler 05","-","Spieler 19",null,null,13,8,5,19,"","","$V$41","$H$55",8,"Spieler 04","-","Spieler 18",null,null,14,8,4,18,"","","$U$40","$G$54",8,{"$f":"DW98","v":"Spieler 19"},"-",{"$f":"DU98","v":"Spieler 05"},null,8,{"$f":"EK98","v":"Spieler 18"},"-",{"$f":"EI98","v":"Spieler 04"}]
[null,null,null,null,null,null,null,null,null,null,null,null,null,null,null,null,null,null,null,null,null,null,null,null,null,null,null,null,null,null,null,null,null,null,null,null,null,null,null,null,null,null,null,null,null,null,null,null,null,null,null,null,null,null,null,null,null,null,null,null,null,null,null,null,null,null,null,null,null,null,null,null,null,null,null,null,null,null,null,null,null,null,null,null,null,null,null,null,null,null,null,null,null,null,null,null,null,null,null,null,null,null,null,null,null,null,null,null,null,null,null,null,null,null,null,null,null,null,null,null,null,null,null,9,"Spieler 20","-","Spieler 04",null,null,13,9,20,4,"","","$G$56","$W$40",9,"Spieler 19","-","Spieler 03",null,null,14,9,19,3,"","","$F$55","$V$39",9,{"$f":"DU99","v":"Spieler 20"},"-",{"$f":"DW99","v":"Spieler 04"},null,9,{"$f":"EI99","v":"Spieler 19"},"-",{"$f":"EK99","v":"Spieler 03"}]
[null,null,null,null,null,null,null,null,null,null,null,null,null,null,null,null,null,null,null,null,null,null,null,null,null,null,null,null,null,null,null,null,null,null,null,null,null,null,null,null,null,null,null,null,null,null,null,null,null,null,null,null,null,null,null,null,null,null,null,null,null,null,null,null,null,null,null,null,null,null,null,null,null,null,null,null,null,null,null,null,null,null,null,null,null,null,null,null,null,null,null,null,null,null,null,null,null,null,null,null,null,null,null,null,null,null,null,null,null,null,null,null,null,null,null,null,null,null,null,null,null,null,null,10,"Spieler 03","-","Spieler 21",null,null,13,10,3,21,"","","$X$39","$F$57",10,"Spieler 02","-","Spieler 20",null,null,14,10,2,20,"","","$W$38","$E$56",10,{"$f":"DW100","v":"Spieler 21"},"-",{"$f":"DU100","v":"Spieler 03"},null,10,{"$f":"EK100","v":"Spieler 20"},"-",{"$f":"EI100","v":"Spieler 02"}]
[null,null,null,null,null,null,null,null,null,null,null,null,null,null,null,null,null,null,null,null,null,null,null,null,null,null,null,null,null,null,null,null,null,null,null,null,null,null,null,null,null,null,null,null,null,null,null,null,null,null,null,null,null,null,null,null,null,null,null,null,null,null,null,null,null,null,null,null,null,null,null,null,null,null,null,null,null,null,null,null,null,null,null,null,null,null,null,null,null,null,null,null,null,null,null,null,null,null,null,null,null,null,null,null,null,null,null,null,null,null,null,null,null,null,null,null,null,null,null,null,null,null,null,11,"Spieler 22","-","Spieler 02",null,null,13,11,22,2,"","","$E$58","$Y$38",11,"Spieler 21","-","Spieler 01",null,null,14,11,21,1,"","","$D$57","$X$37",11,{"$f":"DU101","v":"Spieler 22"},"-",{"$f":"DW101","v":"Spieler 02"},null,11,{"$f":"EI101","v":"Spieler 21"},"-",{"$f":"EK101","v":"Spieler 01"}]
[null,null,null,null,null,null,null,null,null,null,null,null,null,null,null,null,null,null,null,null,null,null,null,null,null,null,null,null,null,null,null,null,null,null,null,null,null,null,null,null,null,null,null,null,null,null,null,null,null,null,null,null,null,null,null,null,null,null,null,null,null,null,null,null,null,null,null,null,null,null,null,null,null,null,null,null,null,null,null,null,null,null,null,null,null,null,null,null,null,null,null,null,null,null,null,null,null,null,null,null,null,null,null,null,null,null,null,null,null,null,null,null,null,null,null,null,null,null,null,null,null,null,null,12,"Spieler 01","-","Spieler 23",null,null,13,12,1,23,"","","$Z$37","$D$59",12,"Spieler 23","-","Spieler 22",null,null,14,12,23,22,"","","$Y$59","$Z$58",12,{"$f":"DW102","v":"Spieler 23"},"-",{"$f":"DU102","v":"Spieler 01"},null,12,{"$f":"EK102","v":"Spieler 22"},"-",{"$f":"EI102","v":"Spieler 23"}]
[]
[null,null,null,null,null,null,null,null,null,null,null,null,null,null,null,null,null,null,null,null,null,null,null,null,null,null,null,null,null,null,null,null,null,null,null,null,null,null,null,null,null,null,null,null,null,null,null,null,null,null,null,null,null,null,null,null,null,null,null,null,null,null,null,null,null,null,null,null,null,null,null,null,null,null,null,null,null,null,null,null,null,null,null,null,null,null,null,null,null,null,null,null,null,null,null,null,null,null,null,null,null,null,null,null,null,null,null,null,null,null,null,null,null,null,null,null,null,null,null,null,null,null,null,null,{"$f":"DU90+2","v":15},null,null,null,null,"R","B","SpNr w","SpNr s","Res w","Res s",null,null,null,{"$f":"EI90+2","v":16},null,null,null,null,"R","B","SpNr w","SpNr s","Res w","Res s",null,null,null,{"$f":"DU104","v":15},1,null,null,null,{"$f":"EI104","v":16}]
[null,null,null,null,null,null,null,null,null,null,null,null,null,null,null,null,null,null,null,null,null,null,null,null,null,null,null,null,null,null,null,null,null,null,null,null,null,null,null,null,null,null,null,null,null,null,null,null,null,null,null,null,null,null,null,null,null,null,null,null,null,null,null,null,null,null,null,null,null,null,null,null,null,null,null,null,null,null,null,null,null,null,null,null,null,null,null,null,null,null,null,null,null,null,null,null,null,null,null,null,null,null,null,null,null,null,null,null,null,null,null,null,null,null,null,null,null,null,null,null,null,null,null,{"$f":"IF(OR(INDEX($DO$37:$DO$60,EB105),INDEX($DO$37:$DO$60,EC105)),0,1)","v":1},{"$f":"INDEX($DP$37:$DP$60,MATCH($EB105,TeilnNr,0))","v":"Spieler 10"},"-",{"$f":"INDEX($DP$37:$DP$60,MATCH($EC105,TeilnNr,0))","v":"Spieler 24"},null,null,{"$f":"DU104","v":15},1,{"$f":"IF(AND(EA105=1,MOD(DZ105,2)=0),MAX(TeilnNr),IF(MOD(EA105,2)=0,IF(MAX(TeilnNr)/2-EA105+1-(DZ105-MAX(TeilnNr)/2-1)>=1,MAX(TeilnNr)/2-EA105+1-(DZ105-MAX(TeilnNr)/2-1),MAX(TeilnNr)/2-EA105+1-(DZ105-MAX(TeilnNr)/2-1)+MAX(TeilnNr)-1),IF(EA105-(DZ105-1)>=1,EA105-(DZ105-1),EA105-(DZ105-1)+MAX(TeilnNr)-1)))","v":10},{"$f":"IF(AND(EA105=1,MOD(DZ105,2)<>0),MAX(TeilnNr),IF(MOD(EA105,2)<>0,IF(MAX(TeilnNr)/2-EA105+1-(DZ105-MAX(TeilnNr)/2-1)>=1,MAX(TeilnNr)/2-EA105+1-(DZ105-MAX(TeilnNr)/2-1),MAX(TeilnNr)/2-EA105+1-(DZ105-MAX(TeilnNr)/2-1)+MAX(TeilnNr)-1),IF(EA105-(DZ105-1)>=1,EA105-(DZ105-1),EA105-(DZ105-1)+MAX(TeilnNr)-1)))","v":24},{"$f":"IF(LEFT(DY105,1)=\"V\",\"\",LEFT(DY105,1))","v":""},{"$f":"IF(RIGHT(DY105,1)=\"V\",\"\",RIGHT(DY105,1))","v":""},{"$f":"ADDRESS(ROW(Teilnehmer)+EB105,COLUMN(Teilnehmer)+EC105)","v":"$AA$46"},{"$f":"ADDRESS(ROW(Teilnehmer)+EC105,COLUMN(Teilnehmer)+EB105)","v":"$M$60"},{"$f":"IF(OR(INDEX($DO$37:$DO$60,EP105),INDEX($DO$37:$DO$60,EQ105)),0,1)","v":1},{"$f":"INDEX($DP$37:$DP$60,MATCH($EP105,TeilnNr,0))","v":"Spieler 24"},"-",{"$f":"INDEX($DP$37:$DP$60,MATCH($EQ105,TeilnNr,0))","v":"Spieler 09"},null,null,{"$f":"EI104","v":16},1,{"$f":"IF(AND(EO105=1,MOD(EN105,2)=0),MAX(TeilnNr),IF(MOD(EO105,2)=0,IF(MAX(TeilnNr)/2-EO105+1-(EN105-MAX(TeilnNr)/2-1)>=1,MAX(TeilnNr)/2-EO105+1-(EN105-MAX(TeilnNr)/2-1),MAX(TeilnNr)/2-EO105+1-(EN105-MAX(TeilnNr)/2-1)+MAX(TeilnNr)-1),IF(EO105-(EN105-1)>=1,EO105-(EN105-1),EO105-(EN105-1)+MAX(TeilnNr)-1)))","v":24},{"$f":"IF(AND(EO105=1,MOD(EN105,2)<>0),MAX(TeilnNr),IF(MOD(EO105,2)<>0,IF(MAX(TeilnNr)/2-EO105+1-(EN105-MAX(TeilnNr)/2-1)>=1,MAX(TeilnNr)/2-EO105+1-(EN105-MAX(TeilnNr)/2-1),MAX(TeilnNr)/2-EO105+1-(EN105-MAX(TeilnNr)/2-1)+MAX(TeilnNr)-1),IF(EO105-(EN105-1)>=1,EO105-(EN105-1),EO105-(EN105-1)+MAX(TeilnNr)-1)))","v":9},{"$f":"IF(LEFT(EM105,1)=\"V\",\"\",LEFT(EM105,1))","v":""},{"$f":"IF(RIGHT(EM105,1)=\"V\",\"\",RIGHT(EM105,1))","v":""},{"$f":"ADDRESS(ROW(Teilnehmer)+EP105,COLUMN(Teilnehmer)+EQ105)","v":"$L$60"},{"$f":"ADDRESS(ROW(Teilnehmer)+EQ105,COLUMN(Teilnehmer)+EP105)","v":"$AA$45"},{"$f":"DT105","v":1},"Spieler 10","-",{"$f":"DW105","v":"Spieler 24"},null,{"$f":"EH105","v":1},{"$f":"EK105","v":"Spieler 09"},"-",{"$f":"EI105","v":"Spieler 24"}]
[null,null,null,null,null,null,null,null,null,null,null,null,null,null,null,null,null,null,null,null,null,null,null,null,null,null,null,null,null,null,null,null,null,null,null,null,null,null,null,null,null,null,null,null,null,null,null,null,null,null,null,null,null,null,null,null,null,null,null,null,null,null,null,null,null,null,null,null,null,null,null,null,null,null,null,null,null,null,null,null,null,null,null,null,null,null,null,null,null,null,null,null,null,null,null,null,null,null,null,null,null,null,null,null,null,null,null,null,null,null,null,null,null,null,null,null,null,null,null,null,null,null,null,{"$f":"DT105+1","v":2},"Spieler 09","-","Spieler 11",null,null,{"$f":"DZ105","v":15},{"$f":"EA105+1","v":2},9,11,"","","$N$45","$L$47",{"$f":"EH105+1","v":2},"Spieler 08","-","Spieler 10",null,null,{"$f":"EN105","v":16},{"$f":"EO105+1","v":2},8,10,"","","$M$44","$K$46",{"$f":"DT106","v":2},{"$f":"DW106","v":"Spieler 11"},"-",{"$f":"DU106","v":"Spieler 09"},null,2,"Spieler 10","-","Spieler 08"]
[null,null,null,null,null,null,null,null,null,null,null,null,null,null,null,null,null,null,null,null,null,null,null,null,null,null,null,null,null,null,null,null,null,null,null,null,null,null,null,null,null,null,null,null,null,null,null,null,null,null,null,null,null,null,null,null,null,null,null,null,null,null,null,null,null,null,null,null,null,null,null,null,null,null,null,null,null,null,null,null,null,null,null,null,null,null,null,null,null,null,null,null,null,null,null,null,null,null,null,null,null,null,null,null,null,null,null,null,null,null,null,null,null,null,null,null,null,null,null,null,null,null,null,{"$f":"DT106+1","v":3},"Spieler 12","-","Spieler 08",null,null,{"$f":"DZ106","v":15},{"$f":"EA106+1","v":3},12,8,"","","$K$48","$O$44",{"$f":"EH106+1","v":3},"Spieler 11","-","Spieler 07",null,null,{"$f":"EN106","v":16},{"$f":"EO106+1","v":3},11,7,"","","$J$47","$N$43",3,{"$f":"DU107","v":"Spieler 12"},"-",{"$f":"DW107","v":"Spieler 08"},null,3,{"$f":"EI107","v":"Spieler 11"},"-",{"$f":"EK107","v":"Spieler 07"}]
[null,null,null,null,null,null,null,null,null,null,null,null,null,null,null,null,null,null,null,null,null,null,null,null,null,null,null,null,null,null,null,null,null,null,null,null,null,null,null,null,null,null,null,null,null,null,null,null,null,null,null,null,null,null,null,null,null,null,null,null,null,null,null,null,null,null,null,null,null,null,null,null,null,null,null,null,null,null,null,null,null,null,null,null,null,null,null,null,null,null,null,null,null,null,null,null,null,null,null,null,null,null,null,null,null,null,null,null,null,null,null,null,null,null,null,null,null,null,null,null,null,null,null,4,"Spieler 07","-","Spieler 13",null,null,{"$f":"DZ107","v":15},4,7,13,"","","$P$43","$J$49",4,"Spieler 06","-","Spieler 12",null,null,{"$f":"EN107","v":16},4,6,12,"","","$O$42","$I$48",4,{"$f":"DW108","v":"Spieler 13"},"-",{"$f":"DU108","v":"Spieler 07"},null,4,{"$f":"EK108","v":"Spieler 12"},"-",{"$f":"EI108","v":"Spieler 06"}]
[null,null,null,null,null,null,null,null,null,null,null,null,null,null,null,null,null,null,null,null,null,null,null,null,null,null,null,null,null,null,null,null,null,null,null,null,null,null,null,null,null,null,null,null,null,null,null,null,null,null,null,null,null,null,null,null,null,null,null,null,null,null,null,null,null,null,null,null,null,null,null,null,null,null,null,null,null,null,null,null,null,null,null,null,null,null,null,null,null,null,null,null,null,null,null,null,null,null,null,null,null,null,null,null,null,null,null,null,null,null,null,null,null,null,null,null,null,null,null,null,null,null,null,5,"Spieler 14","-","Spieler 06",null,null,{"$f":"DZ108","v":15},5,14,6,"","","$I$50","$Q$42",5,"Spieler 13","-","Spieler 05",null,null,16,5,13,5,"","","$H$49","$P$41",5,{"$f":"DU109","v":"Spieler 14"},"-",{"$f":"DW109","v":"Spieler 06"},null,5,{"$f":"EI109","v":"Spieler 13"},"-",{"$f":"EK109","v":"Spieler 05"}]
[null,null,null,null,null,null,null,null,null,null,null,null,null,null,null,null,null,null,null,null,null,null,null,null,null,null,null,null,null,null,null,null,null,null,null,null,null,null,null,null,null,null,null,null,null,null,null,null,null,null,null,null,null,null,null,null,null,null,null,null,null,null,null,null,null,null,null,null,null,null,null,null,null,null,null,null,null,null,null,null,null,null,null,null,null,null,null,null,null,null,null,null,null,null,null,null,null,null,null,null,null,null,null,null,null,null,null,null,null,null,null,null,null,null,null,null,null,null,null,null,null,null,null,6,"Spieler 05","-","Spieler 15",null,null,{"$f":"DZ109","v":15},6,5,15,"","","$R$41","$H$51",6,"Spieler 04","-","Spieler 14",null,null,16,6,4,14,"","","$Q$40","$G$50",6,{"$f":"DW110","v":"Spieler 15"},"-",{"$f":"DU110","v":"Spieler 05"},null,6,{"$f":"EK110","v":"Spieler 14"},"-",{"$f":"EI110","v":"Spieler 04"}]
[null,null,null,null,null,null,null,null,null,null,null,null,null,null,null,null,null,null,null,null,null,null,null,null,null,null,null,null,null,null,null,null,null,null,null,null,null,null,null,null,null,null,null,null,null,null,null,null,null,null,null,null,null,null,null,null,null,null,null,null,null,null,null,null,null,null,null,null,null,null,null,null,null,null,null,null,null,null,null,null,null,null,null,null,null,null,null,null,null,null,null,null,null,null,null,null,null,null,null,null,null,null,null,null,null,null,null,null,null,null,null,null,null,null,null,null,null,null,null,null,null,null,null,7,"Spieler 16","-","Spieler 04",null,null,{"$f":"DZ110","v":15},7,16,4,"","","$G$52","$S$40",7,"Spieler 15","-","Spieler 03",null,null,16,7,15,3,"","","$F$51","$R$39",7,{"$f":"DU111","v":"Spieler 16"},"-",{"$f":"DW111","v":"Spieler 04"},null,7,{"$f":"EI111","v":"Spieler 15"},"-",{"$f":"EK111","v":"Spieler 03"}]
[null,null,null,null,null,null,null,null,null,null,null,null,null,null,null,null,null,null,null,null,null,null,null,null,null,null,null,null,null,null,null,null,null,null,null,null,null,null,null,null,null,null,null,null,null,null,null,null,null,null,null,null,null,null,null,null,null,null,null,null,null,null,null,null,null,null,null,null,null,null,null,null,null,null,null,null,null,null,null,null,null,null,null,null,null,null,null,null,null,null,null,null,null,null,null,null,null,null,null,null,null,null,null,null,null,null,null,null,null,null,null,null,null,null,null,null,null,null,null,null,null,null,null,8,"Spieler 03","-","Spieler 17",null,null,15,8,3,17,"","","$T$39","$F$53",8,"Spieler 02","-","Spieler 16",null,null,16,8,2,16,"","","$S$38","$E$52",8,{"$f":"DW112","v":"Spieler 17"},"-",{"$f":"DU112","v":"Spieler 03"},null,8,{"$f":"EK112","v":"Spieler 16"},"-",{"$f":"EI112","v":"Spieler 02"}]
[null,null,null,null,null,null,null,null,null,null,null,null,null,null,null,null,null,null,null,null,null,null,null,null,null,null,null,null,null,null,null,null,null,null,null,null,null,null,null,null,null,null,null,null,null,null,null,null,null,null,null,null,null,null,null,null,null,null,null,null,null,null,null,null,null,null,null,null,null,null,null,null,null,null,null,null,null,null,null,null,null,null,null,null,null,null,null,null,null,null,null,null,null,null,null,null,null,null,null,null,null,null,null,null,null,null,null,null,null,null,null,null,null,null,null,null,null,null,null,null,null,null,null,9,"Spieler 18","-","Spieler 02",null,null,15,9,18,2,"","","$E$54","$U$38",9,"Spieler 17","-","Spieler 01",null,null,16,9,17,1,"","","$D$53","$T$37",9,{"$f":"DU113","v":"Spieler 18"},"-",{"$f":"DW113","v":"Spieler 02"},null,9,{"$f":"EI113","v":"Spieler 17"},"-",{"$f":"EK113","v":"Spieler 01"}]
[null,null,null,null,null,null,null,null,null,null,null,null,null,null,null,null,null,null,null,null,null,null,null,null,null,null,null,null,null,null,null,null,null,null,null,null,null,null,null,null,null,null,null,null,null,null,null,null,null,null,null,null,null,null,null,null,null,null,null,null,null,null,null,null,null,null,null,null,null,null,null,null,null,null,null,null,null,null,null,null,null,null,null,null,null,null,null,null,null,null,null,null,null,null,null,null,null,null,null,null,null,null,null,null,null,null,null,null,null,null,null,null,null,null,null,null,null,null,null,null,null,null,null,10,"Spieler 01","-","Spieler 19",null,null,15,10,1,19,"","","$V$37","$D$55",10,"Spieler 23","-","Spieler 18",null,null,16,10,23,18,"","","$U$59","$Z$54",10,{"$f":"DW114","v":"Spieler 19"},"-",{"$f":"DU114","v":"Spieler 01"},null,10,{"$f":"EK114","v":"Spieler 18"},"-",{"$f":"EI114","v":"Spieler 23"}]
[null,null,null,null,null,null,null,null,null,null,null,null,null,null,null,null,null,null,null,null,null,null,null,null,null,null,null,null,null,null,null,null,null,null,null,null,null,null,null,null,null,null,null,null,null,null,null,null,null,null,null,null,null,null,null,null,null,null,null,null,null,null,null,null,null,null,null,null,null,null,null,null,null,null,null,null,null,null,null,null,null,null,null,null,null,null,null,null,null,null,null,null,null,null,null,null,null,null,null,null,null,null,null,null,null,null,null,null,null,null,null,null,null,null,null,null,null,null,null,null,null,null,null,11,"Spieler 20","-","Spieler 23",null,null,15,11,20,23,"","","$Z$56","$W$59",11,"Spieler 19","-","Spieler 22",null,null,16,11,19,22,"","","$Y$55","$V$58",11,{"$f":"DU115","v":"Spieler 20"},"-",{"$f":"DW115","v":"Spieler 23"},null,11,{"$f":"EI115","v":"Spieler 19"},"-",{"$f":"EK115","v":"Spieler 22"}]
[null,null,null,null,null,null,null,null,null,null,null,null,null,null,null,null,null,null,null,null,null,null,null,null,null,null,null,null,null,null,null,null,null,null,null,null,null,null,null,null,null,null,null,null,null,null,null,null,null,null,null,null,null,null,null,null,null,null,null,null,null,null,null,null,null,null,null,null,null,null,null,null,null,null,null,null,null,null,null,null,null,null,null,null,null,null,null,null,null,null,null,null,null,null,null,null,null,null,null,null,null,null,null,null,null,null,null,null,null,null,null,null,null,null,null,null,null,null,null,null,null,null,null,12,"Spieler 22","-","Spieler 21",null,null,15,12,22,21,"","","$X$58","$Y$57",12,"Spieler 21","-","Spieler 20",null,null,16,12,21,20,"","","$W$57","$X$56",12,{"$f":"DW116","v":"Spieler 21"},"-",{"$f":"DU116","v":"Spieler 22"},null,12,{"$f":"EK116","v":"Spieler 20"},"-",{"$f":"EI116","v":"Spieler 21"}]
[]
[null,null,null,null,null,null,null,null,null,null,null,null,null,null,null,null,null,null,null,null,null,null,null,null,null,null,null,null,null,null,null,null,null,null,null,null,null,null,null,null,null,null,null,null,null,null,null,null,null,null,null,null,null,null,null,null,null,null,null,null,null,null,null,null,null,null,null,null,null,null,null,null,null,null,null,null,null,null,null,null,null,null,null,null,null,null,null,null,null,null,null,null,null,null,null,null,null,null,null,null,null,null,null,null,null,null,null,null,null,null,null,null,null,null,null,null,null,null,null,null,null,null,null,null,{"$f":"DU104+2","v":17},null,null,null,null,"R","B","SpNr w","SpNr s","Res w","Res s",null,null,null,{"$f":"EI104+2","v":18},null,null,null,null,"R","B","SpNr w","SpNr s","Res w","Res s",null,null,null,{"$f":"DU118","v":17},1,null,null,null,{"$f":"EI118","v":18}]
[null,null,null,null,null,null,null,null,null,null,null,null,null,null,null,null,null,null,null,null,null,null,null,null,null,null,null,null,null,null,null,null,null,null,null,null,null,null,null,null,null,null,null,null,null,null,null,null,null,null,null,null,null,null,null,null,null,null,null,null,null,null,null,null,null,null,null,null,null,null,null,null,null,null,null,null,null,null,null,null,null,null,null,null,null,null,null,null,null,null,null,null,null,null,null,null,null,null,null,null,null,null,null,null,null,null,null,null,null,null,null,null,null,null,null,null,null,null,null,null,null,null,null,{"$f":"IF(OR(INDEX($DO$37:$DO$60,EB119),INDEX($DO$37:$DO$60,EC119)),0,1)","v":1},{"$f":"INDEX($DP$37:$DP$60,MATCH($EB119,TeilnNr,0))","v":"Spieler 08"},"-",{"$f":"INDEX($DP$37:$DP$60,MATCH($EC119,TeilnNr,0))","v":"Spieler 24"},null,null,{"$f":"DU118","v":17},1,{"$f":"IF(AND(EA119=1,MOD(DZ119,2)=0),MAX(TeilnNr),IF(MOD(EA119,2)=0,IF(MAX(TeilnNr)/2-EA119+1-(DZ119-MAX(TeilnNr)/2-1)>=1,MAX(TeilnNr)/2-EA119+1-(DZ119-MAX(TeilnNr)/2-1),MAX(TeilnNr)/2-EA119+1-(DZ119-MAX(TeilnNr)/2-1)+MAX(TeilnNr)-1),IF(EA119-(DZ119-1)>=1,EA119-(DZ119-1),EA119-(DZ119-1)+MAX(TeilnNr)-1)))","v":8},{"$f":"IF(AND(EA119=1,MOD(DZ119,2)<>0),MAX(TeilnNr),IF(MOD(EA119,2)<>0,IF(MAX(TeilnNr)/2-EA119+1-(DZ119-MAX(TeilnNr)/2-1)>=1,MAX(TeilnNr)/2-EA119+1-(DZ119-MAX(TeilnNr)/2-1),MAX(TeilnNr)/2-EA119+1-(DZ119-MAX(TeilnNr)/2-1)+MAX(TeilnNr)-1),IF(EA119-(DZ119-1)>=1,EA119-(DZ119-1),EA119-(DZ119-1)+MAX(TeilnNr)-1)))","v":24},{"$f":"IF(LEFT(DY119,1)=\"V\",\"\",LEFT(DY119,1))","v":""},{"$f":"IF(RIGHT(DY119,1)=\"V\",\"\",RIGHT(DY119,1))","v":""},{"$f":"ADDRESS(ROW(Teilnehmer)+EB119,COLUMN(Teilnehmer)+EC119)","v":"$AA$44"},{"$f":"ADDRESS(ROW(Teilnehmer)+EC119,COLUMN(Teilnehmer)+EB119)","v":"$K$60"},{"$f":"IF(OR(INDEX($DO$37:$DO$60,EP119),INDEX($DO$37:$DO$60,EQ119)),0,1)","v":1},{"$f":"INDEX($DP$37:$DP$60,MATCH($EP119,TeilnNr,0))","v":"Spieler 24"},"-",{"$f":"INDEX($DP$37:$DP$60,MATCH($EQ119,TeilnNr,0))","v":"Spieler 07"},null,null,{"$f":"EI118","v":18},1,{"$f":"IF(AND(EO119=1,MOD(EN119,2)=0),MAX(TeilnNr),IF(MOD(EO119,2)=0,IF(MAX(TeilnNr)/2-EO119+1-(EN119-MAX(TeilnNr)/2-1)>=1,MAX(TeilnNr)/2-EO119+1-(EN119-MAX(TeilnNr)/2-1),MAX(TeilnNr)/2-EO119+1-(EN119-MAX(TeilnNr)/2-1)+MAX(TeilnNr)-1),IF(EO119-(EN119-1)>=1,EO119-(EN119-1),EO119-(EN119-1)+MAX(TeilnNr)-1)))","v":24},{"$f":"IF(AND(EO119=1,MOD(EN119,2)<>0),MAX(TeilnNr),IF(MOD(EO119,2)<>0,IF(MAX(TeilnNr)/2-EO119+1-(EN119-MAX(TeilnNr)/2-1)>=1,MAX(TeilnNr)/2-EO119+1-(EN119-MAX(TeilnNr)/2-1),MAX(TeilnNr)/2-EO119+1-(EN119-MAX(TeilnNr)/2-1)+MAX(TeilnNr)-1),IF(EO119-(EN119-1)>=1,EO119-(EN119-1),EO119-(EN119-1)+MAX(TeilnNr)-1)))","v":7},{"$f":"IF(LEFT(EM119,1)=\"V\",\"\",LEFT(EM119,1))","v":""},{"$f":"IF(RIGHT(EM119,1)=\"V\",\"\",RIGHT(EM119,1))","v":""},{"$f":"ADDRESS(ROW(Teilnehmer)+EP119,COLUMN(Teilnehmer)+EQ119)","v":"$J$60"},{"$f":"ADDRESS(ROW(Teilnehmer)+EQ119,COLUMN(Teilnehmer)+EP119)","v":"$AA$43"},{"$f":"DT119","v":1},"Spieler 08","-",{"$f":"DW119","v":"Spieler 24"},null,{"$f":"EH119","v":1},{"$f":"EK119","v":"Spieler 07"},"-",{"$f":"EI119","v":"Spieler 24"}]
[null,null,null,null,null,null,null,null,null,null,null,null,null,null,null,null,null,null,null,null,null,null,null,null,null,null,null,null,null,null,null,null,null,null,null,null,null,null,null,null,null,null,null,null,null,null,null,null,null,null,null,null,null,null,null,null,null,null,null,null,null,null,null,null,null,null,null,null,null,null,null,null,null,null,null,null,null,null,null,null,null,null,null,null,null,null,null,null,null,null,null,null,null,null,null,null,null,null,null,null,null,null,null,null,null,null,null,null,null,null,null,null,null,null,null,null,null,null,null,null,null,null,null,{"$f":"DT119+1","v":2},"Spieler 07","-","Spieler 09",null,null,{"$f":"DZ119","v":17},{"$f":"EA119+1","v":2},7,9,"","","$L$43","$J$45",{"$f":"EH119+1","v":2},"Spieler 06","-","Spieler 08",null,null,{"$f":"EN119","v":18},{"$f":"EO119+1","v":2},6,8,"","","$K$42","$I$44",{"$f":"DT120","v":2},{"$f":"DW120","v":"Spieler 09"},"-",{"$f":"DU120","v":"Spieler 07"},null,2,"Spieler 08","-","Spieler 06"]
[null,null,null,null,null,null,null,null,null,null,null,null,null,null,null,null,null,null,null,null,null,null,null,null,null,null,null,null,null,null,null,null,null,null,null,null,null,null,null,null,null,null,null,null,null,null,null,null,null,null,null,null,null,null,null,null,null,null,null,null,null,null,null,null,null,null,null,null,null,null,null,null,null,null,null,null,null,null,null,null,null,null,null,null,null,null,null,null,null,null,null,null,null,null,null,null,null,null,null,null,null,null,null,null,null,null,null,null,null,null,null,null,null,null,null,null,null,null,null,null,null,null,null,{"$f":"DT120+1","v":3},"Spieler 10","-","Spieler 06",null,null,{"$f":"DZ120","v":17},{"$f":"EA120+1","v":3},10,6,"","","$I$46","$M$42",{"$f":"EH120+1","v":3},"Spieler 09","-","Spieler 05",null,null,{"$f":"EN120","v":18},{"$f":"EO120+1","v":3},9,5,"","","$H$45","$L$41",3,{"$f":"DU121","v":"Spieler 10"},"-",{"$f":"DW121","v":"Spieler 06"},null,3,{"$f":"EI121","v":"Spieler 09"},"-",{"$f":"EK121","v":"Spieler 05"}]
[null,null,null,null,null,null,null,null,null,null,null,null,null,null,null,null,null,null,null,null,null,null,null,null,null,null,null,null,null,null,null,null,null,null,null,null,null,null,null,null,null,null,null,null,null,null,null,null,null,null,null,null,null,null,null,null,null,null,null,null,null,null,null,null,null,null,null,null,null,null,null,null,null,null,null,null,null,null,null,null,null,null,null,null,null,null,null,null,null,null,null,null,null,null,null,null,null,null,null,null,null,null,null,null,null,null,null,null,null,null,null,null,null,null,null,null,null,null,null,null,null,null,null,4,"Spieler 05","-","Spieler 11",null,null,{"$f":"DZ121","v":17},4,5,11,"","","$N$41","$H$47",4,"Spieler 04","-","Spieler 10",null,null,{"$f":"EN121","v":18},4,4,10,"","","$M$40","$G$46",4,{"$f":"DW122","v":"Spieler 11"},"-",{"$f":"DU122","v":"Spieler 05"},null,4,{"$f":"EK122","v":"Spieler 10"},"-",{"$f":"EI122","v":"Spieler 04"}]
[null,null,null,null,null,null,null,null,null,null,null,null,null,null,null,null,null,null,null,null,null,null,null,null,null,null,null,null,null,null,null,null,null,null,null,null,null,null,null,null,null,null,null,null,null,null,null,null,null,null,null,null,null,null,null,null,null,null,null,null,null,null,null,null,null,null,null,null,null,null,null,null,null,null,null,null,null,null,null,null,null,null,null,null,null,null,null,null,null,null,null,null,null,null,null,null,null,null,null,null,null,null,null,null,null,null,null,null,null,null,null,null,null,null,null,null,null,null,null,null,null,null,null,5,"Spieler 12","-","Spieler 04",null,null,{"$f":"DZ122","v":17},5,12,4,"","","$G$48","$O$40",5,"Spieler 11","-","Spieler 03",null,null,18,5,11,3,"","","$F$47","$N$39",5,{"$f":"DU123","v":"Spieler 12"},"-",{"$f":"DW123","v":"Spieler 04"},null,5,{"$f":"EI123","v":"Spieler 11"},"-",{"$f":"EK123","v":"Spieler 03"}]
[null,null,null,null,null,null,null,null,null,null,null,null,null,null,null,null,null,null,null,null,null,null,null,null,null,null,null,null,null,null,null,null,null,null,null,null,null,null,null,null,null,null,null,null,null,null,null,null,null,null,null,null,null,null,null,null,null,null,null,null,null,null,null,null,null,null,null,null,null,null,null,null,null,null,null,null,null,null,null,null,null,null,null,null,null,null,null,null,null,null,null,null,null,null,null,null,null,null,null,null,null,null,null,null,null,null,null,null,null,null,null,null,null,null,null,null,null,null,null,null,null,null,null,6,"Spieler 03","-","Spieler 13",null,null,{"$f":"DZ123","v":17},6,3,13,"","","$P$39","$F$49",6,"Spieler 02","-","Spieler 12",null,null,18,6,2,12,"","","$O$38","$E$48",6,{"$f":"DW124","v":"Spieler 13"},"-",{"$f":"DU124","v":"Spieler 03"},null,6,{"$f":"EK124","v":"Spieler 12"},"-",{"$f":"EI124","v":"Spieler 02"}]
[null,null,null,null,null,null,null,null,null,null,null,null,null,null,null,null,null,null,null,null,null,null,null,null,null,null,null,null,null,null,null,null,null,null,null,null,null,null,null,null,null,null,null,null,null,null,null,null,null,null,null,null,null,null,null,null,null,null,null,null,null,null,null,null,null,null,null,null,null,null,null,null,null,null,null,null,null,null,null,null,null,null,null,null,null,null,null,null,null,null,null,null,null,null,null,null,null,null,null,null,null,null,null,null,null,null,null,null,null,null,null,null,null,null,null,null,null,null,null,null,null,null,null,7,"Spieler 14","-","Spieler 02",null,null,{"$f":"DZ124","v":17},7,14,2,"","","$E$50","$Q$38",7,"Spieler 13","-","Spieler 01",null,null,18,7,13,1,"","","$D$49","$P$37",7,{"$f":"DU125","v":"Spieler 14"},"-",{"$f":"DW125","v":"Spieler 02"},null,7,{"$f":"EI125","v":"Spieler 13"},"-",{"$f":"EK125","v":"Spieler 01"}]
[null,null,null,null,null,null,null,null,null,null,null,null,null,null,null,null,null,null,null,null,null,null,null,null,null,null,null,null,null,null,null,null,null,null,null,null,null,null,null,null,null,null,null,null,null,null,null,null,null,null,null,null,null,null,null,null,null,null,null,null,null,null,null,null,null,null,null,null,null,null,null,null,null,null,null,null,null,null,null,null,null,null,null,null,null,null,null,null,null,null,null,null,null,null,null,null,null,null,null,null,null,null,null,null,null,null,null,null,null,null,null,null,null,null,null,null,null,null,null,null,null,null,null,8,"Spieler 01","-","Spieler 15",null,null,17,8,1,15,"","","$R$37","$D$51",8,"Spieler 23","-","Spieler 14",null,null,18,8,23,14,"","","$Q$59","$Z$50",8,{"$f":"DW126","v":"Spieler 15"},"-",{"$f":"DU126","v":"Spieler 01"},null,8,{"$f":"EK126","v":"Spieler 14"},"-",{"$f":"EI126","v":"Spieler 23"}]
[null,null,null,null,null,null,null,null,null,null,null,null,null,null,null,null,null,null,null,null,null,null,null,null,null,null,null,null,null,null,null,null,null,null,null,null,null,null,null,null,null,null,null,null,null,null,null,null,null,null,null,null,null,null,null,null,null,null,null,null,null,null,null,null,null,null,null,null,null,null,null,null,null,null,null,null,null,null,null,null,null,null,null,null,null,null,null,null,null,null,null,null,null,null,null,null,null,null,null,null,null,null,null,null,null,null,null,null,null,null,null,null,null,null,null,null,null,null,null,null,null,null,null,9,"Spieler 16","-","Spieler 23",null,null,17,9,16,23,"","","$Z$52","$S$59",9,"Spieler 15","-","Spieler 22",null,null,18,9,15,22,"","","$Y$51","$R$58",9,{"$f":"DU127","v":"Spieler 16"},"-",{"$f":"DW127","v":"Spieler 23"},null,9,{"$f":"EI127","v":"Spieler 15"},"-",{"$f":"EK127","v":"Spieler 22"}]
[null,null,null,null,null,null,null,null,null,null,null,null,null,null,null,null,null,null,null,null,null,null,null,null,null,null,null,null,null,null,null,null,null,null,null,null,null,null,null,null,null,null,null,null,null,null,null,null,null,null,null,null,null,null,null,null,null,null,null,null,null,null,null,null,null,null,null,null,null,null,null,null,null,null,null,null,null,null,null,null,null,null,null,null,null,null,null,null,null,null,null,null,null,null,null,null,null,null,null,null,null,null,null,null,null,null,null,null,null,null,null,null,null,null,null,null,null,null,null,null,null,null,null,10,"Spieler 22","-","Spieler 17",null,null,17,10,22,17,"","","$T$58","$Y$53",10,"Spieler 21","-","Spieler 16",null,null,18,10,21,16,"","","$S$57","$X$52",10,{"$f":"DW128","v":"Spieler 17"},"-",{"$f":"DU128","v":"Spieler 22"},null,10,{"$f":"EK128","v":"Spieler 16"},"-",{"$f":"EI128","v":"Spieler 21"}]
[null,null,null,null,null,null,null,null,null,null,null,null,null,null,null,null,null,null,null,null,null,null,null,null,null,null,null,null,null,null,null,null,null,null,null,null,null,null,null,null,null,null,null,null,null,null,null,null,null,null,null,null,null,null,null,null,null,null,null,null,null,null,null,null,null,null,null,null,null,null,null,null,null,null,null,null,null,null,null,null,null,null,null,null,null,null,null,null,null,null,null,null,null,null,null,null,null,null,null,null,null,null,null,null,null,null,null,null,null,null,null,null,null,null,null,null,null,null,null,null,null,null,null,11,"Spieler 18","-","Spieler 21",null,null,17,11,18,21,"","","$X$54","$U$57",11,"Spieler 17","-","Spieler 20",null,null,18,11,17,20,"","","$W$53","$T$56",11,{"$f":"DU129","v":"Spieler 18"},"-",{"$f":"DW129","v":"Spieler 21"},null,11,{"$f":"EI129","v":"Spieler 17"},"-",{"$f":"EK129","v":"Spieler 20"}]
[null,null,null,null,null,null,null,null,null,null,null,null,null,null,null,null,null,null,null,null,null,null,null,null,null,null,null,null,null,null,null,null,null,null,null,null,null,null,null,null,null,null,null,null,null,null,null,null,null,null,null,null,null,null,null,null,null,null,null,null,null,null,null,null,null,null,null,null,null,null,null,null,null,null,null,null,null,null,null,null,null,null,null,null,null,null,null,null,null,null,null,null,null,null,null,null,null,null,null,null,null,null,null,null,null,null,null,null,null,null,null,null,null,null,null,null,null,null,null,null,null,null,null,12,"Spieler 20","-","Spieler 19",null,null,17,12,20,19,"","","$V$56","$W$55",12,"Spieler 19","-","Spieler 18",null,null,18,12,19,18,"","","$U$55","$V$54",12,{"$f":"DW130","v":"Spieler 19"},"-",{"$f":"DU130","v":"Spieler 20"},null,12,{"$f":"EK130","v":"Spieler 18"},"-",{"$f":"EI130","v":"Spieler 19"}]
[]
[null,null,null,null,null,null,null,null,null,null,null,null,null,null,null,null,null,null,null,null,null,null,null,null,null,null,null,null,null,null,null,null,null,null,null,null,null,null,null,null,null,null,null,null,null,null,null,null,null,null,null,null,null,null,null,null,null,null,null,null,null,null,null,null,null,null,null,null,null,null,null,null,null,null,null,null,null,null,null,null,null,null,null,null,null,null,null,null,null,null,null,null,null,null,null,null,null,null,null,null,null,null,null,null,null,null,null,null,null,null,null,null,null,null,null,null,null,null,null,null,null,null,null,null,{"$f":"DU118+2","v":19},null,null,null,null,"R","B","SpNr w","SpNr s","Res w","Res s",null,null,null,{"$f":"EI118+2","v":20},null,null,null,null,"R","B","SpNr w","SpNr s","Res w","Res s",null,null,null,{"$f":"DU132","v":19},1,null,null,null,{"$f":"EI132","v":20}]
[null,null,null,null,null,null,null,null,null,null,null,null,null,null,null,null,null,null,null,null,null,null,null,null,null,null,null,null,null,null,null,null,null,null,null,null,null,null,null,null,null,null,null,null,null,null,null,null,null,null,null,null,null,null,null,null,null,null,null,null,null,null,null,null,null,null,null,null,null,null,null,null,null,null,null,null,null,null,null,null,null,null,null,null,null,null,null,null,null,null,null,null,null,null,null,null,null,null,null,null,null,null,null,null,null,null,null,null,null,null,null,null,null,null,null,null,null,null,null,null,null,null,null,{"$f":"IF(OR(INDEX($DO$37:$DO$60,EB133),INDEX($DO$37:$DO$60,EC133)),0,1)","v":1},{"$f":"INDEX($DP$37:$DP$60,MATCH($EB133,TeilnNr,0))","v":"Spieler 06"},"-",{"$f":"INDEX($DP$37:$DP$60,MATCH($EC133,TeilnNr,0))","v":"Spieler 24"},null,null,{"$f":"DU132","v":19},1,{"$f":"IF(AND(EA133=1,MOD(DZ133,2)=0),MAX(TeilnNr),IF(MOD(EA133,2)=0,IF(MAX(TeilnNr)/2-EA133+1-(DZ133-MAX(TeilnNr)/2-1)>=1,MAX(TeilnNr)/2-EA133+1-(DZ133-MAX(TeilnNr)/2-1),MAX(TeilnNr)/2-EA133+1-(DZ133-MAX(TeilnNr)/2-1)+MAX(TeilnNr)-1),IF(EA133-(DZ133-1)>=1,EA133-(DZ133-1),EA133-(DZ133-1)+MAX(TeilnNr)-1)))","v":6},{"$f":"IF(AND(EA133=1,MOD(DZ133,2)<>0),MAX(TeilnNr),IF(MOD(EA133,2)<>0,IF(MAX(TeilnNr)/2-EA133+1-(DZ133-MAX(TeilnNr)/2-1)>=1,MAX(TeilnNr)/2-EA133+1-(DZ133-MAX(TeilnNr)/2-1),MAX(TeilnNr)/2-EA133+1-(DZ133-MAX(TeilnNr)/2-1)+MAX(TeilnNr)-1),IF(EA133-(DZ133-1)>=1,EA133-(DZ133-1),EA133-(DZ133-1)+MAX(TeilnNr)-1)))","v":24},{"$f":"IF(LEFT(DY133,1)=\"V\",\"\",LEFT(DY133,1))","v":""},{"$f":"IF(RIGHT(DY133,1)=\"V\",\"\",RIGHT(DY133,1))","v":""},{"$f":"ADDRESS(ROW(Teilnehmer)+EB133,COLUMN(Teilnehmer)+EC133)","v":"$AA$42"},{"$f":"ADDRESS(ROW(Teilnehmer)+EC133,COLUMN(Teilnehmer)+EB133)","v":"$I$60"},{"$f":"IF(OR(INDEX($DO$37:$DO$60,EP133),INDEX($DO$37:$DO$60,EQ133)),0,1)","v":1},{"$f":"INDEX($DP$37:$DP$60,MATCH($EP133,TeilnNr,0))","v":"Spieler 24"},"-",{"$f":"INDEX($DP$37:$DP$60,MATCH($EQ133,TeilnNr,0))","v":"Spieler 05"},null,null,{"$f":"EI132","v":20},1,{"$f":"IF(AND(EO133=1,MOD(EN133,2)=0),MAX(TeilnNr),IF(MOD(EO133,2)=0,IF(MAX(TeilnNr)/2-EO133+1-(EN133-MAX(TeilnNr)/2-1)>=1,MAX(TeilnNr)/2-EO133+1-(EN133-MAX(TeilnNr)/2-1),MAX(TeilnNr)/2-EO133+1-(EN133-MAX(TeilnNr)/2-1)+MAX(TeilnNr)-1),IF(EO133-(EN133-1)>=1,EO133-(EN133-1),EO133-(EN133-1)+MAX(TeilnNr)-1)))","v":24},{"$f":"IF(AND(EO133=1,MOD(EN133,2)<>0),MAX(TeilnNr),IF(MOD(EO133,2)<>0,IF(MAX(TeilnNr)/2-EO133+1-(EN133-MAX(TeilnNr)/2-1)>=1,MAX(TeilnNr)/2-EO133+1-(EN133-MAX(TeilnNr)/2-1),MAX(TeilnNr)/2-EO133+1-(EN133-MAX(TeilnNr)/2-1)+MAX(TeilnNr)-1),IF(EO133-(EN133-1)>=1,EO133-(EN133-1),EO133-(EN133-1)+MAX(TeilnNr)-1)))","v":5},{"$f":"IF(LEFT(EM133,1)=\"V\",\"\",LEFT(EM133,1))","v":""},{"$f":"IF(RIGHT(EM133,1)=\"V\",\"\",RIGHT(EM133,1))","v":""},{"$f":"ADDRESS(ROW(Teilnehmer)+EP133,COLUMN(Teilnehmer)+EQ133)","v":"$H$60"},{"$f":"ADDRESS(ROW(Teilnehmer)+EQ133,COLUMN(Teilnehmer)+EP133)","v":"$AA$41"},{"$f":"DT133","v":1},"Spieler 06","-",{"$f":"DW133","v":"Spieler 24"},null,{"$f":"EH133","v":1},{"$f":"EK133","v":"Spieler 05"},"-",{"$f":"EI133","v":"Spieler 24"}]
[null,null,null,null,null,null,null,null,null,null,null,null,null,null,null,null,null,null,null,null,null,null,null,null,null,null,null,null,null,null,null,null,null,null,null,null,null,null,null,null,null,null,null,null,null,null,null,null,null,null,null,null,null,null,null,null,null,null,null,null,null,null,null,null,null,null,null,null,null,null,null,null,null,null,null,null,null,null,null,null,null,null,null,null,null,null,null,null,null,null,null,null,null,null,null,null,null,null,null,null,null,null,null,null,null,null,null,null,null,null,null,null,null,null,null,null,null,null,null,null,null,null,null,{"$f":"DT133+1","v":2},"Spieler 05","-","Spieler 07",null,null,{"$f":"DZ133","v":19},{"$f":"EA133+1","v":2},5,7,"","","$J$41","$H$43",{"$f":"EH133+1","v":2},"Spieler 04","-","Spieler 06",null,null,{"$f":"EN133","v":20},{"$f":"EO133+1","v":2},4,6,"","","$I$40","$G$42",{"$f":"DT134","v":2},{"$f":"DW134","v":"Spieler 07"},"-",{"$f":"DU134","v":"Spieler 05"},null,2,"Spieler 06","-","Spieler 04"]
[null,null,null,null,null,null,null,null,null,null,null,null,null,null,null,null,null,null,null,null,null,null,null,null,null,null,null,null,null,null,null,null,null,null,null,null,null,null,null,null,null,null,null,null,null,null,null,null,null,null,null,null,null,null,null,null,null,null,null,null,null,null,null,null,null,null,null,null,null,null,null,null,null,null,null,null,null,null,null,null,null,null,null,null,null,null,null,null,null,null,null,null,null,null,null,null,null,null,null,null,null,null,null,null,null,null,null,null,null,null,null,null,null,null,null,null,null,null,null,null,null,null,null,{"$f":"DT134+1","v":3},"Spieler 08","-","Spieler 04",null,null,{"$f":"DZ134","v":19},{"$f":"EA134+1","v":3},8,4,"","","$G$44","$K$40",{"$f":"EH134+1","v":3},"Spieler 07","-","Spieler 03",null,null,{"$f":"EN134","v":20},{"$f":"EO134+1","v":3},7,3,"","","$F$43","$J$39",3,{"$f":"DU135","v":"Spieler 08"},"-",{"$f":"DW135","v":"Spieler 04"},null,3,{"$f":"EI135","v":"Spieler 07"},"-",{"$f":"EK135","v":"Spieler 03"}]
[null,null,null,null,null,null,null,null,null,null,null,null,null,null,null,null,null,null,null,null,null,null,null,null,null,null,null,null,null,null,null,null,null,null,null,null,null,null,null,null,null,null,null,null,null,null,null,null,null,null,null,null,null,null,null,null,null,null,null,null,null,null,null,null,null,null,null,null,null,null,null,null,null,null,null,null,null,null,null,null,null,null,null,null,null,null,null,null,null,null,null,null,null,null,null,null,null,null,null,null,null,null,null,null,null,null,null,null,null,null,null,null,null,null,null,null,null,null,null,null,null,null,null,4,"Spieler 03","-","Spieler 09",null,null,{"$f":"DZ135","v":19},4,3,9,"","","$L$39","$F$45",4,"Spieler 02","-","Spieler 08",null,null,{"$f":"EN135","v":20},4,2,8,"","","$K$38","$E$44",4,{"$f":"DW136","v":"Spieler 09"},"-",{"$f":"DU136","v":"Spieler 03"},null,4,{"$f":"EK136","v":"Spieler 08"},"-",{"$f":"EI136","v":"Spieler 02"}]
[null,null,null,null,null,null,null,null,null,null,null,null,null,null,null,null,null,null,null,null,null,null,null,null,null,null,null,null,null,null,null,null,null,null,null,null,null,null,null,null,null,null,null,null,null,null,null,null,null,null,null,null,null,null,null,null,null,null,null,null,null,null,null,null,null,null,null,null,null,null,null,null,null,null,null,null,null,null,null,null,null,null,null,null,null,null,null,null,null,null,null,null,null,null,null,null,null,null,null,null,null,null,null,null,null,null,null,null,null,null,null,null,null,null,null,null,null,null,null,null,null,null,null,5,"Spieler 10","-","Spieler 02",null,null,{"$f":"DZ136","v":19},5,10,2,"","","$E$46","$M$38",5,"Spieler 09","-","Spieler 01",null,null,20,5,9,1,"","","$D$45","$L$37",5,{"$f":"DU137","v":"Spieler 10"},"-",{"$f":"DW137","v":"Spieler 02"},null,5,{"$f":"EI137","v":"Spieler 09"},"-",{"$f":"EK137","v":"Spieler 01"}]
[null,null,null,null,null,null,null,null,null,null,null,null,null,null,null,null,null,null,null,null,null,null,null,null,null,null,null,null,null,null,null,null,null,null,null,null,null,null,null,null,null,null,null,null,null,null,null,null,null,null,null,null,null,null,null,null,null,null,null,null,null,null,null,null,null,null,null,null,null,null,null,null,null,null,null,null,null,null,null,null,null,null,null,null,null,null,null,null,null,null,null,null,null,null,null,null,null,null,null,null,null,null,null,null,null,null,null,null,null,null,null,null,null,null,null,null,null,null,null,null,null,null,null,6,"Spieler 01","-","Spieler 11",null,null,{"$f":"DZ137","v":19},6,1,11,"","","$N$37","$D$47",6,"Spieler 23","-","Spieler 10",null,null,20,6,23,10,"","","$M$59","$Z$46",6,{"$f":"DW138","v":"Spieler 11"},"-",{"$f":"DU138","v":"Spieler 01"},null,6,{"$f":"EK138","v":"Spieler 10"},"-",{"$f":"EI138","v":"Spieler 23"}]
[null,null,null,null,null,null,null,null,null,null,null,null,null,null,null,null,null,null,null,null,null,null,null,null,null,null,null,null,null,null,null,null,null,null,null,null,null,null,null,null,null,null,null,null,null,null,null,null,null,null,null,null,null,null,null,null,null,null,null,null,null,null,null,null,null,null,null,null,null,null,null,null,null,null,null,null,null,null,null,null,null,null,null,null,null,null,null,null,null,null,null,null,null,null,null,null,null,null,null,null,null,null,null,null,null,null,null,null,null,null,null,null,null,null,null,null,null,null,null,null,null,null,null,7,"Spieler 12","-","Spieler 23",null,null,{"$f":"DZ138","v":19},7,12,23,"","","$Z$48","$O$59",7,"Spieler 11","-","Spieler 22",null,null,20,7,11,22,"","","$Y$47","$N$58",7,{"$f":"DU139","v":"Spieler 12"},"-",{"$f":"DW139","v":"Spieler 23"},null,7,{"$f":"EI139","v":"Spieler 11"},"-",{"$f":"EK139","v":"Spieler 22"}]
[null,null,null,null,null,null,null,null,null,null,null,null,null,null,null,null,null,null,null,null,null,null,null,null,null,null,null,null,null,null,null,null,null,null,null,null,null,null,null,null,null,null,null,null,null,null,null,null,null,null,null,null,null,null,null,null,null,null,null,null,null,null,null,null,null,null,null,null,null,null,null,null,null,null,null,null,null,null,null,null,null,null,null,null,null,null,null,null,null,null,null,null,null,null,null,null,null,null,null,null,null,null,null,null,null,null,null,null,null,null,null,null,null,null,null,null,null,null,null,null,null,null,null,8,"Spieler 22","-","Spieler 13",null,null,19,8,22,13,"","","$P$58","$Y$49",8,"Spieler 21","-","Spieler 12",null,null,20,8,21,12,"","","$O$57","$X$48",8,{"$f":"DW140","v":"Spieler 13"},"-",{"$f":"DU140","v":"Spieler 22"},null,8,{"$f":"EK140","v":"Spieler 12"},"-",{"$f":"EI140","v":"Spieler 21"}]
[null,null,null,null,null,null,null,null,null,null,null,null,null,null,null,null,null,null,null,null,null,null,null,null,null,null,null,null,null,null,null,null,null,null,null,null,null,null,null,null,null,null,null,null,null,null,null,null,null,null,null,null,null,null,null,null,null,null,null,null,null,null,null,null,null,null,null,null,null,null,null,null,null,null,null,null,null,null,null,null,null,null,null,null,null,null,null,null,null,null,null,null,null,null,null,null,null,null,null,null,null,null,null,null,null,null,null,null,null,null,null,null,null,null,null,null,null,null,null,null,null,null,null,9,"Spieler 14","-","Spieler 21",null,null,19,9,14,21,"","","$X$50","$Q$57",9,"Spieler 13","-","Spieler 20",null,null,20,9,13,20,"","","$W$49","$P$56",9,{"$f":"DU141","v":"Spieler 14"},"-",{"$f":"DW141","v":"Spieler 21"},null,9,{"$f":"EI141","v":"Spieler 13"},"-",{"$f":"EK141","v":"Spieler 20"}]
[null,null,null,null,null,null,null,null,null,null,null,null,null,null,null,null,null,null,null,null,null,null,null,null,null,null,null,null,null,null,null,null,null,null,null,null,null,null,null,null,null,null,null,null,null,null,null,null,null,null,null,null,null,null,null,null,null,null,null,null,null,null,null,null,null,null,null,null,null,null,null,null,null,null,null,null,null,null,null,null,null,null,null,null,null,null,null,null,null,null,null,null,null,null,null,null,null,null,null,null,null,null,null,null,null,null,null,null,null,null,null,null,null,null,null,null,null,null,null,null,null,null,null,10,"Spieler 20","-","Spieler 15",null,null,19,10,20,15,"","","$R$56","$W$51",10,"Spieler 19","-","Spieler 14",null,null,20,10,19,14,"","","$Q$55","$V$50",10,{"$f":"DW142","v":"Spieler 15"},"-",{"$f":"DU142","v":"Spieler 20"},null,10,{"$f":"EK142","v":"Spieler 14"},"-",{"$f":"EI142","v":"Spieler 19"}]
[null,null,null,null,null,null,null,null,null,null,null,null,null,null,null,null,null,null,null,null,null,null,null,null,null,null,null,null,null,null,null,null,null,null,null,null,null,null,null,null,null,null,null,null,null,null,null,null,null,null,null,null,null,null,null,null,null,null,null,null,null,null,null,null,null,null,null,null,null,null,null,null,null,null,null,null,null,null,null,null,null,null,null,null,null,null,null,null,null,null,null,null,null,null,null,null,null,null,null,null,null,null,null,null,null,null,null,null,null,null,null,null,null,null,null,null,null,null,null,null,null,null,null,11,"Spieler 16","-","Spieler 19",null,null,19,11,16,19,"","","$V$52","$S$55",11,"Spieler 15","-","Spieler 18",null,null,20,11,15,18,"","","$U$51","$R$54",11,{"$f":"DU143","v":"Spieler 16"},"-",{"$f":"DW143","v":"Spieler 19"},null,11,{"$f":"EI143","v":"Spieler 15"},"-",{"$f":"EK143","v":"Spieler 18"}]
[null,null,null,null,null,null,null,null,null,null,null,null,null,null,null,null,null,null,null,null,null,null,null,null,null,null,null,null,null,null,null,null,null,null,null,null,null,null,null,null,null,null,null,null,null,null,null,null,null,null,null,null,null,null,null,null,null,null,null,null,null,null,null,null,null,null,null,null,null,null,null,null,null,null,null,null,null,null,null,null,null,null,null,null,null,null,null,null,null,null,null,null,null,null,null,null,null,null,null,null,null,null,null,null,null,null,null,null,null,null,null,null,null,null,null,null,null,null,null,null,null,null,null,12,"Spieler 18","-","Spieler 17",null,null,19,12,18,17,"","","$T$54","$U$53",12,"Spieler 17","-","Spieler 16",null,null,20,12,17,16,"","","$S$53","$T$52",12,{"$f":"DW144","v":"Spieler 17"},"-",{"$f":"DU144","v":"Spieler 18"},null,12,{"$f":"EK144","v":"Spieler 16"},"-",{"$f":"EI144","v":"Spieler 17"}]
[]
[null,null,null,null,null,null,null,null,null,null,null,null,null,null,null,null,null,null,null,null,null,null,null,null,null,null,null,null,null,null,null,null,null,null,null,null,null,null,null,null,null,null,null,null,null,null,null,null,null,null,null,null,null,null,null,null,null,null,null,null,null,null,null,null,null,null,null,null,null,null,null,null,null,null,null,null,null,null,null,null,null,null,null,null,null,null,null,null,null,null,null,null,null,null,null,null,null,null,null,null,null,null,null,null,null,null,null,null,null,null,null,null,null,null,null,null,null,null,null,null,null,null,null,null,{"$f":"DU132+2","v":21},null,null,null,null,"R","B","SpNr w","SpNr s","Res w","Res s",null,null,null,{"$f":"EI132+2","v":22},null,null,null,null,"R","B","SpNr w","SpNr s","Res w","Res s",null,null,null,{"$f":"DU146","v":21},1,null,null,null,{"$f":"EI146","v":22}]
[null,null,null,null,null,null,null,null,null,null,null,null,null,null,null,null,null,null,null,null,null,null,null,null,null,null,null,null,null,null,null,null,null,null,null,null,null,null,null,null,null,null,null,null,null,null,null,null,null,null,null,null,null,null,null,null,null,null,null,null,null,null,null,null,null,null,null,null,null,null,null,null,null,null,null,null,null,null,null,null,null,null,null,null,null,null,null,null,null,null,null,null,null,null,null,null,null,null,null,null,null,null,null,null,null,null,null,null,null,null,null,null,null,null,null,null,null,null,null,null,null,null,null,{"$f":"IF(OR(INDEX($DO$37:$DO$60,EB147),INDEX($DO$37:$DO$60,EC147)),0,1)","v":1},{"$f":"INDEX($DP$37:$DP$60,MATCH($EB147,TeilnNr,0))","v":"Spieler 04"},"-",{"$f":"INDEX($DP$37:$DP$60,MATCH($EC147,TeilnNr,0))","v":"Spieler 24"},null,null,{"$f":"DU146","v":21},1,{"$f":"IF(AND(EA147=1,MOD(DZ147,2)=0),MAX(TeilnNr),IF(MOD(EA147,2)=0,IF(MAX(TeilnNr)/2-EA147+1-(DZ147-MAX(TeilnNr)/2-1)>=1,MAX(TeilnNr)/2-EA147+1-(DZ147-MAX(TeilnNr)/2-1),MAX(TeilnNr)/2-EA147+1-(DZ147-MAX(TeilnNr)/2-1)+MAX(TeilnNr)-1),IF(EA147-(DZ147-1)>=1,EA147-(DZ147-1),EA147-(DZ147-1)+MAX(TeilnNr)-1)))","v":4},{"$f":"IF(AND(EA147=1,MOD(DZ147,2)<>0),MAX(TeilnNr),IF(MOD(EA147,2)<>0,IF(MAX(TeilnNr)/2-EA147+1-(DZ147-MAX(TeilnNr)/2-1)>=1,MAX(TeilnNr)/2-EA147+1-(DZ147-MAX(TeilnNr)/2-1),MAX(TeilnNr)/2-EA147+1-(DZ147-MAX(TeilnNr)/2-1)+MAX(TeilnNr)-1),IF(EA147-(DZ147-1)>=1,EA147-(DZ147-1),EA147-(DZ147-1)+MAX(TeilnNr)-1)))","v":24},{"$f":"IF(LEFT(DY147,1)=\"V\",\"\",LEFT(DY147,1))","v":""},{"$f":"IF(RIGHT(DY147,1)=\"V\",\"\",RIGHT(DY147,1))","v":""},{"$f":"ADDRESS(ROW(Teilnehmer)+EB147,COLUMN(Teilnehmer)+EC147)","v":"$AA$40"},{"$f":"ADDRESS(ROW(Teilnehmer)+EC147,COLUMN(Teilnehmer)+EB147)","v":"$G$60"},{"$f":"IF(OR(INDEX($DO$37:$DO$60,EP147),INDEX($DO$37:$DO$60,EQ147)),0,1)","v":1},{"$f":"INDEX($DP$37:$DP$60,MATCH($EP147,TeilnNr,0))","v":"Spieler 24"},"-",{"$f":"INDEX($DP$37:$DP$60,MATCH($EQ147,TeilnNr,0))","v":"Spieler 03"},null,null,{"$f":"EI146","v":22},1,{"$f":"IF(AND(EO147=1,MOD(EN147,2)=0),MAX(TeilnNr),IF(MOD(EO147,2)=0,IF(MAX(TeilnNr)/2-EO147+1-(EN147-MAX(TeilnNr)/2-1)>=1,MAX(TeilnNr)/2-EO147+1-(EN147-MAX(TeilnNr)/2-1),MAX(TeilnNr)/2-EO147+1-(EN147-MAX(TeilnNr)/2-1)+MAX(TeilnNr)-1),IF(EO147-(EN147-1)>=1,EO147-(EN147-1),EO147-(EN147-1)+MAX(TeilnNr)-1)))","v":24},{"$f":"IF(AND(EO147=1,MOD(EN147,2)<>0),MAX(TeilnNr),IF(MOD(EO147,2)<>0,IF(MAX(TeilnNr)/2-EO147+1-(EN147-MAX(TeilnNr)/2-1)>=1,MAX(TeilnNr)/2-EO147+1-(EN147-MAX(TeilnNr)/2-1),MAX(TeilnNr)/2-EO147+1-(EN147-MAX(TeilnNr)/2-1)+MAX(TeilnNr)-1),IF(EO147-(EN147-1)>=1,EO147-(EN147-1),EO147-(EN147-1)+MAX(TeilnNr)-1)))","v":3},{"$f":"IF(LEFT(EM147,1)=\"V\",\"\",LEFT(EM147,1))","v":""},{"$f":"IF(RIGHT(EM147,1)=\"V\",\"\",RIGHT(EM147,1))","v":""},{"$f":"ADDRESS(ROW(Teilnehmer)+EP147,COLUMN(Teilnehmer)+EQ147)","v":"$F$60"},{"$f":"ADDRESS(ROW(Teilnehmer)+EQ147,COLUMN(Teilnehmer)+EP147)","v":"$AA$39"},{"$f":"DT147","v":1},"Spieler 04","-",{"$f":"DW147","v":"Spieler 24"},null,{"$f":"EH147","v":1},{"$f":"EK147","v":"Spieler 03"},"-",{"$f":"EI147","v":"Spieler 24"}]
[null,null,null,null,null,null,null,null,null,null,null,null,null,null,null,null,null,null,null,null,null,null,null,null,null,null,null,null,null,null,null,null,null,null,null,null,null,null,null,null,null,null,null,null,null,null,null,null,null,null,null,null,null,null,null,null,null,null,null,null,null,null,null,null,null,null,null,null,null,null,null,null,null,null,null,null,null,null,null,null,null,null,null,null,null,null,null,null,null,null,null,null,null,null,null,null,null,null,null,null,null,null,null,null,null,null,null,null,null,null,null,null,null,null,null,null,null,null,null,null,null,null,null,{"$f":"DT147+1","v":2},"Spieler 03","-","Spieler 05",null,null,{"$f":"DZ147","v":21},{"$f":"EA147+1","v":2},3,5,"","","$H$39","$F$41",{"$f":"EH147+1","v":2},"Spieler 02","-","Spieler 04",null,null,{"$f":"EN147","v":22},{"$f":"EO147+1","v":2},2,4,"","","$G$38","$E$40",{"$f":"DT148","v":2},{"$f":"DW148","v":"Spieler 05"},"-",{"$f":"DU148","v":"Spieler 03"},null,2,"Spieler 04","-","Spieler 02"]
[null,null,null,null,null,null,null,null,null,null,null,null,null,null,null,null,null,null,null,null,null,null,null,null,null,null,null,null,null,null,null,null,null,null,null,null,null,null,null,null,null,null,null,null,null,null,null,null,null,null,null,null,null,null,null,null,null,null,null,null,null,null,null,null,null,null,null,null,null,null,null,null,null,null,null,null,null,null,null,null,null,null,null,null,null,null,null,null,null,null,null,null,null,null,null,null,null,null,null,null,null,null,null,null,null,null,null,null,null,null,null,null,null,null,null,null,null,null,null,null,null,null,null,{"$f":"DT148+1","v":3},"Spieler 06","-","Spieler 02",null,null,{"$f":"DZ148","v":21},{"$f":"EA148+1","v":3},6,2,"","","$E$42","$I$38",{"$f":"EH148+1","v":3},"Spieler 05","-","Spieler 01",null,null,{"$f":"EN148","v":22},{"$f":"EO148+1","v":3},5,1,"","","$D$41","$H$37",3,{"$f":"DU149","v":"Spieler 06"},"-",{"$f":"DW149","v":"Spieler 02"},null,3,{"$f":"EI149","v":"Spieler 05"},"-",{"$f":"EK149","v":"Spieler 01"}]
[null,null,null,null,null,null,null,null,null,null,null,null,null,null,null,null,null,null,null,null,null,null,null,null,null,null,null,null,null,null,null,null,null,null,null,null,null,null,null,null,null,null,null,null,null,null,null,null,null,null,null,null,null,null,null,null,null,null,null,null,null,null,null,null,null,null,null,null,null,null,null,null,null,null,null,null,null,null,null,null,null,null,null,null,null,null,null,null,null,null,null,null,null,null,null,null,null,null,null,null,null,null,null,null,null,null,null,null,null,null,null,null,null,null,null,null,null,null,null,null,null,null,null,4,"Spieler 01","-","Spieler 07",null,null,{"$f":"DZ149","v":21},4,1,7,"","","$J$37","$D$43",4,"Spieler 23","-","Spieler 06",null,null,{"$f":"EN149","v":22},4,23,6,"","","$I$59","$Z$42",4,{"$f":"DW150","v":"Spieler 07"},"-",{"$f":"DU150","v":"Spieler 01"},null,4,{"$f":"EK150","v":"Spieler 06"},"-",{"$f":"EI150","v":"Spieler 23"}]
[null,null,null,null,null,null,null,null,null,null,null,null,null,null,null,null,null,null,null,null,null,null,null,null,null,null,null,null,null,null,null,null,null,null,null,null,null,null,null,null,null,null,null,null,null,null,null,null,null,null,null,null,null,null,null,null,null,null,null,null,null,null,null,null,null,null,null,null,null,null,null,null,null,null,null,null,null,null,null,null,null,null,null,null,null,null,null,null,null,null,null,null,null,null,null,null,null,null,null,null,null,null,null,null,null,null,null,null,null,null,null,null,null,null,null,null,null,null,null,null,null,null,null,5,"Spieler 08","-","Spieler 23",null,null,{"$f":"DZ150","v":21},5,8,23,"","","$Z$44","$K$59",5,"Spieler 07","-","Spieler 22",null,null,22,5,7,22,"","","$Y$43","$J$58",5,{"$f":"DU151","v":"Spieler 08"},"-",{"$f":"DW151","v":"Spieler 23"},null,5,{"$f":"EI151","v":"Spieler 07"},"-",{"$f":"EK151","v":"Spieler 22"}]
[null,null,null,null,null,null,null,null,null,null,null,null,null,null,null,null,null,null,null,null,null,null,null,null,null,null,null,null,null,null,null,null,null,null,null,null,null,null,null,null,null,null,null,null,null,null,null,null,null,null,null,null,null,null,null,null,null,null,null,null,null,null,null,null,null,null,null,null,null,null,null,null,null,null,null,null,null,null,null,null,null,null,null,null,null,null,null,null,null,null,null,null,null,null,null,null,null,null,null,null,null,null,null,null,null,null,null,null,null,null,null,null,null,null,null,null,null,null,null,null,null,null,null,6,"Spieler 22","-","Spieler 09",null,null,{"$f":"DZ151","v":21},6,22,9,"","","$L$58","$Y$45",6,"Spieler 21","-","Spieler 08",null,null,22,6,21,8,"","","$K$57","$X$44",6,{"$f":"DW152","v":"Spieler 09"},"-",{"$f":"DU152","v":"Spieler 22"},null,6,{"$f":"EK152","v":"Spieler 08"},"-",{"$f":"EI152","v":"Spieler 21"}]
[null,null,null,null,null,null,null,null,null,null,null,null,null,null,null,null,null,null,null,null,null,null,null,null,null,null,null,null,null,null,null,null,null,null,null,null,null,null,null,null,null,null,null,null,null,null,null,null,null,null,null,null,null,null,null,null,null,null,null,null,null,null,null,null,null,null,null,null,null,null,null,null,null,null,null,null,null,null,null,null,null,null,null,null,null,null,null,null,null,null,null,null,null,null,null,null,null,null,null,null,null,null,null,null,null,null,null,null,null,null,null,null,null,null,null,null,null,null,null,null,null,null,null,7,"Spieler 10","-","Spieler 21",null,null,{"$f":"DZ152","v":21},7,10,21,"","","$X$46","$M$57",7,"Spieler 09","-","Spieler 20",null,null,22,7,9,20,"","","$W$45","$L$56",7,{"$f":"DU153","v":"Spieler 10"},"-",{"$f":"DW153","v":"Spieler 21"},null,7,{"$f":"EI153","v":"Spieler 09"},"-",{"$f":"EK153","v":"Spieler 20"}]
[null,null,null,null,null,null,null,null,null,null,null,null,null,null,null,null,null,null,null,null,null,null,null,null,null,null,null,null,null,null,null,null,null,null,null,null,null,null,null,null,null,null,null,null,null,null,null,null,null,null,null,null,null,null,null,null,null,null,null,null,null,null,null,null,null,null,null,null,null,null,null,null,null,null,null,null,null,null,null,null,null,null,null,null,null,null,null,null,null,null,null,null,null,null,null,null,null,null,null,null,null,null,null,null,null,null,null,null,null,null,null,null,null,null,null,null,null,null,null,null,null,null,null,8,"Spieler 20","-","Spieler 11",null,null,21,8,20,11,"","","$N$56","$W$47",8,"Spieler 19","-","Spieler 10",null,null,22,8,19,10,"","","$M$55","$V$46",8,{"$f":"DW154","v":"Spieler 11"},"-",{"$f":"DU154","v":"Spieler 20"},null,8,{"$f":"EK154","v":"Spieler 10"},"-",{"$f":"EI154","v":"Spieler 19"}]
[null,null,null,null,null,null,null,null,null,null,null,null,null,null,null,null,null,null,null,null,null,null,null,null,null,null,null,null,null,null,null,null,null,null,null,null,null,null,null,null,null,null,null,null,null,null,null,null,null,null,null,null,null,null,null,null,null,null,null,null,null,null,null,null,null,null,null,null,null,null,null,null,null,null,null,null,null,null,null,null,null,null,null,null,null,null,null,null,null,null,null,null,null,null,null,null,null,null,null,null,null,null,null,null,null,null,null,null,null,null,null,null,null,null,null,null,null,null,null,null,null,null,null,9,"Spieler 12","-","Spieler 19",null,null,21,9,12,19,"","","$V$48","$O$55",9,"Spieler 11","-","Spieler 18",null,null,22,9,11,18,"","","$U$47","$N$54",9,{"$f":"DU155","v":"Spieler 12"},"-",{"$f":"DW155","v":"Spieler 19"},null,9,{"$f":"EI155","v":"Spieler 11"},"-",{"$f":"EK155","v":"Spieler 18"}]
[null,null,null,null,null,null,null,null,null,null,null,null,null,null,null,null,null,null,null,null,null,null,null,null,null,null,null,null,null,null,null,null,null,null,null,null,null,null,null,null,null,null,null,null,null,null,null,null,null,null,null,null,null,null,null,null,null,null,null,null,null,null,null,null,null,null,null,null,null,null,null,null,null,null,null,null,null,null,null,null,null,null,null,null,null,null,null,null,null,null,null,null,null,null,null,null,null,null,null,null,null,null,null,null,null,null,null,null,null,null,null,null,null,null,null,null,null,null,null,null,null,null,null,10,"Spieler 18","-","Spieler 13",null,null,21,10,18,13,"","","$P$54","$U$49",10,"Spieler 17","-","Spieler 12",null,null,22,10,17,12,"","","$O$53","$T$48",10,{"$f":"DW156","v":"Spieler 13"},"-",{"$f":"DU156","v":"Spieler 18"},null,10,{"$f":"EK156","v":"Spieler 12"},"-",{"$f":"EI156","v":"Spieler 17"}]
[null,null,null,null,null,null,null,null,null,null,null,null,null,null,null,null,null,null,null,null,null,null,null,null,null,null,null,null,null,null,null,null,null,null,null,null,null,null,null,null,null,null,null,null,null,null,null,null,null,null,null,null,null,null,null,null,null,null,null,null,null,null,null,null,null,null,null,null,null,null,null,null,null,null,null,null,null,null,null,null,null,null,null,null,null,null,null,null,null,null,null,null,null,null,null,null,null,null,null,null,null,null,null,null,null,null,null,null,null,null,null,null,null,null,null,null,null,null,null,null,null,null,null,11,"Spieler 14","-","Spieler 17",null,null,21,11,14,17,"","","$T$50","$Q$53",11,"Spieler 13","-","Spieler 16",null,null,22,11,13,16,"","","$S$49","$P$52",11,{"$f":"DU157","v":"Spieler 14"},"-",{"$f":"DW157","v":"Spieler 17"},null,11,{"$f":"EI157","v":"Spieler 13"},"-",{"$f":"EK157","v":"Spieler 16"}]
[null,null,null,null,null,null,null,null,null,null,null,null,null,null,null,null,null,null,null,null,null,null,null,null,null,null,null,null,null,null,null,null,null,null,null,null,null,null,null,null,null,null,null,null,null,null,null,null,null,null,null,null,null,null,null,null,null,null,null,null,null,null,null,null,null,null,null,null,null,null,null,null,null,null,null,null,null,null,null,null,null,null,null,null,null,null,null,null,null,null,null,null,null,null,null,null,null,null,null,null,null,null,null,null,null,null,null,null,null,null,null,null,null,null,null,null,null,null,null,null,null,null,null,12,"Spieler 16","-","Spieler 15",null,null,21,12,16,15,"","","$R$52","$S$51",12,"Spieler 15","-","Spieler 14",null,null,22,12,15,14,"","","$Q$51","$R$50",12,{"$f":"DW158","v":"Spieler 15"},"-",{"$f":"DU158","v":"Spieler 16"},null,12,{"$f":"EK158","v":"Spieler 14"},"-",{"$f":"EI158","v":"Spieler 15"}]
[]
[null,null,null,null,null,null,null,null,null,null,null,null,null,null,null,null,null,null,null,null,null,null,null,null,null,null,null,null,null,null,null,null,null,null,null,null,null,null,null,null,null,null,null,null,null,null,null,null,null,null,null,null,null,null,null,null,null,null,null,null,null,null,null,null,null,null,null,null,null,null,null,null,null,null,null,null,null,null,null,null,null,null,null,null,null,null,null,null,null,null,null,null,null,null,null,null,null,null,null,null,null,null,null,null,null,null,null,null,null,null,null,null,null,null,null,null,null,null,null,null,null,null,null,null,{"$f":"DU146+2","v":23},null,null,null,null,"R","B","SpNr w","SpNr s","Res w","Res s",null,null,null,null,null,null,null,null,"R","B","SpNr w","SpNr s","Res w","Res s",null,null,null,{"$f":"DU160","v":23},1]
[null,null,null,null,null,null,null,null,null,null,null,null,null,null,null,null,null,null,null,null,null,null,null,null,null,null,null,null,null,null,null,null,null,null,null,null,null,null,null,null,null,null,null,null,null,null,null,null,null,null,null,null,null,null,null,null,null,null,null,null,null,null,null,null,null,null,null,null,null,null,null,null,null,null,null,null,null,null,null,null,null,null,null,null,null,null,null,null,null,null,null,null,null,null,null,null,null,null,null,null,null,null,null,null,null,null,null,null,null,null,null,null,null,null,null,null,null,null,null,null,null,null,null,{"$f":"IF(OR(INDEX($DO$37:$DO$60,EB161),INDEX($DO$37:$DO$60,EC161)),0,1)","v":1},{"$f":"INDEX($DP$37:$DP$60,MATCH($EB161,TeilnNr,0))","v":"Spieler 02"},"-",{"$f":"INDEX($DP$37:$DP$60,MATCH($EC161,TeilnNr,0))","v":"Spieler 24"},null,null,{"$f":"DU160","v":23},1,{"$f":"IF(AND(EA161=1,MOD(DZ161,2)=0),MAX(TeilnNr),IF(MOD(EA161,2)=0,IF(MAX(TeilnNr)/2-EA161+1-(DZ161-MAX(TeilnNr)/2-1)>=1,MAX(TeilnNr)/2-EA161+1-(DZ161-MAX(TeilnNr)/2-1),MAX(TeilnNr)/2-EA161+1-(DZ161-MAX(TeilnNr)/2-1)+MAX(TeilnNr)-1),IF(EA161-(DZ161-1)>=1,EA161-(DZ161-1),EA161-(DZ161-1)+MAX(TeilnNr)-1)))","v":2},{"$f":"IF(AND(EA161=1,MOD(DZ161,2)<>0),MAX(TeilnNr),IF(MOD(EA161,2)<>0,IF(MAX(TeilnNr)/2-EA161+1-(DZ161-MAX(TeilnNr)/2-1)>=1,MAX(TeilnNr)/2-EA161+1-(DZ161-MAX(TeilnNr)/2-1),MAX(TeilnNr)/2-EA161+1-(DZ161-MAX(TeilnNr)/2-1)+MAX(TeilnNr)-1),IF(EA161-(DZ161-1)>=1,EA161-(DZ161-1),EA161-(DZ161-1)+MAX(TeilnNr)-1)))","v":24},{"$f":"IF(LEFT(DY161,1)=\"V\",\"\",LEFT(DY161,1))","v":""},{"$f":"IF(RIGHT(DY161,1)=\"V\",\"\",RIGHT(DY161,1))","v":""},{"$f":"ADDRESS(ROW(Teilnehmer)+EB161,COLUMN(Teilnehmer)+EC161)","v":"$AA$38"},{"$f":"ADDRESS(ROW(Teilnehmer)+EC161,COLUMN(Teilnehmer)+EB161)","v":"$E$60"},null,null,null,null,null,null,{"$f":"EI160","v":0},1,{"$f":"IF(AND(EO161=1,MOD(EN161,2)=0),MAX(TeilnNr),IF(MOD(EO161,2)=0,IF(MAX(TeilnNr)/2-EO161+1-(EN161-MAX(TeilnNr)/2-1)>=1,MAX(TeilnNr)/2-EO161+1-(EN161-MAX(TeilnNr)/2-1),MAX(TeilnNr)/2-EO161+1-(EN161-MAX(TeilnNr)/2-1)+MAX(TeilnNr)-1),IF(EO161-(EN161-1)>=1,EO161-(EN161-1),EO161-(EN161-1)+MAX(TeilnNr)-1)))","v":24},{"$f":"IF(AND(EO161=1,MOD(EN161,2)<>0),MAX(TeilnNr),IF(MOD(EO161,2)<>0,IF(MAX(TeilnNr)/2-EO161+1-(EN161-MAX(TeilnNr)/2-1)>=1,MAX(TeilnNr)/2-EO161+1-(EN161-MAX(TeilnNr)/2-1),MAX(TeilnNr)/2-EO161+1-(EN161-MAX(TeilnNr)/2-1)+MAX(TeilnNr)-1),IF(EO161-(EN161-1)>=1,EO161-(EN161-1),EO161-(EN161-1)+MAX(TeilnNr)-1)))","v":25},{"$f":"IF(LEFT(EM161,1)=\"V\",\"\",LEFT(EM161,1))","v":""},{"$f":"IF(RIGHT(EM161,1)=\"V\",\"\",RIGHT(EM161,1))","v":""},{"$f":"ADDRESS(ROW(Teilnehmer)+EP161,COLUMN(Teilnehmer)+EQ161)","v":"$AB$60"},{"$f":"ADDRESS(ROW(Teilnehmer)+EQ161,COLUMN(Teilnehmer)+EP161)","v":"$AA$61"},{"$f":"DT161","v":1},"Spieler 02","-",{"$f":"DW161","v":"Spieler 24"}]
[null,null,null,null,null,null,null,null,null,null,null,null,null,null,null,null,null,null,null,null,null,null,null,null,null,null,null,null,null,null,null,null,null,null,null,null,null,null,null,null,null,null,null,null,null,null,null,null,null,null,null,null,null,null,null,null,null,null,null,null,null,null,null,null,null,null,null,null,null,null,null,null,null,null,null,null,null,null,null,null,null,null,null,null,null,null,null,null,null,null,null,null,null,null,null,null,null,null,null,null,null,null,null,null,null,null,null,null,null,null,null,null,null,null,null,null,null,null,null,null,null,null,null,{"$f":"DT161+1","v":2},"Spieler 01","-","Spieler 03",null,null,{"$f":"DZ161","v":23},{"$f":"EA161+1","v":2},1,3,"","","$F$37","$D$39",null,null,null,null,null,null,{"$f":"EN161","v":0},{"$f":"EO161+1","v":2},24,3,"","","$F$60","$AA$39",{"$f":"DT162","v":2},{"$f":"DW162","v":"Spieler 03"},"-",{"$f":"DU162","v":"Spieler 01"}]
[null,null,null,null,null,null,null,null,null,null,null,null,null,null,null,null,null,null,null,null,null,null,null,null,null,null,null,null,null,null,null,null,null,null,null,null,null,null,null,null,null,null,null,null,null,null,null,null,null,null,null,null,null,null,null,null,null,null,null,null,null,null,null,null,null,null,null,null,null,null,null,null,null,null,null,null,null,null,null,null,null,null,null,null,null,null,null,null,null,null,null,null,null,null,null,null,null,null,null,null,null,null,null,null,null,null,null,null,null,null,null,null,null,null,null,null,null,null,null,null,null,null,null,{"$f":"DT162+1","v":3},"Spieler 04","-","Spieler 23",null,null,{"$f":"DZ162","v":23},{"$f":"EA162+1","v":3},4,23,"","","$Z$40","$G$59",null,null,null,null,null,null,{"$f":"EN162","v":0},{"$f":"EO162+1","v":3},4,23,"","","$Z$40","$G$59",3,{"$f":"DU163","v":"Spieler 04"},"-",{"$f":"DW163","v":"Spieler 23"}]
[null,null,null,null,null,null,null,null,null,null,null,null,null,null,null,null,null,null,null,null,null,null,null,null,null,null,null,null,null,null,null,null,null,null,null,null,null,null,null,null,null,null,null,null,null,null,null,null,null,null,null,null,null,null,null,null,null,null,null,null,null,null,null,null,null,null,null,null,null,null,null,null,null,null,null,null,null,null,null,null,null,null,null,null,null,null,null,null,null,null,null,null,null,null,null,null,null,null,null,null,null,null,null,null,null,null,null,null,null,null,null,null,null,null,null,null,null,null,null,null,null,null,null,4,"Spieler 22","-","Spieler 05",null,null,{"$f":"DZ163","v":23},4,22,5,"","","$H$58","$Y$41",null,null,null,null,null,null,{"$f":"EN163","v":0},4,22,5,"","","$H$58","$Y$41",4,{"$f":"DW164","v":"Spieler 05"},"-",{"$f":"DU164","v":"Spieler 22"}]
[null,null,null,null,null,null,null,null,null,null,null,null,null,null,null,null,null,null,null,null,null,null,null,null,null,null,null,null,null,null,null,null,null,null,null,null,null,null,null,null,null,null,null,null,null,null,null,null,null,null,null,null,null,null,null,null,null,null,null,null,null,null,null,null,null,null,null,null,null,null,null,null,null,null,null,null,null,null,null,null,null,null,null,null,null,null,null,null,null,null,null,null,null,null,null,null,null,null,null,null,null,null,null,null,null,null,null,null,null,null,null,null,null,null,null,null,null,null,null,null,null,null,null,5,"Spieler 06","-","Spieler 21",null,null,{"$f":"DZ164","v":23},5,6,21,"","","$X$42","$I$57",null,null,null,null,null,null,0,5,6,21,"","","$X$42","$I$57",5,{"$f":"DU165","v":"Spieler 06"},"-",{"$f":"DW165","v":"Spieler 21"}]
[null,null,null,null,null,null,null,null,null,null,null,null,null,null,null,null,null,null,null,null,null,null,null,null,null,null,null,null,null,null,null,null,null,null,null,null,null,null,null,null,null,null,null,null,null,null,null,null,null,null,null,null,null,null,null,null,null,null,null,null,null,null,null,null,null,null,null,null,null,null,null,null,null,null,null,null,null,null,null,null,null,null,null,null,null,null,null,null,null,null,null,null,null,null,null,null,null,null,null,null,null,null,null,null,null,null,null,null,null,null,null,null,null,null,null,null,null,null,null,null,null,null,null,6,"Spieler 20","-","Spieler 07",null,null,{"$f":"DZ165","v":23},6,20,7,"","","$J$56","$W$43",null,null,null,null,null,null,0,6,20,7,"","","$J$56","$W$43",6,{"$f":"DW166","v":"Spieler 07"},"-",{"$f":"DU166","v":"Spieler 20"}]
[null,null,null,null,null,null,null,null,null,null,null,null,null,null,null,null,null,null,null,null,null,null,null,null,null,null,null,null,null,null,null,null,null,null,null,null,null,null,null,null,null,null,null,null,null,null,null,null,null,null,null,null,null,null,null,null,null,null,null,null,null,null,null,null,null,null,null,null,null,null,null,null,null,null,null,null,null,null,null,null,null,null,null,null,null,null,null,null,null,null,null,null,null,null,null,null,null,null,null,null,null,null,null,null,null,null,null,null,null,null,null,null,null,null,null,null,null,null,null,null,null,null,null,7,"Spieler 08","-","Spieler 19",null,null,{"$f":"DZ166","v":23},7,8,19,"","","$V$44","$K$55",null,null,null,null,null,null,0,7,8,19,"","","$V$44","$K$55",7,{"$f":"DU167","v":"Spieler 08"},"-",{"$f":"DW167","v":"Spieler 19"}]
[null,null,null,null,null,null,null,null,null,null,null,null,null,null,null,null,null,null,null,null,null,null,null,null,null,null,null,null,null,null,null,null,null,null,null,null,null,null,null,null,null,null,null,null,null,null,null,null,null,null,null,null,null,null,null,null,null,null,null,null,null,null,null,null,null,null,null,null,null,null,null,null,null,null,null,null,null,null,null,null,null,null,null,null,null,null,null,null,null,null,null,null,null,null,null,null,null,null,null,null,null,null,null,null,null,null,null,null,null,null,null,null,null,null,null,null,null,null,null,null,null,null,null,8,"Spieler 18","-","Spieler 09",null,null,23,8,18,9,"","","$L$54","$U$45",null,null,null,null,null,null,0,8,18,9,"","","$L$54","$U$45",8,{"$f":"DW168","v":"Spieler 09"},"-",{"$f":"DU168","v":"Spieler 18"}]
[null,null,null,null,null,null,null,null,null,null,null,null,null,null,null,null,null,null,null,null,null,null,null,null,null,null,null,null,null,null,null,null,null,null,null,null,null,null,null,null,null,null,null,null,null,null,null,null,null,null,null,null,null,null,null,null,null,null,null,null,null,null,null,null,null,null,null,null,null,null,null,null,null,null,null,null,null,null,null,null,null,null,null,null,null,null,null,null,null,null,null,null,null,null,null,null,null,null,null,null,null,null,null,null,null,null,null,null,null,null,null,null,null,null,null,null,null,null,null,null,null,null,null,9,"Spieler 10","-","Spieler 17",null,null,23,9,10,17,"","","$T$46","$M$53",null,null,null,null,null,null,0,9,10,17,"","","$T$46","$M$53",9,{"$f":"DU169","v":"Spieler 10"},"-",{"$f":"DW169","v":"Spieler 17"}]
[null,null,null,null,null,null,null,null,null,null,null,null,null,null,null,null,null,null,null,null,null,null,null,null,null,null,null,null,null,null,null,null,null,null,null,null,null,null,null,null,null,null,null,null,null,null,null,null,null,null,null,null,null,null,null,null,null,null,null,null,null,null,null,null,null,null,null,null,null,null,null,null,null,null,null,null,null,null,null,null,null,null,null,null,null,null,null,null,null,null,null,null,null,null,null,null,null,null,null,null,null,null,null,null,null,null,null,null,null,null,null,null,null,null,null,null,null,null,null,null,null,null,null,10,"Spieler 16","-","Spieler 11",null,null,23,10,16,11,"","","$N$52","$S$47",null,null,null,null,null,null,0,10,16,11,"","","$N$52","$S$47",10,{"$f":"DW170","v":"Spieler 11"},"-",{"$f":"DU170","v":"Spieler 16"}]
[null,null,null,null,null,null,null,null,null,null,null,null,null,null,null,null,null,null,null,null,null,null,null,null,null,null,null,null,null,null,null,null,null,null,null,null,null,null,null,null,null,null,null,null,null,null,null,null,null,null,null,null,null,null,null,null,null,null,null,null,null,null,null,null,null,null,null,null,null,null,null,null,null,null,null,null,null,null,null,null,null,null,null,null,null,null,null,null,null,null,null,null,null,null,null,null,null,null,null,null,null,null,null,null,null,null,null,null,null,null,null,null,null,null,null,null,null,null,null,null,null,null,null,11,"Spieler 12","-","Spieler 15",null,null,23,11,12,15,"","","$R$48","$O$51",null,null,null,null,null,null,0,11,12,15,"","","$R$48","$O$51",11,{"$f":"DU171","v":"Spieler 12"},"-",{"$f":"DW171","v":"Spieler 15"}]
[null,null,null,null,null,null,null,null,null,null,null,null,null,null,null,null,null,null,null,null,null,null,null,null,null,null,null,null,null,null,null,null,null,null,null,null,null,null,null,null,null,null,null,null,null,null,null,null,null,null,null,null,null,null,null,null,null,null,null,null,null,null,null,null,null,null,null,null,null,null,null,null,null,null,null,null,null,null,null,null,null,null,null,null,null,null,null,null,null,null,null,null,null,null,null,null,null,null,null,null,null,null,null,null,null,null,null,null,null,null,null,null,null,null,null,null,null,null,null,null,null,null,null,12,"Spieler 14","-","Spieler 13",null,null,23,12,14,13,"","","$P$50","$Q$49",null,null,null,null,null,null,0,12,14,13,"","","$P$50","$Q$49",12,{"$f":"DW172","v":"Spieler 13"},"-",{"$f":"DU172","v":"Spieler 14"}]

{"sheet":"22","index":2,"n_rows":147,"n_cols":154,"rows_kept":147,"cut":false,"hidden":false,"merged":[[57,120,57,122],[57,134,57,136],[0,1,0,31],[1,134,1,136],[3,120,3,136],[5,120,5,122],[5,134,5,136],[18,120,18,122],[18,134,18,136],[31,120,31,122],[31,134,31,136],[32,29,32,30],[44,120,44,122],[44,134,44,136],[70,120,70,122],[70,134,70,136],[83,120,83,122],[83,134,83,136],[96,120,96,122],[96,134,96,136],[109,120,109,122],[109,134,109,136],[122,120,122,122],[122,134,122,136],[135,120,135,122]]}
[null,"Turniername",null,null,null,null,null,null,null,null,null,null,null,null,null,null,null,null,null,null,null,null,null,null,null,null,null,null,null,null,null,null,null,null,null,null,null,null,null,null,null,null,null,null,null,null,null,null,null,null,null,null,null,null,null,null,null,null,null,1,"1) Punkte 2) So-Be 3) Manuelle Feinwertung ",null,null,null,null,null,null,null,null,null,null,null,null,null,null,null,null,null,null,null,null,null,null,null,null,null,null,null,null,null,null,null,null,null,null,null,null,null,null,null,null,"Wiederholung Kriterien:",null,null,null,null,null,null,null,null,null,null,null,null,null,null,null,null,{"$f":"\"Paarungsliste und Resultate \"&IF(Turnier=\"\",\"\",Turnier)","v":"Paarungsliste und Resultate Turniername"},null,null,null,null,null,null,null,null,null,null,null,null,null,null,null,null,null,null,null,null,null,null,null,null,null,null,null,"Paarungsliste Darstellung Rutschsystem",null,null,null,null,null,{"$f":"IF(Datum=\"\",\"\",\"Datum:\")","v":""}]
[null,null,null,null,null,null,null,null,null,null,null,null,null,null,null,null,null,null,null,null,null,null,null,null,null,null,null,null,null,null,null,null,null,null,null,null,null,null,null,null,null,null,null,null,null,null,null,null,null,null,null,null,null,null,null,null,"a","b","P",2,"1) Punkte 2) So-Be 3) direkte Begegnung 4) Manuelle Feinwertung ",null,null,null,null,null,null,null,null,null,null,null,null,null,null,null,null,null,null,null,null,null,null,null,null,null,null,null,null,null,null,null,null,null,null,null,null,null,null,null,1,{"$f":"BI1","v":"1) Punkte 2) So-Be 3) Manuelle Feinwertung "},null,null,null,null,null,null,null,null,null,null,null,null,null,null,null,null,{"$f":"IF(Turnier=\"\",\"\",\"Turniername:\")","v":"Turniername:"},null,{"$f":"IF(Turnier=\"\",\"\",Turnier)","v":"Turniername"},null,null,null,null,null,null,null,null,null,null,null,null,"Datum:",null,null,null,null,null,null,null,null,null,null,null,null,{"$f":"IF(Turnier=\"\",\"\",\"Turniername:\")","v":"Turniername:"},null,{"$f":"IF(Turnier=\"\",\"\",Turnier)&IF(Datum=\"\",\"\",\", \"&TEXT(Datum,\"TT.MM.JJJJ\"))","v":"Turniername"}]
[null,null,null,null,null,null,null,null,null,null,null,null,null,null,null,null,null,null,null,null,null,null,null,null,null,null,null,null,null,null,null,null,null,null,null,null,null,null,null,null,null,null,null,null,null,null,null,null,null,null,null,null,null,null,null,null,"1","0",1,3,"1) Punkte 2) Anz. Partien 3) So-Be 4) Manuelle Feinwertung "]
[null,"Rangliste",null,null,null,null,null,null,null,null,null,null,null,null,null,null,null,null,null,null,null,null,null,null,null,null,null,null,null,null,null,null,null,null,null,null,null,null,null,null,null,null,null,null,null,null,null,null,null,null,null,null,null,null,null,null,"0","1",0,4,"1) Punkte 2) Anz. Partien 3) So-Be 4) direkte Begegnung 5) Manuelle Feinwertung ",null,null,null,null,null,null,null,null,null,null,null,null,null,null,null,null,null,null,null,null,null,null,null,null,null,null,null,null,null,null,null,null,null,null,null,null,null,null,null,2,{"$f":"BI2","v":"1) Punkte 2) So-Be 3) direkte Begegnung 4) Manuelle Feinwertung "},null,null,null,null,null,null,null,null,null,null,null,null,null,null,null,null,"Turnierleitung:",null,null,null,null,null,null,null,null,null,null,null,null,null,null,null,null,null,null,null,null,null,null,null,null,null,null,null,{"$f":"IF(Turnierleitung=\"\",\"\",\"Turnierleitung:\")","v":""},null,{"$f":"IF(Turnierleitung=\"\",\"\",Turnierleitung)","v":""}]
[null,null,null,null,null,null,null,null,null,null,null,null,null,null,null,null,null,null,null,null,null,null,null,null,null,null,null,null,null,null,null,null,null,null,null,null,null,null,null,null,null,null,null,null,null,null,null,null,null,null,null,null,null,null,null,null,"½","½",0.5,5,"1) Punkte 2) Anz. Partien 3) So-Be 4) direkte Begegnung 5) Anz.Schwarzpartien 6) Manuelle Feinwertung ",null,null,null,null,null,null,null,null,null,null,null,null,null,null,null,null,null,null,null,null,null,null,null,null,null,null,null,null,null,null,null,null,null,null,null,null,null,null,null,3,"1) Punkte 2) Anz. Partien 3) So-Be 4) Manuelle Feinwertung "]
[null,"Rang","Teilnehmer",1,2,3,4,5,6,7,8,9,10,11,12,13,14,15,16,17,18,19,20,21,22,"Punkte","Spiele","So-Be",{"$f":"IF(AC34=\"\",\"FWm\",AC34)","v":"FW+"},1,"½",0,"Nr",null,null,null,null,null,null,null,null,null,null,null,null,null,null,null,null,null,null,null,null,null,null,null,"+","-",1,6,"1) Punkte 2) Anz. Partien 3) So-Be 4) Anz.Schwarzpartien 5) direkte Begegnung 6) Manuelle Feinwertung ",null,null,null,null,null,null,null,null,null,null,null,null,null,null,null,null,null,null,null,null,null,null,null,null,null,null,null,null,null,null,null,null,null,null,null,null,null,null,null,4,"1) Punkte 2) Anz. Partien 3) So-Be 4) direkte Begegnung 5) Manuelle Feinwertung ",null,null,null,null,null,null,null,null,null,null,null,null,null,null,null,null,1,null,null,null,null,"R","B","SpNr w","SpNr s","Res w","Res s","AdrTTw","AdrTTs",null,{"$f":"DO6+1","v":2},null,null,null,null,"R","B","SpNr w","SpNr s","Res w","Res s","AdrTTw","AdrTTs",null,{"$f":"DO6","v":1},1,null,null,null,{"$f":"EC6","v":2}]
[null,{"$f":"IF(INDEX($DI$35:$DI$56,MATCH(B35,$DM$35:$DM$56,0)),\"--\",IF(INDEX($DH$35:$DH$56,MATCH(B35,$DM$35:$DM$56,0))<ROW()-ROW($B$6),\"\",INDEX($DH$35:$DH$56,MATCH(B35,$DM$35:$DM$56,0))))","v":1},{"$f":"IF(INDEX($C$35:$C$56,MATCH(B35,$DM$35:$DM$56,0))=0,\"Spieler \"&TEXT(AG7,\"00\"),INDEX($C$35:$C$56,MATCH(B35,$DM$35:$DM$56,0)))","v":"Spieler 01"},{"$f":"IF(INDEX($B$34:$Y$56,MATCH($AG7,$B$34:$B$56,0),MATCH(INDEX($B$35:$B$56,MATCH(OFFSET($AG$6,D$6,0),$B$35:$B$56,0)),$B$34:$Y$34,0))=\"\",\"\",INDEX($B$34:$Y$56,MATCH($AG7,$B$34:$B$56,0),MATCH(INDEX($B$35:$B$56,MATCH(OFFSET($AG$6,D$6,0),$B$35:$B$56,0)),$B$34:$Y$34,0)))","v":""},"","","","","","","","","",{"$f":"IF(INDEX($B$34:$Y$56,MATCH($AG7,$B$34:$B$56,0),MATCH(INDEX($B$35:$B$56,MATCH(OFFSET($AG$6,N$6,0),$B$35:$B$56,0)),$B$34:$Y$34,0))=\"\",\"\",INDEX($B$34:$Y$56,MATCH($AG7,$B$34:$B$56,0),MATCH(INDEX($B$35:$B$56,MATCH(OFFSET($AG$6,N$6,0),$B$35:$B$56,0)),$B$34:$Y$34,0)))","v":""},"","","","","","","","","","","",{"$f":"INDEX($BD$35:$BD$56,MATCH(AG7,$B$35:$B$56,0))","v":0},{"$f":"INDEX($AA$35:$AA$56,MATCH(AG7,$B$35:$B$56,0))","v":0},{"$f":"INDEX($AB$35:$AB$56,MATCH(AG7,$B$35:$B$56,0))","v":0},{"$f":"INDEX($AC$35:$AC$56,MATCH(AG7,$B$35:$B$56,0))","v":0},{"$f":"COUNTIF($D7:$Y7,1)+COUNTIF($D7:$Y7,\"+\")","v":0},{"$f":"COUNTIF($D7:$Y7,\"½\")","v":0},{"$f":"COUNTIF($D7:$Y7,0)+COUNTIF($D7:$Y7,\"-\")","v":0},{"$f":"INDEX($B$35:$B$56,MATCH(B35,$DM$35:$DM$56,0))","v":1},null,null,null,null,null,null,null,null,null,null,null,null,null,null,null,null,null,null,null,null,null,null,null,"-","+",0,7,"1) Punkte 2) Anz. Partien 3) direkte Begegnung 4) So-Be 5) Anz.Schwarzpartien 6) Manuelle Feinwertung ",null,null,null,null,null,null,null,null,null,null,null,null,null,null,null,null,null,null,null,null,null,null,null,null,null,null,null,null,null,null,null,null,null,null,null,null,null,null,null,5,"1) Punkte 2) Anz. Partien 3) So-Be 4) direkte Begegnung 5) Anz.Schwarzpartien 6) Manuelle Feinwertung ",null,null,null,null,null,null,null,null,null,null,null,null,null,null,null,{"$f":"IF(OR(INDEX($DI$35:$DI$56,DV7),INDEX($DI$35:$DI$56,DW7)),0,1)","v":1},{"$f":"INDEX($DJ$35:$DJ$56,MATCH($DV7,TeilnNr,0))","v":"Spieler 01"},"-",{"$f":"INDEX($DJ$35:$DJ$56,MATCH($DW7,TeilnNr,0))","v":"Spieler 22"},null,null,{"$f":"DO6","v":1},1,{"$f":"IF(AND(DU7=1,MOD(DT7,2)=0),MAX(TeilnNr),IF(MOD(DU7,2)=0,IF(MAX(TeilnNr)/2-DU7+1-(DT7-MAX(TeilnNr)/2-1)>=1,MAX(TeilnNr)/2-DU7+1-(DT7-MAX(TeilnNr)/2-1),MAX(TeilnNr)/2-DU7+1-(DT7-MAX(TeilnNr)/2-1)+MAX(TeilnNr)-1),IF(DU7-(DT7-1)>=1,DU7-(DT7-1),DU7-(DT7-1)+MAX(TeilnNr)-1)))","v":1},{"$f":"IF(AND(DU7=1,MOD(DT7,2)<>0),MAX(TeilnNr),IF(MOD(DU7,2)<>0,IF(MAX(TeilnNr)/2-DU7+1-(DT7-MAX(TeilnNr)/2-1)>=1,MAX(TeilnNr)/2-DU7+1-(DT7-MAX(TeilnNr)/2-1),MAX(TeilnNr)/2-DU7+1-(DT7-MAX(TeilnNr)/2-1)+MAX(TeilnNr)-1),IF(DU7-(DT7-1)>=1,DU7-(DT7-1),DU7-(DT7-1)+MAX(TeilnNr)-1)))","v":22},{"$f":"IF(LEFT(DS7,1)=\"V\",\"\",LEFT(DS7,1))","v":""},{"$f":"IF(RIGHT(DS7,1)=\"V\",\"\",RIGHT(DS7,1))","v":""},{"$f":"ADDRESS(ROW(Teilnehmer)+DV7,COLUMN(Teilnehmer)+DW7)","v":"$Y$35"},{"$f":"ADDRESS(ROW(Teilnehmer)+DW7,COLUMN(Teilnehmer)+DV7)","v":"$D$56"},{"$f":"IF(OR(INDEX($DI$35:$DI$56,EJ7),INDEX($DI$35:$DI$56,EK7)),0,1)","v":1},{"$f":"INDEX($DJ$35:$DJ$56,MATCH($EJ7,TeilnNr,0))","v":"Spieler 22"},"-",{"$f":"INDEX($DJ$35:$DJ$56,MATCH($EK7,TeilnNr,0))","v":"Spieler 21"},null,null,{"$f":"EC6","v":2},1,{"$f":"IF(AND(EI7=1,MOD(EH7,2)=0),MAX(TeilnNr),IF(MOD(EI7,2)=0,IF(MAX(TeilnNr)/2-EI7+1-(EH7-MAX(TeilnNr)/2-1)>=1,MAX(TeilnNr)/2-EI7+1-(EH7-MAX(TeilnNr)/2-1),MAX(TeilnNr)/2-EI7+1-(EH7-MAX(TeilnNr)/2-1)+MAX(TeilnNr)-1),IF(EI7-(EH7-1)>=1,EI7-(EH7-1),EI7-(EH7-1)+MAX(TeilnNr)-1)))","v":22},{"$f":"IF(AND(EI7=1,MOD(EH7,2)<>0),MAX(TeilnNr),IF(MOD(EI7,2)<>0,IF(MAX(TeilnNr)/2-EI7+1-(EH7-MAX(TeilnNr)/2-1)>=1,MAX(TeilnNr)/2-EI7+1-(EH7-MAX(TeilnNr)/2-1),MAX(TeilnNr)/2-EI7+1-(EH7-MAX(TeilnNr)/2-1)+MAX(TeilnNr)-1),IF(EI7-(EH7-1)>=1,EI7-(EH7-1),EI7-(EH7-1)+MAX(TeilnNr)-1)))","v":21},{"$f":"IF(LEFT(EG7,1)=\"V\",\"\",LEFT(EG7,1))","v":""},{"$f":"IF(RIGHT(EG7,1)=\"V\",\"\",RIGHT(EG7,1))","v":""},{"$f":"ADDRESS(ROW(Teilnehmer)+EJ7,COLUMN(Teilnehmer)+EK7)","v":"$X$56"},{"$f":"ADDRESS(ROW(Teilnehmer)+EK7,COLUMN(Teilnehmer)+EJ7)","v":"$Y$55"},{"$f":"DN7","v":1},{"$f":"DO7","v":"Spieler 01"},"-",{"$f":"DQ7","v":"Spieler 22"},null,{"$f":"EB7","v":1},{"$f":"EE7","v":"Spieler 21"},"-",{"$f":"EC7","v":"Spieler 22"}]
[null,"","Spieler 02","","","","","","","","","","","","","","","","","","","","","","",0,0,0,0,0,0,0,2,null,null,null,null,null,null,null,null,null,null,null,null,null,null,null,null,null,null,null,null,null,null,null,null,null,null,8,"1) Punkte 2) Anz. Partien 3) direkte Begegnung 4) Anz.Schwarzpartien 5) So-Be 6) Manuelle Feinwertung ",null,null,null,null,null,null,null,null,null,null,null,null,null,null,null,null,null,null,null,null,null,null,null,null,null,null,null,null,null,null,null,null,null,null,null,null,null,null,null,6,"1) Punkte 2) Anz. Partien 3) So-Be 4) Anz.Schwarzpartien 5) direkte Begegnung 6) Manuelle Feinwertung ",null,null,null,null,null,null,null,null,null,null,null,null,null,null,null,{"$f":"DN7+1","v":2},"Spieler 21","-","Spieler 02",null,null,{"$f":"DT7","v":1},{"$f":"DU7+1","v":2},21,2,"","","$E$55","$X$36",{"$f":"EB7+1","v":2},"Spieler 20","-","Spieler 01",null,null,{"$f":"EH7","v":2},{"$f":"EI7+1","v":2},20,1,"","","$D$54","$W$35",{"$f":"DN8","v":2},{"$f":"DQ8","v":"Spieler 02"},"-",{"$f":"DO8","v":"Spieler 21"},null,{"$f":"EB8","v":2},{"$f":"EE8","v":"Spieler 01"},"-",{"$f":"EC8","v":"Spieler 20"}]
[null,"","Spieler 03","","","","","","","","","","","","","","","","","","","","","","",0,0,0,0,0,0,0,3,null,null,null,null,null,null,null,null,null,null,null,null,null,null,null,null,null,null,null,null,null,null,null,null,null,null,9,"1) Punkte 2) Anz. Partien 3) Anz.Schwarzpartien 4) So-Be 5) direkte Begegnung 6) Manuelle Feinwertung ",null,null,null,null,null,null,null,null,null,null,null,null,null,null,null,null,null,null,null,null,null,null,null,null,null,null,null,null,null,null,null,null,null,null,null,null,null,null,null,7,"1) Punkte 2) Anz. Partien 3) direkte Begegnung 4) So-Be 5) Anz.Schwarzpartien 6) Manuelle Feinwertung ",null,null,null,null,null,null,null,null,null,null,null,null,null,null,null,{"$f":"DN8+1","v":3},"Spieler 03","-","Spieler 20",null,null,{"$f":"DT8","v":1},{"$f":"DU8+1","v":3},3,20,"","","$W$37","$F$54",{"$f":"EB8+1","v":3},"Spieler 02","-","Spieler 19",null,null,{"$f":"EH8","v":2},{"$f":"EI8+1","v":3},2,19,"","","$V$36","$E$53",{"$f":"DN9","v":3},{"$f":"DO9","v":"Spieler 03"},"-",{"$f":"DQ9","v":"Spieler 20"},null,{"$f":"EB9","v":3},{"$f":"EC9","v":"Spieler 02"},"-",{"$f":"EE9","v":"Spieler 19"}]
[null,"","Spieler 04","","","","","","","","","","","","","","","","","","","","","","",0,0,0,0,0,0,0,4,null,null,null,null,null,null,null,null,null,null,null,null,null,null,null,null,null,null,null,null,null,null,null,null,null,4,10,"1) Punkte 2) Anz. Partien 3) Anz.Schwarzpartien 4) direkte Begegnung 5) So-Be 6) Manuelle Feinwertung ",null,null,null,null,null,null,null,null,null,null,null,null,null,null,null,null,null,null,null,null,null,null,null,null,null,null,null,null,null,null,null,null,null,null,null,null,null,null,null,8,"1) Punkte 2) Anz. Partien 3) direkte Begegnung 4) Anz.Schwarzpartien 5) So-Be 6) Manuelle Feinwertung ",null,null,null,null,null,null,null,null,null,null,null,null,null,null,null,4,"Spieler 19","-","Spieler 04",null,null,{"$f":"DT9","v":1},4,19,4,"","","$G$53","$V$38",4,"Spieler 18","-","Spieler 03",null,null,{"$f":"EH9","v":2},4,18,3,"","","$F$52","$U$37",{"$f":"DN10","v":4},{"$f":"DQ10","v":"Spieler 04"},"-",{"$f":"DO10","v":"Spieler 19"},null,{"$f":"EB10","v":4},{"$f":"EE10","v":"Spieler 03"},"-",{"$f":"EC10","v":"Spieler 18"}]
[null,"","Spieler 05","","","","","","","","","","","","","","","","","","","","","","",0,0,0,0,0,0,0,5,null,null,null,null,null,null,null,null,null,null,null,null,null,null,null,null,null,null,null,null,null,null,null,null,null,null,null,null,null,null,null,null,null,null,null,null,null,null,null,null,null,null,null,null,null,null,null,null,null,null,null,null,null,null,null,null,null,null,null,null,null,null,null,null,null,null,null,9,"1) Punkte 2) Anz. Partien 3) Anz.Schwarzpartien 4) So-Be 5) direkte Begegnung 6) Manuelle Feinwertung ",null,null,null,null,null,null,null,null,null,null,null,null,null,null,null,5,"Spieler 05","-","Spieler 18",null,null,1,5,5,18,"","","$U$39","$H$52",5,"Spieler 04","-","Spieler 17",null,null,2,5,4,17,"","","$T$38","$G$51",5,"Spieler 05","-",{"$f":"DQ11","v":"Spieler 18"},null,5,"Spieler 04","-",{"$f":"EE11","v":"Spieler 17"}]
[null,"","Spieler 06","","","","","","","","","","","","","","","","","","","","","","",0,0,0,0,0,0,0,6,null,null,null,null,null,null,null,null,null,null,null,null,null,null,null,null,null,null,null,null,null,null,null,null,null,null,null,null,null,null,null,null,null,null,null,null,null,null,null,null,null,null,null,null,null,null,null,null,null,null,null,null,null,null,null,null,null,null,null,null,null,null,null,null,null,null,null,10,"1) Punkte 2) Anz. Partien 3) Anz.Schwarzpartien 4) direkte Begegnung 5) So-Be 6) Manuelle Feinwertung ",null,null,null,null,null,null,null,null,null,null,null,null,null,null,null,6,"Spieler 17","-","Spieler 06",null,null,1,6,17,6,"","","$I$51","$T$40",6,"Spieler 16","-","Spieler 05",null,null,2,6,16,5,"","","$H$50","$S$39",6,{"$f":"DQ12","v":"Spieler 06"},"-",{"$f":"DO12","v":"Spieler 17"},null,6,{"$f":"EE12","v":"Spieler 05"},"-",{"$f":"EC12","v":"Spieler 16"}]
[null,"","Spieler 07","","","","","","","","","","","","","","","","","","","","","","",0,0,0,0,0,0,0,7,null,null,null,null,null,null,null,null,null,null,null,null,null,null,null,null,null,null,null,null,null,null,null,null,null,null,null,null,null,null,null,null,null,null,null,null,null,null,null,null,null,null,null,null,null,null,null,null,null,null,null,null,null,null,null,null,null,null,null,null,null,null,null,null,null,null,null,null,null,null,null,null,null,null,null,null,null,null,null,null,null,null,null,null,7,"Spieler 07","-","Spieler 16",null,null,1,7,7,16,"","",{"$f":"ADDRESS(ROW(Teilnehmer)+DV13,COLUMN(Teilnehmer)+DW13)","v":"$S$41"},{"$f":"ADDRESS(ROW(Teilnehmer)+DW13,COLUMN(Teilnehmer)+DV13)","v":"$J$50"},7,"Spieler 06","-","Spieler 15",null,null,2,7,6,15,"","",{"$f":"ADDRESS(ROW(Teilnehmer)+EJ13,COLUMN(Teilnehmer)+EK13)","v":"$R$40"},{"$f":"ADDRESS(ROW(Teilnehmer)+EK13,COLUMN(Teilnehmer)+EJ13)","v":"$I$49"},7,"Spieler 07","-",{"$f":"DQ13","v":"Spieler 16"},null,7,"Spieler 06","-",{"$f":"EE13","v":"Spieler 15"}]
[null,"","Spieler 08","","","","","","","","","","","","","","","","","","","","","","",0,0,0,0,0,0,0,8,null,null,null,null,null,null,null,null,null,null,null,null,null,null,null,null,null,null,null,null,null,null,null,null,null,null,null,null,null,null,null,null,null,null,null,null,null,null,null,null,null,null,null,null,null,null,null,null,null,null,null,null,null,null,null,null,null,null,null,null,null,null,null,null,null,null,null,null,null,null,null,null,null,null,null,null,null,null,null,null,null,null,null,null,8,"Spieler 15","-","Spieler 08",null,null,1,8,15,8,"","","$K$49","$R$42",8,"Spieler 14","-","Spieler 07",null,null,2,8,14,7,"","","$J$48","$Q$41",8,{"$f":"DQ14","v":"Spieler 08"},"-",{"$f":"DO14","v":"Spieler 15"},null,8,{"$f":"EE14","v":"Spieler 07"},"-",{"$f":"EC14","v":"Spieler 14"}]
[null,"","Spieler 09","","","","","","","","","","","","","","","","","","","","","","",0,0,0,0,0,0,0,9,null,null,null,null,null,null,null,null,null,null,null,null,null,null,null,null,null,null,null,null,null,null,null,null,null,null,null,null,null,null,null,null,null,null,null,null,null,null,null,null,null,null,null,null,null,null,null,null,null,null,null,null,null,null,null,null,null,null,null,null,null,null,null,null,null,null,null,null,null,null,null,null,null,null,null,null,null,null,null,null,null,null,null,null,9,"Spieler 09","-","Spieler 14",null,null,1,9,9,14,"","","$Q$43","$L$48",9,"Spieler 08","-","Spieler 13",null,null,2,9,8,13,"","","$P$42","$K$47",9,"Spieler 09","-",{"$f":"DQ15","v":"Spieler 14"},null,9,"Spieler 08","-",{"$f":"EE15","v":"Spieler 13"}]
[null,"","Spieler 10","","","","","","","","","","","","","","","","","","","","","","",0,0,0,0,0,0,0,10,null,null,null,null,null,null,null,null,null,null,null,null,null,null,null,null,null,null,null,null,null,null,null,null,null,null,null,null,null,null,null,null,null,null,null,null,null,null,null,null,null,null,null,null,null,null,null,null,null,null,null,null,null,null,null,null,null,null,null,null,null,null,null,null,null,null,null,null,null,null,null,null,null,null,null,null,null,null,null,null,null,null,null,null,10,"Spieler 13","-","Spieler 10",null,null,1,10,13,10,"","","$M$47","$P$44",10,"Spieler 12","-","Spieler 09",null,null,2,10,12,9,"","","$L$46","$O$43",10,{"$f":"DQ16","v":"Spieler 10"},"-",{"$f":"DO16","v":"Spieler 13"},null,10,{"$f":"EE16","v":"Spieler 09"},"-",{"$f":"EC16","v":"Spieler 12"}]
[null,"","Spieler 11",{"$f":"IF(INDEX($B$34:$Y$56,MATCH($AG17,$B$34:$B$56,0),MATCH(INDEX($B$35:$B$56,MATCH(OFFSET($AG$6,D$6,0),$B$35:$B$56,0)),$B$34:$Y$34,0))=\"\",\"\",INDEX($B$34:$Y$56,MATCH($AG17,$B$34:$B$56,0),MATCH(INDEX($B$35:$B$56,MATCH(OFFSET($AG$6,D$6,0),$B$35:$B$56,0)),$B$34:$Y$34,0)))","v":""},"","","","","","","","","",{"$f":"IF(INDEX($B$34:$Y$56,MATCH($AG17,$B$34:$B$56,0),MATCH(INDEX($B$35:$B$56,MATCH(OFFSET($AG$6,N$6,0),$B$35:$B$56,0)),$B$34:$Y$34,0))=\"\",\"\",INDEX($B$34:$Y$56,MATCH($AG17,$B$34:$B$56,0),MATCH(INDEX($B$35:$B$56,MATCH(OFFSET($AG$6,N$6,0),$B$35:$B$56,0)),$B$34:$Y$34,0)))","v":""},"","","","","","","","","","","",0,0,0,0,0,0,0,11,null,null,null,null,null,null,null,null,null,null,null,null,null,null,null,null,null,null,null,null,null,null,null,null,null,null,null,null,null,null,null,null,null,null,null,null,null,null,null,null,null,null,null,null,null,null,null,null,null,null,null,null,null,null,null,null,null,null,null,null,null,null,null,null,null,null,null,null,null,null,null,null,null,null,null,null,null,null,null,null,null,null,null,null,11,"Spieler 11","-","Spieler 12",null,null,1,11,11,12,"","","$O$45","$N$46",11,"Spieler 10","-","Spieler 11",null,null,2,11,10,11,"","","$N$44","$M$45",11,"Spieler 11","-",{"$f":"DQ17","v":"Spieler 12"},null,11,"Spieler 10","-",{"$f":"EE17","v":"Spieler 11"}]
[null,"","Spieler 12","","","","","","","","","","","","","","","","","","","","","","",0,0,0,0,0,0,0,12]
[null,"","Spieler 13","","","","","","","","","","","","","","","","","","","","","","",0,0,0,0,0,0,0,13,null,null,null,null,null,null,null,null,null,null,null,null,null,null,null,null,null,null,null,null,null,null,null,null,null,null,null,null,null,null,null,null,null,null,null,null,null,null,null,null,null,null,null,null,null,null,null,null,null,null,null,null,null,null,null,null,null,null,null,null,null,null,null,null,null,null,null,null,null,null,null,null,null,null,null,null,null,null,null,null,null,null,null,null,null,{"$f":"DO6+2","v":3},null,null,null,null,"R","B","SpNr w","SpNr s","Res w","Res s",null,null,null,{"$f":"EC6+2","v":4},null,null,null,null,"R","B","SpNr w","SpNr s","Res w","Res s",null,null,null,{"$f":"DO19","v":3},1,null,null,null,{"$f":"EC19","v":4}]
[null,"","Spieler 14","","","","","","","","","","","","","","","","","","","","","","",0,0,0,0,0,0,0,14,null,null,null,null,null,null,null,null,null,null,null,null,null,null,null,null,null,null,null,null,null,null,null,null,null,null,null,null,null,null,null,null,null,null,null,null,null,null,null,null,null,null,null,null,null,null,null,null,null,null,null,null,null,null,null,null,null,null,null,null,null,null,null,null,null,null,null,null,null,null,null,null,null,null,null,null,null,null,null,null,null,null,null,null,{"$f":"IF(OR(INDEX($DI$35:$DI$56,DV20),INDEX($DI$35:$DI$56,DW20)),0,1)","v":1},{"$f":"INDEX($DJ$35:$DJ$56,MATCH($DV20,TeilnNr,0))","v":"Spieler 20"},"-",{"$f":"INDEX($DJ$35:$DJ$56,MATCH($DW20,TeilnNr,0))","v":"Spieler 22"},null,null,{"$f":"DO19","v":3},1,{"$f":"IF(AND(DU20=1,MOD(DT20,2)=0),MAX(TeilnNr),IF(MOD(DU20,2)=0,IF(MAX(TeilnNr)/2-DU20+1-(DT20-MAX(TeilnNr)/2-1)>=1,MAX(TeilnNr)/2-DU20+1-(DT20-MAX(TeilnNr)/2-1),MAX(TeilnNr)/2-DU20+1-(DT20-MAX(TeilnNr)/2-1)+MAX(TeilnNr)-1),IF(DU20-(DT20-1)>=1,DU20-(DT20-1),DU20-(DT20-1)+MAX(TeilnNr)-1)))","v":20},{"$f":"IF(AND(DU20=1,MOD(DT20,2)<>0),MAX(TeilnNr),IF(MOD(DU20,2)<>0,IF(MAX(TeilnNr)/2-DU20+1-(DT20-MAX(TeilnNr)/2-1)>=1,MAX(TeilnNr)/2-DU20+1-(DT20-MAX(TeilnNr)/2-1),MAX(TeilnNr)/2-DU20+1-(DT20-MAX(TeilnNr)/2-1)+MAX(TeilnNr)-1),IF(DU20-(DT20-1)>=1,DU20-(DT20-1),DU20-(DT20-1)+MAX(TeilnNr)-1)))","v":22},{"$f":"IF(LEFT(DS20,1)=\"V\",\"\",LEFT(DS20,1))","v":""},{"$f":"IF(RIGHT(DS20,1)=\"V\",\"\",RIGHT(DS20,1))","v":""},{"$f":"ADDRESS(ROW(Teilnehmer)+DV20,COLUMN(Teilnehmer)+DW20)","v":"$Y$54"},{"$f":"ADDRESS(ROW(Teilnehmer)+DW20,COLUMN(Teilnehmer)+DV20)","v":"$W$56"},{"$f":"IF(OR(INDEX($DI$35:$DI$56,EJ20),INDEX($DI$35:$DI$56,EK20)),0,1)","v":1},{"$f":"INDEX($DJ$35:$DJ$56,MATCH($EJ20,TeilnNr,0))","v":"Spieler 22"},"-",{"$f":"INDEX($DJ$35:$DJ$56,MATCH($EK20,TeilnNr,0))","v":"Spieler 19"},null,null,{"$f":"EC19","v":4},1,{"$f":"IF(AND(EI20=1,MOD(EH20,2)=0),MAX(TeilnNr),IF(MOD(EI20,2)=0,IF(MAX(TeilnNr)/2-EI20+1-(EH20-MAX(TeilnNr)/2-1)>=1,MAX(TeilnNr)/2-EI20+1-(EH20-MAX(TeilnNr)/2-1),MAX(TeilnNr)/2-EI20+1-(EH20-MAX(TeilnNr)/2-1)+MAX(TeilnNr)-1),IF(EI20-(EH20-1)>=1,EI20-(EH20-1),EI20-(EH20-1)+MAX(TeilnNr)-1)))","v":22},{"$f":"IF(AND(EI20=1,MOD(EH20,2)<>0),MAX(TeilnNr),IF(MOD(EI20,2)<>0,IF(MAX(TeilnNr)/2-EI20+1-(EH20-MAX(TeilnNr)/2-1)>=1,MAX(TeilnNr)/2-EI20+1-(EH20-MAX(TeilnNr)/2-1),MAX(TeilnNr)/2-EI20+1-(EH20-MAX(TeilnNr)/2-1)+MAX(TeilnNr)-1),IF(EI20-(EH20-1)>=1,EI20-(EH20-1),EI20-(EH20-1)+MAX(TeilnNr)-1)))","v":19},{"$f":"IF(LEFT(EG20,1)=\"V\",\"\",LEFT(EG20,1))","v":""},{"$f":"IF(RIGHT(EG20,1)=\"V\",\"\",RIGHT(EG20,1))","v":""},{"$f":"ADDRESS(ROW(Teilnehmer)+EJ20,COLUMN(Teilnehmer)+EK20)","v":"$V$56"},{"$f":"ADDRESS(ROW(Teilnehmer)+EK20,COLUMN(Teilnehmer)+EJ20)","v":"$Y$53"},{"$f":"DN20","v":1},"Spieler 20","-",{"$f":"DQ20","v":"Spieler 22"},null,{"$f":"EB20","v":1},{"$f":"EE20","v":"Spieler 19"},"-",{"$f":"EC20","v":"Spieler 22"}]
[null,"","Spieler 15","","","","","","","","","","","","","","","","","","","","","","",0,0,0,0,0,0,0,15,null,null,null,null,null,null,null,null,null,null,null,null,null,null,null,null,null,null,null,null,null,null,null,null,null,null,null,null,null,null,null,null,null,null,null,null,null,null,null,null,null,null,null,null,null,null,null,null,null,null,null,null,null,null,null,null,null,null,null,null,null,null,null,null,null,null,null,null,null,null,null,null,null,null,null,null,null,null,null,null,null,null,null,null,{"$f":"DN20+1","v":2},"Spieler 19","-","Spieler 21",null,null,{"$f":"DT20","v":3},{"$f":"DU20+1","v":2},19,21,"","","$X$53","$V$55",{"$f":"EB20+1","v":2},"Spieler 18","-","Spieler 20",null,null,{"$f":"EH20","v":4},{"$f":"EI20+1","v":2},18,20,"","","$W$52","$U$54",{"$f":"DN21","v":2},{"$f":"DQ21","v":"Spieler 21"},"-",{"$f":"DO21","v":"Spieler 19"},null,2,"Spieler 20","-","Spieler 18"]
[null,"","Spieler 16","","","","","","","","","","","","","","","","","","","","","","",0,0,0,0,0,0,0,16,null,null,null,null,null,null,null,null,null,null,null,null,null,null,null,null,null,null,null,null,null,null,null,null,null,null,null,null,null,null,null,null,null,null,null,null,null,null,null,null,null,null,null,null,null,null,null,null,null,null,null,null,null,null,null,null,null,null,null,null,null,null,null,null,null,null,null,null,null,null,null,null,null,null,null,null,null,null,null,null,null,null,null,null,{"$f":"DN21+1","v":3},"Spieler 01","-","Spieler 18",null,null,{"$f":"DT21","v":3},{"$f":"DU21+1","v":3},1,18,"","","$U$35","$D$52",{"$f":"EB21+1","v":3},"Spieler 21","-","Spieler 17",null,null,{"$f":"EH21","v":4},{"$f":"EI21+1","v":3},21,17,"","","$T$55","$X$51",3,"Spieler 01","-",{"$f":"DQ22","v":"Spieler 18"},null,3,"Spieler 21","-",{"$f":"EE22","v":"Spieler 17"}]
[null,"","Spieler 17","","","","","","","","","","","","","","","","","","","","","","",0,0,0,0,0,0,0,17,null,null,null,null,null,null,null,null,null,null,null,null,null,null,null,null,null,null,null,null,null,null,null,null,null,null,null,null,null,null,null,null,null,null,null,null,null,null,null,null,null,null,null,null,null,null,null,null,null,null,null,null,null,null,null,null,null,null,null,null,null,null,null,null,null,null,null,null,null,null,null,null,null,null,null,null,null,null,null,null,null,null,null,null,4,"Spieler 17","-","Spieler 02",null,null,{"$f":"DT22","v":3},4,17,2,"","","$E$51","$T$36",4,"Spieler 16","-","Spieler 01",null,null,{"$f":"EH22","v":4},4,16,1,"","","$D$50","$S$35",4,{"$f":"DQ23","v":"Spieler 02"},"-",{"$f":"DO23","v":"Spieler 17"},null,4,{"$f":"EE23","v":"Spieler 01"},"-",{"$f":"EC23","v":"Spieler 16"}]
[null,"","Spieler 18","","","","","","","","","","","","","","","","","","","","","","",0,0,0,0,0,0,0,18,null,null,null,null,null,null,null,null,null,null,null,null,null,null,null,null,null,null,null,null,null,null,null,null,null,null,null,null,null,null,null,null,null,null,null,null,null,null,null,null,null,null,null,null,null,null,null,null,null,null,null,null,null,null,null,null,null,null,null,null,null,null,null,null,null,null,null,null,null,null,null,null,null,null,null,null,null,null,null,null,null,null,null,null,5,"Spieler 03","-","Spieler 16",null,null,3,5,3,16,"","","$S$37","$F$50",5,"Spieler 02","-","Spieler 15",null,null,4,5,2,15,"","","$R$36","$E$49",5,"Spieler 03","-",{"$f":"DQ24","v":"Spieler 16"},null,5,"Spieler 02","-",{"$f":"EE24","v":"Spieler 15"}]
[null,"","Spieler 19","","","","","","","","","","","","","","","","","","","","","","",0,0,0,0,0,0,0,19,null,null,null,null,null,null,null,null,null,null,null,null,null,null,null,null,null,null,null,null,null,null,null,null,null,null,null,null,null,null,null,null,null,null,null,null,null,null,null,null,null,null,null,null,null,null,null,null,null,null,null,null,null,null,null,null,null,null,null,null,null,null,null,null,null,null,null,null,null,null,null,null,null,null,null,null,null,null,null,null,null,null,null,null,6,"Spieler 15","-","Spieler 04",null,null,3,6,15,4,"","","$G$49","$R$38",6,"Spieler 14","-","Spieler 03",null,null,4,6,14,3,"","","$F$48","$Q$37",6,{"$f":"DQ25","v":"Spieler 04"},"-",{"$f":"DO25","v":"Spieler 15"},null,6,{"$f":"EE25","v":"Spieler 03"},"-",{"$f":"EC25","v":"Spieler 14"}]
[null,"","Spieler 20","","","","","","","","","","","","","","","","","","","","","","",0,0,0,0,0,0,0,20,null,null,null,null,null,null,null,null,null,null,null,null,null,null,null,null,null,null,null,null,null,null,null,null,null,null,null,null,null,null,null,null,null,null,null,null,null,null,null,null,null,null,null,null,null,null,null,null,null,null,null,null,null,null,null,null,null,null,null,null,null,null,null,null,null,null,null,null,null,null,null,null,null,null,null,null,null,null,null,null,null,null,null,null,7,"Spieler 05","-","Spieler 14",null,null,3,7,5,14,"","",{"$f":"ADDRESS(ROW(Teilnehmer)+DV26,COLUMN(Teilnehmer)+DW26)","v":"$Q$39"},{"$f":"ADDRESS(ROW(Teilnehmer)+DW26,COLUMN(Teilnehmer)+DV26)","v":"$H$48"},7,"Spieler 04","-","Spieler 13",null,null,4,7,4,13,"","",{"$f":"ADDRESS(ROW(Teilnehmer)+EJ26,COLUMN(Teilnehmer)+EK26)","v":"$P$38"},{"$f":"ADDRESS(ROW(Teilnehmer)+EK26,COLUMN(Teilnehmer)+EJ26)","v":"$G$47"},7,"Spieler 05","-",{"$f":"DQ26","v":"Spieler 14"},null,7,"Spieler 04","-",{"$f":"EE26","v":"Spieler 13"}]
[null,"","Spieler 21","","","","","","","","","","","","","","","","","","","","","","",0,0,0,0,0,0,0,21,null,null,null,null,null,null,null,null,null,null,null,null,null,null,null,null,null,null,null,null,null,null,null,null,null,null,null,null,null,null,null,null,null,null,null,null,null,null,null,null,null,null,null,null,null,null,null,null,null,null,null,null,null,null,null,null,null,null,null,null,null,null,null,null,null,null,null,null,null,null,null,null,null,null,null,null,null,null,null,null,null,null,null,null,8,"Spieler 13","-","Spieler 06",null,null,3,8,13,6,"","","$I$47","$P$40",8,"Spieler 12","-","Spieler 05",null,null,4,8,12,5,"","","$H$46","$O$39",8,{"$f":"DQ27","v":"Spieler 06"},"-",{"$f":"DO27","v":"Spieler 13"},null,8,{"$f":"EE27","v":"Spieler 05"},"-",{"$f":"EC27","v":"Spieler 12"}]
[null,"","Spieler 22","","","","","","","","","","","","","","","","","","","","","","",0,0,0,0,0,0,0,22,null,null,null,null,null,null,null,null,null,null,null,null,null,null,null,null,null,null,null,null,null,null,null,null,null,null,null,null,null,null,null,null,null,null,null,null,null,null,null,null,null,null,null,null,null,null,null,null,null,null,null,null,null,null,null,null,null,null,null,null,null,null,null,null,null,null,null,null,null,null,null,null,null,null,null,null,null,null,null,null,null,null,null,null,9,"Spieler 07","-","Spieler 12",null,null,3,9,7,12,"","","$O$41","$J$46",9,"Spieler 06","-","Spieler 11",null,null,4,9,6,11,"","","$N$40","$I$45",9,"Spieler 07","-",{"$f":"DQ28","v":"Spieler 12"},null,9,"Spieler 06","-",{"$f":"EE28","v":"Spieler 11"}]
[null,"Wertungskriterien:",null,null,null,null,null,null,null,null,null,null,null,null,null,null,null,null,null,null,null,null,null,null,null,null,null,null,null,null,null,null,null,null,null,null,null,null,null,null,null,null,null,null,null,null,null,null,null,null,null,null,null,null,null,null,null,null,null,null,null,null,null,null,null,null,null,null,null,null,null,null,null,null,null,null,null,null,null,null,null,null,null,null,null,null,null,null,null,null,null,null,null,null,null,null,null,null,null,null,null,null,null,null,null,null,null,null,null,null,null,null,null,null,null,null,null,10,"Spieler 11","-","Spieler 08",null,null,3,10,11,8,"","","$K$45","$N$42",10,"Spieler 10","-","Spieler 07",null,null,4,10,10,7,"","","$J$44","$M$41",10,{"$f":"DQ29","v":"Spieler 08"},"-",{"$f":"DO29","v":"Spieler 11"},null,10,{"$f":"EE29","v":"Spieler 07"},"-",{"$f":"EC29","v":"Spieler 10"}]
[null,{"$f":"INDEX(Wertungskriterien,WertungskriterienA)","v":"1) Punkte 2) Anz. Partien 3) So-Be 4) direkte Begegnung 5) Manuelle Feinwertung "},null,null,null,null,null,null,null,null,null,null,null,null,null,null,null,null,null,null,null,null,null,null,null,null,null,null,null,null,null,null,null,null,null,null,null,null,null,null,null,null,null,null,null,null,null,null,null,null,null,null,null,null,null,null,null,null,null,null,null,null,null,null,null,null,null,null,null,null,null,null,null,null,null,null,null,null,null,null,null,null,null,null,null,null,null,null,null,null,null,null,null,null,null,null,null,null,null,null,null,null,null,null,null,null,null,null,null,null,null,null,null,null,null,null,null,11,"Spieler 09","-","Spieler 10",null,null,3,11,9,10,"","","$M$43","$L$44",11,"Spieler 08","-","Spieler 09",null,null,4,11,8,9,"","","$L$42","$K$43",11,"Spieler 09","-",{"$f":"DQ30","v":"Spieler 10"},null,11,"Spieler 08","-",{"$f":"EE30","v":"Spieler 09"}]
[]
[null,"+",null,null,null,null,null,null,null,null,null,null,null,null,null,null,null,null,null,null,null,null,null,null,null,null,null,null,{"$f":"IF(EinAusblenden=\"-\",\"\",IF(FWPlusMinus=\"+\",\"é\",\"ê\"))","v":"é"},null,null,null,null,null,null,null,null,null,null,null,null,null,null,null,null,null,null,null,null,null,null,null,null,null,null,null,null,null,null,null,null,null,null,null,null,null,null,null,null,null,null,null,null,null,null,null,null,null,null,null,null,null,null,null,null,null,null,null,null,null,null,null,null,null,null,null,null,null,null,null,null,null,null,null,null,null,null,null,null,null,null,null,null,null,null,null,null,null,{"$f":"DO19+2","v":5},null,null,null,null,"R","B","SpNr w","SpNr s","Res w","Res s",null,null,null,{"$f":"EC19+2","v":6},null,null,null,null,"R","B","SpNr w","SpNr s","Res w","Res s",null,null,null,{"$f":"DO32","v":5},1,null,null,null,{"$f":"EC32","v":6}]
[null,"Turniertabelle",null,null,null,null,null,null,null,null,null,null,null,null,null,null,null,null,null,null,null,null,null,null,null,null,null,"manuelle Feinwertung: ","+","Partien",null,null,null,"Punkte",null,null,null,null,null,null,null,null,null,null,null,null,null,null,null,null,null,null,null,null,null,null,null,"Sonneborn-Berger-Berechnung",null,null,null,null,null,null,null,null,null,null,null,null,null,null,null,null,null,null,null,null,null,null,null,{"$f":"MAX(CD35:CD56)","v":0},null,null,null,null,{"$f":"FWPlusMinus=\"+\"","v":true},"Summierung Wertungskriterien vor direkter Begegnung",null,null,null,null,null,null,null,null,null,null,null,null,"Summierung Wertungskriterien nach direkter Begegnung",null,null,null,null,null,null,null,null,null,null,null,null,null,null,null,null,{"$f":"IF(OR(INDEX($DI$35:$DI$56,DV33),INDEX($DI$35:$DI$56,DW33)),0,1)","v":1},{"$f":"INDEX($DJ$35:$DJ$56,MATCH($DV33,TeilnNr,0))","v":"Spieler 18"},"-",{"$f":"INDEX($DJ$35:$DJ$56,MATCH($DW33,TeilnNr,0))","v":"Spieler 22"},null,null,{"$f":"DO32","v":5},1,{"$f":"IF(AND(DU33=1,MOD(DT33,2)=0),MAX(TeilnNr),IF(MOD(DU33,2)=0,IF(MAX(TeilnNr)/2-DU33+1-(DT33-MAX(TeilnNr)/2-1)>=1,MAX(TeilnNr)/2-DU33+1-(DT33-MAX(TeilnNr)/2-1),MAX(TeilnNr)/2-DU33+1-(DT33-MAX(TeilnNr)/2-1)+MAX(TeilnNr)-1),IF(DU33-(DT33-1)>=1,DU33-(DT33-1),DU33-(DT33-1)+MAX(TeilnNr)-1)))","v":18},{"$f":"IF(AND(DU33=1,MOD(DT33,2)<>0),MAX(TeilnNr),IF(MOD(DU33,2)<>0,IF(MAX(TeilnNr)/2-DU33+1-(DT33-MAX(TeilnNr)/2-1)>=1,MAX(TeilnNr)/2-DU33+1-(DT33-MAX(TeilnNr)/2-1),MAX(TeilnNr)/2-DU33+1-(DT33-MAX(TeilnNr)/2-1)+MAX(TeilnNr)-1),IF(DU33-(DT33-1)>=1,DU33-(DT33-1),DU33-(DT33-1)+MAX(TeilnNr)-1)))","v":22},{"$f":"IF(LEFT(DS33,1)=\"V\",\"\",LEFT(DS33,1))","v":""},{"$f":"IF(RIGHT(DS33,1)=\"V\",\"\",RIGHT(DS33,1))","v":""},{"$f":"ADDRESS(ROW(Teilnehmer)+DV33,COLUMN(Teilnehmer)+DW33)","v":"$Y$52"},{"$f":"ADDRESS(ROW(Teilnehmer)+DW33,COLUMN(Teilnehmer)+DV33)","v":"$U$56"},{"$f":"IF(OR(INDEX($DI$35:$DI$56,EJ33),INDEX($DI$35:$DI$56,EK33)),0,1)","v":1},{"$f":"INDEX($DJ$35:$DJ$56,MATCH($EJ33,TeilnNr,0))","v":"Spieler 22"},"-",{"$f":"INDEX($DJ$35:$DJ$56,MATCH($EK33,TeilnNr,0))","v":"Spieler 17"},null,null,{"$f":"EC32","v":6},1,{"$f":"IF(AND(EI33=1,MOD(EH33,2)=0),MAX(TeilnNr),IF(MOD(EI33,2)=0,IF(MAX(TeilnNr)/2-EI33+1-(EH33-MAX(TeilnNr)/2-1)>=1,MAX(TeilnNr)/2-EI33+1-(EH33-MAX(TeilnNr)/2-1),MAX(TeilnNr)/2-EI33+1-(EH33-MAX(TeilnNr)/2-1)+MAX(TeilnNr)-1),IF(EI33-(EH33-1)>=1,EI33-(EH33-1),EI33-(EH33-1)+MAX(TeilnNr)-1)))","v":22},{"$f":"IF(AND(EI33=1,MOD(EH33,2)<>0),MAX(TeilnNr),IF(MOD(EI33,2)<>0,IF(MAX(TeilnNr)/2-EI33+1-(EH33-MAX(TeilnNr)/2-1)>=1,MAX(TeilnNr)/2-EI33+1-(EH33-MAX(TeilnNr)/2-1),MAX(TeilnNr)/2-EI33+1-(EH33-MAX(TeilnNr)/2-1)+MAX(TeilnNr)-1),IF(EI33-(EH33-1)>=1,EI33-(EH33-1),EI33-(EH33-1)+MAX(TeilnNr)-1)))","v":17},{"$f":"IF(LEFT(EG33,1)=\"V\",\"\",LEFT(EG33,1))","v":""},{"$f":"IF(RIGHT(EG33,1)=\"V\",\"\",RIGHT(EG33,1))","v":""},{"$f":"ADDRESS(ROW(Teilnehmer)+EJ33,COLUMN(Teilnehmer)+EK33)","v":"$T$56"},{"$f":"ADDRESS(ROW(Teilnehmer)+EK33,COLUMN(Teilnehmer)+EJ33)","v":"$Y$51"},{"$f":"DN33","v":1},"Spieler 18","-",{"$f":"DQ33","v":"Spieler 22"},null,{"$f":"EB33","v":1},{"$f":"EE33","v":"Spieler 17"},"-",{"$f":"EC33","v":"Spieler 22"}]
[null,"Nr.","Teilnehmer",1,2,3,4,5,6,7,8,9,10,11,12,13,14,15,16,17,18,19,20,21,22,"Punkte","Spiele","So-Be","FW+","weiss","schw.","Rang",null,1,2,3,4,5,6,7,8,9,10,11,12,13,14,15,16,17,18,19,20,21,22,"P",null,1,2,3,4,5,6,7,8,9,10,11,12,13,14,15,16,17,18,19,20,21,22,"So-Be",null,{"$f":"IF(AC34=\"\",\"FW2\",AC34)","v":"FW+"},"Rang\nPunkte","Rang\nPartien","Rang\nSo-Be","Rang\nschwrz","Rang\nFW?","Wertung 1","Wertung 2","Wertung 3","Wertung 4","Wertung 5","Wertung 6","Wertung 7","Wertung 8","Wertung 9","Wertung 10","Wertung","direkte Begegnung","Rang\ndir.Begegn.","Wertung 1","Wertung 2","Wertung 3","Wertung 4","Wertung 5","Wertung 6","Wertung 7","Wertung 8","Wertung 9","Wertung 10","Wertung2","Rang","Platz-halter?","Name","Alphabet","Rang & Alphabet","Reihen-folge",{"$f":"DN33+1","v":2},"Spieler 17","-","Spieler 19",null,null,{"$f":"DT33","v":5},{"$f":"DU33+1","v":2},17,19,"","",{"$f":"ADDRESS(ROW(Teilnehmer)+DV34,COLUMN(Teilnehmer)+DW34)","v":"$V$51"},{"$f":"ADDRESS(ROW(Teilnehmer)+DW34,COLUMN(Teilnehmer)+DV34)","v":"$T$53"},{"$f":"EB33+1","v":2},"Spieler 16","-","Spieler 18",null,null,{"$f":"EH33","v":6},{"$f":"EI33+1","v":2},16,18,"","",{"$f":"ADDRESS(ROW(Teilnehmer)+EJ34,COLUMN(Teilnehmer)+EK34)","v":"$U$50"},{"$f":"ADDRESS(ROW(Teilnehmer)+EK34,COLUMN(Teilnehmer)+EJ34)","v":"$S$52"},{"$f":"DN34","v":2},{"$f":"DQ34","v":"Spieler 19"},"-",{"$f":"DO34","v":"Spieler 17"},null,2,"Spieler 18","-","Spieler 16"]
[null,1,null,{"$f":"IF(ISNA(MATCH(ADDRESS(ROW(),COLUMN()),$DZ:$DZ,0)),\"\",INDEX($DX:$DX,MATCH(ADDRESS(ROW(),COLUMN()),$DZ:$DZ,0)))&IF(ISNA(MATCH(ADDRESS(ROW(),COLUMN()),$EA:$EA,0)),\"\",INDEX($DY:$DY,MATCH(ADDRESS(ROW(),COLUMN()),$EA:$EA,0)))&IF(ISNA(MATCH(ADDRESS(ROW(),COLUMN()),$EN:$EN,0)),\"\",INDEX($EL:$EL,MATCH(ADDRESS(ROW(),COLUMN()),$EN:$EN,0)))&IF(ISNA(MATCH(ADDRESS(ROW(),COLUMN()),$EO:$EO,0)),\"\",INDEX($EM:$EM,MATCH(ADDRESS(ROW(),COLUMN()),$EO:$EO,0)))","v":""},"","","","","","","","","",{"$f":"IF(ISNA(MATCH(ADDRESS(ROW(),COLUMN()),$DZ:$DZ,0)),\"\",INDEX($DX:$DX,MATCH(ADDRESS(ROW(),COLUMN()),$DZ:$DZ,0)))&IF(ISNA(MATCH(ADDRESS(ROW(),COLUMN()),$EA:$EA,0)),\"\",INDEX($DY:$DY,MATCH(ADDRESS(ROW(),COLUMN()),$EA:$EA,0)))&IF(ISNA(MATCH(ADDRESS(ROW(),COLUMN()),$EN:$EN,0)),\"\",INDEX($EL:$EL,MATCH(ADDRESS(ROW(),COLUMN()),$EN:$EN,0)))&IF(ISNA(MATCH(ADDRESS(ROW(),COLUMN()),$EO:$EO,0)),\"\",INDEX($EM:$EM,MATCH(ADDRESS(ROW(),COLUMN()),$EO:$EO,0)))","v":""},"","","","","","","","","","","",{"$f":"BD35","v":0},{"$f":"MAX($B$35:$B$56)-COUNTIF(D35:Y35,\"\")","v":0},{"$f":"CB35","v":0},null,{"$f":"IF($DI35,0,COUNTIFS($DV:$DV,$B35,$DS:$DS,\"<>\")+COUNTIFS($EJ:$EJ,$B35,$EG:$EG,\"<>\"))","v":0},{"$f":"IF($DI35,0,COUNTIFS($DW:$DW,$B35,$DS:$DS,\"<>\")+COUNTIFS($EK:$EK,$B35,$EG:$EG,\"<>\"))","v":0},{"$f":"DH35","v":1},null,{"$f":"IF(D35=\"\",0,VLOOKUP(D35,Wertung,3,FALSE))","v":0},{"$f":"IF(E35=\"\",0,VLOOKUP(E35,Wertung,3,FALSE))","v":0},{"$f":"IF(F35=\"\",0,VLOOKUP(F35,Wertung,3,FALSE))","v":0},{"$f":"IF(G35=\"\",0,VLOOKUP(G35,Wertung,3,FALSE))","v":0},{"$f":"IF(H35=\"\",0,VLOOKUP(H35,Wertung,3,FALSE))","v":0},{"$f":"IF(I35=\"\",0,VLOOKUP(I35,Wertung,3,FALSE))","v":0},{"$f":"IF(J35=\"\",0,VLOOKUP(J35,Wertung,3,FALSE))","v":0},{"$f":"IF(K35=\"\",0,VLOOKUP(K35,Wertung,3,FALSE))","v":0},{"$f":"IF(L35=\"\",0,VLOOKUP(L35,Wertung,3,FALSE))","v":0},{"$f":"IF(M35=\"\",0,VLOOKUP(M35,Wertung,3,FALSE))","v":0},{"$f":"IF(N35=\"\",0,VLOOKUP(N35,Wertung,3,FALSE))","v":0},{"$f":"IF(O35=\"\",0,VLOOKUP(O35,Wertung,3,FALSE))","v":0},{"$f":"IF(P35=\"\",0,VLOOKUP(P35,Wertung,3,FALSE))","v":0},{"$f":"IF(Q35=\"\",0,VLOOKUP(Q35,Wertung,3,FALSE))","v":0},{"$f":"IF(R35=\"\",0,VLOOKUP(R35,Wertung,3,FALSE))","v":0},{"$f":"IF(S35=\"\",0,VLOOKUP(S35,Wertung,3,FALSE))","v":0},{"$f":"IF(T35=\"\",0,VLOOKUP(T35,Wertung,3,FALSE))","v":0},{"$f":"IF(U35=\"\",0,VLOOKUP(U35,Wertung,3,FALSE))","v":0},{"$f":"IF(V35=\"\",0,VLOOKUP(V35,Wertung,3,FALSE))","v":0},{"$f":"IF(W35=\"\",0,VLOOKUP(W35,Wertung,3,FALSE))","v":0},{"$f":"IF(X35=\"\",0,VLOOKUP(X35,Wertung,3,FALSE))","v":0},{"$f":"IF(Y35=\"\",0,VLOOKUP(Y35,Wertung,3,FALSE))","v":0},{"$f":"SUM(AH35:BC35)","v":0},null,{"$f":"AH35*INDEX($BD:$BD,ROW($BF$34)+AH$34)","v":0},{"$f":"AI35*INDEX($BD:$BD,ROW($BF$34)+AI$34)","v":0},{"$f":"AJ35*INDEX($BD:$BD,ROW($BF$34)+AJ$34)","v":0},{"$f":"AK35*INDEX($BD:$BD,ROW($BF$34)+AK$34)","v":0},{"$f":"AL35*INDEX($BD:$BD,ROW($BF$34)+AL$34)","v":0},{"$f":"AM35*INDEX($BD:$BD,ROW($BF$34)+AM$34)","v":0},{"$f":"AN35*INDEX($BD:$BD,ROW($BF$34)+AN$34)","v":0},{"$f":"AO35*INDEX($BD:$BD,ROW($BF$34)+AO$34)","v":0},{"$f":"AP35*INDEX($BD:$BD,ROW($BF$34)+AP$34)","v":0},{"$f":"AQ35*INDEX($BD:$BD,ROW($BF$34)+AQ$34)","v":0},{"$f":"AR35*INDEX($BD:$BD,ROW($BF$34)+AR$34)","v":0},{"$f":"AS35*INDEX($BD:$BD,ROW($BF$34)+AS$34)","v":0},{"$f":"AT35*INDEX($BD:$BD,ROW($BF$34)+AT$34)","v":0},{"$f":"AU35*INDEX($BD:$BD,ROW($BF$34)+AU$34)","v":0},{"$f":"AV35*INDEX($BD:$BD,ROW($BF$34)+AV$34)","v":0},{"$f":"AW35*INDEX($BD:$BD,ROW($BF$34)+AW$34)","v":0},{"$f":"AX35*INDEX($BD:$BD,ROW($BF$34)+AX$34)","v":0},{"$f":"AY35*INDEX($BD:$BD,ROW($BF$34)+AY$34)","v":0},{"$f":"AZ35*INDEX($BD:$BD,ROW($BF$34)+AZ$34)","v":0},{"$f":"BA35*INDEX($BD:$BD,ROW($BF$34)+BA$34)","v":0},{"$f":"BB35*INDEX($BD:$BD,ROW($BF$34)+BB$34)","v":0},{"$f":"BC35*INDEX($BD:$BD,ROW($BF$34)+BC$34)","v":0},{"$f":"SUM(BF35:CA35)","v":0},null,{"$f":"AC35","v":0},{"$f":"RANK($BD35,$BD$35:$BD$56,0)","v":1},{"$f":"RANK($AA35,$AA$35:$AA$56,1)","v":1},{"$f":"RANK($CB35,$CB$35:$CB$56,0)","v":1},{"$f":"RANK($AE35,$AE$35:$AE$56,0)","v":1},{"$f":"RANK($CD35,$CD$35:$CD$56,IF($CI$33,0,1))","v":1},{"$f":"VALUE(CONCATENATE(IF($DI35,\"1\",\"0\"),TEXT($CE35,\"00\"),TEXT($CG35,\"00\"),TEXT($CI35,\"00\")))","v":10101},{"$f":"VALUE(CONCATENATE(IF($DI35,\"1\",\"0\"),TEXT($CE35,\"00\"),TEXT($CG35,\"00\")))","v":101},{"$f":"VALUE(CONCATENATE(IF($DI35,\"1\",\"0\"),TEXT($CE35,\"00\"),TEXT($CF35,\"00\"),TEXT($CG35,\"00\"),TEXT($CI35,\"00\")))","v":1010101},{"$f":"VALUE(CONCATENATE(IF($DI35,\"1\",\"0\"),TEXT($CE35,\"00\"),TEXT($CF35,\"00\"),TEXT($CG35,\"00\")))","v":10101},{"$f":"VALUE(CONCATENATE(IF($DI35,\"1\",\"0\"),TEXT($CE35,\"00\"),TEXT($CF35,\"00\"),TEXT($CG35,\"00\")))","v":10101},{"$f":"VALUE(CONCATENATE(IF($DI35,\"1\",\"0\"),TEXT($CE35,\"00\"),TEXT($CF35,\"00\"),TEXT($CG35,\"00\"),TEXT($CH35,\"00\")))","v":1010101},{"$f":"VALUE(CONCATENATE(IF($DI35,\"1\",\"0\"),TEXT($CE35,\"00\"),TEXT($CF35,\"00\")))","v":101},{"$f":"VALUE(CONCATENATE(IF($DI35,\"1\",\"0\"),TEXT($CE35,\"00\"),TEXT($CF35,\"00\")))","v":101},{"$f":"VALUE(CONCATENATE(IF($DI35,\"1\",\"0\"),TEXT($CE35,\"00\"),TEXT($CF35,\"00\"),TEXT($CH35,\"00\"),TEXT($CG35,\"00\")))","v":1010101},{"$f":"VALUE(CONCATENATE(IF($DI35,\"1\",\"0\"),TEXT($CE35,\"00\"),TEXT($CF35,\"00\"),TEXT($CH35,\"00\")))","v":10101},{"$f":"INDEX($CJ35:$CS35,1,WertungskriterienA)","v":10101},{"$f":"SUM((TRANSPOSE($CT$35:$CT$56)=CT35)*$AH35:$BC35)","v":0},{"$f":"RANK($CU35,$CU$35:$CU$56,0)","v":1},{"$f":"$CT35","v":10101},{"$f":"VALUE(CONCATENATE($CT35,TEXT($CV35,\"00\"),TEXT($CI35,\"00\")))","v":101010101},{"$f":"$CT35","v":10101},{"$f":"VALUE(CONCATENATE($CT35,TEXT($CV35,\"00\"),TEXT($CI35,\"00\")))","v":101010101},{"$f":"VALUE(CONCATENATE($CT35,TEXT($CV35,\"00\"),TEXT($CH35,\"00\"),TEXT($CI35,\"00\")))","v":10101010101},{"$f":"VALUE(CONCATENATE($CT35,TEXT($CV35,\"00\"),TEXT($CI35,\"00\")))","v":101010101},{"$f":"VALUE(CONCATENATE($CT35,TEXT($CV35,\"00\"),TEXT($CG35,\"00\"),TEXT($CH35,\"00\"),TEXT($CI35,\"00\")))","v":1010101010101},{"$f":"VALUE(CONCATENATE($CT35,TEXT($CV35,\"00\"),TEXT($CH35,\"00\"),TEXT($CG35,\"00\"),TEXT($CI35,\"00\")))","v":1010101010101},{"$f":"VALUE(CONCATENATE($CT35,TEXT($CV35,\"00\"),TEXT($CI35,\"00\")))","v":101010101},{"$f":"VALUE(CONCATENATE($CT35,TEXT($CV35,\"00\"),TEXT($CG35,\"00\"),TEXT($CI35,\"00\")))","v":10101010101},{"$f":"INDEX(CW35:DF35,1,WertungskriterienA)","v":101010101},{"$f":"RANK(DG35,$DG$35:$DG$56,1)","v":1},{"$f":"IF($C35=\"\",FALSE,AND(LEN($C35)=1,OR(CODE($C35)<65,CODE($C35)>122,AND(CODE($C35)>90,CODE($C35)<97)),NOT(AND(CODE($C35)>48,CODE($C35)<58))))","v":false},{"$f":"IF(DI35,$C35,IF($C35=\"\",\"Spieler \"&TEXT($B35,\"00\"),$C35))","v":"Spieler 01"},{"$f":"IF(DI35,MAX(TeilnNr),0)+SUMPRODUCT((DJ35>$DJ$35:$DJ$56)*1)","v":0},{"$f":"DH35+DK35/1000+B35/1000000","v":1.0000009999999999},{"$f":"RANK(DL35,$DL$35:$DL$56,1)","v":1},{"$f":"DN34+1","v":3},"Spieler 20","-","Spieler 16",null,null,{"$f":"DT34","v":5},{"$f":"DU34+1","v":3},{"$f":"IF(AND(DU35=1,MOD(DT35,2)=0),MAX(TeilnNr),IF(MOD(DU35,2)=0,IF(MAX(TeilnNr)/2-DU35+1-(DT35-MAX(TeilnNr)/2-1)>=1,MAX(TeilnNr)/2-DU35+1-(DT35-MAX(TeilnNr)/2-1),MAX(TeilnNr)/2-DU35+1-(DT35-MAX(TeilnNr)/2-1)+MAX(TeilnNr)-1),IF(DU35-(DT35-1)>=1,DU35-(DT35-1),DU35-(DT35-1)+MAX(TeilnNr)-1)))","v":20},{"$f":"IF(AND(DU35=1,MOD(DT35,2)<>0),MAX(TeilnNr),IF(MOD(DU35,2)<>0,IF(MAX(TeilnNr)/2-DU35+1-(DT35-MAX(TeilnNr)/2-1)>=1,MAX(TeilnNr)/2-DU35+1-(DT35-MAX(TeilnNr)/2-1),MAX(TeilnNr)/2-DU35+1-(DT35-MAX(TeilnNr)/2-1)+MAX(TeilnNr)-1),IF(DU35-(DT35-1)>=1,DU35-(DT35-1),DU35-(DT35-1)+MAX(TeilnNr)-1)))","v":16},"","",{"$f":"ADDRESS(ROW(Teilnehmer)+DV35,COLUMN(Teilnehmer)+DW35)","v":"$S$54"},{"$f":"ADDRESS(ROW(Teilnehmer)+DW35,COLUMN(Teilnehmer)+DV35)","v":"$W$50"},{"$f":"EB34+1","v":3},"Spieler 19","-","Spieler 15",null,null,{"$f":"EH34","v":6},{"$f":"EI34+1","v":3},{"$f":"IF(AND(EI35=1,MOD(EH35,2)=0),MAX(TeilnNr),IF(MOD(EI35,2)=0,IF(MAX(TeilnNr)/2-EI35+1-(EH35-MAX(TeilnNr)/2-1)>=1,MAX(TeilnNr)/2-EI35+1-(EH35-MAX(TeilnNr)/2-1),MAX(TeilnNr)/2-EI35+1-(EH35-MAX(TeilnNr)/2-1)+MAX(TeilnNr)-1),IF(EI35-(EH35-1)>=1,EI35-(EH35-1),EI35-(EH35-1)+MAX(TeilnNr)-1)))","v":19},{"$f":"IF(AND(EI35=1,MOD(EH35,2)<>0),MAX(TeilnNr),IF(MOD(EI35,2)<>0,IF(MAX(TeilnNr)/2-EI35+1-(EH35-MAX(TeilnNr)/2-1)>=1,MAX(TeilnNr)/2-EI35+1-(EH35-MAX(TeilnNr)/2-1),MAX(TeilnNr)/2-EI35+1-(EH35-MAX(TeilnNr)/2-1)+MAX(TeilnNr)-1),IF(EI35-(EH35-1)>=1,EI35-(EH35-1),EI35-(EH35-1)+MAX(TeilnNr)-1)))","v":15},"","",{"$f":"ADDRESS(ROW(Teilnehmer)+EJ35,COLUMN(Teilnehmer)+EK35)","v":"$R$53"},{"$f":"ADDRESS(ROW(Teilnehmer)+EK35,COLUMN(Teilnehmer)+EJ35)","v":"$V$49"},3,"Spieler 20","-",{"$f":"DQ35","v":"Spieler 16"},null,3,"Spieler 19","-",{"$f":"EE35","v":"Spieler 15"}]
[null,2,null,"","","","","","","","","","","","","","","","","","","","","","",{"$f":"BD36","v":0},0,0,null,0,0,1,null,0,0,0,0,0,0,0,0,0,0,0,0,0,0,0,0,0,0,0,0,0,0,0,null,0,0,0,0,0,0,0,0,0,0,0,0,0,0,0,0,0,0,0,0,0,0,0,null,0,1,1,1,1,1,{"$f":"VALUE(CONCATENATE(IF($DI36,\"1\",\"0\"),TEXT($CE36,\"00\"),TEXT($CG36,\"00\"),TEXT($CI36,\"00\")))","v":10101},{"$f":"VALUE(CONCATENATE(IF($DI36,\"1\",\"0\"),TEXT($CE36,\"00\"),TEXT($CG36,\"00\")))","v":101},{"$f":"VALUE(CONCATENATE(IF($DI36,\"1\",\"0\"),TEXT($CE36,\"00\"),TEXT($CF36,\"00\"),TEXT($CG36,\"00\"),TEXT($CI36,\"00\")))","v":1010101},{"$f":"VALUE(CONCATENATE(IF($DI36,\"1\",\"0\"),TEXT($CE36,\"00\"),TEXT($CF36,\"00\"),TEXT($CG36,\"00\")))","v":10101},10101,{"$f":"VALUE(CONCATENATE(IF($DI36,\"1\",\"0\"),TEXT($CE36,\"00\"),TEXT($CF36,\"00\"),TEXT($CG36,\"00\"),TEXT($CH36,\"00\")))","v":1010101},{"$f":"VALUE(CONCATENATE(IF($DI36,\"1\",\"0\"),TEXT($CE36,\"00\"),TEXT($CF36,\"00\")))","v":101},101,{"$f":"VALUE(CONCATENATE(IF($DI36,\"1\",\"0\"),TEXT($CE36,\"00\"),TEXT($CF36,\"00\"),TEXT($CH36,\"00\"),TEXT($CG36,\"00\")))","v":1010101},{"$f":"VALUE(CONCATENATE(IF($DI36,\"1\",\"0\"),TEXT($CE36,\"00\"),TEXT($CF36,\"00\"),TEXT($CH36,\"00\")))","v":10101},{"$f":"INDEX($CJ36:$CS36,1,WertungskriterienA)","v":10101},{"$f":"SUM((TRANSPOSE($CT$35:$CT$56)=CT36)*$AH36:$BC36)","v":0},1,{"$f":"$CT36","v":10101},{"$f":"VALUE(CONCATENATE($CT36,TEXT($CV36,\"00\"),TEXT($CI36,\"00\")))","v":101010101},{"$f":"$CT36","v":10101},{"$f":"VALUE(CONCATENATE($CT36,TEXT($CV36,\"00\"),TEXT($CI36,\"00\")))","v":101010101},{"$f":"VALUE(CONCATENATE($CT36,TEXT($CV36,\"00\"),TEXT($CH36,\"00\"),TEXT($CI36,\"00\")))","v":10101010101},{"$f":"VALUE(CONCATENATE($CT36,TEXT($CV36,\"00\"),TEXT($CI36,\"00\")))","v":101010101},{"$f":"VALUE(CONCATENATE($CT36,TEXT($CV36,\"00\"),TEXT($CG36,\"00\"),TEXT($CH36,\"00\"),TEXT($CI36,\"00\")))","v":1010101010101},{"$f":"VALUE(CONCATENATE($CT36,TEXT($CV36,\"00\"),TEXT($CH36,\"00\"),TEXT($CG36,\"00\"),TEXT($CI36,\"00\")))","v":1010101010101},{"$f":"VALUE(CONCATENATE($CT36,TEXT($CV36,\"00\"),TEXT($CI36,\"00\")))","v":101010101},{"$f":"VALUE(CONCATENATE($CT36,TEXT($CV36,\"00\"),TEXT($CG36,\"00\"),TEXT($CI36,\"00\")))","v":10101010101},{"$f":"INDEX(CW36:DF36,1,WertungskriterienA)","v":101010101},1,{"$f":"IF($C36=\"\",FALSE,AND(LEN($C36)=1,OR(CODE($C36)<65,CODE($C36)>122,AND(CODE($C36)>90,CODE($C36)<97)),NOT(AND(CODE($C36)>48,CODE($C36)<58))))","v":false},"Spieler 02",1,1.0010019999999999,2,4,"Spieler 15","-","Spieler 21",null,null,{"$f":"DT35","v":5},4,{"$f":"IF(AND(DU36=1,MOD(DT36,2)=0),MAX(TeilnNr),IF(MOD(DU36,2)=0,IF(MAX(TeilnNr)/2-DU36+1-(DT36-MAX(TeilnNr)/2-1)>=1,MAX(TeilnNr)/2-DU36+1-(DT36-MAX(TeilnNr)/2-1),MAX(TeilnNr)/2-DU36+1-(DT36-MAX(TeilnNr)/2-1)+MAX(TeilnNr)-1),IF(DU36-(DT36-1)>=1,DU36-(DT36-1),DU36-(DT36-1)+MAX(TeilnNr)-1)))","v":15},{"$f":"IF(AND(DU36=1,MOD(DT36,2)<>0),MAX(TeilnNr),IF(MOD(DU36,2)<>0,IF(MAX(TeilnNr)/2-DU36+1-(DT36-MAX(TeilnNr)/2-1)>=1,MAX(TeilnNr)/2-DU36+1-(DT36-MAX(TeilnNr)/2-1),MAX(TeilnNr)/2-DU36+1-(DT36-MAX(TeilnNr)/2-1)+MAX(TeilnNr)-1),IF(DU36-(DT36-1)>=1,DU36-(DT36-1),DU36-(DT36-1)+MAX(TeilnNr)-1)))","v":21},"","",{"$f":"ADDRESS(ROW(Teilnehmer)+DV36,COLUMN(Teilnehmer)+DW36)","v":"$X$49"},{"$f":"ADDRESS(ROW(Teilnehmer)+DW36,COLUMN(Teilnehmer)+DV36)","v":"$R$55"},4,"Spieler 14","-","Spieler 20",null,null,{"$f":"EH35","v":6},4,{"$f":"IF(AND(EI36=1,MOD(EH36,2)=0),MAX(TeilnNr),IF(MOD(EI36,2)=0,IF(MAX(TeilnNr)/2-EI36+1-(EH36-MAX(TeilnNr)/2-1)>=1,MAX(TeilnNr)/2-EI36+1-(EH36-MAX(TeilnNr)/2-1),MAX(TeilnNr)/2-EI36+1-(EH36-MAX(TeilnNr)/2-1)+MAX(TeilnNr)-1),IF(EI36-(EH36-1)>=1,EI36-(EH36-1),EI36-(EH36-1)+MAX(TeilnNr)-1)))","v":14},{"$f":"IF(AND(EI36=1,MOD(EH36,2)<>0),MAX(TeilnNr),IF(MOD(EI36,2)<>0,IF(MAX(TeilnNr)/2-EI36+1-(EH36-MAX(TeilnNr)/2-1)>=1,MAX(TeilnNr)/2-EI36+1-(EH36-MAX(TeilnNr)/2-1),MAX(TeilnNr)/2-EI36+1-(EH36-MAX(TeilnNr)/2-1)+MAX(TeilnNr)-1),IF(EI36-(EH36-1)>=1,EI36-(EH36-1),EI36-(EH36-1)+MAX(TeilnNr)-1)))","v":20},"","",{"$f":"ADDRESS(ROW(Teilnehmer)+EJ36,COLUMN(Teilnehmer)+EK36)","v":"$W$48"},{"$f":"ADDRESS(ROW(Teilnehmer)+EK36,COLUMN(Teilnehmer)+EJ36)","v":"$Q$54"},4,{"$f":"DQ36","v":"Spieler 21"},"-",{"$f":"DO36","v":"Spieler 15"},null,4,{"$f":"EE36","v":"Spieler 20"},"-",{"$f":"EC36","v":"Spieler 14"}]
[null,3,null,"","","","","","","","","","","","","","","","","","","","","","",0,0,0,null,0,0,1,null,0,0,0,0,0,0,0,0,0,0,0,0,0,0,0,0,0,0,0,0,0,0,0,null,0,0,0,0,0,0,0,0,0,0,0,0,0,0,0,0,0,0,0,0,0,0,0,null,0,1,1,1,1,1,10101,101,1010101,10101,10101,1010101,101,101,1010101,10101,{"$f":"INDEX($CJ37:$CS37,1,WertungskriterienA)","v":10101},{"$f":"SUM((TRANSPOSE($CT$35:$CT$56)=CT37)*$AH37:$BC37)","v":0},1,10101,101010101,10101,101010101,10101010101,101010101,1010101010101,1010101010101,101010101,10101010101,{"$f":"INDEX(CW37:DF37,1,WertungskriterienA)","v":101010101},1,false,"Spieler 03",2,1.002003,3,5,"Spieler 01","-","Spieler 14",null,null,{"$f":"DT36","v":5},5,{"$f":"IF(AND(DU37=1,MOD(DT37,2)=0),MAX(TeilnNr),IF(MOD(DU37,2)=0,IF(MAX(TeilnNr)/2-DU37+1-(DT37-MAX(TeilnNr)/2-1)>=1,MAX(TeilnNr)/2-DU37+1-(DT37-MAX(TeilnNr)/2-1),MAX(TeilnNr)/2-DU37+1-(DT37-MAX(TeilnNr)/2-1)+MAX(TeilnNr)-1),IF(DU37-(DT37-1)>=1,DU37-(DT37-1),DU37-(DT37-1)+MAX(TeilnNr)-1)))","v":1},{"$f":"IF(AND(DU37=1,MOD(DT37,2)<>0),MAX(TeilnNr),IF(MOD(DU37,2)<>0,IF(MAX(TeilnNr)/2-DU37+1-(DT37-MAX(TeilnNr)/2-1)>=1,MAX(TeilnNr)/2-DU37+1-(DT37-MAX(TeilnNr)/2-1),MAX(TeilnNr)/2-DU37+1-(DT37-MAX(TeilnNr)/2-1)+MAX(TeilnNr)-1),IF(DU37-(DT37-1)>=1,DU37-(DT37-1),DU37-(DT37-1)+MAX(TeilnNr)-1)))","v":14},"","",{"$f":"ADDRESS(ROW(Teilnehmer)+DV37,COLUMN(Teilnehmer)+DW37)","v":"$Q$35"},{"$f":"ADDRESS(ROW(Teilnehmer)+DW37,COLUMN(Teilnehmer)+DV37)","v":"$D$48"},5,"Spieler 21","-","Spieler 13",null,null,6,5,{"$f":"IF(AND(EI37=1,MOD(EH37,2)=0),MAX(TeilnNr),IF(MOD(EI37,2)=0,IF(MAX(TeilnNr)/2-EI37+1-(EH37-MAX(TeilnNr)/2-1)>=1,MAX(TeilnNr)/2-EI37+1-(EH37-MAX(TeilnNr)/2-1),MAX(TeilnNr)/2-EI37+1-(EH37-MAX(TeilnNr)/2-1)+MAX(TeilnNr)-1),IF(EI37-(EH37-1)>=1,EI37-(EH37-1),EI37-(EH37-1)+MAX(TeilnNr)-1)))","v":21},{"$f":"IF(AND(EI37=1,MOD(EH37,2)<>0),MAX(TeilnNr),IF(MOD(EI37,2)<>0,IF(MAX(TeilnNr)/2-EI37+1-(EH37-MAX(TeilnNr)/2-1)>=1,MAX(TeilnNr)/2-EI37+1-(EH37-MAX(TeilnNr)/2-1),MAX(TeilnNr)/2-EI37+1-(EH37-MAX(TeilnNr)/2-1)+MAX(TeilnNr)-1),IF(EI37-(EH37-1)>=1,EI37-(EH37-1),EI37-(EH37-1)+MAX(TeilnNr)-1)))","v":13},"","",{"$f":"ADDRESS(ROW(Teilnehmer)+EJ37,COLUMN(Teilnehmer)+EK37)","v":"$P$55"},{"$f":"ADDRESS(ROW(Teilnehmer)+EK37,COLUMN(Teilnehmer)+EJ37)","v":"$X$47"},5,"Spieler 01","-",{"$f":"DQ37","v":"Spieler 14"},null,5,"Spieler 21","-",{"$f":"EE37","v":"Spieler 13"}]
[null,4,null,"","","","","","","","","","","","","","","","","","","","","","",0,0,0,null,0,0,1,null,0,0,0,0,0,0,0,0,0,0,0,0,0,0,0,0,0,0,0,0,0,0,0,null,0,0,0,0,0,0,0,0,0,0,0,0,0,0,0,0,0,0,0,0,0,0,0,null,0,1,1,1,1,1,10101,101,1010101,10101,10101,1010101,101,101,1010101,10101,{"$f":"INDEX($CJ38:$CS38,1,WertungskriterienA)","v":10101},{"$f":"SUM((TRANSPOSE($CT$35:$CT$56)=CT38)*$AH38:$BC38)","v":0},1,10101,101010101,10101,101010101,10101010101,101010101,1010101010101,1010101010101,101010101,10101010101,{"$f":"INDEX(CW38:DF38,1,WertungskriterienA)","v":101010101},1,false,"Spieler 04",3,1.0030039999999998,4,6,"Spieler 13","-","Spieler 02",null,null,{"$f":"DT37","v":5},6,{"$f":"IF(AND(DU38=1,MOD(DT38,2)=0),MAX(TeilnNr),IF(MOD(DU38,2)=0,IF(MAX(TeilnNr)/2-DU38+1-(DT38-MAX(TeilnNr)/2-1)>=1,MAX(TeilnNr)/2-DU38+1-(DT38-MAX(TeilnNr)/2-1),MAX(TeilnNr)/2-DU38+1-(DT38-MAX(TeilnNr)/2-1)+MAX(TeilnNr)-1),IF(DU38-(DT38-1)>=1,DU38-(DT38-1),DU38-(DT38-1)+MAX(TeilnNr)-1)))","v":13},{"$f":"IF(AND(DU38=1,MOD(DT38,2)<>0),MAX(TeilnNr),IF(MOD(DU38,2)<>0,IF(MAX(TeilnNr)/2-DU38+1-(DT38-MAX(TeilnNr)/2-1)>=1,MAX(TeilnNr)/2-DU38+1-(DT38-MAX(TeilnNr)/2-1),MAX(TeilnNr)/2-DU38+1-(DT38-MAX(TeilnNr)/2-1)+MAX(TeilnNr)-1),IF(DU38-(DT38-1)>=1,DU38-(DT38-1),DU38-(DT38-1)+MAX(TeilnNr)-1)))","v":2},"","",{"$f":"ADDRESS(ROW(Teilnehmer)+DV38,COLUMN(Teilnehmer)+DW38)","v":"$E$47"},{"$f":"ADDRESS(ROW(Teilnehmer)+DW38,COLUMN(Teilnehmer)+DV38)","v":"$P$36"},6,"Spieler 12","-","Spieler 01",null,null,6,6,{"$f":"IF(AND(EI38=1,MOD(EH38,2)=0),MAX(TeilnNr),IF(MOD(EI38,2)=0,IF(MAX(TeilnNr)/2-EI38+1-(EH38-MAX(TeilnNr)/2-1)>=1,MAX(TeilnNr)/2-EI38+1-(EH38-MAX(TeilnNr)/2-1),MAX(TeilnNr)/2-EI38+1-(EH38-MAX(TeilnNr)/2-1)+MAX(TeilnNr)-1),IF(EI38-(EH38-1)>=1,EI38-(EH38-1),EI38-(EH38-1)+MAX(TeilnNr)-1)))","v":12},{"$f":"IF(AND(EI38=1,MOD(EH38,2)<>0),MAX(TeilnNr),IF(MOD(EI38,2)<>0,IF(MAX(TeilnNr)/2-EI38+1-(EH38-MAX(TeilnNr)/2-1)>=1,MAX(TeilnNr)/2-EI38+1-(EH38-MAX(TeilnNr)/2-1),MAX(TeilnNr)/2-EI38+1-(EH38-MAX(TeilnNr)/2-1)+MAX(TeilnNr)-1),IF(EI38-(EH38-1)>=1,EI38-(EH38-1),EI38-(EH38-1)+MAX(TeilnNr)-1)))","v":1},"","",{"$f":"ADDRESS(ROW(Teilnehmer)+EJ38,COLUMN(Teilnehmer)+EK38)","v":"$D$46"},{"$f":"ADDRESS(ROW(Teilnehmer)+EK38,COLUMN(Teilnehmer)+EJ38)","v":"$O$35"},6,{"$f":"DQ38","v":"Spieler 02"},"-",{"$f":"DO38","v":"Spieler 13"},null,6,{"$f":"EE38","v":"Spieler 01"},"-",{"$f":"EC38","v":"Spieler 12"}]
[null,5,null,"","","","","","","","","","","","","","","","","","","","","","",0,0,0,null,0,0,1,null,0,0,0,0,0,0,0,0,0,0,0,0,0,0,0,0,0,0,0,0,0,0,0,null,0,0,0,0,0,0,0,0,0,0,0,0,0,0,0,0,0,0,0,0,0,0,0,null,0,1,1,1,1,1,10101,101,1010101,10101,10101,1010101,101,101,1010101,10101,{"$f":"INDEX($CJ39:$CS39,1,WertungskriterienA)","v":10101},{"$f":"SUM((TRANSPOSE($CT$35:$CT$56)=CT39)*$AH39:$BC39)","v":0},1,10101,101010101,10101,101010101,10101010101,101010101,1010101010101,1010101010101,101010101,10101010101,{"$f":"INDEX(CW39:DF39,1,WertungskriterienA)","v":101010101},1,false,"Spieler 05",4,1.004005,5,7,"Spieler 03","-","Spieler 12",null,null,{"$f":"DT38","v":5},7,{"$f":"IF(AND(DU39=1,MOD(DT39,2)=0),MAX(TeilnNr),IF(MOD(DU39,2)=0,IF(MAX(TeilnNr)/2-DU39+1-(DT39-MAX(TeilnNr)/2-1)>=1,MAX(TeilnNr)/2-DU39+1-(DT39-MAX(TeilnNr)/2-1),MAX(TeilnNr)/2-DU39+1-(DT39-MAX(TeilnNr)/2-1)+MAX(TeilnNr)-1),IF(DU39-(DT39-1)>=1,DU39-(DT39-1),DU39-(DT39-1)+MAX(TeilnNr)-1)))","v":3},{"$f":"IF(AND(DU39=1,MOD(DT39,2)<>0),MAX(TeilnNr),IF(MOD(DU39,2)<>0,IF(MAX(TeilnNr)/2-DU39+1-(DT39-MAX(TeilnNr)/2-1)>=1,MAX(TeilnNr)/2-DU39+1-(DT39-MAX(TeilnNr)/2-1),MAX(TeilnNr)/2-DU39+1-(DT39-MAX(TeilnNr)/2-1)+MAX(TeilnNr)-1),IF(DU39-(DT39-1)>=1,DU39-(DT39-1),DU39-(DT39-1)+MAX(TeilnNr)-1)))","v":12},"","",{"$f":"ADDRESS(ROW(Teilnehmer)+DV39,COLUMN(Teilnehmer)+DW39)","v":"$O$37"},{"$f":"ADDRESS(ROW(Teilnehmer)+DW39,COLUMN(Teilnehmer)+DV39)","v":"$F$46"},7,"Spieler 02","-","Spieler 11",null,null,6,7,{"$f":"IF(AND(EI39=1,MOD(EH39,2)=0),MAX(TeilnNr),IF(MOD(EI39,2)=0,IF(MAX(TeilnNr)/2-EI39+1-(EH39-MAX(TeilnNr)/2-1)>=1,MAX(TeilnNr)/2-EI39+1-(EH39-MAX(TeilnNr)/2-1),MAX(TeilnNr)/2-EI39+1-(EH39-MAX(TeilnNr)/2-1)+MAX(TeilnNr)-1),IF(EI39-(EH39-1)>=1,EI39-(EH39-1),EI39-(EH39-1)+MAX(TeilnNr)-1)))","v":2},{"$f":"IF(AND(EI39=1,MOD(EH39,2)<>0),MAX(TeilnNr),IF(MOD(EI39,2)<>0,IF(MAX(TeilnNr)/2-EI39+1-(EH39-MAX(TeilnNr)/2-1)>=1,MAX(TeilnNr)/2-EI39+1-(EH39-MAX(TeilnNr)/2-1),MAX(TeilnNr)/2-EI39+1-(EH39-MAX(TeilnNr)/2-1)+MAX(TeilnNr)-1),IF(EI39-(EH39-1)>=1,EI39-(EH39-1),EI39-(EH39-1)+MAX(TeilnNr)-1)))","v":11},"","",{"$f":"ADDRESS(ROW(Teilnehmer)+EJ39,COLUMN(Teilnehmer)+EK39)","v":"$N$36"},{"$f":"ADDRESS(ROW(Teilnehmer)+EK39,COLUMN(Teilnehmer)+EJ39)","v":"$E$45"},7,"Spieler 03","-",{"$f":"DQ39","v":"Spieler 12"},null,7,"Spieler 02","-",{"$f":"EE39","v":"Spieler 11"}]
[null,6,null,"","","","","","","","","","","","","","","","","","","","","","",0,0,0,null,0,0,1,null,0,0,0,0,0,0,0,0,0,0,0,0,0,0,0,0,0,0,0,0,0,0,0,null,0,0,0,0,0,0,0,0,0,0,0,0,0,0,0,0,0,0,0,0,0,0,0,null,0,1,1,1,1,1,10101,101,1010101,10101,10101,1010101,101,101,1010101,10101,{"$f":"INDEX($CJ40:$CS40,1,WertungskriterienA)","v":10101},{"$f":"SUM((TRANSPOSE($CT$35:$CT$56)=CT40)*$AH40:$BC40)","v":0},1,10101,101010101,10101,101010101,10101010101,101010101,1010101010101,1010101010101,101010101,10101010101,{"$f":"INDEX(CW40:DF40,1,WertungskriterienA)","v":101010101},1,false,"Spieler 06",5,1.0050059999999998,6,8,"Spieler 11","-","Spieler 04",null,null,5,8,{"$f":"IF(AND(DU40=1,MOD(DT40,2)=0),MAX(TeilnNr),IF(MOD(DU40,2)=0,IF(MAX(TeilnNr)/2-DU40+1-(DT40-MAX(TeilnNr)/2-1)>=1,MAX(TeilnNr)/2-DU40+1-(DT40-MAX(TeilnNr)/2-1),MAX(TeilnNr)/2-DU40+1-(DT40-MAX(TeilnNr)/2-1)+MAX(TeilnNr)-1),IF(DU40-(DT40-1)>=1,DU40-(DT40-1),DU40-(DT40-1)+MAX(TeilnNr)-1)))","v":11},{"$f":"IF(AND(DU40=1,MOD(DT40,2)<>0),MAX(TeilnNr),IF(MOD(DU40,2)<>0,IF(MAX(TeilnNr)/2-DU40+1-(DT40-MAX(TeilnNr)/2-1)>=1,MAX(TeilnNr)/2-DU40+1-(DT40-MAX(TeilnNr)/2-1),MAX(TeilnNr)/2-DU40+1-(DT40-MAX(TeilnNr)/2-1)+MAX(TeilnNr)-1),IF(DU40-(DT40-1)>=1,DU40-(DT40-1),DU40-(DT40-1)+MAX(TeilnNr)-1)))","v":4},"","",{"$f":"ADDRESS(ROW(Teilnehmer)+DV40,COLUMN(Teilnehmer)+DW40)","v":"$G$45"},{"$f":"ADDRESS(ROW(Teilnehmer)+DW40,COLUMN(Teilnehmer)+DV40)","v":"$N$38"},8,"Spieler 10","-","Spieler 03",null,null,6,8,{"$f":"IF(AND(EI40=1,MOD(EH40,2)=0),MAX(TeilnNr),IF(MOD(EI40,2)=0,IF(MAX(TeilnNr)/2-EI40+1-(EH40-MAX(TeilnNr)/2-1)>=1,MAX(TeilnNr)/2-EI40+1-(EH40-MAX(TeilnNr)/2-1),MAX(TeilnNr)/2-EI40+1-(EH40-MAX(TeilnNr)/2-1)+MAX(TeilnNr)-1),IF(EI40-(EH40-1)>=1,EI40-(EH40-1),EI40-(EH40-1)+MAX(TeilnNr)-1)))","v":10},{"$f":"IF(AND(EI40=1,MOD(EH40,2)<>0),MAX(TeilnNr),IF(MOD(EI40,2)<>0,IF(MAX(TeilnNr)/2-EI40+1-(EH40-MAX(TeilnNr)/2-1)>=1,MAX(TeilnNr)/2-EI40+1-(EH40-MAX(TeilnNr)/2-1),MAX(TeilnNr)/2-EI40+1-(EH40-MAX(TeilnNr)/2-1)+MAX(TeilnNr)-1),IF(EI40-(EH40-1)>=1,EI40-(EH40-1),EI40-(EH40-1)+MAX(TeilnNr)-1)))","v":3},"","",{"$f":"ADDRESS(ROW(Teilnehmer)+EJ40,COLUMN(Teilnehmer)+EK40)","v":"$F$44"},{"$f":"ADDRESS(ROW(Teilnehmer)+EK40,COLUMN(Teilnehmer)+EJ40)","v":"$M$37"},8,{"$f":"DQ40","v":"Spieler 04"},"-",{"$f":"DO40","v":"Spieler 11"},null,8,{"$f":"EE40","v":"Spieler 03"},"-",{"$f":"EC40","v":"Spieler 10"}]
[null,7,null,"","","","","","","","","","","","","","","","","","","","","","",0,0,0,null,0,0,1,null,0,0,0,0,0,0,0,0,0,0,0,0,0,0,0,0,0,0,0,0,0,0,0,null,0,0,0,0,0,0,0,0,0,0,0,0,0,0,0,0,0,0,0,0,0,0,0,null,0,1,1,1,1,1,10101,101,1010101,10101,10101,1010101,101,101,1010101,10101,{"$f":"INDEX($CJ41:$CS41,1,WertungskriterienA)","v":10101},{"$f":"SUM((TRANSPOSE($CT$35:$CT$56)=CT41)*$AH41:$BC41)","v":0},1,10101,101010101,10101,101010101,10101010101,101010101,1010101010101,1010101010101,101010101,10101010101,{"$f":"INDEX(CW41:DF41,1,WertungskriterienA)","v":101010101},1,false,"Spieler 07",6,1.0060070000000001,7,9,"Spieler 05","-","Spieler 10",null,null,5,9,{"$f":"IF(AND(DU41=1,MOD(DT41,2)=0),MAX(TeilnNr),IF(MOD(DU41,2)=0,IF(MAX(TeilnNr)/2-DU41+1-(DT41-MAX(TeilnNr)/2-1)>=1,MAX(TeilnNr)/2-DU41+1-(DT41-MAX(TeilnNr)/2-1),MAX(TeilnNr)/2-DU41+1-(DT41-MAX(TeilnNr)/2-1)+MAX(TeilnNr)-1),IF(DU41-(DT41-1)>=1,DU41-(DT41-1),DU41-(DT41-1)+MAX(TeilnNr)-1)))","v":5},{"$f":"IF(AND(DU41=1,MOD(DT41,2)<>0),MAX(TeilnNr),IF(MOD(DU41,2)<>0,IF(MAX(TeilnNr)/2-DU41+1-(DT41-MAX(TeilnNr)/2-1)>=1,MAX(TeilnNr)/2-DU41+1-(DT41-MAX(TeilnNr)/2-1),MAX(TeilnNr)/2-DU41+1-(DT41-MAX(TeilnNr)/2-1)+MAX(TeilnNr)-1),IF(DU41-(DT41-1)>=1,DU41-(DT41-1),DU41-(DT41-1)+MAX(TeilnNr)-1)))","v":10},"","",{"$f":"ADDRESS(ROW(Teilnehmer)+DV41,COLUMN(Teilnehmer)+DW41)","v":"$M$39"},{"$f":"ADDRESS(ROW(Teilnehmer)+DW41,COLUMN(Teilnehmer)+DV41)","v":"$H$44"},9,"Spieler 04","-","Spieler 09",null,null,6,9,{"$f":"IF(AND(EI41=1,MOD(EH41,2)=0),MAX(TeilnNr),IF(MOD(EI41,2)=0,IF(MAX(TeilnNr)/2-EI41+1-(EH41-MAX(TeilnNr)/2-1)>=1,MAX(TeilnNr)/2-EI41+1-(EH41-MAX(TeilnNr)/2-1),MAX(TeilnNr)/2-EI41+1-(EH41-MAX(TeilnNr)/2-1)+MAX(TeilnNr)-1),IF(EI41-(EH41-1)>=1,EI41-(EH41-1),EI41-(EH41-1)+MAX(TeilnNr)-1)))","v":4},{"$f":"IF(AND(EI41=1,MOD(EH41,2)<>0),MAX(TeilnNr),IF(MOD(EI41,2)<>0,IF(MAX(TeilnNr)/2-EI41+1-(EH41-MAX(TeilnNr)/2-1)>=1,MAX(TeilnNr)/2-EI41+1-(EH41-MAX(TeilnNr)/2-1),MAX(TeilnNr)/2-EI41+1-(EH41-MAX(TeilnNr)/2-1)+MAX(TeilnNr)-1),IF(EI41-(EH41-1)>=1,EI41-(EH41-1),EI41-(EH41-1)+MAX(TeilnNr)-1)))","v":9},"","",{"$f":"ADDRESS(ROW(Teilnehmer)+EJ41,COLUMN(Teilnehmer)+EK41)","v":"$L$38"},{"$f":"ADDRESS(ROW(Teilnehmer)+EK41,COLUMN(Teilnehmer)+EJ41)","v":"$G$43"},9,"Spieler 05","-",{"$f":"DQ41","v":"Spieler 10"},null,9,"Spieler 04","-",{"$f":"EE41","v":"Spieler 09"}]
[null,8,null,"","","","","","","","","","","","","","","","","","","","","","",0,0,0,null,0,0,1,null,0,0,0,0,0,0,0,0,0,0,0,0,0,0,0,0,0,0,0,0,0,0,0,null,0,0,0,0,0,0,0,0,0,0,0,0,0,0,0,0,0,0,0,0,0,0,0,null,0,1,1,1,1,1,10101,101,1010101,10101,10101,1010101,101,101,1010101,10101,{"$f":"INDEX($CJ42:$CS42,1,WertungskriterienA)","v":10101},{"$f":"SUM((TRANSPOSE($CT$35:$CT$56)=CT42)*$AH42:$BC42)","v":0},1,10101,101010101,10101,101010101,10101010101,101010101,1010101010101,1010101010101,101010101,10101010101,{"$f":"INDEX(CW42:DF42,1,WertungskriterienA)","v":101010101},1,false,"Spieler 08",7,1.0070079999999999,8,10,"Spieler 09","-","Spieler 06",null,null,5,10,{"$f":"IF(AND(DU42=1,MOD(DT42,2)=0),MAX(TeilnNr),IF(MOD(DU42,2)=0,IF(MAX(TeilnNr)/2-DU42+1-(DT42-MAX(TeilnNr)/2-1)>=1,MAX(TeilnNr)/2-DU42+1-(DT42-MAX(TeilnNr)/2-1),MAX(TeilnNr)/2-DU42+1-(DT42-MAX(TeilnNr)/2-1)+MAX(TeilnNr)-1),IF(DU42-(DT42-1)>=1,DU42-(DT42-1),DU42-(DT42-1)+MAX(TeilnNr)-1)))","v":9},{"$f":"IF(AND(DU42=1,MOD(DT42,2)<>0),MAX(TeilnNr),IF(MOD(DU42,2)<>0,IF(MAX(TeilnNr)/2-DU42+1-(DT42-MAX(TeilnNr)/2-1)>=1,MAX(TeilnNr)/2-DU42+1-(DT42-MAX(TeilnNr)/2-1),MAX(TeilnNr)/2-DU42+1-(DT42-MAX(TeilnNr)/2-1)+MAX(TeilnNr)-1),IF(DU42-(DT42-1)>=1,DU42-(DT42-1),DU42-(DT42-1)+MAX(TeilnNr)-1)))","v":6},"","",{"$f":"ADDRESS(ROW(Teilnehmer)+DV42,COLUMN(Teilnehmer)+DW42)","v":"$I$43"},{"$f":"ADDRESS(ROW(Teilnehmer)+DW42,COLUMN(Teilnehmer)+DV42)","v":"$L$40"},10,"Spieler 08","-","Spieler 05",null,null,6,10,{"$f":"IF(AND(EI42=1,MOD(EH42,2)=0),MAX(TeilnNr),IF(MOD(EI42,2)=0,IF(MAX(TeilnNr)/2-EI42+1-(EH42-MAX(TeilnNr)/2-1)>=1,MAX(TeilnNr)/2-EI42+1-(EH42-MAX(TeilnNr)/2-1),MAX(TeilnNr)/2-EI42+1-(EH42-MAX(TeilnNr)/2-1)+MAX(TeilnNr)-1),IF(EI42-(EH42-1)>=1,EI42-(EH42-1),EI42-(EH42-1)+MAX(TeilnNr)-1)))","v":8},{"$f":"IF(AND(EI42=1,MOD(EH42,2)<>0),MAX(TeilnNr),IF(MOD(EI42,2)<>0,IF(MAX(TeilnNr)/2-EI42+1-(EH42-MAX(TeilnNr)/2-1)>=1,MAX(TeilnNr)/2-EI42+1-(EH42-MAX(TeilnNr)/2-1),MAX(TeilnNr)/2-EI42+1-(EH42-MAX(TeilnNr)/2-1)+MAX(TeilnNr)-1),IF(EI42-(EH42-1)>=1,EI42-(EH42-1),EI42-(EH42-1)+MAX(TeilnNr)-1)))","v":5},"","",{"$f":"ADDRESS(ROW(Teilnehmer)+EJ42,COLUMN(Teilnehmer)+EK42)","v":"$H$42"},{"$f":"ADDRESS(ROW(Teilnehmer)+EK42,COLUMN(Teilnehmer)+EJ42)","v":"$K$39"},10,{"$f":"DQ42","v":"Spieler 06"},"-",{"$f":"DO42","v":"Spieler 09"},null,10,{"$f":"EE42","v":"Spieler 05"},"-",{"$f":"EC42","v":"Spieler 08"}]
[null,9,null,"","","","","","","","","","","","","","","","","","","","","","",0,0,0,null,0,0,1,null,0,0,0,0,0,0,0,0,0,0,0,0,0,0,0,0,0,0,0,0,0,0,0,null,0,0,0,0,0,0,0,0,0,0,0,0,0,0,0,0,0,0,0,0,0,0,0,null,0,1,1,1,1,1,10101,101,1010101,10101,10101,1010101,101,101,1010101,10101,{"$f":"INDEX($CJ43:$CS43,1,WertungskriterienA)","v":10101},{"$f":"SUM((TRANSPOSE($CT$35:$CT$56)=CT43)*$AH43:$BC43)","v":0},1,10101,101010101,10101,101010101,10101010101,101010101,1010101010101,1010101010101,101010101,10101010101,{"$f":"INDEX(CW43:DF43,1,WertungskriterienA)","v":101010101},1,false,"Spieler 09",8,1.0080089999999999,9,11,"Spieler 07","-","Spieler 08",null,null,5,11,{"$f":"IF(AND(DU43=1,MOD(DT43,2)=0),MAX(TeilnNr),IF(MOD(DU43,2)=0,IF(MAX(TeilnNr)/2-DU43+1-(DT43-MAX(TeilnNr)/2-1)>=1,MAX(TeilnNr)/2-DU43+1-(DT43-MAX(TeilnNr)/2-1),MAX(TeilnNr)/2-DU43+1-(DT43-MAX(TeilnNr)/2-1)+MAX(TeilnNr)-1),IF(DU43-(DT43-1)>=1,DU43-(DT43-1),DU43-(DT43-1)+MAX(TeilnNr)-1)))","v":7},{"$f":"IF(AND(DU43=1,MOD(DT43,2)<>0),MAX(TeilnNr),IF(MOD(DU43,2)<>0,IF(MAX(TeilnNr)/2-DU43+1-(DT43-MAX(TeilnNr)/2-1)>=1,MAX(TeilnNr)/2-DU43+1-(DT43-MAX(TeilnNr)/2-1),MAX(TeilnNr)/2-DU43+1-(DT43-MAX(TeilnNr)/2-1)+MAX(TeilnNr)-1),IF(DU43-(DT43-1)>=1,DU43-(DT43-1),DU43-(DT43-1)+MAX(TeilnNr)-1)))","v":8},"","",{"$f":"ADDRESS(ROW(Teilnehmer)+DV43,COLUMN(Teilnehmer)+DW43)","v":"$K$41"},{"$f":"ADDRESS(ROW(Teilnehmer)+DW43,COLUMN(Teilnehmer)+DV43)","v":"$J$42"},11,"Spieler 06","-","Spieler 07",null,null,6,11,{"$f":"IF(AND(EI43=1,MOD(EH43,2)=0),MAX(TeilnNr),IF(MOD(EI43,2)=0,IF(MAX(TeilnNr)/2-EI43+1-(EH43-MAX(TeilnNr)/2-1)>=1,MAX(TeilnNr)/2-EI43+1-(EH43-MAX(TeilnNr)/2-1),MAX(TeilnNr)/2-EI43+1-(EH43-MAX(TeilnNr)/2-1)+MAX(TeilnNr)-1),IF(EI43-(EH43-1)>=1,EI43-(EH43-1),EI43-(EH43-1)+MAX(TeilnNr)-1)))","v":6},{"$f":"IF(AND(EI43=1,MOD(EH43,2)<>0),MAX(TeilnNr),IF(MOD(EI43,2)<>0,IF(MAX(TeilnNr)/2-EI43+1-(EH43-MAX(TeilnNr)/2-1)>=1,MAX(TeilnNr)/2-EI43+1-(EH43-MAX(TeilnNr)/2-1),MAX(TeilnNr)/2-EI43+1-(EH43-MAX(TeilnNr)/2-1)+MAX(TeilnNr)-1),IF(EI43-(EH43-1)>=1,EI43-(EH43-1),EI43-(EH43-1)+MAX(TeilnNr)-1)))","v":7},"","",{"$f":"ADDRESS(ROW(Teilnehmer)+EJ43,COLUMN(Teilnehmer)+EK43)","v":"$J$40"},{"$f":"ADDRESS(ROW(Teilnehmer)+EK43,COLUMN(Teilnehmer)+EJ43)","v":"$I$41"},11,"Spieler 07","-",{"$f":"DQ43","v":"Spieler 08"},null,11,"Spieler 06","-",{"$f":"EE43","v":"Spieler 07"}]
[null,10,null,"","","","","","","","","","","","","","","","","","","","","","",0,0,0,null,0,0,1,null,0,0,0,0,0,0,0,0,0,0,0,0,0,0,0,0,0,0,0,0,0,0,0,null,0,0,0,0,0,0,0,0,0,0,0,0,0,0,0,0,0,0,0,0,0,0,0,null,0,1,1,1,1,1,10101,101,1010101,10101,10101,1010101,101,101,1010101,10101,{"$f":"INDEX($CJ44:$CS44,1,WertungskriterienA)","v":10101},{"$f":"SUM((TRANSPOSE($CT$35:$CT$56)=CT44)*$AH44:$BC44)","v":0},1,10101,101010101,10101,101010101,10101010101,101010101,1010101010101,1010101010101,101010101,10101010101,{"$f":"INDEX(CW44:DF44,1,WertungskriterienA)","v":101010101},1,false,"Spieler 10",9,1.00901,10]
[null,11,null,{"$f":"IF(ISNA(MATCH(ADDRESS(ROW(),COLUMN()),$DZ:$DZ,0)),\"\",INDEX($DX:$DX,MATCH(ADDRESS(ROW(),COLUMN()),$DZ:$DZ,0)))&IF(ISNA(MATCH(ADDRESS(ROW(),COLUMN()),$EA:$EA,0)),\"\",INDEX($DY:$DY,MATCH(ADDRESS(ROW(),COLUMN()),$EA:$EA,0)))&IF(ISNA(MATCH(ADDRESS(ROW(),COLUMN()),$EN:$EN,0)),\"\",INDEX($EL:$EL,MATCH(ADDRESS(ROW(),COLUMN()),$EN:$EN,0)))&IF(ISNA(MATCH(ADDRESS(ROW(),COLUMN()),$EO:$EO,0)),\"\",INDEX($EM:$EM,MATCH(ADDRESS(ROW(),COLUMN()),$EO:$EO,0)))","v":""},"","","","","","","","","",{"$f":"IF(ISNA(MATCH(ADDRESS(ROW(),COLUMN()),$DZ:$DZ,0)),\"\",INDEX($DX:$DX,MATCH(ADDRESS(ROW(),COLUMN()),$DZ:$DZ,0)))&IF(ISNA(MATCH(ADDRESS(ROW(),COLUMN()),$EA:$EA,0)),\"\",INDEX($DY:$DY,MATCH(ADDRESS(ROW(),COLUMN()),$EA:$EA,0)))&IF(ISNA(MATCH(ADDRESS(ROW(),COLUMN()),$EN:$EN,0)),\"\",INDEX($EL:$EL,MATCH(ADDRESS(ROW(),COLUMN()),$EN:$EN,0)))&IF(ISNA(MATCH(ADDRESS(ROW(),COLUMN()),$EO:$EO,0)),\"\",INDEX($EM:$EM,MATCH(ADDRESS(ROW(),COLUMN()),$EO:$EO,0)))","v":""},"","","","","","","","","","","",0,0,0,null,0,0,1,null,0,0,0,0,0,0,0,0,0,0,0,0,0,0,0,0,0,0,0,0,0,0,0,null,0,0,0,0,0,0,0,0,0,0,0,0,0,0,0,0,0,0,0,0,0,0,0,null,0,1,1,1,1,1,10101,101,1010101,10101,10101,1010101,101,101,1010101,10101,{"$f":"INDEX($CJ45:$CS45,1,WertungskriterienA)","v":10101},{"$f":"SUM((TRANSPOSE($CT$35:$CT$56)=CT45)*$AH45:$BC45)","v":0},1,10101,101010101,10101,101010101,10101010101,101010101,1010101010101,1010101010101,101010101,10101010101,{"$f":"INDEX(CW45:DF45,1,WertungskriterienA)","v":101010101},1,false,"Spieler 11",10,1.010011,11,null,{"$f":"DO32+2","v":7},null,null,null,null,"R","B","SpNr w","SpNr s","Res w","Res s",null,null,null,{"$f":"EC32+2","v":8},null,null,null,null,"R","B","SpNr w","SpNr s","Res w","Res s",null,null,null,{"$f":"DO45","v":7},1,null,null,null,{"$f":"EC45","v":8}]
[null,12,null,"","","","","","","","","","","","","","","","","","","","","","",0,0,0,null,0,0,1,null,0,0,0,0,0,0,0,0,0,0,0,0,0,0,0,0,0,0,0,0,0,0,0,null,0,0,0,0,0,0,0,0,0,0,0,0,0,0,0,0,0,0,0,0,0,0,0,null,0,1,1,1,1,1,10101,101,1010101,10101,10101,1010101,101,101,1010101,10101,{"$f":"INDEX($CJ46:$CS46,1,WertungskriterienA)","v":10101},{"$f":"SUM((TRANSPOSE($CT$35:$CT$56)=CT46)*$AH46:$BC46)","v":0},1,10101,101010101,10101,101010101,10101010101,101010101,1010101010101,1010101010101,101010101,10101010101,{"$f":"INDEX(CW46:DF46,1,WertungskriterienA)","v":101010101},1,false,"Spieler 12",11,1.0110119999999998,12,{"$f":"IF(OR(INDEX($DI$35:$DI$56,DV46),INDEX($DI$35:$DI$56,DW46)),0,1)","v":1},{"$f":"INDEX($DJ$35:$DJ$56,MATCH($DV46,TeilnNr,0))","v":"Spieler 16"},"-",{"$f":"INDEX($DJ$35:$DJ$56,MATCH($DW46,TeilnNr,0))","v":"Spieler 22"},null,null,{"$f":"DO45","v":7},1,{"$f":"IF(AND(DU46=1,MOD(DT46,2)=0),MAX(TeilnNr),IF(MOD(DU46,2)=0,IF(MAX(TeilnNr)/2-DU46+1-(DT46-MAX(TeilnNr)/2-1)>=1,MAX(TeilnNr)/2-DU46+1-(DT46-MAX(TeilnNr)/2-1),MAX(TeilnNr)/2-DU46+1-(DT46-MAX(TeilnNr)/2-1)+MAX(TeilnNr)-1),IF(DU46-(DT46-1)>=1,DU46-(DT46-1),DU46-(DT46-1)+MAX(TeilnNr)-1)))","v":16},{"$f":"IF(AND(DU46=1,MOD(DT46,2)<>0),MAX(TeilnNr),IF(MOD(DU46,2)<>0,IF(MAX(TeilnNr)/2-DU46+1-(DT46-MAX(TeilnNr)/2-1)>=1,MAX(TeilnNr)/2-DU46+1-(DT46-MAX(TeilnNr)/2-1),MAX(TeilnNr)/2-DU46+1-(DT46-MAX(TeilnNr)/2-1)+MAX(TeilnNr)-1),IF(DU46-(DT46-1)>=1,DU46-(DT46-1),DU46-(DT46-1)+MAX(TeilnNr)-1)))","v":22},{"$f":"IF(LEFT(DS46,1)=\"V\",\"\",LEFT(DS46,1))","v":""},{"$f":"IF(RIGHT(DS46,1)=\"V\",\"\",RIGHT(DS46,1))","v":""},{"$f":"ADDRESS(ROW(Teilnehmer)+DV46,COLUMN(Teilnehmer)+DW46)","v":"$Y$50"},{"$f":"ADDRESS(ROW(Teilnehmer)+DW46,COLUMN(Teilnehmer)+DV46)","v":"$S$56"},{"$f":"IF(OR(INDEX($DI$35:$DI$56,EJ46),INDEX($DI$35:$DI$56,EK46)),0,1)","v":1},{"$f":"INDEX($DJ$35:$DJ$56,MATCH($EJ46,TeilnNr,0))","v":"Spieler 22"},"-",{"$f":"INDEX($DJ$35:$DJ$56,MATCH($EK46,TeilnNr,0))","v":"Spieler 15"},null,null,{"$f":"EC45","v":8},1,{"$f":"IF(AND(EI46=1,MOD(EH46,2)=0),MAX(TeilnNr),IF(MOD(EI46,2)=0,IF(MAX(TeilnNr)/2-EI46+1-(EH46-MAX(TeilnNr)/2-1)>=1,MAX(TeilnNr)/2-EI46+1-(EH46-MAX(TeilnNr)/2-1),MAX(TeilnNr)/2-EI46+1-(EH46-MAX(TeilnNr)/2-1)+MAX(TeilnNr)-1),IF(EI46-(EH46-1)>=1,EI46-(EH46-1),EI46-(EH46-1)+MAX(TeilnNr)-1)))","v":22},{"$f":"IF(AND(EI46=1,MOD(EH46,2)<>0),MAX(TeilnNr),IF(MOD(EI46,2)<>0,IF(MAX(TeilnNr)/2-EI46+1-(EH46-MAX(TeilnNr)/2-1)>=1,MAX(TeilnNr)/2-EI46+1-(EH46-MAX(TeilnNr)/2-1),MAX(TeilnNr)/2-EI46+1-(EH46-MAX(TeilnNr)/2-1)+MAX(TeilnNr)-1),IF(EI46-(EH46-1)>=1,EI46-(EH46-1),EI46-(EH46-1)+MAX(TeilnNr)-1)))","v":15},{"$f":"IF(LEFT(EG46,1)=\"V\",\"\",LEFT(EG46,1))","v":""},{"$f":"IF(RIGHT(EG46,1)=\"V\",\"\",RIGHT(EG46,1))","v":""},{"$f":"ADDRESS(ROW(Teilnehmer)+EJ46,COLUMN(Teilnehmer)+EK46)","v":"$R$56"},{"$f":"ADDRESS(ROW(Teilnehmer)+EK46,COLUMN(Teilnehmer)+EJ46)","v":"$Y$49"},{"$f":"DN46","v":1},"Spieler 16","-",{"$f":"DQ46","v":"Spieler 22"},null,{"$f":"EB46","v":1},{"$f":"EE46","v":"Spieler 15"},"-",{"$f":"EC46","v":"Spieler 22"}]
[null,13,null,"","","","","","","","","","","","","","","","","","","","","","",0,0,0,null,0,0,1,null,0,0,0,0,0,0,0,0,0,0,0,0,0,0,0,0,0,0,0,0,0,0,0,null,0,0,0,0,0,0,0,0,0,0,0,0,0,0,0,0,0,0,0,0,0,0,0,null,0,1,1,1,1,1,10101,101,1010101,10101,10101,1010101,101,101,1010101,10101,{"$f":"INDEX($CJ47:$CS47,1,WertungskriterienA)","v":10101},{"$f":"SUM((TRANSPOSE($CT$35:$CT$56)=CT47)*$AH47:$BC47)","v":0},1,10101,101010101,10101,101010101,10101010101,101010101,1010101010101,1010101010101,101010101,10101010101,{"$f":"INDEX(CW47:DF47,1,WertungskriterienA)","v":101010101},1,false,"Spieler 13",12,1.0120130000000001,13,{"$f":"DN46+1","v":2},"Spieler 15","-","Spieler 17",null,null,{"$f":"DT46","v":7},{"$f":"DU46+1","v":2},{"$f":"IF(AND(DU47=1,MOD(DT47,2)=0),MAX(TeilnNr),IF(MOD(DU47,2)=0,IF(MAX(TeilnNr)/2-DU47+1-(DT47-MAX(TeilnNr)/2-1)>=1,MAX(TeilnNr)/2-DU47+1-(DT47-MAX(TeilnNr)/2-1),MAX(TeilnNr)/2-DU47+1-(DT47-MAX(TeilnNr)/2-1)+MAX(TeilnNr)-1),IF(DU47-(DT47-1)>=1,DU47-(DT47-1),DU47-(DT47-1)+MAX(TeilnNr)-1)))","v":15},{"$f":"IF(AND(DU47=1,MOD(DT47,2)<>0),MAX(TeilnNr),IF(MOD(DU47,2)<>0,IF(MAX(TeilnNr)/2-DU47+1-(DT47-MAX(TeilnNr)/2-1)>=1,MAX(TeilnNr)/2-DU47+1-(DT47-MAX(TeilnNr)/2-1),MAX(TeilnNr)/2-DU47+1-(DT47-MAX(TeilnNr)/2-1)+MAX(TeilnNr)-1),IF(DU47-(DT47-1)>=1,DU47-(DT47-1),DU47-(DT47-1)+MAX(TeilnNr)-1)))","v":17},"","",{"$f":"ADDRESS(ROW(Teilnehmer)+DV47,COLUMN(Teilnehmer)+DW47)","v":"$T$49"},{"$f":"ADDRESS(ROW(Teilnehmer)+DW47,COLUMN(Teilnehmer)+DV47)","v":"$R$51"},{"$f":"EB46+1","v":2},"Spieler 14","-","Spieler 16",null,null,{"$f":"EH46","v":8},{"$f":"EI46+1","v":2},{"$f":"IF(AND(EI47=1,MOD(EH47,2)=0),MAX(TeilnNr),IF(MOD(EI47,2)=0,IF(MAX(TeilnNr)/2-EI47+1-(EH47-MAX(TeilnNr)/2-1)>=1,MAX(TeilnNr)/2-EI47+1-(EH47-MAX(TeilnNr)/2-1),MAX(TeilnNr)/2-EI47+1-(EH47-MAX(TeilnNr)/2-1)+MAX(TeilnNr)-1),IF(EI47-(EH47-1)>=1,EI47-(EH47-1),EI47-(EH47-1)+MAX(TeilnNr)-1)))","v":14},{"$f":"IF(AND(EI47=1,MOD(EH47,2)<>0),MAX(TeilnNr),IF(MOD(EI47,2)<>0,IF(MAX(TeilnNr)/2-EI47+1-(EH47-MAX(TeilnNr)/2-1)>=1,MAX(TeilnNr)/2-EI47+1-(EH47-MAX(TeilnNr)/2-1),MAX(TeilnNr)/2-EI47+1-(EH47-MAX(TeilnNr)/2-1)+MAX(TeilnNr)-1),IF(EI47-(EH47-1)>=1,EI47-(EH47-1),EI47-(EH47-1)+MAX(TeilnNr)-1)))","v":16},"","",{"$f":"ADDRESS(ROW(Teilnehmer)+EJ47,COLUMN(Teilnehmer)+EK47)","v":"$S$48"},{"$f":"ADDRESS(ROW(Teilnehmer)+EK47,COLUMN(Teilnehmer)+EJ47)","v":"$Q$50"},{"$f":"DN47","v":2},{"$f":"DQ47","v":"Spieler 17"},"-",{"$f":"DO47","v":"Spieler 15"},null,2,"Spieler 16","-","Spieler 14"]
[null,14,null,"","","","","","","","","","","","","","","","","","","","","","",0,0,0,null,0,0,1,null,0,0,0,0,0,0,0,0,0,0,0,0,0,0,0,0,0,0,0,0,0,0,0,null,0,0,0,0,0,0,0,0,0,0,0,0,0,0,0,0,0,0,0,0,0,0,0,null,0,1,1,1,1,1,10101,101,1010101,10101,10101,1010101,101,101,1010101,10101,{"$f":"INDEX($CJ48:$CS48,1,WertungskriterienA)","v":10101},{"$f":"SUM((TRANSPOSE($CT$35:$CT$56)=CT48)*$AH48:$BC48)","v":0},1,10101,101010101,10101,101010101,10101010101,101010101,1010101010101,1010101010101,101010101,10101010101,{"$f":"INDEX(CW48:DF48,1,WertungskriterienA)","v":101010101},1,false,"Spieler 14",13,1.0130139999999999,14,{"$f":"DN47+1","v":3},"Spieler 18","-","Spieler 14",null,null,{"$f":"DT47","v":7},{"$f":"DU47+1","v":3},{"$f":"IF(AND(DU48=1,MOD(DT48,2)=0),MAX(TeilnNr),IF(MOD(DU48,2)=0,IF(MAX(TeilnNr)/2-DU48+1-(DT48-MAX(TeilnNr)/2-1)>=1,MAX(TeilnNr)/2-DU48+1-(DT48-MAX(TeilnNr)/2-1),MAX(TeilnNr)/2-DU48+1-(DT48-MAX(TeilnNr)/2-1)+MAX(TeilnNr)-1),IF(DU48-(DT48-1)>=1,DU48-(DT48-1),DU48-(DT48-1)+MAX(TeilnNr)-1)))","v":18},{"$f":"IF(AND(DU48=1,MOD(DT48,2)<>0),MAX(TeilnNr),IF(MOD(DU48,2)<>0,IF(MAX(TeilnNr)/2-DU48+1-(DT48-MAX(TeilnNr)/2-1)>=1,MAX(TeilnNr)/2-DU48+1-(DT48-MAX(TeilnNr)/2-1),MAX(TeilnNr)/2-DU48+1-(DT48-MAX(TeilnNr)/2-1)+MAX(TeilnNr)-1),IF(DU48-(DT48-1)>=1,DU48-(DT48-1),DU48-(DT48-1)+MAX(TeilnNr)-1)))","v":14},"","",{"$f":"ADDRESS(ROW(Teilnehmer)+DV48,COLUMN(Teilnehmer)+DW48)","v":"$Q$52"},{"$f":"ADDRESS(ROW(Teilnehmer)+DW48,COLUMN(Teilnehmer)+DV48)","v":"$U$48"},{"$f":"EB47+1","v":3},"Spieler 17","-","Spieler 13",null,null,{"$f":"EH47","v":8},{"$f":"EI47+1","v":3},{"$f":"IF(AND(EI48=1,MOD(EH48,2)=0),MAX(TeilnNr),IF(MOD(EI48,2)=0,IF(MAX(TeilnNr)/2-EI48+1-(EH48-MAX(TeilnNr)/2-1)>=1,MAX(TeilnNr)/2-EI48+1-(EH48-MAX(TeilnNr)/2-1),MAX(TeilnNr)/2-EI48+1-(EH48-MAX(TeilnNr)/2-1)+MAX(TeilnNr)-1),IF(EI48-(EH48-1)>=1,EI48-(EH48-1),EI48-(EH48-1)+MAX(TeilnNr)-1)))","v":17},{"$f":"IF(AND(EI48=1,MOD(EH48,2)<>0),MAX(TeilnNr),IF(MOD(EI48,2)<>0,IF(MAX(TeilnNr)/2-EI48+1-(EH48-MAX(TeilnNr)/2-1)>=1,MAX(TeilnNr)/2-EI48+1-(EH48-MAX(TeilnNr)/2-1),MAX(TeilnNr)/2-EI48+1-(EH48-MAX(TeilnNr)/2-1)+MAX(TeilnNr)-1),IF(EI48-(EH48-1)>=1,EI48-(EH48-1),EI48-(EH48-1)+MAX(TeilnNr)-1)))","v":13},"","",{"$f":"ADDRESS(ROW(Teilnehmer)+EJ48,COLUMN(Teilnehmer)+EK48)","v":"$P$51"},{"$f":"ADDRESS(ROW(Teilnehmer)+EK48,COLUMN(Teilnehmer)+EJ48)","v":"$T$47"},3,"Spieler 18","-",{"$f":"DQ48","v":"Spieler 14"},null,3,"Spieler 17","-",{"$f":"EE48","v":"Spieler 13"}]
[null,15,null,"","","","","","","","","","","","","","","","","","","","","","",0,0,0,null,0,0,1,null,0,0,0,0,0,0,0,0,0,0,0,0,0,0,0,0,0,0,0,0,0,0,0,null,0,0,0,0,0,0,0,0,0,0,0,0,0,0,0,0,0,0,0,0,0,0,0,null,0,1,1,1,1,1,10101,101,1010101,10101,10101,1010101,101,101,1010101,10101,{"$f":"INDEX($CJ49:$CS49,1,WertungskriterienA)","v":10101},{"$f":"SUM((TRANSPOSE($CT$35:$CT$56)=CT49)*$AH49:$BC49)","v":0},1,10101,101010101,10101,101010101,10101010101,101010101,1010101010101,1010101010101,101010101,10101010101,{"$f":"INDEX(CW49:DF49,1,WertungskriterienA)","v":101010101},1,false,"Spieler 15",14,1.0140150000000001,15,4,"Spieler 13","-","Spieler 19",null,null,{"$f":"DT48","v":7},4,{"$f":"IF(AND(DU49=1,MOD(DT49,2)=0),MAX(TeilnNr),IF(MOD(DU49,2)=0,IF(MAX(TeilnNr)/2-DU49+1-(DT49-MAX(TeilnNr)/2-1)>=1,MAX(TeilnNr)/2-DU49+1-(DT49-MAX(TeilnNr)/2-1),MAX(TeilnNr)/2-DU49+1-(DT49-MAX(TeilnNr)/2-1)+MAX(TeilnNr)-1),IF(DU49-(DT49-1)>=1,DU49-(DT49-1),DU49-(DT49-1)+MAX(TeilnNr)-1)))","v":13},{"$f":"IF(AND(DU49=1,MOD(DT49,2)<>0),MAX(TeilnNr),IF(MOD(DU49,2)<>0,IF(MAX(TeilnNr)/2-DU49+1-(DT49-MAX(TeilnNr)/2-1)>=1,MAX(TeilnNr)/2-DU49+1-(DT49-MAX(TeilnNr)/2-1),MAX(TeilnNr)/2-DU49+1-(DT49-MAX(TeilnNr)/2-1)+MAX(TeilnNr)-1),IF(DU49-(DT49-1)>=1,DU49-(DT49-1),DU49-(DT49-1)+MAX(TeilnNr)-1)))","v":19},"","",{"$f":"ADDRESS(ROW(Teilnehmer)+DV49,COLUMN(Teilnehmer)+DW49)","v":"$V$47"},{"$f":"ADDRESS(ROW(Teilnehmer)+DW49,COLUMN(Teilnehmer)+DV49)","v":"$P$53"},4,"Spieler 12","-","Spieler 18",null,null,{"$f":"EH48","v":8},4,{"$f":"IF(AND(EI49=1,MOD(EH49,2)=0),MAX(TeilnNr),IF(MOD(EI49,2)=0,IF(MAX(TeilnNr)/2-EI49+1-(EH49-MAX(TeilnNr)/2-1)>=1,MAX(TeilnNr)/2-EI49+1-(EH49-MAX(TeilnNr)/2-1),MAX(TeilnNr)/2-EI49+1-(EH49-MAX(TeilnNr)/2-1)+MAX(TeilnNr)-1),IF(EI49-(EH49-1)>=1,EI49-(EH49-1),EI49-(EH49-1)+MAX(TeilnNr)-1)))","v":12},{"$f":"IF(AND(EI49=1,MOD(EH49,2)<>0),MAX(TeilnNr),IF(MOD(EI49,2)<>0,IF(MAX(TeilnNr)/2-EI49+1-(EH49-MAX(TeilnNr)/2-1)>=1,MAX(TeilnNr)/2-EI49+1-(EH49-MAX(TeilnNr)/2-1),MAX(TeilnNr)/2-EI49+1-(EH49-MAX(TeilnNr)/2-1)+MAX(TeilnNr)-1),IF(EI49-(EH49-1)>=1,EI49-(EH49-1),EI49-(EH49-1)+MAX(TeilnNr)-1)))","v":18},"","",{"$f":"ADDRESS(ROW(Teilnehmer)+EJ49,COLUMN(Teilnehmer)+EK49)","v":"$U$46"},{"$f":"ADDRESS(ROW(Teilnehmer)+EK49,COLUMN(Teilnehmer)+EJ49)","v":"$O$52"},4,{"$f":"DQ49","v":"Spieler 19"},"-",{"$f":"DO49","v":"Spieler 13"},null,4,{"$f":"EE49","v":"Spieler 18"},"-",{"$f":"EC49","v":"Spieler 12"}]
[null,16,null,"","","","","","","","","","","","","","","","","","","","","","",0,0,0,null,0,0,1,null,0,0,0,0,0,0,0,0,0,0,0,0,0,0,0,0,0,0,0,0,0,0,0,null,0,0,0,0,0,0,0,0,0,0,0,0,0,0,0,0,0,0,0,0,0,0,0,null,0,1,1,1,1,1,10101,101,1010101,10101,10101,1010101,101,101,1010101,10101,{"$f":"INDEX($CJ50:$CS50,1,WertungskriterienA)","v":10101},{"$f":"SUM((TRANSPOSE($CT$35:$CT$56)=CT50)*$AH50:$BC50)","v":0},1,10101,101010101,10101,101010101,10101010101,101010101,1010101010101,1010101010101,101010101,10101010101,{"$f":"INDEX(CW50:DF50,1,WertungskriterienA)","v":101010101},1,false,"Spieler 16",15,1.0150159999999999,16,5,"Spieler 20","-","Spieler 12",null,null,{"$f":"DT49","v":7},5,{"$f":"IF(AND(DU50=1,MOD(DT50,2)=0),MAX(TeilnNr),IF(MOD(DU50,2)=0,IF(MAX(TeilnNr)/2-DU50+1-(DT50-MAX(TeilnNr)/2-1)>=1,MAX(TeilnNr)/2-DU50+1-(DT50-MAX(TeilnNr)/2-1),MAX(TeilnNr)/2-DU50+1-(DT50-MAX(TeilnNr)/2-1)+MAX(TeilnNr)-1),IF(DU50-(DT50-1)>=1,DU50-(DT50-1),DU50-(DT50-1)+MAX(TeilnNr)-1)))","v":20},{"$f":"IF(AND(DU50=1,MOD(DT50,2)<>0),MAX(TeilnNr),IF(MOD(DU50,2)<>0,IF(MAX(TeilnNr)/2-DU50+1-(DT50-MAX(TeilnNr)/2-1)>=1,MAX(TeilnNr)/2-DU50+1-(DT50-MAX(TeilnNr)/2-1),MAX(TeilnNr)/2-DU50+1-(DT50-MAX(TeilnNr)/2-1)+MAX(TeilnNr)-1),IF(DU50-(DT50-1)>=1,DU50-(DT50-1),DU50-(DT50-1)+MAX(TeilnNr)-1)))","v":12},"","",{"$f":"ADDRESS(ROW(Teilnehmer)+DV50,COLUMN(Teilnehmer)+DW50)","v":"$O$54"},{"$f":"ADDRESS(ROW(Teilnehmer)+DW50,COLUMN(Teilnehmer)+DV50)","v":"$W$46"},5,"Spieler 19","-","Spieler 11",null,null,8,5,{"$f":"IF(AND(EI50=1,MOD(EH50,2)=0),MAX(TeilnNr),IF(MOD(EI50,2)=0,IF(MAX(TeilnNr)/2-EI50+1-(EH50-MAX(TeilnNr)/2-1)>=1,MAX(TeilnNr)/2-EI50+1-(EH50-MAX(TeilnNr)/2-1),MAX(TeilnNr)/2-EI50+1-(EH50-MAX(TeilnNr)/2-1)+MAX(TeilnNr)-1),IF(EI50-(EH50-1)>=1,EI50-(EH50-1),EI50-(EH50-1)+MAX(TeilnNr)-1)))","v":19},{"$f":"IF(AND(EI50=1,MOD(EH50,2)<>0),MAX(TeilnNr),IF(MOD(EI50,2)<>0,IF(MAX(TeilnNr)/2-EI50+1-(EH50-MAX(TeilnNr)/2-1)>=1,MAX(TeilnNr)/2-EI50+1-(EH50-MAX(TeilnNr)/2-1),MAX(TeilnNr)/2-EI50+1-(EH50-MAX(TeilnNr)/2-1)+MAX(TeilnNr)-1),IF(EI50-(EH50-1)>=1,EI50-(EH50-1),EI50-(EH50-1)+MAX(TeilnNr)-1)))","v":11},"","",{"$f":"ADDRESS(ROW(Teilnehmer)+EJ50,COLUMN(Teilnehmer)+EK50)","v":"$N$53"},{"$f":"ADDRESS(ROW(Teilnehmer)+EK50,COLUMN(Teilnehmer)+EJ50)","v":"$V$45"},5,"Spieler 20","-",{"$f":"DQ50","v":"Spieler 12"},null,5,"Spieler 19","-",{"$f":"EE50","v":"Spieler 11"}]
[null,17,null,"","","","","","","","","","","","","","","","","","","","","","",0,0,0,null,0,0,1,null,0,0,0,0,0,0,0,0,0,0,0,0,0,0,0,0,0,0,0,0,0,0,0,null,0,0,0,0,0,0,0,0,0,0,0,0,0,0,0,0,0,0,0,0,0,0,0,null,0,1,1,1,1,1,10101,101,1010101,10101,10101,1010101,101,101,1010101,10101,{"$f":"INDEX($CJ51:$CS51,1,WertungskriterienA)","v":10101},{"$f":"SUM((TRANSPOSE($CT$35:$CT$56)=CT51)*$AH51:$BC51)","v":0},1,10101,101010101,10101,101010101,10101010101,101010101,1010101010101,1010101010101,101010101,10101010101,{"$f":"INDEX(CW51:DF51,1,WertungskriterienA)","v":101010101},1,false,"Spieler 17",16,1.0160169999999999,17,6,"Spieler 11","-","Spieler 21",null,null,{"$f":"DT50","v":7},6,{"$f":"IF(AND(DU51=1,MOD(DT51,2)=0),MAX(TeilnNr),IF(MOD(DU51,2)=0,IF(MAX(TeilnNr)/2-DU51+1-(DT51-MAX(TeilnNr)/2-1)>=1,MAX(TeilnNr)/2-DU51+1-(DT51-MAX(TeilnNr)/2-1),MAX(TeilnNr)/2-DU51+1-(DT51-MAX(TeilnNr)/2-1)+MAX(TeilnNr)-1),IF(DU51-(DT51-1)>=1,DU51-(DT51-1),DU51-(DT51-1)+MAX(TeilnNr)-1)))","v":11},{"$f":"IF(AND(DU51=1,MOD(DT51,2)<>0),MAX(TeilnNr),IF(MOD(DU51,2)<>0,IF(MAX(TeilnNr)/2-DU51+1-(DT51-MAX(TeilnNr)/2-1)>=1,MAX(TeilnNr)/2-DU51+1-(DT51-MAX(TeilnNr)/2-1),MAX(TeilnNr)/2-DU51+1-(DT51-MAX(TeilnNr)/2-1)+MAX(TeilnNr)-1),IF(DU51-(DT51-1)>=1,DU51-(DT51-1),DU51-(DT51-1)+MAX(TeilnNr)-1)))","v":21},"","",{"$f":"ADDRESS(ROW(Teilnehmer)+DV51,COLUMN(Teilnehmer)+DW51)","v":"$X$45"},{"$f":"ADDRESS(ROW(Teilnehmer)+DW51,COLUMN(Teilnehmer)+DV51)","v":"$N$55"},6,"Spieler 10","-","Spieler 20",null,null,8,6,{"$f":"IF(AND(EI51=1,MOD(EH51,2)=0),MAX(TeilnNr),IF(MOD(EI51,2)=0,IF(MAX(TeilnNr)/2-EI51+1-(EH51-MAX(TeilnNr)/2-1)>=1,MAX(TeilnNr)/2-EI51+1-(EH51-MAX(TeilnNr)/2-1),MAX(TeilnNr)/2-EI51+1-(EH51-MAX(TeilnNr)/2-1)+MAX(TeilnNr)-1),IF(EI51-(EH51-1)>=1,EI51-(EH51-1),EI51-(EH51-1)+MAX(TeilnNr)-1)))","v":10},{"$f":"IF(AND(EI51=1,MOD(EH51,2)<>0),MAX(TeilnNr),IF(MOD(EI51,2)<>0,IF(MAX(TeilnNr)/2-EI51+1-(EH51-MAX(TeilnNr)/2-1)>=1,MAX(TeilnNr)/2-EI51+1-(EH51-MAX(TeilnNr)/2-1),MAX(TeilnNr)/2-EI51+1-(EH51-MAX(TeilnNr)/2-1)+MAX(TeilnNr)-1),IF(EI51-(EH51-1)>=1,EI51-(EH51-1),EI51-(EH51-1)+MAX(TeilnNr)-1)))","v":20},"","",{"$f":"ADDRESS(ROW(Teilnehmer)+EJ51,COLUMN(Teilnehmer)+EK51)","v":"$W$44"},{"$f":"ADDRESS(ROW(Teilnehmer)+EK51,COLUMN(Teilnehmer)+EJ51)","v":"$M$54"},6,{"$f":"DQ51","v":"Spieler 21"},"-",{"$f":"DO51","v":"Spieler 11"},null,6,{"$f":"EE51","v":"Spieler 20"},"-",{"$f":"EC51","v":"Spieler 10"}]
[null,18,null,"","","","","","","","","","","","","","","","","","","","","","",0,0,0,null,0,0,1,null,0,0,0,0,0,0,0,0,0,0,0,0,0,0,0,0,0,0,0,0,0,0,0,null,0,0,0,0,0,0,0,0,0,0,0,0,0,0,0,0,0,0,0,0,0,0,0,null,0,1,1,1,1,1,10101,101,1010101,10101,10101,1010101,101,101,1010101,10101,{"$f":"INDEX($CJ52:$CS52,1,WertungskriterienA)","v":10101},{"$f":"SUM((TRANSPOSE($CT$35:$CT$56)=CT52)*$AH52:$BC52)","v":0},1,10101,101010101,10101,101010101,10101010101,101010101,1010101010101,1010101010101,101010101,10101010101,{"$f":"INDEX(CW52:DF52,1,WertungskriterienA)","v":101010101},1,false,"Spieler 18",17,1.017018,18,7,"Spieler 01","-","Spieler 10",null,null,{"$f":"DT51","v":7},7,{"$f":"IF(AND(DU52=1,MOD(DT52,2)=0),MAX(TeilnNr),IF(MOD(DU52,2)=0,IF(MAX(TeilnNr)/2-DU52+1-(DT52-MAX(TeilnNr)/2-1)>=1,MAX(TeilnNr)/2-DU52+1-(DT52-MAX(TeilnNr)/2-1),MAX(TeilnNr)/2-DU52+1-(DT52-MAX(TeilnNr)/2-1)+MAX(TeilnNr)-1),IF(DU52-(DT52-1)>=1,DU52-(DT52-1),DU52-(DT52-1)+MAX(TeilnNr)-1)))","v":1},{"$f":"IF(AND(DU52=1,MOD(DT52,2)<>0),MAX(TeilnNr),IF(MOD(DU52,2)<>0,IF(MAX(TeilnNr)/2-DU52+1-(DT52-MAX(TeilnNr)/2-1)>=1,MAX(TeilnNr)/2-DU52+1-(DT52-MAX(TeilnNr)/2-1),MAX(TeilnNr)/2-DU52+1-(DT52-MAX(TeilnNr)/2-1)+MAX(TeilnNr)-1),IF(DU52-(DT52-1)>=1,DU52-(DT52-1),DU52-(DT52-1)+MAX(TeilnNr)-1)))","v":10},"","",{"$f":"ADDRESS(ROW(Teilnehmer)+DV52,COLUMN(Teilnehmer)+DW52)","v":"$M$35"},{"$f":"ADDRESS(ROW(Teilnehmer)+DW52,COLUMN(Teilnehmer)+DV52)","v":"$D$44"},7,"Spieler 21","-","Spieler 09",null,null,8,7,{"$f":"IF(AND(EI52=1,MOD(EH52,2)=0),MAX(TeilnNr),IF(MOD(EI52,2)=0,IF(MAX(TeilnNr)/2-EI52+1-(EH52-MAX(TeilnNr)/2-1)>=1,MAX(TeilnNr)/2-EI52+1-(EH52-MAX(TeilnNr)/2-1),MAX(TeilnNr)/2-EI52+1-(EH52-MAX(TeilnNr)/2-1)+MAX(TeilnNr)-1),IF(EI52-(EH52-1)>=1,EI52-(EH52-1),EI52-(EH52-1)+MAX(TeilnNr)-1)))","v":21},{"$f":"IF(AND(EI52=1,MOD(EH52,2)<>0),MAX(TeilnNr),IF(MOD(EI52,2)<>0,IF(MAX(TeilnNr)/2-EI52+1-(EH52-MAX(TeilnNr)/2-1)>=1,MAX(TeilnNr)/2-EI52+1-(EH52-MAX(TeilnNr)/2-1),MAX(TeilnNr)/2-EI52+1-(EH52-MAX(TeilnNr)/2-1)+MAX(TeilnNr)-1),IF(EI52-(EH52-1)>=1,EI52-(EH52-1),EI52-(EH52-1)+MAX(TeilnNr)-1)))","v":9},"","",{"$f":"ADDRESS(ROW(Teilnehmer)+EJ52,COLUMN(Teilnehmer)+EK52)","v":"$L$55"},{"$f":"ADDRESS(ROW(Teilnehmer)+EK52,COLUMN(Teilnehmer)+EJ52)","v":"$X$43"},7,"Spieler 01","-",{"$f":"DQ52","v":"Spieler 10"},null,7,"Spieler 21","-",{"$f":"EE52","v":"Spieler 09"}]
[null,19,null,"","","","","","","","","","","","","","","","","","","","","","",0,0,0,null,0,0,1,null,0,0,0,0,0,0,0,0,0,0,0,0,0,0,0,0,0,0,0,0,0,0,0,null,0,0,0,0,0,0,0,0,0,0,0,0,0,0,0,0,0,0,0,0,0,0,0,null,0,1,1,1,1,1,10101,101,1010101,10101,10101,1010101,101,101,1010101,10101,{"$f":"INDEX($CJ53:$CS53,1,WertungskriterienA)","v":10101},{"$f":"SUM((TRANSPOSE($CT$35:$CT$56)=CT53)*$AH53:$BC53)","v":0},1,10101,101010101,10101,101010101,10101010101,101010101,1010101010101,1010101010101,101010101,10101010101,{"$f":"INDEX(CW53:DF53,1,WertungskriterienA)","v":101010101},1,false,"Spieler 19",18,1.018019,19,8,"Spieler 09","-","Spieler 02",null,null,7,8,{"$f":"IF(AND(DU53=1,MOD(DT53,2)=0),MAX(TeilnNr),IF(MOD(DU53,2)=0,IF(MAX(TeilnNr)/2-DU53+1-(DT53-MAX(TeilnNr)/2-1)>=1,MAX(TeilnNr)/2-DU53+1-(DT53-MAX(TeilnNr)/2-1),MAX(TeilnNr)/2-DU53+1-(DT53-MAX(TeilnNr)/2-1)+MAX(TeilnNr)-1),IF(DU53-(DT53-1)>=1,DU53-(DT53-1),DU53-(DT53-1)+MAX(TeilnNr)-1)))","v":9},{"$f":"IF(AND(DU53=1,MOD(DT53,2)<>0),MAX(TeilnNr),IF(MOD(DU53,2)<>0,IF(MAX(TeilnNr)/2-DU53+1-(DT53-MAX(TeilnNr)/2-1)>=1,MAX(TeilnNr)/2-DU53+1-(DT53-MAX(TeilnNr)/2-1),MAX(TeilnNr)/2-DU53+1-(DT53-MAX(TeilnNr)/2-1)+MAX(TeilnNr)-1),IF(DU53-(DT53-1)>=1,DU53-(DT53-1),DU53-(DT53-1)+MAX(TeilnNr)-1)))","v":2},"","",{"$f":"ADDRESS(ROW(Teilnehmer)+DV53,COLUMN(Teilnehmer)+DW53)","v":"$E$43"},{"$f":"ADDRESS(ROW(Teilnehmer)+DW53,COLUMN(Teilnehmer)+DV53)","v":"$L$36"},8,"Spieler 08","-","Spieler 01",null,null,8,8,{"$f":"IF(AND(EI53=1,MOD(EH53,2)=0),MAX(TeilnNr),IF(MOD(EI53,2)=0,IF(MAX(TeilnNr)/2-EI53+1-(EH53-MAX(TeilnNr)/2-1)>=1,MAX(TeilnNr)/2-EI53+1-(EH53-MAX(TeilnNr)/2-1),MAX(TeilnNr)/2-EI53+1-(EH53-MAX(TeilnNr)/2-1)+MAX(TeilnNr)-1),IF(EI53-(EH53-1)>=1,EI53-(EH53-1),EI53-(EH53-1)+MAX(TeilnNr)-1)))","v":8},{"$f":"IF(AND(EI53=1,MOD(EH53,2)<>0),MAX(TeilnNr),IF(MOD(EI53,2)<>0,IF(MAX(TeilnNr)/2-EI53+1-(EH53-MAX(TeilnNr)/2-1)>=1,MAX(TeilnNr)/2-EI53+1-(EH53-MAX(TeilnNr)/2-1),MAX(TeilnNr)/2-EI53+1-(EH53-MAX(TeilnNr)/2-1)+MAX(TeilnNr)-1),IF(EI53-(EH53-1)>=1,EI53-(EH53-1),EI53-(EH53-1)+MAX(TeilnNr)-1)))","v":1},"","",{"$f":"ADDRESS(ROW(Teilnehmer)+EJ53,COLUMN(Teilnehmer)+EK53)","v":"$D$42"},{"$f":"ADDRESS(ROW(Teilnehmer)+EK53,COLUMN(Teilnehmer)+EJ53)","v":"$K$35"},8,{"$f":"DQ53","v":"Spieler 02"},"-",{"$f":"DO53","v":"Spieler 09"},null,8,{"$f":"EE53","v":"Spieler 01"},"-",{"$f":"EC53","v":"Spieler 08"}]
[null,20,null,"","","","","","","","","","","","","","","","","","","","","","",0,0,0,null,0,0,1,null,0,0,0,0,0,0,0,0,0,0,0,0,0,0,0,0,0,0,0,0,0,0,0,null,0,0,0,0,0,0,0,0,0,0,0,0,0,0,0,0,0,0,0,0,0,0,0,null,0,1,1,1,1,1,10101,101,1010101,10101,10101,1010101,101,101,1010101,10101,{"$f":"INDEX($CJ54:$CS54,1,WertungskriterienA)","v":10101},{"$f":"SUM((TRANSPOSE($CT$35:$CT$56)=CT54)*$AH54:$BC54)","v":0},1,10101,101010101,10101,101010101,10101010101,101010101,1010101010101,1010101010101,101010101,10101010101,{"$f":"INDEX(CW54:DF54,1,WertungskriterienA)","v":101010101},1,false,"Spieler 20",19,1.0190199999999998,20,9,"Spieler 03","-","Spieler 08",null,null,7,9,{"$f":"IF(AND(DU54=1,MOD(DT54,2)=0),MAX(TeilnNr),IF(MOD(DU54,2)=0,IF(MAX(TeilnNr)/2-DU54+1-(DT54-MAX(TeilnNr)/2-1)>=1,MAX(TeilnNr)/2-DU54+1-(DT54-MAX(TeilnNr)/2-1),MAX(TeilnNr)/2-DU54+1-(DT54-MAX(TeilnNr)/2-1)+MAX(TeilnNr)-1),IF(DU54-(DT54-1)>=1,DU54-(DT54-1),DU54-(DT54-1)+MAX(TeilnNr)-1)))","v":3},{"$f":"IF(AND(DU54=1,MOD(DT54,2)<>0),MAX(TeilnNr),IF(MOD(DU54,2)<>0,IF(MAX(TeilnNr)/2-DU54+1-(DT54-MAX(TeilnNr)/2-1)>=1,MAX(TeilnNr)/2-DU54+1-(DT54-MAX(TeilnNr)/2-1),MAX(TeilnNr)/2-DU54+1-(DT54-MAX(TeilnNr)/2-1)+MAX(TeilnNr)-1),IF(DU54-(DT54-1)>=1,DU54-(DT54-1),DU54-(DT54-1)+MAX(TeilnNr)-1)))","v":8},"","",{"$f":"ADDRESS(ROW(Teilnehmer)+DV54,COLUMN(Teilnehmer)+DW54)","v":"$K$37"},{"$f":"ADDRESS(ROW(Teilnehmer)+DW54,COLUMN(Teilnehmer)+DV54)","v":"$F$42"},9,"Spieler 02","-","Spieler 07",null,null,8,9,{"$f":"IF(AND(EI54=1,MOD(EH54,2)=0),MAX(TeilnNr),IF(MOD(EI54,2)=0,IF(MAX(TeilnNr)/2-EI54+1-(EH54-MAX(TeilnNr)/2-1)>=1,MAX(TeilnNr)/2-EI54+1-(EH54-MAX(TeilnNr)/2-1),MAX(TeilnNr)/2-EI54+1-(EH54-MAX(TeilnNr)/2-1)+MAX(TeilnNr)-1),IF(EI54-(EH54-1)>=1,EI54-(EH54-1),EI54-(EH54-1)+MAX(TeilnNr)-1)))","v":2},{"$f":"IF(AND(EI54=1,MOD(EH54,2)<>0),MAX(TeilnNr),IF(MOD(EI54,2)<>0,IF(MAX(TeilnNr)/2-EI54+1-(EH54-MAX(TeilnNr)/2-1)>=1,MAX(TeilnNr)/2-EI54+1-(EH54-MAX(TeilnNr)/2-1),MAX(TeilnNr)/2-EI54+1-(EH54-MAX(TeilnNr)/2-1)+MAX(TeilnNr)-1),IF(EI54-(EH54-1)>=1,EI54-(EH54-1),EI54-(EH54-1)+MAX(TeilnNr)-1)))","v":7},"","",{"$f":"ADDRESS(ROW(Teilnehmer)+EJ54,COLUMN(Teilnehmer)+EK54)","v":"$J$36"},{"$f":"ADDRESS(ROW(Teilnehmer)+EK54,COLUMN(Teilnehmer)+EJ54)","v":"$E$41"},9,"Spieler 03","-",{"$f":"DQ54","v":"Spieler 08"},null,9,"Spieler 02","-",{"$f":"EE54","v":"Spieler 07"}]
[null,21,null,"","","","","","","","","","","","","","","","","","","","","","",0,0,0,null,0,0,1,null,0,0,0,0,0,0,0,0,0,0,0,0,0,0,0,0,0,0,0,0,0,0,0,null,0,0,0,0,0,0,0,0,0,0,0,0,0,0,0,0,0,0,0,0,0,0,0,null,0,1,1,1,1,1,10101,101,1010101,10101,10101,1010101,101,101,1010101,10101,{"$f":"INDEX($CJ55:$CS55,1,WertungskriterienA)","v":10101},{"$f":"SUM((TRANSPOSE($CT$35:$CT$56)=CT55)*$AH55:$BC55)","v":0},1,10101,101010101,10101,101010101,10101010101,101010101,1010101010101,1010101010101,101010101,10101010101,{"$f":"INDEX(CW55:DF55,1,WertungskriterienA)","v":101010101},1,false,"Spieler 21",20,1.0200210000000001,21,10,"Spieler 07","-","Spieler 04",null,null,7,10,{"$f":"IF(AND(DU55=1,MOD(DT55,2)=0),MAX(TeilnNr),IF(MOD(DU55,2)=0,IF(MAX(TeilnNr)/2-DU55+1-(DT55-MAX(TeilnNr)/2-1)>=1,MAX(TeilnNr)/2-DU55+1-(DT55-MAX(TeilnNr)/2-1),MAX(TeilnNr)/2-DU55+1-(DT55-MAX(TeilnNr)/2-1)+MAX(TeilnNr)-1),IF(DU55-(DT55-1)>=1,DU55-(DT55-1),DU55-(DT55-1)+MAX(TeilnNr)-1)))","v":7},{"$f":"IF(AND(DU55=1,MOD(DT55,2)<>0),MAX(TeilnNr),IF(MOD(DU55,2)<>0,IF(MAX(TeilnNr)/2-DU55+1-(DT55-MAX(TeilnNr)/2-1)>=1,MAX(TeilnNr)/2-DU55+1-(DT55-MAX(TeilnNr)/2-1),MAX(TeilnNr)/2-DU55+1-(DT55-MAX(TeilnNr)/2-1)+MAX(TeilnNr)-1),IF(DU55-(DT55-1)>=1,DU55-(DT55-1),DU55-(DT55-1)+MAX(TeilnNr)-1)))","v":4},"","",{"$f":"ADDRESS(ROW(Teilnehmer)+DV55,COLUMN(Teilnehmer)+DW55)","v":"$G$41"},{"$f":"ADDRESS(ROW(Teilnehmer)+DW55,COLUMN(Teilnehmer)+DV55)","v":"$J$38"},10,"Spieler 06","-","Spieler 03",null,null,8,10,{"$f":"IF(AND(EI55=1,MOD(EH55,2)=0),MAX(TeilnNr),IF(MOD(EI55,2)=0,IF(MAX(TeilnNr)/2-EI55+1-(EH55-MAX(TeilnNr)/2-1)>=1,MAX(TeilnNr)/2-EI55+1-(EH55-MAX(TeilnNr)/2-1),MAX(TeilnNr)/2-EI55+1-(EH55-MAX(TeilnNr)/2-1)+MAX(TeilnNr)-1),IF(EI55-(EH55-1)>=1,EI55-(EH55-1),EI55-(EH55-1)+MAX(TeilnNr)-1)))","v":6},{"$f":"IF(AND(EI55=1,MOD(EH55,2)<>0),MAX(TeilnNr),IF(MOD(EI55,2)<>0,IF(MAX(TeilnNr)/2-EI55+1-(EH55-MAX(TeilnNr)/2-1)>=1,MAX(TeilnNr)/2-EI55+1-(EH55-MAX(TeilnNr)/2-1),MAX(TeilnNr)/2-EI55+1-(EH55-MAX(TeilnNr)/2-1)+MAX(TeilnNr)-1),IF(EI55-(EH55-1)>=1,EI55-(EH55-1),EI55-(EH55-1)+MAX(TeilnNr)-1)))","v":3},"","",{"$f":"ADDRESS(ROW(Teilnehmer)+EJ55,COLUMN(Teilnehmer)+EK55)","v":"$F$40"},{"$f":"ADDRESS(ROW(Teilnehmer)+EK55,COLUMN(Teilnehmer)+EJ55)","v":"$I$37"},10,{"$f":"DQ55","v":"Spieler 04"},"-",{"$f":"DO55","v":"Spieler 07"},null,10,{"$f":"EE55","v":"Spieler 03"},"-",{"$f":"EC55","v":"Spieler 06"}]
[null,22,null,"","","","","","","","","","","","","","","","","","","","","","",0,0,0,null,0,0,1,null,0,0,0,0,0,0,0,0,0,0,0,0,0,0,0,0,0,0,0,0,0,0,0,null,0,0,0,0,0,0,0,0,0,0,0,0,0,0,0,0,0,0,0,0,0,0,0,null,0,1,1,1,1,1,10101,101,1010101,10101,10101,1010101,101,101,1010101,10101,{"$f":"INDEX($CJ56:$CS56,1,WertungskriterienA)","v":10101},{"$f":"SUM((TRANSPOSE($CT$35:$CT$56)=CT56)*$AH56:$BC56)","v":0},1,10101,101010101,10101,101010101,10101010101,101010101,1010101010101,1010101010101,101010101,10101010101,{"$f":"INDEX(CW56:DF56,1,WertungskriterienA)","v":101010101},1,false,"Spieler 22",21,1.0210219999999999,22,11,"Spieler 05","-","Spieler 06",null,null,7,11,{"$f":"IF(AND(DU56=1,MOD(DT56,2)=0),MAX(TeilnNr),IF(MOD(DU56,2)=0,IF(MAX(TeilnNr)/2-DU56+1-(DT56-MAX(TeilnNr)/2-1)>=1,MAX(TeilnNr)/2-DU56+1-(DT56-MAX(TeilnNr)/2-1),MAX(TeilnNr)/2-DU56+1-(DT56-MAX(TeilnNr)/2-1)+MAX(TeilnNr)-1),IF(DU56-(DT56-1)>=1,DU56-(DT56-1),DU56-(DT56-1)+MAX(TeilnNr)-1)))","v":5},{"$f":"IF(AND(DU56=1,MOD(DT56,2)<>0),MAX(TeilnNr),IF(MOD(DU56,2)<>0,IF(MAX(TeilnNr)/2-DU56+1-(DT56-MAX(TeilnNr)/2-1)>=1,MAX(TeilnNr)/2-DU56+1-(DT56-MAX(TeilnNr)/2-1),MAX(TeilnNr)/2-DU56+1-(DT56-MAX(TeilnNr)/2-1)+MAX(TeilnNr)-1),IF(DU56-(DT56-1)>=1,DU56-(DT56-1),DU56-(DT56-1)+MAX(TeilnNr)-1)))","v":6},"","",{"$f":"ADDRESS(ROW(Teilnehmer)+DV56,COLUMN(Teilnehmer)+DW56)","v":"$I$39"},{"$f":"ADDRESS(ROW(Teilnehmer)+DW56,COLUMN(Teilnehmer)+DV56)","v":"$H$40"},11,"Spieler 04","-","Spieler 05",null,null,8,11,{"$f":"IF(AND(EI56=1,MOD(EH56,2)=0),MAX(TeilnNr),IF(MOD(EI56,2)=0,IF(MAX(TeilnNr)/2-EI56+1-(EH56-MAX(TeilnNr)/2-1)>=1,MAX(TeilnNr)/2-EI56+1-(EH56-MAX(TeilnNr)/2-1),MAX(TeilnNr)/2-EI56+1-(EH56-MAX(TeilnNr)/2-1)+MAX(TeilnNr)-1),IF(EI56-(EH56-1)>=1,EI56-(EH56-1),EI56-(EH56-1)+MAX(TeilnNr)-1)))","v":4},{"$f":"IF(AND(EI56=1,MOD(EH56,2)<>0),MAX(TeilnNr),IF(MOD(EI56,2)<>0,IF(MAX(TeilnNr)/2-EI56+1-(EH56-MAX(TeilnNr)/2-1)>=1,MAX(TeilnNr)/2-EI56+1-(EH56-MAX(TeilnNr)/2-1),MAX(TeilnNr)/2-EI56+1-(EH56-MAX(TeilnNr)/2-1)+MAX(TeilnNr)-1),IF(EI56-(EH56-1)>=1,EI56-(EH56-1),EI56-(EH56-1)+MAX(TeilnNr)-1)))","v":5},"","",{"$f":"ADDRESS(ROW(Teilnehmer)+EJ56,COLUMN(Teilnehmer)+EK56)","v":"$H$38"},{"$f":"ADDRESS(ROW(Teilnehmer)+EK56,COLUMN(Teilnehmer)+EJ56)","v":"$G$39"},11,"Spieler 05","-",{"$f":"DQ56","v":"Spieler 06"},null,11,"Spieler 04","-",{"$f":"EE56","v":"Spieler 05"}]
[null,null,{"$f":"\"-> bei nur \"&MAX(TeilnNr)-1&\" Spielern an Pos. \"&MAX(TeilnNr)&\" einen Stern (*) eintragen\"","v":"-> bei nur 21 Spielern an Pos. 22 einen Stern (*) eintragen"},null,null,null,null,null,null,null,null,null,null,null,null,null,null,null,null,null,null,null,null,null,null,null,{"$f":"SUM(AA35:AA56)","v":0},null,null,{"$f":"SUM(AD35:AD56)","v":0},{"$f":"SUM(AE35:AE56)","v":0}]
[null,null,null,null,null,null,null,null,null,null,null,null,null,null,null,null,null,null,null,null,null,null,null,null,null,null,null,null,null,null,null,null,null,null,null,null,null,null,null,null,null,null,null,null,null,null,null,null,null,null,null,null,null,null,null,null,null,null,null,null,null,null,null,null,null,null,null,null,null,null,null,null,null,null,null,null,null,null,null,null,null,null,null,null,null,null,null,null,null,null,null,null,null,null,null,null,null,null,null,null,null,null,null,null,null,null,null,null,null,null,null,null,null,null,null,null,null,null,{"$f":"DO45+2","v":9},null,null,null,null,"R","B","SpNr w","SpNr s","Res w","Res s",null,null,null,{"$f":"EC45+2","v":10},null,null,null,null,"R","B","SpNr w","SpNr s","Res w","Res s",null,null,null,{"$f":"DO58","v":9},1,null,null,null,{"$f":"EC58","v":10}]
[null,null,null,null,null,null,null,null,null,null,null,null,null,null,null,null,null,null,null,null,null,null,null,null,null,null,null,null,null,null,null,null,null,null,null,null,null,null,null,null,null,null,null,null,null,null,null,null,null,null,null,null,null,null,null,null,null,null,null,null,null,null,null,null,null,null,null,null,null,null,null,null,null,null,null,null,null,null,null,null,null,null,null,null,null,null,null,null,null,null,null,null,null,null,null,null,null,null,null,null,null,null,null,null,null,null,null,null,null,null,null,null,null,null,null,null,null,{"$f":"IF(OR(INDEX($DI$35:$DI$56,DV59),INDEX($DI$35:$DI$56,DW59)),0,1)","v":1},{"$f":"INDEX($DJ$35:$DJ$56,MATCH($DV59,TeilnNr,0))","v":"Spieler 14"},"-",{"$f":"INDEX($DJ$35:$DJ$56,MATCH($DW59,TeilnNr,0))","v":"Spieler 22"},null,null,{"$f":"DO58","v":9},1,{"$f":"IF(AND(DU59=1,MOD(DT59,2)=0),MAX(TeilnNr),IF(MOD(DU59,2)=0,IF(MAX(TeilnNr)/2-DU59+1-(DT59-MAX(TeilnNr)/2-1)>=1,MAX(TeilnNr)/2-DU59+1-(DT59-MAX(TeilnNr)/2-1),MAX(TeilnNr)/2-DU59+1-(DT59-MAX(TeilnNr)/2-1)+MAX(TeilnNr)-1),IF(DU59-(DT59-1)>=1,DU59-(DT59-1),DU59-(DT59-1)+MAX(TeilnNr)-1)))","v":14},{"$f":"IF(AND(DU59=1,MOD(DT59,2)<>0),MAX(TeilnNr),IF(MOD(DU59,2)<>0,IF(MAX(TeilnNr)/2-DU59+1-(DT59-MAX(TeilnNr)/2-1)>=1,MAX(TeilnNr)/2-DU59+1-(DT59-MAX(TeilnNr)/2-1),MAX(TeilnNr)/2-DU59+1-(DT59-MAX(TeilnNr)/2-1)+MAX(TeilnNr)-1),IF(DU59-(DT59-1)>=1,DU59-(DT59-1),DU59-(DT59-1)+MAX(TeilnNr)-1)))","v":22},{"$f":"IF(LEFT(DS59,1)=\"V\",\"\",LEFT(DS59,1))","v":""},{"$f":"IF(RIGHT(DS59,1)=\"V\",\"\",RIGHT(DS59,1))","v":""},{"$f":"ADDRESS(ROW(Teilnehmer)+DV59,COLUMN(Teilnehmer)+DW59)","v":"$Y$48"},{"$f":"ADDRESS(ROW(Teilnehmer)+DW59,COLUMN(Teilnehmer)+DV59)","v":"$Q$56"},{"$f":"IF(OR(INDEX($DI$35:$DI$56,EJ59),INDEX($DI$35:$DI$56,EK59)),0,1)","v":1},{"$f":"INDEX($DJ$35:$DJ$56,MATCH($EJ59,TeilnNr,0))","v":"Spieler 22"},"-",{"$f":"INDEX($DJ$35:$DJ$56,MATCH($EK59,TeilnNr,0))","v":"Spieler 13"},null,null,{"$f":"EC58","v":10},1,{"$f":"IF(AND(EI59=1,MOD(EH59,2)=0),MAX(TeilnNr),IF(MOD(EI59,2)=0,IF(MAX(TeilnNr)/2-EI59+1-(EH59-MAX(TeilnNr)/2-1)>=1,MAX(TeilnNr)/2-EI59+1-(EH59-MAX(TeilnNr)/2-1),MAX(TeilnNr)/2-EI59+1-(EH59-MAX(TeilnNr)/2-1)+MAX(TeilnNr)-1),IF(EI59-(EH59-1)>=1,EI59-(EH59-1),EI59-(EH59-1)+MAX(TeilnNr)-1)))","v":22},{"$f":"IF(AND(EI59=1,MOD(EH59,2)<>0),MAX(TeilnNr),IF(MOD(EI59,2)<>0,IF(MAX(TeilnNr)/2-EI59+1-(EH59-MAX(TeilnNr)/2-1)>=1,MAX(TeilnNr)/2-EI59+1-(EH59-MAX(TeilnNr)/2-1),MAX(TeilnNr)/2-EI59+1-(EH59-MAX(TeilnNr)/2-1)+MAX(TeilnNr)-1),IF(EI59-(EH59-1)>=1,EI59-(EH59-1),EI59-(EH59-1)+MAX(TeilnNr)-1)))","v":13},{"$f":"IF(LEFT(EG59,1)=\"V\",\"\",LEFT(EG59,1))","v":""},{"$f":"IF(RIGHT(EG59,1)=\"V\",\"\",RIGHT(EG59,1))","v":""},{"$f":"ADDRESS(ROW(Teilnehmer)+EJ59,COLUMN(Teilnehmer)+EK59)","v":"$P$56"},{"$f":"ADDRESS(ROW(Teilnehmer)+EK59,COLUMN(Teilnehmer)+EJ59)","v":"$Y$47"},{"$f":"DN59","v":1},"Spieler 14","-",{"$f":"DQ59","v":"Spieler 22"},null,{"$f":"EB59","v":1},{"$f":"EE59","v":"Spieler 13"},"-",{"$f":"EC59","v":"Spieler 22"}]
[null,null,null,null,null,null,null,null,null,null,null,null,null,null,null,null,null,null,null,null,null,null,null,null,null,null,null,null,null,null,null,null,null,null,null,null,null,null,null,null,null,null,null,null,null,null,null,null,null,null,null,null,null,null,null,null,null,null,null,null,null,null,null,null,null,null,null,null,null,null,null,null,null,null,null,null,null,null,null,null,null,null,null,null,null,null,null,null,null,null,null,null,null,null,null,null,null,null,null,null,null,null,null,null,null,null,null,null,null,null,null,null,null,null,null,null,null,{"$f":"DN59+1","v":2},"Spieler 13","-","Spieler 15",null,null,{"$f":"DT59","v":9},{"$f":"DU59+1","v":2},13,15,"","","$R$47","$P$49",{"$f":"EB59+1","v":2},"Spieler 12","-","Spieler 14",null,null,{"$f":"EH59","v":10},{"$f":"EI59+1","v":2},12,14,"","","$Q$46","$O$48",{"$f":"DN60","v":2},{"$f":"DQ60","v":"Spieler 15"},"-",{"$f":"DO60","v":"Spieler 13"},null,2,"Spieler 14","-","Spieler 12"]
[null,null,null,null,null,null,null,null,null,null,null,null,null,null,null,null,null,null,null,null,null,null,null,null,null,null,null,null,null,null,null,null,null,null,null,null,null,null,null,null,null,null,null,null,null,null,null,null,null,null,null,null,null,null,null,null,null,null,null,null,null,null,null,null,null,null,null,null,null,null,null,null,null,null,null,null,null,null,null,null,null,null,null,null,null,null,null,null,null,null,null,null,null,null,null,null,null,null,null,null,null,null,null,null,null,null,null,null,null,null,null,null,null,null,null,null,null,{"$f":"DN60+1","v":3},"Spieler 16","-","Spieler 12",null,null,{"$f":"DT60","v":9},{"$f":"DU60+1","v":3},16,12,"","","$O$50","$S$46",{"$f":"EB60+1","v":3},"Spieler 15","-","Spieler 11",null,null,{"$f":"EH60","v":10},{"$f":"EI60+1","v":3},15,11,"","","$N$49","$R$45",3,"Spieler 16","-",{"$f":"DQ61","v":"Spieler 12"},null,3,"Spieler 15","-",{"$f":"EE61","v":"Spieler 11"}]
[null,null,null,null,null,null,null,null,null,null,null,null,null,null,null,null,null,null,null,null,null,null,null,null,null,null,null,null,null,null,null,null,null,null,null,null,null,null,null,null,null,null,null,null,null,null,null,null,null,null,null,null,null,null,null,null,null,null,null,null,null,null,null,null,null,null,null,null,null,null,null,null,null,null,null,null,null,null,null,null,null,null,null,null,null,null,null,null,null,null,null,null,null,null,null,null,null,null,null,null,null,null,null,null,null,null,null,null,null,null,null,null,null,null,null,null,null,4,"Spieler 11","-","Spieler 17",null,null,{"$f":"DT61","v":9},4,11,17,"","","$T$45","$N$51",4,"Spieler 10","-","Spieler 16",null,null,{"$f":"EH61","v":10},4,10,16,"","","$S$44","$M$50",4,{"$f":"DQ62","v":"Spieler 17"},"-",{"$f":"DO62","v":"Spieler 11"},null,4,{"$f":"EE62","v":"Spieler 16"},"-",{"$f":"EC62","v":"Spieler 10"}]
[null,null,null,null,null,null,null,null,null,null,null,null,null,null,null,null,null,null,null,null,null,null,null,null,null,null,null,null,null,null,null,null,null,null,null,null,null,null,null,null,null,null,null,null,null,null,null,null,null,null,null,null,null,null,null,null,null,null,null,null,null,null,null,null,null,null,null,null,null,null,null,null,null,null,null,null,null,null,null,null,null,null,null,null,null,null,null,null,null,null,null,null,null,null,null,null,null,null,null,null,null,null,null,null,null,null,null,null,null,null,null,null,null,null,null,null,null,5,"Spieler 18","-","Spieler 10",null,null,{"$f":"DT62","v":9},5,18,10,"","","$M$52","$U$44",5,"Spieler 17","-","Spieler 09",null,null,10,5,17,9,"","","$L$51","$T$43",5,"Spieler 18","-",{"$f":"DQ63","v":"Spieler 10"},null,5,"Spieler 17","-",{"$f":"EE63","v":"Spieler 09"}]
[null,null,null,null,null,null,null,null,null,null,null,null,null,null,null,null,null,null,null,null,null,null,null,null,null,null,null,null,null,null,null,null,null,null,null,null,null,null,null,null,null,null,null,null,null,null,null,null,null,null,null,null,null,null,null,null,null,null,null,null,null,null,null,null,null,null,null,null,null,null,null,null,null,null,null,null,null,null,null,null,null,null,null,null,null,null,null,null,null,null,null,null,null,null,null,null,null,null,null,null,null,null,null,null,null,null,null,null,null,null,null,null,null,null,null,null,null,6,"Spieler 09","-","Spieler 19",null,null,{"$f":"DT63","v":9},6,9,19,"","","$V$43","$L$53",6,"Spieler 08","-","Spieler 18",null,null,10,6,8,18,"","","$U$42","$K$52",6,{"$f":"DQ64","v":"Spieler 19"},"-",{"$f":"DO64","v":"Spieler 09"},null,6,{"$f":"EE64","v":"Spieler 18"},"-",{"$f":"EC64","v":"Spieler 08"}]
[null,null,null,null,null,null,null,null,null,null,null,null,null,null,null,null,null,null,null,null,null,null,null,null,null,null,null,null,null,null,null,null,null,null,null,null,null,null,null,null,null,null,null,null,null,null,null,null,null,null,null,null,null,null,null,null,null,null,null,null,null,null,null,null,null,null,null,null,null,null,null,null,null,null,null,null,null,null,null,null,null,null,null,null,null,null,null,null,null,null,null,null,null,null,null,null,null,null,null,null,null,null,null,null,null,null,null,null,null,null,null,null,null,null,null,null,null,7,"Spieler 20","-","Spieler 08",null,null,{"$f":"DT64","v":9},7,20,8,"","",{"$f":"ADDRESS(ROW(Teilnehmer)+DV65,COLUMN(Teilnehmer)+DW65)","v":"$K$54"},{"$f":"ADDRESS(ROW(Teilnehmer)+DW65,COLUMN(Teilnehmer)+DV65)","v":"$W$42"},7,"Spieler 19","-","Spieler 07",null,null,10,7,19,7,"","",{"$f":"ADDRESS(ROW(Teilnehmer)+EJ65,COLUMN(Teilnehmer)+EK65)","v":"$J$53"},{"$f":"ADDRESS(ROW(Teilnehmer)+EK65,COLUMN(Teilnehmer)+EJ65)","v":"$V$41"},7,"Spieler 20","-",{"$f":"DQ65","v":"Spieler 08"},null,7,"Spieler 19","-",{"$f":"EE65","v":"Spieler 07"}]
[null,null,null,null,null,null,null,null,null,null,null,null,null,null,null,null,null,null,null,null,null,null,null,null,null,null,null,null,null,null,null,null,null,null,null,null,null,null,null,null,null,null,null,null,null,null,null,null,null,null,null,null,null,null,null,null,null,null,null,null,null,null,null,null,null,null,null,null,null,null,null,null,null,null,null,null,null,null,null,null,null,null,null,null,null,null,null,null,null,null,null,null,null,null,null,null,null,null,null,null,null,null,null,null,null,null,null,null,null,null,null,null,null,null,null,null,null,8,"Spieler 07","-","Spieler 21",null,null,9,8,7,21,"","","$X$41","$J$55",8,"Spieler 06","-","Spieler 20",null,null,10,8,6,20,"","","$W$40","$I$54",8,{"$f":"DQ66","v":"Spieler 21"},"-",{"$f":"DO66","v":"Spieler 07"},null,8,{"$f":"EE66","v":"Spieler 20"},"-",{"$f":"EC66","v":"Spieler 06"}]
[null,null,null,null,null,null,null,null,null,null,null,null,null,null,null,null,null,null,null,null,null,null,null,null,null,null,null,null,null,null,null,null,null,null,null,null,null,null,null,null,null,null,null,null,null,null,null,null,null,null,null,null,null,null,null,null,null,null,null,null,null,null,null,null,null,null,null,null,null,null,null,null,null,null,null,null,null,null,null,null,null,null,null,null,null,null,null,null,null,null,null,null,null,null,null,null,null,null,null,null,null,null,null,null,null,null,null,null,null,null,null,null,null,null,null,null,null,9,"Spieler 01","-","Spieler 06",null,null,9,9,1,6,"","","$I$35","$D$40",9,"Spieler 21","-","Spieler 05",null,null,10,9,21,5,"","","$H$55","$X$39",9,"Spieler 01","-",{"$f":"DQ67","v":"Spieler 06"},null,9,"Spieler 21","-",{"$f":"EE67","v":"Spieler 05"}]
[null,null,null,null,null,null,null,null,null,null,null,null,null,null,null,null,null,null,null,null,null,null,null,null,null,null,null,null,null,null,null,null,null,null,null,null,null,null,null,null,null,null,null,null,null,null,null,null,null,null,null,null,null,null,null,null,null,null,null,null,null,null,null,null,null,null,null,null,null,null,null,null,null,null,null,null,null,null,null,null,null,null,null,null,null,null,null,null,null,null,null,null,null,null,null,null,null,null,null,null,null,null,null,null,null,null,null,null,null,null,null,null,null,null,null,null,null,10,"Spieler 05","-","Spieler 02",null,null,9,10,5,2,"","","$E$39","$H$36",10,"Spieler 04","-","Spieler 01",null,null,10,10,4,1,"","","$D$38","$G$35",10,{"$f":"DQ68","v":"Spieler 02"},"-",{"$f":"DO68","v":"Spieler 05"},null,10,{"$f":"EE68","v":"Spieler 01"},"-",{"$f":"EC68","v":"Spieler 04"}]
[null,null,null,null,null,null,null,null,null,null,null,null,null,null,null,null,null,null,null,null,null,null,null,null,null,null,null,null,null,null,null,null,null,null,null,null,null,null,null,null,null,null,null,null,null,null,null,null,null,null,null,null,null,null,null,null,null,null,null,null,null,null,null,null,null,null,null,null,null,null,null,null,null,null,null,null,null,null,null,null,null,null,null,null,null,null,null,null,null,null,null,null,null,null,null,null,null,null,null,null,null,null,null,null,null,null,null,null,null,null,null,null,null,null,null,null,null,11,"Spieler 03","-","Spieler 04",null,null,9,11,3,4,"","","$G$37","$F$38",11,"Spieler 02","-","Spieler 03",null,null,10,11,2,3,"","","$F$36","$E$37",11,"Spieler 03","-",{"$f":"DQ69","v":"Spieler 04"},null,11,"Spieler 02","-",{"$f":"EE69","v":"Spieler 03"}]
[]
[null,null,null,null,null,null,null,null,null,null,null,null,null,null,null,null,null,null,null,null,null,null,null,null,null,null,null,null,null,null,null,null,null,null,null,null,null,null,null,null,null,null,null,null,null,null,null,null,null,null,null,null,null,null,null,null,null,null,null,null,null,null,null,null,null,null,null,null,null,null,null,null,null,null,null,null,null,null,null,null,null,null,null,null,null,null,null,null,null,null,null,null,null,null,null,null,null,null,null,null,null,null,null,null,null,null,null,null,null,null,null,null,null,null,null,null,null,null,{"$f":"DO58+2","v":11},null,null,null,null,"R","B","SpNr w","SpNr s","Res w","Res s",null,null,null,{"$f":"EC58+2","v":12},null,null,null,null,"R","B","SpNr w","SpNr s","Res w","Res s",null,null,null,{"$f":"DO71","v":11},1,null,null,null,{"$f":"EC71","v":12}]
[null,null,null,null,null,null,null,null,null,null,null,null,null,null,null,null,null,null,null,null,null,null,null,null,null,null,null,null,null,null,null,null,null,null,null,null,null,null,null,null,null,null,null,null,null,null,null,null,null,null,null,null,null,null,null,null,null,null,null,null,null,null,null,null,null,null,null,null,null,null,null,null,null,null,null,null,null,null,null,null,null,null,null,null,null,null,null,null,null,null,null,null,null,null,null,null,null,null,null,null,null,null,null,null,null,null,null,null,null,null,null,null,null,null,null,null,null,{"$f":"IF(OR(INDEX($DI$35:$DI$56,DV72),INDEX($DI$35:$DI$56,DW72)),0,1)","v":1},{"$f":"INDEX($DJ$35:$DJ$56,MATCH($DV72,TeilnNr,0))","v":"Spieler 12"},"-",{"$f":"INDEX($DJ$35:$DJ$56,MATCH($DW72,TeilnNr,0))","v":"Spieler 22"},null,null,{"$f":"DO71","v":11},1,{"$f":"IF(AND(DU72=1,MOD(DT72,2)=0),MAX(TeilnNr),IF(MOD(DU72,2)=0,IF(MAX(TeilnNr)/2-DU72+1-(DT72-MAX(TeilnNr)/2-1)>=1,MAX(TeilnNr)/2-DU72+1-(DT72-MAX(TeilnNr)/2-1),MAX(TeilnNr)/2-DU72+1-(DT72-MAX(TeilnNr)/2-1)+MAX(TeilnNr)-1),IF(DU72-(DT72-1)>=1,DU72-(DT72-1),DU72-(DT72-1)+MAX(TeilnNr)-1)))","v":12},{"$f":"IF(AND(DU72=1,MOD(DT72,2)<>0),MAX(TeilnNr),IF(MOD(DU72,2)<>0,IF(MAX(TeilnNr)/2-DU72+1-(DT72-MAX(TeilnNr)/2-1)>=1,MAX(TeilnNr)/2-DU72+1-(DT72-MAX(TeilnNr)/2-1),MAX(TeilnNr)/2-DU72+1-(DT72-MAX(TeilnNr)/2-1)+MAX(TeilnNr)-1),IF(DU72-(DT72-1)>=1,DU72-(DT72-1),DU72-(DT72-1)+MAX(TeilnNr)-1)))","v":22},{"$f":"IF(LEFT(DS72,1)=\"V\",\"\",LEFT(DS72,1))","v":""},{"$f":"IF(RIGHT(DS72,1)=\"V\",\"\",RIGHT(DS72,1))","v":""},{"$f":"ADDRESS(ROW(Teilnehmer)+DV72,COLUMN(Teilnehmer)+DW72)","v":"$Y$46"},{"$f":"ADDRESS(ROW(Teilnehmer)+DW72,COLUMN(Teilnehmer)+DV72)","v":"$O$56"},{"$f":"IF(OR(INDEX($DI$35:$DI$56,EJ72),INDEX($DI$35:$DI$56,EK72)),0,1)","v":1},{"$f":"INDEX($DJ$35:$DJ$56,MATCH($EJ72,TeilnNr,0))","v":"Spieler 22"},"-",{"$f":"INDEX($DJ$35:$DJ$56,MATCH($EK72,TeilnNr,0))","v":"Spieler 11"},null,null,{"$f":"EC71","v":12},1,{"$f":"IF(AND(EI72=1,MOD(EH72,2)=0),MAX(TeilnNr),IF(MOD(EI72,2)=0,IF(MAX(TeilnNr)/2-EI72+1-(EH72-MAX(TeilnNr)/2-1)>=1,MAX(TeilnNr)/2-EI72+1-(EH72-MAX(TeilnNr)/2-1),MAX(TeilnNr)/2-EI72+1-(EH72-MAX(TeilnNr)/2-1)+MAX(TeilnNr)-1),IF(EI72-(EH72-1)>=1,EI72-(EH72-1),EI72-(EH72-1)+MAX(TeilnNr)-1)))","v":22},{"$f":"IF(AND(EI72=1,MOD(EH72,2)<>0),MAX(TeilnNr),IF(MOD(EI72,2)<>0,IF(MAX(TeilnNr)/2-EI72+1-(EH72-MAX(TeilnNr)/2-1)>=1,MAX(TeilnNr)/2-EI72+1-(EH72-MAX(TeilnNr)/2-1),MAX(TeilnNr)/2-EI72+1-(EH72-MAX(TeilnNr)/2-1)+MAX(TeilnNr)-1),IF(EI72-(EH72-1)>=1,EI72-(EH72-1),EI72-(EH72-1)+MAX(TeilnNr)-1)))","v":11},{"$f":"IF(LEFT(EG72,1)=\"V\",\"\",LEFT(EG72,1))","v":""},{"$f":"IF(RIGHT(EG72,1)=\"V\",\"\",RIGHT(EG72,1))","v":""},{"$f":"ADDRESS(ROW(Teilnehmer)+EJ72,COLUMN(Teilnehmer)+EK72)","v":"$N$56"},{"$f":"ADDRESS(ROW(Teilnehmer)+EK72,COLUMN(Teilnehmer)+EJ72)","v":"$Y$45"},{"$f":"DN72","v":1},"Spieler 12","-",{"$f":"DQ72","v":"Spieler 22"},null,{"$f":"EB72","v":1},{"$f":"EE72","v":"Spieler 11"},"-",{"$f":"EC72","v":"Spieler 22"}]
[null,null,null,null,null,null,null,null,null,null,null,null,null,null,null,null,null,null,null,null,null,null,null,null,null,null,null,null,null,null,null,null,null,null,null,null,null,null,null,null,null,null,null,null,null,null,null,null,null,null,null,null,null,null,null,null,null,null,null,null,null,null,null,null,null,null,null,null,null,null,null,null,null,null,null,null,null,null,null,null,null,null,null,null,null,null,null,null,null,null,null,null,null,null,null,null,null,null,null,null,null,null,null,null,null,null,null,null,null,null,null,null,null,null,null,null,null,{"$f":"DN72+1","v":2},"Spieler 11","-","Spieler 13",null,null,{"$f":"DT72","v":11},{"$f":"DU72+1","v":2},11,13,"","","$P$45","$N$47",{"$f":"EB72+1","v":2},"Spieler 10","-","Spieler 12",null,null,{"$f":"EH72","v":12},{"$f":"EI72+1","v":2},10,12,"","","$O$44","$M$46",{"$f":"DN73","v":2},{"$f":"DQ73","v":"Spieler 13"},"-",{"$f":"DO73","v":"Spieler 11"},null,2,"Spieler 12","-","Spieler 10"]
[null,null,null,null,null,null,null,null,null,null,null,null,null,null,null,null,null,null,null,null,null,null,null,null,null,null,null,null,null,null,null,null,null,null,null,null,null,null,null,null,null,null,null,null,null,null,null,null,null,null,null,null,null,null,null,null,null,null,null,null,null,null,null,null,null,null,null,null,null,null,null,null,null,null,null,null,null,null,null,null,null,null,null,null,null,null,null,null,null,null,null,null,null,null,null,null,null,null,null,null,null,null,null,null,null,null,null,null,null,null,null,null,null,null,null,null,null,{"$f":"DN73+1","v":3},"Spieler 14","-","Spieler 10",null,null,{"$f":"DT73","v":11},{"$f":"DU73+1","v":3},14,10,"","","$M$48","$Q$44",{"$f":"EB73+1","v":3},"Spieler 13","-","Spieler 09",null,null,{"$f":"EH73","v":12},{"$f":"EI73+1","v":3},13,9,"","","$L$47","$P$43",3,"Spieler 14","-",{"$f":"DQ74","v":"Spieler 10"},null,3,"Spieler 13","-",{"$f":"EE74","v":"Spieler 09"}]
[null,null,null,null,null,null,null,null,null,null,null,null,null,null,null,null,null,null,null,null,null,null,null,null,null,null,null,null,null,null,null,null,null,null,null,null,null,null,null,null,null,null,null,null,null,null,null,null,null,null,null,null,null,null,null,null,null,null,null,null,null,null,null,null,null,null,null,null,null,null,null,null,null,null,null,null,null,null,null,null,null,null,null,null,null,null,null,null,null,null,null,null,null,null,null,null,null,null,null,null,null,null,null,null,null,null,null,null,null,null,null,null,null,null,null,null,null,4,"Spieler 09","-","Spieler 15",null,null,{"$f":"DT74","v":11},4,9,15,"","","$R$43","$L$49",4,"Spieler 08","-","Spieler 14",null,null,{"$f":"EH74","v":12},4,8,14,"","","$Q$42","$K$48",4,{"$f":"DQ75","v":"Spieler 15"},"-",{"$f":"DO75","v":"Spieler 09"},null,4,{"$f":"EE75","v":"Spieler 14"},"-",{"$f":"EC75","v":"Spieler 08"}]
[null,null,null,null,null,null,null,null,null,null,null,null,null,null,null,null,null,null,null,null,null,null,null,null,null,null,null,null,null,null,null,null,null,null,null,null,null,null,null,null,null,null,null,null,null,null,null,null,null,null,null,null,null,null,null,null,null,null,null,null,null,null,null,null,null,null,null,null,null,null,null,null,null,null,null,null,null,null,null,null,null,null,null,null,null,null,null,null,null,null,null,null,null,null,null,null,null,null,null,null,null,null,null,null,null,null,null,null,null,null,null,null,null,null,null,null,null,5,"Spieler 16","-","Spieler 08",null,null,{"$f":"DT75","v":11},5,16,8,"","","$K$50","$S$42",5,"Spieler 15","-","Spieler 07",null,null,12,5,15,7,"","","$J$49","$R$41",5,"Spieler 16","-",{"$f":"DQ76","v":"Spieler 08"},null,5,"Spieler 15","-",{"$f":"EE76","v":"Spieler 07"}]
[null,null,null,null,null,null,null,null,null,null,null,null,null,null,null,null,null,null,null,null,null,null,null,null,null,null,null,null,null,null,null,null,null,null,null,null,null,null,null,null,null,null,null,null,null,null,null,null,null,null,null,null,null,null,null,null,null,null,null,null,null,null,null,null,null,null,null,null,null,null,null,null,null,null,null,null,null,null,null,null,null,null,null,null,null,null,null,null,null,null,null,null,null,null,null,null,null,null,null,null,null,null,null,null,null,null,null,null,null,null,null,null,null,null,null,null,null,6,"Spieler 07","-","Spieler 17",null,null,{"$f":"DT76","v":11},6,7,17,"","","$T$41","$J$51",6,"Spieler 06","-","Spieler 16",null,null,12,6,6,16,"","","$S$40","$I$50",6,{"$f":"DQ77","v":"Spieler 17"},"-",{"$f":"DO77","v":"Spieler 07"},null,6,{"$f":"EE77","v":"Spieler 16"},"-",{"$f":"EC77","v":"Spieler 06"}]
[null,null,null,null,null,null,null,null,null,null,null,null,null,null,null,null,null,null,null,null,null,null,null,null,null,null,null,null,null,null,null,null,null,null,null,null,null,null,null,null,null,null,null,null,null,null,null,null,null,null,null,null,null,null,null,null,null,null,null,null,null,null,null,null,null,null,null,null,null,null,null,null,null,null,null,null,null,null,null,null,null,null,null,null,null,null,null,null,null,null,null,null,null,null,null,null,null,null,null,null,null,null,null,null,null,null,null,null,null,null,null,null,null,null,null,null,null,7,"Spieler 18","-","Spieler 06",null,null,{"$f":"DT77","v":11},7,18,6,"","",{"$f":"ADDRESS(ROW(Teilnehmer)+DV78,COLUMN(Teilnehmer)+DW78)","v":"$I$52"},{"$f":"ADDRESS(ROW(Teilnehmer)+DW78,COLUMN(Teilnehmer)+DV78)","v":"$U$40"},7,"Spieler 17","-","Spieler 05",null,null,12,7,17,5,"","",{"$f":"ADDRESS(ROW(Teilnehmer)+EJ78,COLUMN(Teilnehmer)+EK78)","v":"$H$51"},{"$f":"ADDRESS(ROW(Teilnehmer)+EK78,COLUMN(Teilnehmer)+EJ78)","v":"$T$39"},7,"Spieler 18","-",{"$f":"DQ78","v":"Spieler 06"},null,7,"Spieler 17","-",{"$f":"EE78","v":"Spieler 05"}]
[null,null,null,null,null,null,null,null,null,null,null,null,null,null,null,null,null,null,null,null,null,null,null,null,null,null,null,null,null,null,null,null,null,null,null,null,null,null,null,null,null,null,null,null,null,null,null,null,null,null,null,null,null,null,null,null,null,null,null,null,null,null,null,null,null,null,null,null,null,null,null,null,null,null,null,null,null,null,null,null,null,null,null,null,null,null,null,null,null,null,null,null,null,null,null,null,null,null,null,null,null,null,null,null,null,null,null,null,null,null,null,null,null,null,null,null,null,8,"Spieler 05","-","Spieler 19",null,null,11,8,5,19,"","","$V$39","$H$53",8,"Spieler 04","-","Spieler 18",null,null,12,8,4,18,"","","$U$38","$G$52",8,{"$f":"DQ79","v":"Spieler 19"},"-",{"$f":"DO79","v":"Spieler 05"},null,8,{"$f":"EE79","v":"Spieler 18"},"-",{"$f":"EC79","v":"Spieler 04"}]
[null,null,null,null,null,null,null,null,null,null,null,null,null,null,null,null,null,null,null,null,null,null,null,null,null,null,null,null,null,null,null,null,null,null,null,null,null,null,null,null,null,null,null,null,null,null,null,null,null,null,null,null,null,null,null,null,null,null,null,null,null,null,null,null,null,null,null,null,null,null,null,null,null,null,null,null,null,null,null,null,null,null,null,null,null,null,null,null,null,null,null,null,null,null,null,null,null,null,null,null,null,null,null,null,null,null,null,null,null,null,null,null,null,null,null,null,null,9,"Spieler 20","-","Spieler 04",null,null,11,9,20,4,"","","$G$54","$W$38",9,"Spieler 19","-","Spieler 03",null,null,12,9,19,3,"","","$F$53","$V$37",9,"Spieler 20","-",{"$f":"DQ80","v":"Spieler 04"},null,9,"Spieler 19","-",{"$f":"EE80","v":"Spieler 03"}]
[null,null,null,null,null,null,null,null,null,null,null,null,null,null,null,null,null,null,null,null,null,null,null,null,null,null,null,null,null,null,null,null,null,null,null,null,null,null,null,null,null,null,null,null,null,null,null,null,null,null,null,null,null,null,null,null,null,null,null,null,null,null,null,null,null,null,null,null,null,null,null,null,null,null,null,null,null,null,null,null,null,null,null,null,null,null,null,null,null,null,null,null,null,null,null,null,null,null,null,null,null,null,null,null,null,null,null,null,null,null,null,null,null,null,null,null,null,10,"Spieler 03","-","Spieler 21",null,null,11,10,3,21,"","","$X$37","$F$55",10,"Spieler 02","-","Spieler 20",null,null,12,10,2,20,"","","$W$36","$E$54",10,{"$f":"DQ81","v":"Spieler 21"},"-",{"$f":"DO81","v":"Spieler 03"},null,10,{"$f":"EE81","v":"Spieler 20"},"-",{"$f":"EC81","v":"Spieler 02"}]
[null,null,null,null,null,null,null,null,null,null,null,null,null,null,null,null,null,null,null,null,null,null,null,null,null,null,null,null,null,null,null,null,null,null,null,null,null,null,null,null,null,null,null,null,null,null,null,null,null,null,null,null,null,null,null,null,null,null,null,null,null,null,null,null,null,null,null,null,null,null,null,null,null,null,null,null,null,null,null,null,null,null,null,null,null,null,null,null,null,null,null,null,null,null,null,null,null,null,null,null,null,null,null,null,null,null,null,null,null,null,null,null,null,null,null,null,null,11,"Spieler 01","-","Spieler 02",null,null,11,11,1,2,"","","$E$35","$D$36",11,"Spieler 21","-","Spieler 01",null,null,12,11,21,1,"","","$D$55","$X$35",11,"Spieler 01","-",{"$f":"DQ82","v":"Spieler 02"},null,11,"Spieler 21","-",{"$f":"EE82","v":"Spieler 01"}]
[]
[null,null,null,null,null,null,null,null,null,null,null,null,null,null,null,null,null,null,null,null,null,null,null,null,null,null,null,null,null,null,null,null,null,null,null,null,null,null,null,null,null,null,null,null,null,null,null,null,null,null,null,null,null,null,null,null,null,null,null,null,null,null,null,null,null,null,null,null,null,null,null,null,null,null,null,null,null,null,null,null,null,null,null,null,null,null,null,null,null,null,null,null,null,null,null,null,null,null,null,null,null,null,null,null,null,null,null,null,null,null,null,null,null,null,null,null,null,null,{"$f":"DO71+2","v":13},null,null,null,null,"R","B","SpNr w","SpNr s","Res w","Res s",null,null,null,{"$f":"EC71+2","v":14},null,null,null,null,"R","B","SpNr w","SpNr s","Res w","Res s",null,null,null,{"$f":"DO84","v":13},1,null,null,null,{"$f":"EC84","v":14}]
[null,null,null,null,null,null,null,null,null,null,null,null,null,null,null,null,null,null,null,null,null,null,null,null,null,null,null,null,null,null,null,null,null,null,null,null,null,null,null,null,null,null,null,null,null,null,null,null,null,null,null,null,null,null,null,null,null,null,null,null,null,null,null,null,null,null,null,null,null,null,null,null,null,null,null,null,null,null,null,null,null,null,null,null,null,null,null,null,null,null,null,null,null,null,null,null,null,null,null,null,null,null,null,null,null,null,null,null,null,null,null,null,null,null,null,null,null,{"$f":"IF(OR(INDEX($DI$35:$DI$56,DV85),INDEX($DI$35:$DI$56,DW85)),0,1)","v":1},{"$f":"INDEX($DJ$35:$DJ$56,MATCH($DV85,TeilnNr,0))","v":"Spieler 10"},"-",{"$f":"INDEX($DJ$35:$DJ$56,MATCH($DW85,TeilnNr,0))","v":"Spieler 22"},null,null,{"$f":"DO84","v":13},1,{"$f":"IF(AND(DU85=1,MOD(DT85,2)=0),MAX(TeilnNr),IF(MOD(DU85,2)=0,IF(MAX(TeilnNr)/2-DU85+1-(DT85-MAX(TeilnNr)/2-1)>=1,MAX(TeilnNr)/2-DU85+1-(DT85-MAX(TeilnNr)/2-1),MAX(TeilnNr)/2-DU85+1-(DT85-MAX(TeilnNr)/2-1)+MAX(TeilnNr)-1),IF(DU85-(DT85-1)>=1,DU85-(DT85-1),DU85-(DT85-1)+MAX(TeilnNr)-1)))","v":10},{"$f":"IF(AND(DU85=1,MOD(DT85,2)<>0),MAX(TeilnNr),IF(MOD(DU85,2)<>0,IF(MAX(TeilnNr)/2-DU85+1-(DT85-MAX(TeilnNr)/2-1)>=1,MAX(TeilnNr)/2-DU85+1-(DT85-MAX(TeilnNr)/2-1),MAX(TeilnNr)/2-DU85+1-(DT85-MAX(TeilnNr)/2-1)+MAX(TeilnNr)-1),IF(DU85-(DT85-1)>=1,DU85-(DT85-1),DU85-(DT85-1)+MAX(TeilnNr)-1)))","v":22},{"$f":"IF(LEFT(DS85,1)=\"V\",\"\",LEFT(DS85,1))","v":""},{"$f":"IF(RIGHT(DS85,1)=\"V\",\"\",RIGHT(DS85,1))","v":""},{"$f":"ADDRESS(ROW(Teilnehmer)+DV85,COLUMN(Teilnehmer)+DW85)","v":"$Y$44"},{"$f":"ADDRESS(ROW(Teilnehmer)+DW85,COLUMN(Teilnehmer)+DV85)","v":"$M$56"},{"$f":"IF(OR(INDEX($DI$35:$DI$56,EJ85),INDEX($DI$35:$DI$56,EK85)),0,1)","v":1},{"$f":"INDEX($DJ$35:$DJ$56,MATCH($EJ85,TeilnNr,0))","v":"Spieler 22"},"-",{"$f":"INDEX($DJ$35:$DJ$56,MATCH($EK85,TeilnNr,0))","v":"Spieler 09"},null,null,{"$f":"EC84","v":14},1,{"$f":"IF(AND(EI85=1,MOD(EH85,2)=0),MAX(TeilnNr),IF(MOD(EI85,2)=0,IF(MAX(TeilnNr)/2-EI85+1-(EH85-MAX(TeilnNr)/2-1)>=1,MAX(TeilnNr)/2-EI85+1-(EH85-MAX(TeilnNr)/2-1),MAX(TeilnNr)/2-EI85+1-(EH85-MAX(TeilnNr)/2-1)+MAX(TeilnNr)-1),IF(EI85-(EH85-1)>=1,EI85-(EH85-1),EI85-(EH85-1)+MAX(TeilnNr)-1)))","v":22},{"$f":"IF(AND(EI85=1,MOD(EH85,2)<>0),MAX(TeilnNr),IF(MOD(EI85,2)<>0,IF(MAX(TeilnNr)/2-EI85+1-(EH85-MAX(TeilnNr)/2-1)>=1,MAX(TeilnNr)/2-EI85+1-(EH85-MAX(TeilnNr)/2-1),MAX(TeilnNr)/2-EI85+1-(EH85-MAX(TeilnNr)/2-1)+MAX(TeilnNr)-1),IF(EI85-(EH85-1)>=1,EI85-(EH85-1),EI85-(EH85-1)+MAX(TeilnNr)-1)))","v":9},{"$f":"IF(LEFT(EG85,1)=\"V\",\"\",LEFT(EG85,1))","v":""},{"$f":"IF(RIGHT(EG85,1)=\"V\",\"\",RIGHT(EG85,1))","v":""},{"$f":"ADDRESS(ROW(Teilnehmer)+EJ85,COLUMN(Teilnehmer)+EK85)","v":"$L$56"},{"$f":"ADDRESS(ROW(Teilnehmer)+EK85,COLUMN(Teilnehmer)+EJ85)","v":"$Y$43"},{"$f":"DN85","v":1},"Spieler 10","-",{"$f":"DQ85","v":"Spieler 22"},null,{"$f":"EB85","v":1},{"$f":"EE85","v":"Spieler 09"},"-",{"$f":"EC85","v":"Spieler 22"}]
[null,null,null,null,null,null,null,null,null,null,null,null,null,null,null,null,null,null,null,null,null,null,null,null,null,null,null,null,null,null,null,null,null,null,null,null,null,null,null,null,null,null,null,null,null,null,null,null,null,null,null,null,null,null,null,null,null,null,null,null,null,null,null,null,null,null,null,null,null,null,null,null,null,null,null,null,null,null,null,null,null,null,null,null,null,null,null,null,null,null,null,null,null,null,null,null,null,null,null,null,null,null,null,null,null,null,null,null,null,null,null,null,null,null,null,null,null,{"$f":"DN85+1","v":2},"Spieler 09","-","Spieler 11",null,null,{"$f":"DT85","v":13},{"$f":"DU85+1","v":2},9,11,"","","$N$43","$L$45",{"$f":"EB85+1","v":2},"Spieler 08","-","Spieler 10",null,null,{"$f":"EH85","v":14},{"$f":"EI85+1","v":2},8,10,"","","$M$42","$K$44",{"$f":"DN86","v":2},{"$f":"DQ86","v":"Spieler 11"},"-",{"$f":"DO86","v":"Spieler 09"},null,2,"Spieler 10","-","Spieler 08"]
[null,null,null,null,null,null,null,null,null,null,null,null,null,null,null,null,null,null,null,null,null,null,null,null,null,null,null,null,null,null,null,null,null,null,null,null,null,null,null,null,null,null,null,null,null,null,null,null,null,null,null,null,null,null,null,null,null,null,null,null,null,null,null,null,null,null,null,null,null,null,null,null,null,null,null,null,null,null,null,null,null,null,null,null,null,null,null,null,null,null,null,null,null,null,null,null,null,null,null,null,null,null,null,null,null,null,null,null,null,null,null,null,null,null,null,null,null,{"$f":"DN86+1","v":3},"Spieler 12","-","Spieler 08",null,null,{"$f":"DT86","v":13},{"$f":"DU86+1","v":3},12,8,"","","$K$46","$O$42",{"$f":"EB86+1","v":3},"Spieler 11","-","Spieler 07",null,null,{"$f":"EH86","v":14},{"$f":"EI86+1","v":3},11,7,"","","$J$45","$N$41",3,"Spieler 12","-",{"$f":"DQ87","v":"Spieler 08"},null,3,"Spieler 11","-",{"$f":"EE87","v":"Spieler 07"}]
[null,null,null,null,null,null,null,null,null,null,null,null,null,null,null,null,null,null,null,null,null,null,null,null,null,null,null,null,null,null,null,null,null,null,null,null,null,null,null,null,null,null,null,null,null,null,null,null,null,null,null,null,null,null,null,null,null,null,null,null,null,null,null,null,null,null,null,null,null,null,null,null,null,null,null,null,null,null,null,null,null,null,null,null,null,null,null,null,null,null,null,null,null,null,null,null,null,null,null,null,null,null,null,null,null,null,null,null,null,null,null,null,null,null,null,null,null,4,"Spieler 07","-","Spieler 13",null,null,{"$f":"DT87","v":13},4,7,13,"","","$P$41","$J$47",4,"Spieler 06","-","Spieler 12",null,null,{"$f":"EH87","v":14},4,6,12,"","","$O$40","$I$46",4,{"$f":"DQ88","v":"Spieler 13"},"-",{"$f":"DO88","v":"Spieler 07"},null,4,{"$f":"EE88","v":"Spieler 12"},"-",{"$f":"EC88","v":"Spieler 06"}]
[null,null,null,null,null,null,null,null,null,null,null,null,null,null,null,null,null,null,null,null,null,null,null,null,null,null,null,null,null,null,null,null,null,null,null,null,null,null,null,null,null,null,null,null,null,null,null,null,null,null,null,null,null,null,null,null,null,null,null,null,null,null,null,null,null,null,null,null,null,null,null,null,null,null,null,null,null,null,null,null,null,null,null,null,null,null,null,null,null,null,null,null,null,null,null,null,null,null,null,null,null,null,null,null,null,null,null,null,null,null,null,null,null,null,null,null,null,5,"Spieler 14","-","Spieler 06",null,null,{"$f":"DT88","v":13},5,14,6,"","","$I$48","$Q$40",5,"Spieler 13","-","Spieler 05",null,null,14,5,13,5,"","","$H$47","$P$39",5,"Spieler 14","-",{"$f":"DQ89","v":"Spieler 06"},null,5,"Spieler 13","-",{"$f":"EE89","v":"Spieler 05"}]
[null,null,null,null,null,null,null,null,null,null,null,null,null,null,null,null,null,null,null,null,null,null,null,null,null,null,null,null,null,null,null,null,null,null,null,null,null,null,null,null,null,null,null,null,null,null,null,null,null,null,null,null,null,null,null,null,null,null,null,null,null,null,null,null,null,null,null,null,null,null,null,null,null,null,null,null,null,null,null,null,null,null,null,null,null,null,null,null,null,null,null,null,null,null,null,null,null,null,null,null,null,null,null,null,null,null,null,null,null,null,null,null,null,null,null,null,null,6,"Spieler 05","-","Spieler 15",null,null,{"$f":"DT89","v":13},6,5,15,"","","$R$39","$H$49",6,"Spieler 04","-","Spieler 14",null,null,14,6,4,14,"","","$Q$38","$G$48",6,{"$f":"DQ90","v":"Spieler 15"},"-",{"$f":"DO90","v":"Spieler 05"},null,6,{"$f":"EE90","v":"Spieler 14"},"-",{"$f":"EC90","v":"Spieler 04"}]
[null,null,null,null,null,null,null,null,null,null,null,null,null,null,null,null,null,null,null,null,null,null,null,null,null,null,null,null,null,null,null,null,null,null,null,null,null,null,null,null,null,null,null,null,null,null,null,null,null,null,null,null,null,null,null,null,null,null,null,null,null,null,null,null,null,null,null,null,null,null,null,null,null,null,null,null,null,null,null,null,null,null,null,null,null,null,null,null,null,null,null,null,null,null,null,null,null,null,null,null,null,null,null,null,null,null,null,null,null,null,null,null,null,null,null,null,null,7,"Spieler 16","-","Spieler 04",null,null,{"$f":"DT90","v":13},7,16,4,"","","$G$50","$S$38",7,"Spieler 15","-","Spieler 03",null,null,14,7,15,3,"","","$F$49","$R$37",7,"Spieler 16","-",{"$f":"DQ91","v":"Spieler 04"},null,7,"Spieler 15","-",{"$f":"EE91","v":"Spieler 03"}]
[null,null,null,null,null,null,null,null,null,null,null,null,null,null,null,null,null,null,null,null,null,null,null,null,null,null,null,null,null,null,null,null,null,null,null,null,null,null,null,null,null,null,null,null,null,null,null,null,null,null,null,null,null,null,null,null,null,null,null,null,null,null,null,null,null,null,null,null,null,null,null,null,null,null,null,null,null,null,null,null,null,null,null,null,null,null,null,null,null,null,null,null,null,null,null,null,null,null,null,null,null,null,null,null,null,null,null,null,null,null,null,null,null,null,null,null,null,8,"Spieler 03","-","Spieler 17",null,null,13,8,3,17,"","","$T$37","$F$51",8,"Spieler 02","-","Spieler 16",null,null,14,8,2,16,"","","$S$36","$E$50",8,{"$f":"DQ92","v":"Spieler 17"},"-",{"$f":"DO92","v":"Spieler 03"},null,8,{"$f":"EE92","v":"Spieler 16"},"-",{"$f":"EC92","v":"Spieler 02"}]
[null,null,null,null,null,null,null,null,null,null,null,null,null,null,null,null,null,null,null,null,null,null,null,null,null,null,null,null,null,null,null,null,null,null,null,null,null,null,null,null,null,null,null,null,null,null,null,null,null,null,null,null,null,null,null,null,null,null,null,null,null,null,null,null,null,null,null,null,null,null,null,null,null,null,null,null,null,null,null,null,null,null,null,null,null,null,null,null,null,null,null,null,null,null,null,null,null,null,null,null,null,null,null,null,null,null,null,null,null,null,null,null,null,null,null,null,null,9,"Spieler 18","-","Spieler 02",null,null,13,9,18,2,"","","$E$52","$U$36",9,"Spieler 17","-","Spieler 01",null,null,14,9,17,1,"","","$D$51","$T$35",9,"Spieler 18","-",{"$f":"DQ93","v":"Spieler 02"},null,9,"Spieler 17","-",{"$f":"EE93","v":"Spieler 01"}]
[null,null,null,null,null,null,null,null,null,null,null,null,null,null,null,null,null,null,null,null,null,null,null,null,null,null,null,null,null,null,null,null,null,null,null,null,null,null,null,null,null,null,null,null,null,null,null,null,null,null,null,null,null,null,null,null,null,null,null,null,null,null,null,null,null,null,null,null,null,null,null,null,null,null,null,null,null,null,null,null,null,null,null,null,null,null,null,null,null,null,null,null,null,null,null,null,null,null,null,null,null,null,null,null,null,null,null,null,null,null,null,null,null,null,null,null,null,10,"Spieler 01","-","Spieler 19",null,null,13,10,1,19,"","","$V$35","$D$53",10,"Spieler 21","-","Spieler 18",null,null,14,10,21,18,"","","$U$55","$X$52",10,{"$f":"DQ94","v":"Spieler 19"},"-",{"$f":"DO94","v":"Spieler 01"},null,10,{"$f":"EE94","v":"Spieler 18"},"-",{"$f":"EC94","v":"Spieler 21"}]
[null,null,null,null,null,null,null,null,null,null,null,null,null,null,null,null,null,null,null,null,null,null,null,null,null,null,null,null,null,null,null,null,null,null,null,null,null,null,null,null,null,null,null,null,null,null,null,null,null,null,null,null,null,null,null,null,null,null,null,null,null,null,null,null,null,null,null,null,null,null,null,null,null,null,null,null,null,null,null,null,null,null,null,null,null,null,null,null,null,null,null,null,null,null,null,null,null,null,null,null,null,null,null,null,null,null,null,null,null,null,null,null,null,null,null,null,null,11,"Spieler 20","-","Spieler 21",null,null,13,11,20,21,"","","$X$54","$W$55",11,"Spieler 19","-","Spieler 20",null,null,14,11,19,20,"","","$W$53","$V$54",11,"Spieler 20","-",{"$f":"DQ95","v":"Spieler 21"},null,11,"Spieler 19","-",{"$f":"EE95","v":"Spieler 20"}]
[]
[null,null,null,null,null,null,null,null,null,null,null,null,null,null,null,null,null,null,null,null,null,null,null,null,null,null,null,null,null,null,null,null,null,null,null,null,null,null,null,null,null,null,null,null,null,null,null,null,null,null,null,null,null,null,null,null,null,null,null,null,null,null,null,null,null,null,null,null,null,null,null,null,null,null,null,null,null,null,null,null,null,null,null,null,null,null,null,null,null,null,null,null,null,null,null,null,null,null,null,null,null,null,null,null,null,null,null,null,null,null,null,null,null,null,null,null,null,null,{"$f":"DO84+2","v":15},null,null,null,null,"R","B","SpNr w","SpNr s","Res w","Res s",null,null,null,{"$f":"EC84+2","v":16},null,null,null,null,"R","B","SpNr w","SpNr s","Res w","Res s",null,null,null,{"$f":"DO97","v":15},1,null,null,null,{"$f":"EC97","v":16}]
[null,null,null,null,null,null,null,null,null,null,null,null,null,null,null,null,null,null,null,null,null,null,null,null,null,null,null,null,null,null,null,null,null,null,null,null,null,null,null,null,null,null,null,null,null,null,null,null,null,null,null,null,null,null,null,null,null,null,null,null,null,null,null,null,null,null,null,null,null,null,null,null,null,null,null,null,null,null,null,null,null,null,null,null,null,null,null,null,null,null,null,null,null,null,null,null,null,null,null,null,null,null,null,null,null,null,null,null,null,null,null,null,null,null,null,null,null,{"$f":"IF(OR(INDEX($DI$35:$DI$56,DV98),INDEX($DI$35:$DI$56,DW98)),0,1)","v":1},{"$f":"INDEX($DJ$35:$DJ$56,MATCH($DV98,TeilnNr,0))","v":"Spieler 08"},"-",{"$f":"INDEX($DJ$35:$DJ$56,MATCH($DW98,TeilnNr,0))","v":"Spieler 22"},null,null,{"$f":"DO97","v":15},1,{"$f":"IF(AND(DU98=1,MOD(DT98,2)=0),MAX(TeilnNr),IF(MOD(DU98,2)=0,IF(MAX(TeilnNr)/2-DU98+1-(DT98-MAX(TeilnNr)/2-1)>=1,MAX(TeilnNr)/2-DU98+1-(DT98-MAX(TeilnNr)/2-1),MAX(TeilnNr)/2-DU98+1-(DT98-MAX(TeilnNr)/2-1)+MAX(TeilnNr)-1),IF(DU98-(DT98-1)>=1,DU98-(DT98-1),DU98-(DT98-1)+MAX(TeilnNr)-1)))","v":8},{"$f":"IF(AND(DU98=1,MOD(DT98,2)<>0),MAX(TeilnNr),IF(MOD(DU98,2)<>0,IF(MAX(TeilnNr)/2-DU98+1-(DT98-MAX(TeilnNr)/2-1)>=1,MAX(TeilnNr)/2-DU98+1-(DT98-MAX(TeilnNr)/2-1),MAX(TeilnNr)/2-DU98+1-(DT98-MAX(TeilnNr)/2-1)+MAX(TeilnNr)-1),IF(DU98-(DT98-1)>=1,DU98-(DT98-1),DU98-(DT98-1)+MAX(TeilnNr)-1)))","v":22},{"$f":"IF(LEFT(DS98,1)=\"V\",\"\",LEFT(DS98,1))","v":""},{"$f":"IF(RIGHT(DS98,1)=\"V\",\"\",RIGHT(DS98,1))","v":""},{"$f":"ADDRESS(ROW(Teilnehmer)+DV98,COLUMN(Teilnehmer)+DW98)","v":"$Y$42"},{"$f":"ADDRESS(ROW(Teilnehmer)+DW98,COLUMN(Teilnehmer)+DV98)","v":"$K$56"},{"$f":"IF(OR(INDEX($DI$35:$DI$56,EJ98),INDEX($DI$35:$DI$56,EK98)),0,1)","v":1},{"$f":"INDEX($DJ$35:$DJ$56,MATCH($EJ98,TeilnNr,0))","v":"Spieler 22"},"-",{"$f":"INDEX($DJ$35:$DJ$56,MATCH($EK98,TeilnNr,0))","v":"Spieler 07"},null,null,{"$f":"EC97","v":16},1,{"$f":"IF(AND(EI98=1,MOD(EH98,2)=0),MAX(TeilnNr),IF(MOD(EI98,2)=0,IF(MAX(TeilnNr)/2-EI98+1-(EH98-MAX(TeilnNr)/2-1)>=1,MAX(TeilnNr)/2-EI98+1-(EH98-MAX(TeilnNr)/2-1),MAX(TeilnNr)/2-EI98+1-(EH98-MAX(TeilnNr)/2-1)+MAX(TeilnNr)-1),IF(EI98-(EH98-1)>=1,EI98-(EH98-1),EI98-(EH98-1)+MAX(TeilnNr)-1)))","v":22},{"$f":"IF(AND(EI98=1,MOD(EH98,2)<>0),MAX(TeilnNr),IF(MOD(EI98,2)<>0,IF(MAX(TeilnNr)/2-EI98+1-(EH98-MAX(TeilnNr)/2-1)>=1,MAX(TeilnNr)/2-EI98+1-(EH98-MAX(TeilnNr)/2-1),MAX(TeilnNr)/2-EI98+1-(EH98-MAX(TeilnNr)/2-1)+MAX(TeilnNr)-1),IF(EI98-(EH98-1)>=1,EI98-(EH98-1),EI98-(EH98-1)+MAX(TeilnNr)-1)))","v":7},{"$f":"IF(LEFT(EG98,1)=\"V\",\"\",LEFT(EG98,1))","v":""},{"$f":"IF(RIGHT(EG98,1)=\"V\",\"\",RIGHT(EG98,1))","v":""},{"$f":"ADDRESS(ROW(Teilnehmer)+EJ98,COLUMN(Teilnehmer)+EK98)","v":"$J$56"},{"$f":"ADDRESS(ROW(Teilnehmer)+EK98,COLUMN(Teilnehmer)+EJ98)","v":"$Y$41"},{"$f":"DN98","v":1},"Spieler 08","-",{"$f":"DQ98","v":"Spieler 22"},null,{"$f":"EB98","v":1},{"$f":"EE98","v":"Spieler 07"},"-",{"$f":"EC98","v":"Spieler 22"}]
[null,null,null,null,null,null,null,null,null,null,null,null,null,null,null,null,null,null,null,null,null,null,null,null,null,null,null,null,null,null,null,null,null,null,null,null,null,null,null,null,null,null,null,null,null,null,null,null,null,null,null,null,null,null,null,null,null,null,null,null,null,null,null,null,null,null,null,null,null,null,null,null,null,null,null,null,null,null,null,null,null,null,null,null,null,null,null,null,null,null,null,null,null,null,null,null,null,null,null,null,null,null,null,null,null,null,null,null,null,null,null,null,null,null,null,null,null,{"$f":"DN98+1","v":2},"Spieler 07","-","Spieler 09",null,null,{"$f":"DT98","v":15},{"$f":"DU98+1","v":2},7,9,"","","$L$41","$J$43",{"$f":"EB98+1","v":2},"Spieler 06","-","Spieler 08",null,null,{"$f":"EH98","v":16},{"$f":"EI98+1","v":2},6,8,"","","$K$40","$I$42",{"$f":"DN99","v":2},{"$f":"DQ99","v":"Spieler 09"},"-",{"$f":"DO99","v":"Spieler 07"},null,2,"Spieler 08","-","Spieler 06"]
[null,null,null,null,null,null,null,null,null,null,null,null,null,null,null,null,null,null,null,null,null,null,null,null,null,null,null,null,null,null,null,null,null,null,null,null,null,null,null,null,null,null,null,null,null,null,null,null,null,null,null,null,null,null,null,null,null,null,null,null,null,null,null,null,null,null,null,null,null,null,null,null,null,null,null,null,null,null,null,null,null,null,null,null,null,null,null,null,null,null,null,null,null,null,null,null,null,null,null,null,null,null,null,null,null,null,null,null,null,null,null,null,null,null,null,null,null,{"$f":"DN99+1","v":3},"Spieler 10","-","Spieler 06",null,null,{"$f":"DT99","v":15},{"$f":"DU99+1","v":3},10,6,"","","$I$44","$M$40",{"$f":"EB99+1","v":3},"Spieler 09","-","Spieler 05",null,null,{"$f":"EH99","v":16},{"$f":"EI99+1","v":3},9,5,"","","$H$43","$L$39",3,"Spieler 10","-",{"$f":"DQ100","v":"Spieler 06"},null,3,"Spieler 09","-",{"$f":"EE100","v":"Spieler 05"}]
[null,null,null,null,null,null,null,null,null,null,null,null,null,null,null,null,null,null,null,null,null,null,null,null,null,null,null,null,null,null,null,null,null,null,null,null,null,null,null,null,null,null,null,null,null,null,null,null,null,null,null,null,null,null,null,null,null,null,null,null,null,null,null,null,null,null,null,null,null,null,null,null,null,null,null,null,null,null,null,null,null,null,null,null,null,null,null,null,null,null,null,null,null,null,null,null,null,null,null,null,null,null,null,null,null,null,null,null,null,null,null,null,null,null,null,null,null,4,"Spieler 05","-","Spieler 11",null,null,{"$f":"DT100","v":15},4,5,11,"","","$N$39","$H$45",4,"Spieler 04","-","Spieler 10",null,null,{"$f":"EH100","v":16},4,4,10,"","","$M$38","$G$44",4,{"$f":"DQ101","v":"Spieler 11"},"-",{"$f":"DO101","v":"Spieler 05"},null,4,{"$f":"EE101","v":"Spieler 10"},"-",{"$f":"EC101","v":"Spieler 04"}]
[null,null,null,null,null,null,null,null,null,null,null,null,null,null,null,null,null,null,null,null,null,null,null,null,null,null,null,null,null,null,null,null,null,null,null,null,null,null,null,null,null,null,null,null,null,null,null,null,null,null,null,null,null,null,null,null,null,null,null,null,null,null,null,null,null,null,null,null,null,null,null,null,null,null,null,null,null,null,null,null,null,null,null,null,null,null,null,null,null,null,null,null,null,null,null,null,null,null,null,null,null,null,null,null,null,null,null,null,null,null,null,null,null,null,null,null,null,5,"Spieler 12","-","Spieler 04",null,null,{"$f":"DT101","v":15},5,12,4,"","","$G$46","$O$38",5,"Spieler 11","-","Spieler 03",null,null,16,5,11,3,"","","$F$45","$N$37",5,"Spieler 12","-",{"$f":"DQ102","v":"Spieler 04"},null,5,"Spieler 11","-",{"$f":"EE102","v":"Spieler 03"}]
[null,null,null,null,null,null,null,null,null,null,null,null,null,null,null,null,null,null,null,null,null,null,null,null,null,null,null,null,null,null,null,null,null,null,null,null,null,null,null,null,null,null,null,null,null,null,null,null,null,null,null,null,null,null,null,null,null,null,null,null,null,null,null,null,null,null,null,null,null,null,null,null,null,null,null,null,null,null,null,null,null,null,null,null,null,null,null,null,null,null,null,null,null,null,null,null,null,null,null,null,null,null,null,null,null,null,null,null,null,null,null,null,null,null,null,null,null,6,"Spieler 03","-","Spieler 13",null,null,{"$f":"DT102","v":15},6,3,13,"","","$P$37","$F$47",6,"Spieler 02","-","Spieler 12",null,null,16,6,2,12,"","","$O$36","$E$46",6,{"$f":"DQ103","v":"Spieler 13"},"-",{"$f":"DO103","v":"Spieler 03"},null,6,{"$f":"EE103","v":"Spieler 12"},"-",{"$f":"EC103","v":"Spieler 02"}]
[null,null,null,null,null,null,null,null,null,null,null,null,null,null,null,null,null,null,null,null,null,null,null,null,null,null,null,null,null,null,null,null,null,null,null,null,null,null,null,null,null,null,null,null,null,null,null,null,null,null,null,null,null,null,null,null,null,null,null,null,null,null,null,null,null,null,null,null,null,null,null,null,null,null,null,null,null,null,null,null,null,null,null,null,null,null,null,null,null,null,null,null,null,null,null,null,null,null,null,null,null,null,null,null,null,null,null,null,null,null,null,null,null,null,null,null,null,7,"Spieler 14","-","Spieler 02",null,null,{"$f":"DT103","v":15},7,14,2,"","","$E$48","$Q$36",7,"Spieler 13","-","Spieler 01",null,null,16,7,13,1,"","","$D$47","$P$35",7,"Spieler 14","-",{"$f":"DQ104","v":"Spieler 02"},null,7,"Spieler 13","-",{"$f":"EE104","v":"Spieler 01"}]
[null,null,null,null,null,null,null,null,null,null,null,null,null,null,null,null,null,null,null,null,null,null,null,null,null,null,null,null,null,null,null,null,null,null,null,null,null,null,null,null,null,null,null,null,null,null,null,null,null,null,null,null,null,null,null,null,null,null,null,null,null,null,null,null,null,null,null,null,null,null,null,null,null,null,null,null,null,null,null,null,null,null,null,null,null,null,null,null,null,null,null,null,null,null,null,null,null,null,null,null,null,null,null,null,null,null,null,null,null,null,null,null,null,null,null,null,null,8,"Spieler 01","-","Spieler 15",null,null,15,8,1,15,"","","$R$35","$D$49",8,"Spieler 21","-","Spieler 14",null,null,16,8,21,14,"","","$Q$55","$X$48",8,{"$f":"DQ105","v":"Spieler 15"},"-",{"$f":"DO105","v":"Spieler 01"},null,8,{"$f":"EE105","v":"Spieler 14"},"-",{"$f":"EC105","v":"Spieler 21"}]
[null,null,null,null,null,null,null,null,null,null,null,null,null,null,null,null,null,null,null,null,null,null,null,null,null,null,null,null,null,null,null,null,null,null,null,null,null,null,null,null,null,null,null,null,null,null,null,null,null,null,null,null,null,null,null,null,null,null,null,null,null,null,null,null,null,null,null,null,null,null,null,null,null,null,null,null,null,null,null,null,null,null,null,null,null,null,null,null,null,null,null,null,null,null,null,null,null,null,null,null,null,null,null,null,null,null,null,null,null,null,null,null,null,null,null,null,null,9,"Spieler 16","-","Spieler 21",null,null,15,9,16,21,"","","$X$50","$S$55",9,"Spieler 15","-","Spieler 20",null,null,16,9,15,20,"","","$W$49","$R$54",9,"Spieler 16","-",{"$f":"DQ106","v":"Spieler 21"},null,9,"Spieler 15","-",{"$f":"EE106","v":"Spieler 20"}]
[null,null,null,null,null,null,null,null,null,null,null,null,null,null,null,null,null,null,null,null,null,null,null,null,null,null,null,null,null,null,null,null,null,null,null,null,null,null,null,null,null,null,null,null,null,null,null,null,null,null,null,null,null,null,null,null,null,null,null,null,null,null,null,null,null,null,null,null,null,null,null,null,null,null,null,null,null,null,null,null,null,null,null,null,null,null,null,null,null,null,null,null,null,null,null,null,null,null,null,null,null,null,null,null,null,null,null,null,null,null,null,null,null,null,null,null,null,10,"Spieler 20","-","Spieler 17",null,null,15,10,20,17,"","","$T$54","$W$51",10,"Spieler 19","-","Spieler 16",null,null,16,10,19,16,"","","$S$53","$V$50",10,{"$f":"DQ107","v":"Spieler 17"},"-",{"$f":"DO107","v":"Spieler 20"},null,10,{"$f":"EE107","v":"Spieler 16"},"-",{"$f":"EC107","v":"Spieler 19"}]
[null,null,null,null,null,null,null,null,null,null,null,null,null,null,null,null,null,null,null,null,null,null,null,null,null,null,null,null,null,null,null,null,null,null,null,null,null,null,null,null,null,null,null,null,null,null,null,null,null,null,null,null,null,null,null,null,null,null,null,null,null,null,null,null,null,null,null,null,null,null,null,null,null,null,null,null,null,null,null,null,null,null,null,null,null,null,null,null,null,null,null,null,null,null,null,null,null,null,null,null,null,null,null,null,null,null,null,null,null,null,null,null,null,null,null,null,null,11,"Spieler 18","-","Spieler 19",null,null,15,11,18,19,"","","$V$52","$U$53",11,"Spieler 17","-","Spieler 18",null,null,16,11,17,18,"","","$U$51","$T$52",11,"Spieler 18","-",{"$f":"DQ108","v":"Spieler 19"},null,11,"Spieler 17","-",{"$f":"EE108","v":"Spieler 18"}]
[]
[null,null,null,null,null,null,null,null,null,null,null,null,null,null,null,null,null,null,null,null,null,null,null,null,null,null,null,null,null,null,null,null,null,null,null,null,null,null,null,null,null,null,null,null,null,null,null,null,null,null,null,null,null,null,null,null,null,null,null,null,null,null,null,null,null,null,null,null,null,null,null,null,null,null,null,null,null,null,null,null,null,null,null,null,null,null,null,null,null,null,null,null,null,null,null,null,null,null,null,null,null,null,null,null,null,null,null,null,null,null,null,null,null,null,null,null,null,null,{"$f":"DO97+2","v":17},null,null,null,null,"R","B","SpNr w","SpNr s","Res w","Res s",null,null,null,{"$f":"EC97+2","v":18},null,null,null,null,"R","B","SpNr w","SpNr s","Res w","Res s",null,null,null,{"$f":"DO110","v":17},1,null,null,null,{"$f":"EC110","v":18}]
[null,null,null,null,null,null,null,null,null,null,null,null,null,null,null,null,null,null,null,null,null,null,null,null,null,null,null,null,null,null,null,null,null,null,null,null,null,null,null,null,null,null,null,null,null,null,null,null,null,null,null,null,null,null,null,null,null,null,null,null,null,null,null,null,null,null,null,null,null,null,null,null,null,null,null,null,null,null,null,null,null,null,null,null,null,null,null,null,null,null,null,null,null,null,null,null,null,null,null,null,null,null,null,null,null,null,null,null,null,null,null,null,null,null,null,null,null,{"$f":"IF(OR(INDEX($DI$35:$DI$56,DV111),INDEX($DI$35:$DI$56,DW111)),0,1)","v":1},{"$f":"INDEX($DJ$35:$DJ$56,MATCH($DV111,TeilnNr,0))","v":"Spieler 06"},"-",{"$f":"INDEX($DJ$35:$DJ$56,MATCH($DW111,TeilnNr,0))","v":"Spieler 22"},null,null,{"$f":"DO110","v":17},1,{"$f":"IF(AND(DU111=1,MOD(DT111,2)=0),MAX(TeilnNr),IF(MOD(DU111,2)=0,IF(MAX(TeilnNr)/2-DU111+1-(DT111-MAX(TeilnNr)/2-1)>=1,MAX(TeilnNr)/2-DU111+1-(DT111-MAX(TeilnNr)/2-1),MAX(TeilnNr)/2-DU111+1-(DT111-MAX(TeilnNr)/2-1)+MAX(TeilnNr)-1),IF(DU111-(DT111-1)>=1,DU111-(DT111-1),DU111-(DT111-1)+MAX(TeilnNr)-1)))","v":6},{"$f":"IF(AND(DU111=1,MOD(DT111,2)<>0),MAX(TeilnNr),IF(MOD(DU111,2)<>0,IF(MAX(TeilnNr)/2-DU111+1-(DT111-MAX(TeilnNr)/2-1)>=1,MAX(TeilnNr)/2-DU111+1-(DT111-MAX(TeilnNr)/2-1),MAX(TeilnNr)/2-DU111+1-(DT111-MAX(TeilnNr)/2-1)+MAX(TeilnNr)-1),IF(DU111-(DT111-1)>=1,DU111-(DT111-1),DU111-(DT111-1)+MAX(TeilnNr)-1)))","v":22},{"$f":"IF(LEFT(DS111,1)=\"V\",\"\",LEFT(DS111,1))","v":""},{"$f":"IF(RIGHT(DS111,1)=\"V\",\"\",RIGHT(DS111,1))","v":""},{"$f":"ADDRESS(ROW(Teilnehmer)+DV111,COLUMN(Teilnehmer)+DW111)","v":"$Y$40"},{"$f":"ADDRESS(ROW(Teilnehmer)+DW111,COLUMN(Teilnehmer)+DV111)","v":"$I$56"},{"$f":"IF(OR(INDEX($DI$35:$DI$56,EJ111),INDEX($DI$35:$DI$56,EK111)),0,1)","v":1},{"$f":"INDEX($DJ$35:$DJ$56,MATCH($EJ111,TeilnNr,0))","v":"Spieler 22"},"-",{"$f":"INDEX($DJ$35:$DJ$56,MATCH($EK111,TeilnNr,0))","v":"Spieler 05"},null,null,{"$f":"EC110","v":18},1,{"$f":"IF(AND(EI111=1,MOD(EH111,2)=0),MAX(TeilnNr),IF(MOD(EI111,2)=0,IF(MAX(TeilnNr)/2-EI111+1-(EH111-MAX(TeilnNr)/2-1)>=1,MAX(TeilnNr)/2-EI111+1-(EH111-MAX(TeilnNr)/2-1),MAX(TeilnNr)/2-EI111+1-(EH111-MAX(TeilnNr)/2-1)+MAX(TeilnNr)-1),IF(EI111-(EH111-1)>=1,EI111-(EH111-1),EI111-(EH111-1)+MAX(TeilnNr)-1)))","v":22},{"$f":"IF(AND(EI111=1,MOD(EH111,2)<>0),MAX(TeilnNr),IF(MOD(EI111,2)<>0,IF(MAX(TeilnNr)/2-EI111+1-(EH111-MAX(TeilnNr)/2-1)>=1,MAX(TeilnNr)/2-EI111+1-(EH111-MAX(TeilnNr)/2-1),MAX(TeilnNr)/2-EI111+1-(EH111-MAX(TeilnNr)/2-1)+MAX(TeilnNr)-1),IF(EI111-(EH111-1)>=1,EI111-(EH111-1),EI111-(EH111-1)+MAX(TeilnNr)-1)))","v":5},{"$f":"IF(LEFT(EG111,1)=\"V\",\"\",LEFT(EG111,1))","v":""},{"$f":"IF(RIGHT(EG111,1)=\"V\",\"\",RIGHT(EG111,1))","v":""},{"$f":"ADDRESS(ROW(Teilnehmer)+EJ111,COLUMN(Teilnehmer)+EK111)","v":"$H$56"},{"$f":"ADDRESS(ROW(Teilnehmer)+EK111,COLUMN(Teilnehmer)+EJ111)","v":"$Y$39"},{"$f":"DN111","v":1},"Spieler 06","-",{"$f":"DQ111","v":"Spieler 22"},null,{"$f":"EB111","v":1},{"$f":"EE111","v":"Spieler 05"},"-",{"$f":"EC111","v":"Spieler 22"}]
[null,null,null,null,null,null,null,null,null,null,null,null,null,null,null,null,null,null,null,null,null,null,null,null,null,null,null,null,null,null,null,null,null,null,null,null,null,null,null,null,null,null,null,null,null,null,null,null,null,null,null,null,null,null,null,null,null,null,null,null,null,null,null,null,null,null,null,null,null,null,null,null,null,null,null,null,null,null,null,null,null,null,null,null,null,null,null,null,null,null,null,null,null,null,null,null,null,null,null,null,null,null,null,null,null,null,null,null,null,null,null,null,null,null,null,null,null,{"$f":"DN111+1","v":2},"Spieler 05","-","Spieler 07",null,null,{"$f":"DT111","v":17},{"$f":"DU111+1","v":2},5,7,"","","$J$39","$H$41",{"$f":"EB111+1","v":2},"Spieler 04","-","Spieler 06",null,null,{"$f":"EH111","v":18},{"$f":"EI111+1","v":2},4,6,"","","$I$38","$G$40",{"$f":"DN112","v":2},{"$f":"DQ112","v":"Spieler 07"},"-",{"$f":"DO112","v":"Spieler 05"},null,2,"Spieler 06","-","Spieler 04"]
[null,null,null,null,null,null,null,null,null,null,null,null,null,null,null,null,null,null,null,null,null,null,null,null,null,null,null,null,null,null,null,null,null,null,null,null,null,null,null,null,null,null,null,null,null,null,null,null,null,null,null,null,null,null,null,null,null,null,null,null,null,null,null,null,null,null,null,null,null,null,null,null,null,null,null,null,null,null,null,null,null,null,null,null,null,null,null,null,null,null,null,null,null,null,null,null,null,null,null,null,null,null,null,null,null,null,null,null,null,null,null,null,null,null,null,null,null,{"$f":"DN112+1","v":3},"Spieler 08","-","Spieler 04",null,null,{"$f":"DT112","v":17},{"$f":"DU112+1","v":3},8,4,"","","$G$42","$K$38",{"$f":"EB112+1","v":3},"Spieler 07","-","Spieler 03",null,null,{"$f":"EH112","v":18},{"$f":"EI112+1","v":3},7,3,"","","$F$41","$J$37",3,"Spieler 08","-",{"$f":"DQ113","v":"Spieler 04"},null,3,"Spieler 07","-",{"$f":"EE113","v":"Spieler 03"}]
[null,null,null,null,null,null,null,null,null,null,null,null,null,null,null,null,null,null,null,null,null,null,null,null,null,null,null,null,null,null,null,null,null,null,null,null,null,null,null,null,null,null,null,null,null,null,null,null,null,null,null,null,null,null,null,null,null,null,null,null,null,null,null,null,null,null,null,null,null,null,null,null,null,null,null,null,null,null,null,null,null,null,null,null,null,null,null,null,null,null,null,null,null,null,null,null,null,null,null,null,null,null,null,null,null,null,null,null,null,null,null,null,null,null,null,null,null,4,"Spieler 03","-","Spieler 09",null,null,{"$f":"DT113","v":17},4,3,9,"","","$L$37","$F$43",4,"Spieler 02","-","Spieler 08",null,null,{"$f":"EH113","v":18},4,2,8,"","","$K$36","$E$42",4,{"$f":"DQ114","v":"Spieler 09"},"-",{"$f":"DO114","v":"Spieler 03"},null,4,{"$f":"EE114","v":"Spieler 08"},"-",{"$f":"EC114","v":"Spieler 02"}]
[null,null,null,null,null,null,null,null,null,null,null,null,null,null,null,null,null,null,null,null,null,null,null,null,null,null,null,null,null,null,null,null,null,null,null,null,null,null,null,null,null,null,null,null,null,null,null,null,null,null,null,null,null,null,null,null,null,null,null,null,null,null,null,null,null,null,null,null,null,null,null,null,null,null,null,null,null,null,null,null,null,null,null,null,null,null,null,null,null,null,null,null,null,null,null,null,null,null,null,null,null,null,null,null,null,null,null,null,null,null,null,null,null,null,null,null,null,5,"Spieler 10","-","Spieler 02",null,null,{"$f":"DT114","v":17},5,10,2,"","","$E$44","$M$36",5,"Spieler 09","-","Spieler 01",null,null,18,5,9,1,"","","$D$43","$L$35",5,"Spieler 10","-",{"$f":"DQ115","v":"Spieler 02"},null,5,"Spieler 09","-",{"$f":"EE115","v":"Spieler 01"}]
[null,null,null,null,null,null,null,null,null,null,null,null,null,null,null,null,null,null,null,null,null,null,null,null,null,null,null,null,null,null,null,null,null,null,null,null,null,null,null,null,null,null,null,null,null,null,null,null,null,null,null,null,null,null,null,null,null,null,null,null,null,null,null,null,null,null,null,null,null,null,null,null,null,null,null,null,null,null,null,null,null,null,null,null,null,null,null,null,null,null,null,null,null,null,null,null,null,null,null,null,null,null,null,null,null,null,null,null,null,null,null,null,null,null,null,null,null,6,"Spieler 01","-","Spieler 11",null,null,{"$f":"DT115","v":17},6,1,11,"","","$N$35","$D$45",6,"Spieler 21","-","Spieler 10",null,null,18,6,21,10,"","","$M$55","$X$44",6,{"$f":"DQ116","v":"Spieler 11"},"-",{"$f":"DO116","v":"Spieler 01"},null,6,{"$f":"EE116","v":"Spieler 10"},"-",{"$f":"EC116","v":"Spieler 21"}]
[null,null,null,null,null,null,null,null,null,null,null,null,null,null,null,null,null,null,null,null,null,null,null,null,null,null,null,null,null,null,null,null,null,null,null,null,null,null,null,null,null,null,null,null,null,null,null,null,null,null,null,null,null,null,null,null,null,null,null,null,null,null,null,null,null,null,null,null,null,null,null,null,null,null,null,null,null,null,null,null,null,null,null,null,null,null,null,null,null,null,null,null,null,null,null,null,null,null,null,null,null,null,null,null,null,null,null,null,null,null,null,null,null,null,null,null,null,7,"Spieler 12","-","Spieler 21",null,null,{"$f":"DT116","v":17},7,12,21,"","","$X$46","$O$55",7,"Spieler 11","-","Spieler 20",null,null,18,7,11,20,"","","$W$45","$N$54",7,"Spieler 12","-",{"$f":"DQ117","v":"Spieler 21"},null,7,"Spieler 11","-",{"$f":"EE117","v":"Spieler 20"}]
[null,null,null,null,null,null,null,null,null,null,null,null,null,null,null,null,null,null,null,null,null,null,null,null,null,null,null,null,null,null,null,null,null,null,null,null,null,null,null,null,null,null,null,null,null,null,null,null,null,null,null,null,null,null,null,null,null,null,null,null,null,null,null,null,null,null,null,null,null,null,null,null,null,null,null,null,null,null,null,null,null,null,null,null,null,null,null,null,null,null,null,null,null,null,null,null,null,null,null,null,null,null,null,null,null,null,null,null,null,null,null,null,null,null,null,null,null,8,"Spieler 20","-","Spieler 13",null,null,17,8,20,13,"","","$P$54","$W$47",8,"Spieler 19","-","Spieler 12",null,null,18,8,19,12,"","","$O$53","$V$46",8,{"$f":"DQ118","v":"Spieler 13"},"-",{"$f":"DO118","v":"Spieler 20"},null,8,{"$f":"EE118","v":"Spieler 12"},"-",{"$f":"EC118","v":"Spieler 19"}]
[null,null,null,null,null,null,null,null,null,null,null,null,null,null,null,null,null,null,null,null,null,null,null,null,null,null,null,null,null,null,null,null,null,null,null,null,null,null,null,null,null,null,null,null,null,null,null,null,null,null,null,null,null,null,null,null,null,null,null,null,null,null,null,null,null,null,null,null,null,null,null,null,null,null,null,null,null,null,null,null,null,null,null,null,null,null,null,null,null,null,null,null,null,null,null,null,null,null,null,null,null,null,null,null,null,null,null,null,null,null,null,null,null,null,null,null,null,9,"Spieler 14","-","Spieler 19",null,null,17,9,14,19,"","","$V$48","$Q$53",9,"Spieler 13","-","Spieler 18",null,null,18,9,13,18,"","","$U$47","$P$52",9,"Spieler 14","-",{"$f":"DQ119","v":"Spieler 19"},null,9,"Spieler 13","-",{"$f":"EE119","v":"Spieler 18"}]
[null,null,null,null,null,null,null,null,null,null,null,null,null,null,null,null,null,null,null,null,null,null,null,null,null,null,null,null,null,null,null,null,null,null,null,null,null,null,null,null,null,null,null,null,null,null,null,null,null,null,null,null,null,null,null,null,null,null,null,null,null,null,null,null,null,null,null,null,null,null,null,null,null,null,null,null,null,null,null,null,null,null,null,null,null,null,null,null,null,null,null,null,null,null,null,null,null,null,null,null,null,null,null,null,null,null,null,null,null,null,null,null,null,null,null,null,null,10,"Spieler 18","-","Spieler 15",null,null,17,10,18,15,"","","$R$52","$U$49",10,"Spieler 17","-","Spieler 14",null,null,18,10,17,14,"","","$Q$51","$T$48",10,{"$f":"DQ120","v":"Spieler 15"},"-",{"$f":"DO120","v":"Spieler 18"},null,10,{"$f":"EE120","v":"Spieler 14"},"-",{"$f":"EC120","v":"Spieler 17"}]
[null,null,null,null,null,null,null,null,null,null,null,null,null,null,null,null,null,null,null,null,null,null,null,null,null,null,null,null,null,null,null,null,null,null,null,null,null,null,null,null,null,null,null,null,null,null,null,null,null,null,null,null,null,null,null,null,null,null,null,null,null,null,null,null,null,null,null,null,null,null,null,null,null,null,null,null,null,null,null,null,null,null,null,null,null,null,null,null,null,null,null,null,null,null,null,null,null,null,null,null,null,null,null,null,null,null,null,null,null,null,null,null,null,null,null,null,null,11,"Spieler 16","-","Spieler 17",null,null,17,11,16,17,"","","$T$50","$S$51",11,"Spieler 15","-","Spieler 16",null,null,18,11,15,16,"","","$S$49","$R$50",11,"Spieler 16","-",{"$f":"DQ121","v":"Spieler 17"},null,11,"Spieler 15","-",{"$f":"EE121","v":"Spieler 16"}]
[]
[null,null,null,null,null,null,null,null,null,null,null,null,null,null,null,null,null,null,null,null,null,null,null,null,null,null,null,null,null,null,null,null,null,null,null,null,null,null,null,null,null,null,null,null,null,null,null,null,null,null,null,null,null,null,null,null,null,null,null,null,null,null,null,null,null,null,null,null,null,null,null,null,null,null,null,null,null,null,null,null,null,null,null,null,null,null,null,null,null,null,null,null,null,null,null,null,null,null,null,null,null,null,null,null,null,null,null,null,null,null,null,null,null,null,null,null,null,null,{"$f":"DO110+2","v":19},null,null,null,null,"R","B","SpNr w","SpNr s","Res w","Res s",null,null,null,{"$f":"EC110+2","v":20},null,null,null,null,"R","B","SpNr w","SpNr s","Res w","Res s",null,null,null,{"$f":"DO123","v":19},1,null,null,null,{"$f":"EC123","v":20}]
[null,null,null,null,null,null,null,null,null,null,null,null,null,null,null,null,null,null,null,null,null,null,null,null,null,null,null,null,null,null,null,null,null,null,null,null,null,null,null,null,null,null,null,null,null,null,null,null,null,null,null,null,null,null,null,null,null,null,null,null,null,null,null,null,null,null,null,null,null,null,null,null,null,null,null,null,null,null,null,null,null,null,null,null,null,null,null,null,null,null,null,null,null,null,null,null,null,null,null,null,null,null,null,null,null,null,null,null,null,null,null,null,null,null,null,null,null,{"$f":"IF(OR(INDEX($DI$35:$DI$56,DV124),INDEX($DI$35:$DI$56,DW124)),0,1)","v":1},{"$f":"INDEX($DJ$35:$DJ$56,MATCH($DV124,TeilnNr,0))","v":"Spieler 04"},"-",{"$f":"INDEX($DJ$35:$DJ$56,MATCH($DW124,TeilnNr,0))","v":"Spieler 22"},null,null,{"$f":"DO123","v":19},1,{"$f":"IF(AND(DU124=1,MOD(DT124,2)=0),MAX(TeilnNr),IF(MOD(DU124,2)=0,IF(MAX(TeilnNr)/2-DU124+1-(DT124-MAX(TeilnNr)/2-1)>=1,MAX(TeilnNr)/2-DU124+1-(DT124-MAX(TeilnNr)/2-1),MAX(TeilnNr)/2-DU124+1-(DT124-MAX(TeilnNr)/2-1)+MAX(TeilnNr)-1),IF(DU124-(DT124-1)>=1,DU124-(DT124-1),DU124-(DT124-1)+MAX(TeilnNr)-1)))","v":4},{"$f":"IF(AND(DU124=1,MOD(DT124,2)<>0),MAX(TeilnNr),IF(MOD(DU124,2)<>0,IF(MAX(TeilnNr)/2-DU124+1-(DT124-MAX(TeilnNr)/2-1)>=1,MAX(TeilnNr)/2-DU124+1-(DT124-MAX(TeilnNr)/2-1),MAX(TeilnNr)/2-DU124+1-(DT124-MAX(TeilnNr)/2-1)+MAX(TeilnNr)-1),IF(DU124-(DT124-1)>=1,DU124-(DT124-1),DU124-(DT124-1)+MAX(TeilnNr)-1)))","v":22},{"$f":"IF(LEFT(DS124,1)=\"V\",\"\",LEFT(DS124,1))","v":""},{"$f":"IF(RIGHT(DS124,1)=\"V\",\"\",RIGHT(DS124,1))","v":""},{"$f":"ADDRESS(ROW(Teilnehmer)+DV124,COLUMN(Teilnehmer)+DW124)","v":"$Y$38"},{"$f":"ADDRESS(ROW(Teilnehmer)+DW124,COLUMN(Teilnehmer)+DV124)","v":"$G$56"},{"$f":"IF(OR(INDEX($DI$35:$DI$56,EJ124),INDEX($DI$35:$DI$56,EK124)),0,1)","v":1},{"$f":"INDEX($DJ$35:$DJ$56,MATCH($EJ124,TeilnNr,0))","v":"Spieler 22"},"-",{"$f":"INDEX($DJ$35:$DJ$56,MATCH($EK124,TeilnNr,0))","v":"Spieler 03"},null,null,{"$f":"EC123","v":20},1,{"$f":"IF(AND(EI124=1,MOD(EH124,2)=0),MAX(TeilnNr),IF(MOD(EI124,2)=0,IF(MAX(TeilnNr)/2-EI124+1-(EH124-MAX(TeilnNr)/2-1)>=1,MAX(TeilnNr)/2-EI124+1-(EH124-MAX(TeilnNr)/2-1),MAX(TeilnNr)/2-EI124+1-(EH124-MAX(TeilnNr)/2-1)+MAX(TeilnNr)-1),IF(EI124-(EH124-1)>=1,EI124-(EH124-1),EI124-(EH124-1)+MAX(TeilnNr)-1)))","v":22},{"$f":"IF(AND(EI124=1,MOD(EH124,2)<>0),MAX(TeilnNr),IF(MOD(EI124,2)<>0,IF(MAX(TeilnNr)/2-EI124+1-(EH124-MAX(TeilnNr)/2-1)>=1,MAX(TeilnNr)/2-EI124+1-(EH124-MAX(TeilnNr)/2-1),MAX(TeilnNr)/2-EI124+1-(EH124-MAX(TeilnNr)/2-1)+MAX(TeilnNr)-1),IF(EI124-(EH124-1)>=1,EI124-(EH124-1),EI124-(EH124-1)+MAX(TeilnNr)-1)))","v":3},{"$f":"IF(LEFT(EG124,1)=\"V\",\"\",LEFT(EG124,1))","v":""},{"$f":"IF(RIGHT(EG124,1)=\"V\",\"\",RIGHT(EG124,1))","v":""},{"$f":"ADDRESS(ROW(Teilnehmer)+EJ124,COLUMN(Teilnehmer)+EK124)","v":"$F$56"},{"$f":"ADDRESS(ROW(Teilnehmer)+EK124,COLUMN(Teilnehmer)+EJ124)","v":"$Y$37"},{"$f":"DN124","v":1},"Spieler 04","-",{"$f":"DQ124","v":"Spieler 22"},null,{"$f":"EB124","v":1},{"$f":"EE124","v":"Spieler 03"},"-",{"$f":"EC124","v":"Spieler 22"}]
[null,null,null,null,null,null,null,null,null,null,null,null,null,null,null,null,null,null,null,null,null,null,null,null,null,null,null,null,null,null,null,null,null,null,null,null,null,null,null,null,null,null,null,null,null,null,null,null,null,null,null,null,null,null,null,null,null,null,null,null,null,null,null,null,null,null,null,null,null,null,null,null,null,null,null,null,null,null,null,null,null,null,null,null,null,null,null,null,null,null,null,null,null,null,null,null,null,null,null,null,null,null,null,null,null,null,null,null,null,null,null,null,null,null,null,null,null,{"$f":"DN124+1","v":2},"Spieler 03","-","Spieler 05",null,null,{"$f":"DT124","v":19},{"$f":"DU124+1","v":2},3,5,"","","$H$37","$F$39",{"$f":"EB124+1","v":2},"Spieler 02","-","Spieler 04",null,null,{"$f":"EH124","v":20},{"$f":"EI124+1","v":2},2,4,"","","$G$36","$E$38",{"$f":"DN125","v":2},{"$f":"DQ125","v":"Spieler 05"},"-",{"$f":"DO125","v":"Spieler 03"},null,2,"Spieler 04","-","Spieler 02"]
[null,null,null,null,null,null,null,null,null,null,null,null,null,null,null,null,null,null,null,null,null,null,null,null,null,null,null,null,null,null,null,null,null,null,null,null,null,null,null,null,null,null,null,null,null,null,null,null,null,null,null,null,null,null,null,null,null,null,null,null,null,null,null,null,null,null,null,null,null,null,null,null,null,null,null,null,null,null,null,null,null,null,null,null,null,null,null,null,null,null,null,null,null,null,null,null,null,null,null,null,null,null,null,null,null,null,null,null,null,null,null,null,null,null,null,null,null,{"$f":"DN125+1","v":3},"Spieler 06","-","Spieler 02",null,null,{"$f":"DT125","v":19},{"$f":"DU125+1","v":3},6,2,"","","$E$40","$I$36",{"$f":"EB125+1","v":3},"Spieler 05","-","Spieler 01",null,null,{"$f":"EH125","v":20},{"$f":"EI125+1","v":3},5,1,"","","$D$39","$H$35",3,"Spieler 06","-",{"$f":"DQ126","v":"Spieler 02"},null,3,"Spieler 05","-",{"$f":"EE126","v":"Spieler 01"}]
[null,null,null,null,null,null,null,null,null,null,null,null,null,null,null,null,null,null,null,null,null,null,null,null,null,null,null,null,null,null,null,null,null,null,null,null,null,null,null,null,null,null,null,null,null,null,null,null,null,null,null,null,null,null,null,null,null,null,null,null,null,null,null,null,null,null,null,null,null,null,null,null,null,null,null,null,null,null,null,null,null,null,null,null,null,null,null,null,null,null,null,null,null,null,null,null,null,null,null,null,null,null,null,null,null,null,null,null,null,null,null,null,null,null,null,null,null,4,"Spieler 01","-","Spieler 07",null,null,{"$f":"DT126","v":19},4,1,7,"","","$J$35","$D$41",4,"Spieler 21","-","Spieler 06",null,null,{"$f":"EH126","v":20},4,21,6,"","","$I$55","$X$40",4,{"$f":"DQ127","v":"Spieler 07"},"-",{"$f":"DO127","v":"Spieler 01"},null,4,{"$f":"EE127","v":"Spieler 06"},"-",{"$f":"EC127","v":"Spieler 21"}]
[null,null,null,null,null,null,null,null,null,null,null,null,null,null,null,null,null,null,null,null,null,null,null,null,null,null,null,null,null,null,null,null,null,null,null,null,null,null,null,null,null,null,null,null,null,null,null,null,null,null,null,null,null,null,null,null,null,null,null,null,null,null,null,null,null,null,null,null,null,null,null,null,null,null,null,null,null,null,null,null,null,null,null,null,null,null,null,null,null,null,null,null,null,null,null,null,null,null,null,null,null,null,null,null,null,null,null,null,null,null,null,null,null,null,null,null,null,5,"Spieler 08","-","Spieler 21",null,null,{"$f":"DT127","v":19},5,8,21,"","","$X$42","$K$55",5,"Spieler 07","-","Spieler 20",null,null,20,5,7,20,"","","$W$41","$J$54",5,"Spieler 08","-",{"$f":"DQ128","v":"Spieler 21"},null,5,"Spieler 07","-",{"$f":"EE128","v":"Spieler 20"}]
[null,null,null,null,null,null,null,null,null,null,null,null,null,null,null,null,null,null,null,null,null,null,null,null,null,null,null,null,null,null,null,null,null,null,null,null,null,null,null,null,null,null,null,null,null,null,null,null,null,null,null,null,null,null,null,null,null,null,null,null,null,null,null,null,null,null,null,null,null,null,null,null,null,null,null,null,null,null,null,null,null,null,null,null,null,null,null,null,null,null,null,null,null,null,null,null,null,null,null,null,null,null,null,null,null,null,null,null,null,null,null,null,null,null,null,null,null,6,"Spieler 20","-","Spieler 09",null,null,{"$f":"DT128","v":19},6,20,9,"","","$L$54","$W$43",6,"Spieler 19","-","Spieler 08",null,null,20,6,19,8,"","","$K$53","$V$42",6,{"$f":"DQ129","v":"Spieler 09"},"-",{"$f":"DO129","v":"Spieler 20"},null,6,{"$f":"EE129","v":"Spieler 08"},"-",{"$f":"EC129","v":"Spieler 19"}]
[null,null,null,null,null,null,null,null,null,null,null,null,null,null,null,null,null,null,null,null,null,null,null,null,null,null,null,null,null,null,null,null,null,null,null,null,null,null,null,null,null,null,null,null,null,null,null,null,null,null,null,null,null,null,null,null,null,null,null,null,null,null,null,null,null,null,null,null,null,null,null,null,null,null,null,null,null,null,null,null,null,null,null,null,null,null,null,null,null,null,null,null,null,null,null,null,null,null,null,null,null,null,null,null,null,null,null,null,null,null,null,null,null,null,null,null,null,7,"Spieler 10","-","Spieler 19",null,null,{"$f":"DT129","v":19},7,10,19,"","","$V$44","$M$53",7,"Spieler 09","-","Spieler 18",null,null,20,7,9,18,"","","$U$43","$L$52",7,"Spieler 10","-",{"$f":"DQ130","v":"Spieler 19"},null,7,"Spieler 09","-",{"$f":"EE130","v":"Spieler 18"}]
[null,null,null,null,null,null,null,null,null,null,null,null,null,null,null,null,null,null,null,null,null,null,null,null,null,null,null,null,null,null,null,null,null,null,null,null,null,null,null,null,null,null,null,null,null,null,null,null,null,null,null,null,null,null,null,null,null,null,null,null,null,null,null,null,null,null,null,null,null,null,null,null,null,null,null,null,null,null,null,null,null,null,null,null,null,null,null,null,null,null,null,null,null,null,null,null,null,null,null,null,null,null,null,null,null,null,null,null,null,null,null,null,null,null,null,null,null,8,"Spieler 18","-","Spieler 11",null,null,19,8,18,11,"","","$N$52","$U$45",8,"Spieler 17","-","Spieler 10",null,null,20,8,17,10,"","","$M$51","$T$44",8,{"$f":"DQ131","v":"Spieler 11"},"-",{"$f":"DO131","v":"Spieler 18"},null,8,{"$f":"EE131","v":"Spieler 10"},"-",{"$f":"EC131","v":"Spieler 17"}]
[null,null,null,null,null,null,null,null,null,null,null,null,null,null,null,null,null,null,null,null,null,null,null,null,null,null,null,null,null,null,null,null,null,null,null,null,null,null,null,null,null,null,null,null,null,null,null,null,null,null,null,null,null,null,null,null,null,null,null,null,null,null,null,null,null,null,null,null,null,null,null,null,null,null,null,null,null,null,null,null,null,null,null,null,null,null,null,null,null,null,null,null,null,null,null,null,null,null,null,null,null,null,null,null,null,null,null,null,null,null,null,null,null,null,null,null,null,9,"Spieler 12","-","Spieler 17",null,null,19,9,12,17,"","","$T$46","$O$51",9,"Spieler 11","-","Spieler 16",null,null,20,9,11,16,"","","$S$45","$N$50",9,"Spieler 12","-",{"$f":"DQ132","v":"Spieler 17"},null,9,"Spieler 11","-",{"$f":"EE132","v":"Spieler 16"}]
[null,null,null,null,null,null,null,null,null,null,null,null,null,null,null,null,null,null,null,null,null,null,null,null,null,null,null,null,null,null,null,null,null,null,null,null,null,null,null,null,null,null,null,null,null,null,null,null,null,null,null,null,null,null,null,null,null,null,null,null,null,null,null,null,null,null,null,null,null,null,null,null,null,null,null,null,null,null,null,null,null,null,null,null,null,null,null,null,null,null,null,null,null,null,null,null,null,null,null,null,null,null,null,null,null,null,null,null,null,null,null,null,null,null,null,null,null,10,"Spieler 16","-","Spieler 13",null,null,19,10,16,13,"","","$P$50","$S$47",10,"Spieler 15","-","Spieler 12",null,null,20,10,15,12,"","","$O$49","$R$46",10,{"$f":"DQ133","v":"Spieler 13"},"-",{"$f":"DO133","v":"Spieler 16"},null,10,{"$f":"EE133","v":"Spieler 12"},"-",{"$f":"EC133","v":"Spieler 15"}]
[null,null,null,null,null,null,null,null,null,null,null,null,null,null,null,null,null,null,null,null,null,null,null,null,null,null,null,null,null,null,null,null,null,null,null,null,null,null,null,null,null,null,null,null,null,null,null,null,null,null,null,null,null,null,null,null,null,null,null,null,null,null,null,null,null,null,null,null,null,null,null,null,null,null,null,null,null,null,null,null,null,null,null,null,null,null,null,null,null,null,null,null,null,null,null,null,null,null,null,null,null,null,null,null,null,null,null,null,null,null,null,null,null,null,null,null,null,11,"Spieler 14","-","Spieler 15",null,null,19,11,14,15,"","","$R$48","$Q$49",11,"Spieler 13","-","Spieler 14",null,null,20,11,13,14,"","","$Q$47","$P$48",11,"Spieler 14","-",{"$f":"DQ134","v":"Spieler 15"},null,11,"Spieler 13","-",{"$f":"EE134","v":"Spieler 14"}]
[]
[null,null,null,null,null,null,null,null,null,null,null,null,null,null,null,null,null,null,null,null,null,null,null,null,null,null,null,null,null,null,null,null,null,null,null,null,null,null,null,null,null,null,null,null,null,null,null,null,null,null,null,null,null,null,null,null,null,null,null,null,null,null,null,null,null,null,null,null,null,null,null,null,null,null,null,null,null,null,null,null,null,null,null,null,null,null,null,null,null,null,null,null,null,null,null,null,null,null,null,null,null,null,null,null,null,null,null,null,null,null,null,null,null,null,null,null,null,null,{"$f":"DO123+2","v":21},null,null,null,null,"R","B","SpNr w","SpNr s","Res w","Res s",null,null,null,null,null,null,null,null,null,null,null,null,null,null,null,null,null,{"$f":"DO136","v":21},1]
[null,null,null,null,null,null,null,null,null,null,null,null,null,null,null,null,null,null,null,null,null,null,null,null,null,null,null,null,null,null,null,null,null,null,null,null,null,null,null,null,null,null,null,null,null,null,null,null,null,null,null,null,null,null,null,null,null,null,null,null,null,null,null,null,null,null,null,null,null,null,null,null,null,null,null,null,null,null,null,null,null,null,null,null,null,null,null,null,null,null,null,null,null,null,null,null,null,null,null,null,null,null,null,null,null,null,null,null,null,null,null,null,null,null,null,null,null,{"$f":"IF(OR(INDEX($DI$35:$DI$56,DV137),INDEX($DI$35:$DI$56,DW137)),0,1)","v":1},{"$f":"INDEX($DJ$35:$DJ$56,MATCH($DV137,TeilnNr,0))","v":"Spieler 02"},"-",{"$f":"INDEX($DJ$35:$DJ$56,MATCH($DW137,TeilnNr,0))","v":"Spieler 22"},null,null,{"$f":"DO136","v":21},1,{"$f":"IF(AND(DU137=1,MOD(DT137,2)=0),MAX(TeilnNr),IF(MOD(DU137,2)=0,IF(MAX(TeilnNr)/2-DU137+1-(DT137-MAX(TeilnNr)/2-1)>=1,MAX(TeilnNr)/2-DU137+1-(DT137-MAX(TeilnNr)/2-1),MAX(TeilnNr)/2-DU137+1-(DT137-MAX(TeilnNr)/2-1)+MAX(TeilnNr)-1),IF(DU137-(DT137-1)>=1,DU137-(DT137-1),DU137-(DT137-1)+MAX(TeilnNr)-1)))","v":2},{"$f":"IF(AND(DU137=1,MOD(DT137,2)<>0),MAX(TeilnNr),IF(MOD(DU137,2)<>0,IF(MAX(TeilnNr)/2-DU137+1-(DT137-MAX(TeilnNr)/2-1)>=1,MAX(TeilnNr)/2-DU137+1-(DT137-MAX(TeilnNr)/2-1),MAX(TeilnNr)/2-DU137+1-(DT137-MAX(TeilnNr)/2-1)+MAX(TeilnNr)-1),IF(DU137-(DT137-1)>=1,DU137-(DT137-1),DU137-(DT137-1)+MAX(TeilnNr)-1)))","v":22},{"$f":"IF(LEFT(DS137,1)=\"V\",\"\",LEFT(DS137,1))","v":""},{"$f":"IF(RIGHT(DS137,1)=\"V\",\"\",RIGHT(DS137,1))","v":""},{"$f":"ADDRESS(ROW(Teilnehmer)+DV137,COLUMN(Teilnehmer)+DW137)","v":"$Y$36"},{"$f":"ADDRESS(ROW(Teilnehmer)+DW137,COLUMN(Teilnehmer)+DV137)","v":"$E$56"},null,null,null,null,null,null,null,null,null,null,null,null,null,null,{"$f":"DN137","v":1},"Spieler 02","-",{"$f":"DQ137","v":"Spieler 22"}]
[null,null,null,null,null,null,null,null,null,null,null,null,null,null,null,null,null,null,null,null,null,null,null,null,null,null,null,null,null,null,null,null,null,null,null,null,null,null,null,null,null,null,null,null,null,null,null,null,null,null,null,null,null,null,null,null,null,null,null,null,null,null,null,null,null,null,null,null,null,null,null,null,null,null,null,null,null,null,null,null,null,null,null,null,null,null,null,null,null,null,null,null,null,null,null,null,null,null,null,null,null,null,null,null,null,null,null,null,null,null,null,null,null,null,null,null,null,{"$f":"DN137+1","v":2},"Spieler 01","-","Spieler 03",null,null,{"$f":"DT137","v":21},{"$f":"DU137+1","v":2},1,3,"","","$F$35","$D$37",null,null,null,null,null,null,null,null,null,null,null,null,null,null,{"$f":"DN138","v":2},{"$f":"DQ138","v":"Spieler 03"},"-",{"$f":"DO138","v":"Spieler 01"}]
[null,null,null,null,null,null,null,null,null,null,null,null,null,null,null,null,null,null,null,null,null,null,null,null,null,null,null,null,null,null,null,null,null,null,null,null,null,null,null,null,null,null,null,null,null,null,null,null,null,null,null,null,null,null,null,null,null,null,null,null,null,null,null,null,null,null,null,null,null,null,null,null,null,null,null,null,null,null,null,null,null,null,null,null,null,null,null,null,null,null,null,null,null,null,null,null,null,null,null,null,null,null,null,null,null,null,null,null,null,null,null,null,null,null,null,null,null,{"$f":"DN138+1","v":3},"Spieler 04","-","Spieler 21",null,null,{"$f":"DT138","v":21},{"$f":"DU138+1","v":3},4,21,"","","$X$38","$G$55",null,null,null,null,null,null,null,null,null,null,null,null,null,null,3,"Spieler 04","-",{"$f":"DQ139","v":"Spieler 21"}]
[null,null,null,null,null,null,null,null,null,null,null,null,null,null,null,null,null,null,null,null,null,null,null,null,null,null,null,null,null,null,null,null,null,null,null,null,null,null,null,null,null,null,null,null,null,null,null,null,null,null,null,null,null,null,null,null,null,null,null,null,null,null,null,null,null,null,null,null,null,null,null,null,null,null,null,null,null,null,null,null,null,null,null,null,null,null,null,null,null,null,null,null,null,null,null,null,null,null,null,null,null,null,null,null,null,null,null,null,null,null,null,null,null,null,null,null,null,4,"Spieler 20","-","Spieler 05",null,null,{"$f":"DT139","v":21},4,20,5,"","","$H$54","$W$39",null,null,null,null,null,null,null,null,null,null,null,null,null,null,4,{"$f":"DQ140","v":"Spieler 05"},"-",{"$f":"DO140","v":"Spieler 20"}]
[null,null,null,null,null,null,null,null,null,null,null,null,null,null,null,null,null,null,null,null,null,null,null,null,null,null,null,null,null,null,null,null,null,null,null,null,null,null,null,null,null,null,null,null,null,null,null,null,null,null,null,null,null,null,null,null,null,null,null,null,null,null,null,null,null,null,null,null,null,null,null,null,null,null,null,null,null,null,null,null,null,null,null,null,null,null,null,null,null,null,null,null,null,null,null,null,null,null,null,null,null,null,null,null,null,null,null,null,null,null,null,null,null,null,null,null,null,5,"Spieler 06","-","Spieler 19",null,null,{"$f":"DT140","v":21},5,6,19,"","","$V$40","$I$53",null,null,null,null,null,null,null,null,null,null,null,null,null,null,5,"Spieler 06","-",{"$f":"DQ141","v":"Spieler 19"}]
[null,null,null,null,null,null,null,null,null,null,null,null,null,null,null,null,null,null,null,null,null,null,null,null,null,null,null,null,null,null,null,null,null,null,null,null,null,null,null,null,null,null,null,null,null,null,null,null,null,null,null,null,null,null,null,null,null,null,null,null,null,null,null,null,null,null,null,null,null,null,null,null,null,null,null,null,null,null,null,null,null,null,null,null,null,null,null,null,null,null,null,null,null,null,null,null,null,null,null,null,null,null,null,null,null,null,null,null,null,null,null,null,null,null,null,null,null,6,"Spieler 18","-","Spieler 07",null,null,{"$f":"DT141","v":21},6,18,7,"","","$J$52","$U$41",null,null,null,null,null,null,null,null,null,null,null,null,null,null,6,{"$f":"DQ142","v":"Spieler 07"},"-",{"$f":"DO142","v":"Spieler 18"}]
[null,null,null,null,null,null,null,null,null,null,null,null,null,null,null,null,null,null,null,null,null,null,null,null,null,null,null,null,null,null,null,null,null,null,null,null,null,null,null,null,null,null,null,null,null,null,null,null,null,null,null,null,null,null,null,null,null,null,null,null,null,null,null,null,null,null,null,null,null,null,null,null,null,null,null,null,null,null,null,null,null,null,null,null,null,null,null,null,null,null,null,null,null,null,null,null,null,null,null,null,null,null,null,null,null,null,null,null,null,null,null,null,null,null,null,null,null,7,"Spieler 08","-","Spieler 17",null,null,{"$f":"DT142","v":21},7,8,17,"","","$T$42","$K$51",null,null,null,null,null,null,null,null,null,null,null,null,null,null,7,"Spieler 08","-",{"$f":"DQ143","v":"Spieler 17"}]
[null,null,null,null,null,null,null,null,null,null,null,null,null,null,null,null,null,null,null,null,null,null,null,null,null,null,null,null,null,null,null,null,null,null,null,null,null,null,null,null,null,null,null,null,null,null,null,null,null,null,null,null,null,null,null,null,null,null,null,null,null,null,null,null,null,null,null,null,null,null,null,null,null,null,null,null,null,null,null,null,null,null,null,null,null,null,null,null,null,null,null,null,null,null,null,null,null,null,null,null,null,null,null,null,null,null,null,null,null,null,null,null,null,null,null,null,null,8,"Spieler 16","-","Spieler 09",null,null,21,8,16,9,"","","$L$50","$S$43",null,null,null,null,null,null,null,null,null,null,null,null,null,null,8,{"$f":"DQ144","v":"Spieler 09"},"-",{"$f":"DO144","v":"Spieler 16"}]
[null,null,null,null,null,null,null,null,null,null,null,null,null,null,null,null,null,null,null,null,null,null,null,null,null,null,null,null,null,null,null,null,null,null,null,null,null,null,null,null,null,null,null,null,null,null,null,null,null,null,null,null,null,null,null,null,null,null,null,null,null,null,null,null,null,null,null,null,null,null,null,null,null,null,null,null,null,null,null,null,null,null,null,null,null,null,null,null,null,null,null,null,null,null,null,null,null,null,null,null,null,null,null,null,null,null,null,null,null,null,null,null,null,null,null,null,null,9,"Spieler 10","-","Spieler 15",null,null,21,9,10,15,"","","$R$44","$M$49",null,null,null,null,null,null,null,null,null,null,null,null,null,null,9,"Spieler 10","-",{"$f":"DQ145","v":"Spieler 15"}]
[null,null,null,null,null,null,null,null,null,null,null,null,null,null,null,null,null,null,null,null,null,null,null,null,null,null,null,null,null,null,null,null,null,null,null,null,null,null,null,null,null,null,null,null,null,null,null,null,null,null,null,null,null,null,null,null,null,null,null,null,null,null,null,null,null,null,null,null,null,null,null,null,null,null,null,null,null,null,null,null,null,null,null,null,null,null,null,null,null,null,null,null,null,null,null,null,null,null,null,null,null,null,null,null,null,null,null,null,null,null,null,null,null,null,null,null,null,10,"Spieler 14","-","Spieler 11",null,null,21,10,14,11,"","","$N$48","$Q$45",null,null,null,null,null,null,null,null,null,null,null,null,null,null,10,{"$f":"DQ146","v":"Spieler 11"},"-",{"$f":"DO146","v":"Spieler 14"}]
[null,null,null,null,null,null,null,null,null,null,null,null,null,null,null,null,null,null,null,null,null,null,null,null,null,null,null,null,null,null,null,null,null,null,null,null,null,null,null,null,null,null,null,null,null,null,null,null,null,null,null,null,null,null,null,null,null,null,null,null,null,null,null,null,null,null,null,null,null,null,null,null,null,null,null,null,null,null,null,null,null,null,null,null,null,null,null,null,null,null,null,null,null,null,null,null,null,null,null,null,null,null,null,null,null,null,null,null,null,null,null,null,null,null,null,null,null,11,"Spieler 12","-","Spieler 13",null,null,21,11,12,13,"","","$P$46","$O$47",null,null,null,null,null,null,null,null,null,null,null,null,null,null,11,"Spieler 12","-",{"$f":"DQ147","v":"Spieler 13"}]

{"sheet":"20","index":3,"n_rows":124,"n_cols":148,"rows_kept":124,"cut":false,"hidden":false,"merged":[[53,114,53,116],[53,128,53,130],[0,1,0,29],[1,128,1,130],[3,114,3,130],[5,114,5,116],[5,128,5,130],[17,114,17,116],[17,128,17,130],[29,114,29,116],[29,128,29,130],[30,27,30,28],[41,114,41,116],[41,128,41,130],[101,114,101,116],[101,128,101,130],[113,114,113,116],[65,114,65,116],[65,128,65,130],[77,114,77,116],[77,128,77,130],[89,114,89,116],[89,128,89,130]]}
[null,"Turniername",null,null,null,null,null,null,null,null,null,null,null,null,null,null,null,null,null,null,null,null,null,null,null,null,null,null,null,null,null,null,null,null,null,null,null,null,null,null,null,null,null,null,null,null,null,null,null,null,null,null,null,null,null,1,"1) Punkte 2) So-Be 3) Manuelle Feinwertung ",null,null,null,null,null,null,null,null,null,null,null,null,null,null,null,null,null,null,null,null,null,null,null,null,null,null,null,null,null,null,null,null,null,null,null,null,null,null,"Wiederholung Kriterien:",null,null,null,null,null,null,null,null,null,null,null,null,null,null,null,null,{"$f":"\"Paarungsliste und Resultate \"&IF(Turnier=\"\",\"\",Turnier)","v":"Paarungsliste und Resultate Turniername"},null,null,null,null,null,null,null,null,null,null,null,null,null,null,null,null,null,null,null,null,null,null,null,null,null,null,null,"Paarungsliste Darstellung Rutschsystem",null,null,null,null,null,{"$f":"IF(Datum=\"\",\"\",\"Datum:\")","v":""}]
[null,null,null,null,null,null,null,null,null,null,null,null,null,null,null,null,null,null,null,null,null,null,null,null,null,null,null,null,null,null,null,null,null,null,null,null,null,null,null,null,null,null,null,null,null,null,null,null,null,null,null,null,"a","b","P",2,"1) Punkte 2) So-Be 3) direkte Begegnung 4) Manuelle Feinwertung ",null,null,null,null,null,null,null,null,null,null,null,null,null,null,null,null,null,null,null,null,null,null,null,null,null,null,null,null,null,null,null,null,null,null,null,null,null,1,{"$f":"BE1","v":"1) Punkte 2) So-Be 3) Manuelle Feinwertung "},null,null,null,null,null,null,null,null,null,null,null,null,null,null,null,null,{"$f":"IF(Turnier=\"\",\"\",\"Turniername:\")","v":"Turniername:"},null,{"$f":"IF(Turnier=\"\",\"\",Turnier)","v":"Turniername"},null,null,null,null,null,null,null,null,null,null,null,null,"Datum:",null,null,null,null,null,null,null,null,null,null,null,null,{"$f":"IF(Turnier=\"\",\"\",\"Turniername:\")","v":"Turniername:"},null,{"$f":"IF(Turnier=\"\",\"\",Turnier)&IF(Datum=\"\",\"\",\", \"&TEXT(Datum,\"TT.MM.JJJJ\"))","v":"Turniername"}]
[null,null,null,null,null,null,null,null,null,null,null,null,null,null,null,null,null,null,null,null,null,null,null,null,null,null,null,null,null,null,null,null,null,null,null,null,null,null,null,null,null,null,null,null,null,null,null,null,null,null,null,null,"1","0",1,3,"1) Punkte 2) Anz. Partien 3) So-Be 4) Manuelle Feinwertung "]
[null,"Rangliste",null,null,null,null,null,null,null,null,null,null,null,null,null,null,null,null,null,null,null,null,null,null,null,null,null,null,null,null,null,null,null,null,null,null,null,null,null,null,null,null,null,null,null,null,null,null,null,null,null,null,"0","1",0,4,"1) Punkte 2) Anz. Partien 3) So-Be 4) direkte Begegnung 5) Manuelle Feinwertung ",null,null,null,null,null,null,null,null,null,null,null,null,null,null,null,null,null,null,null,null,null,null,null,null,null,null,null,null,null,null,null,null,null,null,null,null,null,2,{"$f":"BE2","v":"1) Punkte 2) So-Be 3) direkte Begegnung 4) Manuelle Feinwertung "},null,null,null,null,null,null,null,null,null,null,null,null,null,null,null,null,"Turnierleitung:",null,null,null,null,null,null,null,null,null,null,null,null,null,null,null,null,null,null,null,null,null,null,null,null,null,null,null,{"$f":"IF(Turnierleitung=\"\",\"\",\"Turnierleitung:\")","v":""},null,{"$f":"IF(Turnierleitung=\"\",\"\",Turnierleitung)","v":""}]
[null,null,null,null,null,null,null,null,null,null,null,null,null,null,null,null,null,null,null,null,null,null,null,null,null,null,null,null,null,null,null,null,null,null,null,null,null,null,null,null,null,null,null,null,null,null,null,null,null,null,null,null,"½","½",0.5,5,"1) Punkte 2) Anz. Partien 3) So-Be 4) direkte Begegnung 5) Anz.Schwarzpartien 6) Manuelle Feinwertung ",null,null,null,null,null,null,null,null,null,null,null,null,null,null,null,null,null,null,null,null,null,null,null,null,null,null,null,null,null,null,null,null,null,null,null,null,null,3,"1) Punkte 2) Anz. Partien 3) So-Be 4) Manuelle Feinwertung "]
[null,"Rang","Teilnehmer",1,2,3,4,5,6,7,8,9,10,11,12,13,14,15,16,17,18,19,20,"Punkte","Spiele","So-Be",{"$f":"IF(AA32=\"\",\"FWm\",AA32)","v":"FW+"},1,"½",0,"Nr",null,null,null,null,null,null,null,null,null,null,null,null,null,null,null,null,null,null,null,null,null,"+","-",1,6,"1) Punkte 2) Anz. Partien 3) So-Be 4) Anz.Schwarzpartien 5) direkte Begegnung 6) Manuelle Feinwertung ",null,null,null,null,null,null,null,null,null,null,null,null,null,null,null,null,null,null,null,null,null,null,null,null,null,null,null,null,null,null,null,null,null,null,null,null,null,4,"1) Punkte 2) Anz. Partien 3) So-Be 4) direkte Begegnung 5) Manuelle Feinwertung ",null,null,null,null,null,null,null,null,null,null,null,null,null,null,null,null,1,null,null,null,null,"R","B","SpNr w","SpNr s","Res w","Res s","AdrTTw","AdrTTs",null,{"$f":"DI6+1","v":2},null,null,null,null,"R","B","SpNr w","SpNr s","Res w","Res s","AdrTTw","AdrTTs",null,{"$f":"DI6","v":1},1,null,null,null,{"$f":"DW6","v":2}]
[null,{"$f":"IF(INDEX($DC$33:$DC$52,MATCH(B33,$DG$33:$DG$52,0)),\"--\",IF(INDEX($DB$33:$DB$52,MATCH(B33,$DG$33:$DG$52,0))<ROW()-ROW($B$6),\"\",INDEX($DB$33:$DB$52,MATCH(B33,$DG$33:$DG$52,0))))","v":1},{"$f":"IF(INDEX($C$33:$C$52,MATCH(B33,$DG$33:$DG$52,0))=0,\"Spieler \"&TEXT(AE7,\"00\"),INDEX($C$33:$C$52,MATCH(B33,$DG$33:$DG$52,0)))","v":"Spieler 01"},{"$f":"IF(INDEX($B$32:$W$52,MATCH($AE7,$B$32:$B$52,0),MATCH(INDEX($B$33:$B$52,MATCH(OFFSET($AE$6,D$6,0),$B$33:$B$52,0)),$B$32:$W$32,0))=\"\",\"\",INDEX($B$32:$W$52,MATCH($AE7,$B$32:$B$52,0),MATCH(INDEX($B$33:$B$52,MATCH(OFFSET($AE$6,D$6,0),$B$33:$B$52,0)),$B$32:$W$32,0)))","v":""},"","","","","","","","","",{"$f":"IF(INDEX($B$32:$W$52,MATCH($AE7,$B$32:$B$52,0),MATCH(INDEX($B$33:$B$52,MATCH(OFFSET($AE$6,N$6,0),$B$33:$B$52,0)),$B$32:$W$32,0))=\"\",\"\",INDEX($B$32:$W$52,MATCH($AE7,$B$32:$B$52,0),MATCH(INDEX($B$33:$B$52,MATCH(OFFSET($AE$6,N$6,0),$B$33:$B$52,0)),$B$32:$W$32,0)))","v":""},"","","","","","","","","",{"$f":"INDEX($AZ$33:$AZ$52,MATCH(AE7,$B$33:$B$52,0))","v":0},{"$f":"INDEX($Y$33:$Y$52,MATCH(AE7,$B$33:$B$52,0))","v":0},{"$f":"INDEX($Z$33:$Z$52,MATCH(AE7,$B$33:$B$52,0))","v":0},{"$f":"INDEX($AA$33:$AA$52,MATCH(AE7,$B$33:$B$52,0))","v":0},{"$f":"COUNTIF($D7:$W7,1)+COUNTIF($D7:$W7,\"+\")","v":0},{"$f":"COUNTIF($D7:$W7,\"½\")","v":0},{"$f":"COUNTIF($D7:$W7,0)+COUNTIF($D7:$W7,\"-\")","v":0},{"$f":"INDEX($B$33:$B$52,MATCH(B33,$DG$33:$DG$52,0))","v":1},null,null,null,null,null,null,null,null,null,null,null,null,null,null,null,null,null,null,null,null,null,"-","+",0,7,"1) Punkte 2) Anz. Partien 3) direkte Begegnung 4) So-Be 5) Anz.Schwarzpartien 6) Manuelle Feinwertung ",null,null,null,null,null,null,null,null,null,null,null,null,null,null,null,null,null,null,null,null,null,null,null,null,null,null,null,null,null,null,null,null,null,null,null,null,null,5,"1) Punkte 2) Anz. Partien 3) So-Be 4) direkte Begegnung 5) Anz.Schwarzpartien 6) Manuelle Feinwertung ",null,null,null,null,null,null,null,null,null,null,null,null,null,null,null,{"$f":"IF(OR(INDEX($DC$33:$DC$52,DP7),INDEX($DC$33:$DC$52,DQ7)),0,1)","v":1},{"$f":"INDEX($DD$33:$DD$52,MATCH($DP7,TeilnNr,0))","v":"Spieler 01"},"-",{"$f":"INDEX($DD$33:$DD$52,MATCH($DQ7,TeilnNr,0))","v":"Spieler 20"},null,null,{"$f":"DI6","v":1},1,{"$f":"IF(AND(DO7=1,MOD(DN7,2)=0),MAX(TeilnNr),IF(MOD(DO7,2)=0,IF(MAX(TeilnNr)/2-DO7+1-(DN7-MAX(TeilnNr)/2-1)>=1,MAX(TeilnNr)/2-DO7+1-(DN7-MAX(TeilnNr)/2-1),MAX(TeilnNr)/2-DO7+1-(DN7-MAX(TeilnNr)/2-1)+MAX(TeilnNr)-1),IF(DO7-(DN7-1)>=1,DO7-(DN7-1),DO7-(DN7-1)+MAX(TeilnNr)-1)))","v":1},{"$f":"IF(AND(DO7=1,MOD(DN7,2)<>0),MAX(TeilnNr),IF(MOD(DO7,2)<>0,IF(MAX(TeilnNr)/2-DO7+1-(DN7-MAX(TeilnNr)/2-1)>=1,MAX(TeilnNr)/2-DO7+1-(DN7-MAX(TeilnNr)/2-1),MAX(TeilnNr)/2-DO7+1-(DN7-MAX(TeilnNr)/2-1)+MAX(TeilnNr)-1),IF(DO7-(DN7-1)>=1,DO7-(DN7-1),DO7-(DN7-1)+MAX(TeilnNr)-1)))","v":20},{"$f":"IF(LEFT(DM7,1)=\"V\",\"\",LEFT(DM7,1))","v":""},{"$f":"IF(RIGHT(DM7,1)=\"V\",\"\",RIGHT(DM7,1))","v":""},{"$f":"ADDRESS(ROW(Teilnehmer)+DP7,COLUMN(Teilnehmer)+DQ7)","v":"$W$33"},{"$f":"ADDRESS(ROW(Teilnehmer)+DQ7,COLUMN(Teilnehmer)+DP7)","v":"$D$52"},{"$f":"IF(OR(INDEX($DC$33:$DC$52,ED7),INDEX($DC$33:$DC$52,EE7)),0,1)","v":1},{"$f":"INDEX($DD$33:$DD$52,MATCH($ED7,TeilnNr,0))","v":"Spieler 20"},"-",{"$f":"INDEX($DD$33:$DD$52,MATCH($EE7,TeilnNr,0))","v":"Spieler 19"},null,null,{"$f":"DW6","v":2},1,{"$f":"IF(AND(EC7=1,MOD(EB7,2)=0),MAX(TeilnNr),IF(MOD(EC7,2)=0,IF(MAX(TeilnNr)/2-EC7+1-(EB7-MAX(TeilnNr)/2-1)>=1,MAX(TeilnNr)/2-EC7+1-(EB7-MAX(TeilnNr)/2-1),MAX(TeilnNr)/2-EC7+1-(EB7-MAX(TeilnNr)/2-1)+MAX(TeilnNr)-1),IF(EC7-(EB7-1)>=1,EC7-(EB7-1),EC7-(EB7-1)+MAX(TeilnNr)-1)))","v":20},{"$f":"IF(AND(EC7=1,MOD(EB7,2)<>0),MAX(TeilnNr),IF(MOD(EC7,2)<>0,IF(MAX(TeilnNr)/2-EC7+1-(EB7-MAX(TeilnNr)/2-1)>=1,MAX(TeilnNr)/2-EC7+1-(EB7-MAX(TeilnNr)/2-1),MAX(TeilnNr)/2-EC7+1-(EB7-MAX(TeilnNr)/2-1)+MAX(TeilnNr)-1),IF(EC7-(EB7-1)>=1,EC7-(EB7-1),EC7-(EB7-1)+MAX(TeilnNr)-1)))","v":19},{"$f":"IF(LEFT(EA7,1)=\"V\",\"\",LEFT(EA7,1))","v":""},{"$f":"IF(RIGHT(EA7,1)=\"V\",\"\",RIGHT(EA7,1))","v":""},{"$f":"ADDRESS(ROW(Teilnehmer)+ED7,COLUMN(Teilnehmer)+EE7)","v":"$V$52"},{"$f":"ADDRESS(ROW(Teilnehmer)+EE7,COLUMN(Teilnehmer)+ED7)","v":"$W$51"},{"$f":"DH7","v":1},{"$f":"DI7","v":"Spieler 01"},"-",{"$f":"DK7","v":"Spieler 20"},null,{"$f":"DV7","v":1},{"$f":"DY7","v":"Spieler 19"},"-",{"$f":"DW7","v":"Spieler 20"}]
[null,"","Spieler 02","","","","","","","","","","","","","","","","","","","","",0,0,0,0,0,0,0,2,null,null,null,null,null,null,null,null,null,null,null,null,null,null,null,null,null,null,null,null,null,null,null,null,8,"1) Punkte 2) Anz. Partien 3) direkte Begegnung 4) Anz.Schwarzpartien 5) So-Be 6) Manuelle Feinwertung ",null,null,null,null,null,null,null,null,null,null,null,null,null,null,null,null,null,null,null,null,null,null,null,null,null,null,null,null,null,null,null,null,null,null,null,null,null,6,"1) Punkte 2) Anz. Partien 3) So-Be 4) Anz.Schwarzpartien 5) direkte Begegnung 6) Manuelle Feinwertung ",null,null,null,null,null,null,null,null,null,null,null,null,null,null,null,{"$f":"DH7+1","v":2},"Spieler 19","-","Spieler 02",null,null,{"$f":"DN7","v":1},{"$f":"DO7+1","v":2},19,2,"","","$E$51","$V$34",{"$f":"DV7+1","v":2},"Spieler 18","-","Spieler 01",null,null,{"$f":"EB7","v":2},{"$f":"EC7+1","v":2},18,1,"","","$D$50","$U$33",{"$f":"DH8","v":2},{"$f":"DK8","v":"Spieler 02"},"-",{"$f":"DI8","v":"Spieler 19"},null,{"$f":"DV8","v":2},{"$f":"DY8","v":"Spieler 01"},"-",{"$f":"DW8","v":"Spieler 18"}]
[null,"","Spieler 03","","","","","","","","","","","","","","","","","","","","",0,0,0,0,0,0,0,3,null,null,null,null,null,null,null,null,null,null,null,null,null,null,null,null,null,null,null,null,null,null,null,null,9,"1) Punkte 2) Anz. Partien 3) Anz.Schwarzpartien 4) So-Be 5) direkte Begegnung 6) Manuelle Feinwertung ",null,null,null,null,null,null,null,null,null,null,null,null,null,null,null,null,null,null,null,null,null,null,null,null,null,null,null,null,null,null,null,null,null,null,null,null,null,7,"1) Punkte 2) Anz. Partien 3) direkte Begegnung 4) So-Be 5) Anz.Schwarzpartien 6) Manuelle Feinwertung ",null,null,null,null,null,null,null,null,null,null,null,null,null,null,null,{"$f":"DH8+1","v":3},"Spieler 03","-","Spieler 18",null,null,{"$f":"DN8","v":1},{"$f":"DO8+1","v":3},3,18,"","","$U$35","$F$50",{"$f":"DV8+1","v":3},"Spieler 02","-","Spieler 17",null,null,{"$f":"EB8","v":2},{"$f":"EC8+1","v":3},2,17,"","","$T$34","$E$49",{"$f":"DH9","v":3},{"$f":"DI9","v":"Spieler 03"},"-",{"$f":"DK9","v":"Spieler 18"},null,{"$f":"DV9","v":3},{"$f":"DW9","v":"Spieler 02"},"-",{"$f":"DY9","v":"Spieler 17"}]
[null,"","Spieler 04","","","","","","","","","","","","","","","","","","","","",0,0,0,0,0,0,0,4,null,null,null,null,null,null,null,null,null,null,null,null,null,null,null,null,null,null,null,null,null,null,null,4,10,"1) Punkte 2) Anz. Partien 3) Anz.Schwarzpartien 4) direkte Begegnung 5) So-Be 6) Manuelle Feinwertung ",null,null,null,null,null,null,null,null,null,null,null,null,null,null,null,null,null,null,null,null,null,null,null,null,null,null,null,null,null,null,null,null,null,null,null,null,null,8,"1) Punkte 2) Anz. Partien 3) direkte Begegnung 4) Anz.Schwarzpartien 5) So-Be 6) Manuelle Feinwertung ",null,null,null,null,null,null,null,null,null,null,null,null,null,null,null,4,"Spieler 17","-","Spieler 04",null,null,{"$f":"DN9","v":1},4,17,4,"","","$G$49","$T$36",4,"Spieler 16","-","Spieler 03",null,null,{"$f":"EB9","v":2},4,16,3,"","","$F$48","$S$35",{"$f":"DH10","v":4},{"$f":"DK10","v":"Spieler 04"},"-",{"$f":"DI10","v":"Spieler 17"},null,{"$f":"DV10","v":4},{"$f":"DY10","v":"Spieler 03"},"-",{"$f":"DW10","v":"Spieler 16"}]
[null,"","Spieler 05","","","","","","","","","","","","","","","","","","","","",0,0,0,0,0,0,0,5,null,null,null,null,null,null,null,null,null,null,null,null,null,null,null,null,null,null,null,null,null,null,null,null,null,null,null,null,null,null,null,null,null,null,null,null,null,null,null,null,null,null,null,null,null,null,null,null,null,null,null,null,null,null,null,null,null,null,null,null,null,null,null,9,"1) Punkte 2) Anz. Partien 3) Anz.Schwarzpartien 4) So-Be 5) direkte Begegnung 6) Manuelle Feinwertung ",null,null,null,null,null,null,null,null,null,null,null,null,null,null,null,5,"Spieler 05","-","Spieler 16",null,null,1,5,5,16,"","","$S$37","$H$48",5,"Spieler 04","-","Spieler 15",null,null,2,5,4,15,"","","$R$36","$G$47",5,"Spieler 05","-",{"$f":"DK11","v":"Spieler 16"},null,5,"Spieler 04","-",{"$f":"DY11","v":"Spieler 15"}]
[null,"","Spieler 06","","","","","","","","","","","","","","","","","","","","",0,0,0,0,0,0,0,6,null,null,null,null,null,null,null,null,null,null,null,null,null,null,null,null,null,null,null,null,null,null,null,null,null,null,null,null,null,null,null,null,null,null,null,null,null,null,null,null,null,null,null,null,null,null,null,null,null,null,null,null,null,null,null,null,null,null,null,null,null,null,null,10,"1) Punkte 2) Anz. Partien 3) Anz.Schwarzpartien 4) direkte Begegnung 5) So-Be 6) Manuelle Feinwertung ",null,null,null,null,null,null,null,null,null,null,null,null,null,null,null,6,"Spieler 15","-","Spieler 06",null,null,1,6,15,6,"","","$I$47","$R$38",6,"Spieler 14","-","Spieler 05",null,null,2,6,14,5,"","","$H$46","$Q$37",6,{"$f":"DK12","v":"Spieler 06"},"-",{"$f":"DI12","v":"Spieler 15"},null,6,{"$f":"DY12","v":"Spieler 05"},"-",{"$f":"DW12","v":"Spieler 14"}]
[null,"","Spieler 07","","","","","","","","","","","","","","","","","","","","",0,0,0,0,0,0,0,7,null,null,null,null,null,null,null,null,null,null,null,null,null,null,null,null,null,null,null,null,null,null,null,null,null,null,null,null,null,null,null,null,null,null,null,null,null,null,null,null,null,null,null,null,null,null,null,null,null,null,null,null,null,null,null,null,null,null,null,null,null,null,null,null,null,null,null,null,null,null,null,null,null,null,null,null,null,null,null,null,7,"Spieler 07","-","Spieler 14",null,null,1,7,7,14,"","",{"$f":"ADDRESS(ROW(Teilnehmer)+DP13,COLUMN(Teilnehmer)+DQ13)","v":"$Q$39"},{"$f":"ADDRESS(ROW(Teilnehmer)+DQ13,COLUMN(Teilnehmer)+DP13)","v":"$J$46"},7,"Spieler 06","-","Spieler 13",null,null,2,7,6,13,"","",{"$f":"ADDRESS(ROW(Teilnehmer)+ED13,COLUMN(Teilnehmer)+EE13)","v":"$P$38"},{"$f":"ADDRESS(ROW(Teilnehmer)+EE13,COLUMN(Teilnehmer)+ED13)","v":"$I$45"},7,"Spieler 07","-",{"$f":"DK13","v":"Spieler 14"},null,7,"Spieler 06","-",{"$f":"DY13","v":"Spieler 13"}]
[null,"","Spieler 08","","","","","","","","","","","","","","","","","","","","",0,0,0,0,0,0,0,8,null,null,null,null,null,null,null,null,null,null,null,null,null,null,null,null,null,null,null,null,null,null,null,null,null,null,null,null,null,null,null,null,null,null,null,null,null,null,null,null,null,null,null,null,null,null,null,null,null,null,null,null,null,null,null,null,null,null,null,null,null,null,null,null,null,null,null,null,null,null,null,null,null,null,null,null,null,null,null,null,8,"Spieler 13","-","Spieler 08",null,null,1,8,13,8,"","","$K$45","$P$40",8,"Spieler 12","-","Spieler 07",null,null,2,8,12,7,"","","$J$44","$O$39",8,{"$f":"DK14","v":"Spieler 08"},"-",{"$f":"DI14","v":"Spieler 13"},null,8,{"$f":"DY14","v":"Spieler 07"},"-",{"$f":"DW14","v":"Spieler 12"}]
[null,"","Spieler 09","","","","","","","","","","","","","","","","","","","","",0,0,0,0,0,0,0,9,null,null,null,null,null,null,null,null,null,null,null,null,null,null,null,null,null,null,null,null,null,null,null,null,null,null,null,null,null,null,null,null,null,null,null,null,null,null,null,null,null,null,null,null,null,null,null,null,null,null,null,null,null,null,null,null,null,null,null,null,null,null,null,null,null,null,null,null,null,null,null,null,null,null,null,null,null,null,null,null,9,"Spieler 09","-","Spieler 12",null,null,1,9,9,12,"","","$O$41","$L$44",9,"Spieler 08","-","Spieler 11",null,null,2,9,8,11,"","","$N$40","$K$43",9,"Spieler 09","-",{"$f":"DK15","v":"Spieler 12"},null,9,"Spieler 08","-",{"$f":"DY15","v":"Spieler 11"}]
[null,"","Spieler 10","","","","","","","","","","","","","","","","","","","","",0,0,0,0,0,0,0,10,null,null,null,null,null,null,null,null,null,null,null,null,null,null,null,null,null,null,null,null,null,null,null,null,null,null,null,null,null,null,null,null,null,null,null,null,null,null,null,null,null,null,null,null,null,null,null,null,null,null,null,null,null,null,null,null,null,null,null,null,null,null,null,null,null,null,null,null,null,null,null,null,null,null,null,null,null,null,null,null,10,"Spieler 11","-","Spieler 10",null,null,1,10,11,10,"","","$M$43","$N$42",10,"Spieler 10","-","Spieler 09",null,null,2,10,10,9,"","","$L$42","$M$41",10,{"$f":"DK16","v":"Spieler 10"},"-",{"$f":"DI16","v":"Spieler 11"},null,10,{"$f":"DY16","v":"Spieler 09"},"-",{"$f":"DW16","v":"Spieler 10"}]
[null,"","Spieler 11",{"$f":"IF(INDEX($B$32:$W$52,MATCH($AE17,$B$32:$B$52,0),MATCH(INDEX($B$33:$B$52,MATCH(OFFSET($AE$6,D$6,0),$B$33:$B$52,0)),$B$32:$W$32,0))=\"\",\"\",INDEX($B$32:$W$52,MATCH($AE17,$B$32:$B$52,0),MATCH(INDEX($B$33:$B$52,MATCH(OFFSET($AE$6,D$6,0),$B$33:$B$52,0)),$B$32:$W$32,0)))","v":""},"","","","","","","","","",{"$f":"IF(INDEX($B$32:$W$52,MATCH($AE17,$B$32:$B$52,0),MATCH(INDEX($B$33:$B$52,MATCH(OFFSET($AE$6,N$6,0),$B$33:$B$52,0)),$B$32:$W$32,0))=\"\",\"\",INDEX($B$32:$W$52,MATCH($AE17,$B$32:$B$52,0),MATCH(INDEX($B$33:$B$52,MATCH(OFFSET($AE$6,N$6,0),$B$33:$B$52,0)),$B$32:$W$32,0)))","v":""},"","","","","","","","","",0,0,0,0,0,0,0,11]
[null,"","Spieler 12","","","","","","","","","","","","","","","","","","","","",0,0,0,0,0,0,0,12,null,null,null,null,null,null,null,null,null,null,null,null,null,null,null,null,null,null,null,null,null,null,null,null,null,null,null,null,null,null,null,null,null,null,null,null,null,null,null,null,null,null,null,null,null,null,null,null,null,null,null,null,null,null,null,null,null,null,null,null,null,null,null,null,null,null,null,null,null,null,null,null,null,null,null,null,null,null,null,null,null,{"$f":"DI6+2","v":3},null,null,null,null,"R","B","SpNr w","SpNr s","Res w","Res s",null,null,null,{"$f":"DW6+2","v":4},null,null,null,null,"R","B","SpNr w","SpNr s","Res w","Res s",null,null,null,{"$f":"DI18","v":3},1,null,null,null,{"$f":"DW18","v":4}]
[null,"","Spieler 13","","","","","","","","","","","","","","","","","","","","",0,0,0,0,0,0,0,13,null,null,null,null,null,null,null,null,null,null,null,null,null,null,null,null,null,null,null,null,null,null,null,null,null,null,null,null,null,null,null,null,null,null,null,null,null,null,null,null,null,null,null,null,null,null,null,null,null,null,null,null,null,null,null,null,null,null,null,null,null,null,null,null,null,null,null,null,null,null,null,null,null,null,null,null,null,null,null,null,{"$f":"IF(OR(INDEX($DC$33:$DC$52,DP19),INDEX($DC$33:$DC$52,DQ19)),0,1)","v":1},{"$f":"INDEX($DD$33:$DD$52,MATCH($DP19,TeilnNr,0))","v":"Spieler 18"},"-",{"$f":"INDEX($DD$33:$DD$52,MATCH($DQ19,TeilnNr,0))","v":"Spieler 20"},null,null,{"$f":"DI18","v":3},1,{"$f":"IF(AND(DO19=1,MOD(DN19,2)=0),MAX(TeilnNr),IF(MOD(DO19,2)=0,IF(MAX(TeilnNr)/2-DO19+1-(DN19-MAX(TeilnNr)/2-1)>=1,MAX(TeilnNr)/2-DO19+1-(DN19-MAX(TeilnNr)/2-1),MAX(TeilnNr)/2-DO19+1-(DN19-MAX(TeilnNr)/2-1)+MAX(TeilnNr)-1),IF(DO19-(DN19-1)>=1,DO19-(DN19-1),DO19-(DN19-1)+MAX(TeilnNr)-1)))","v":18},{"$f":"IF(AND(DO19=1,MOD(DN19,2)<>0),MAX(TeilnNr),IF(MOD(DO19,2)<>0,IF(MAX(TeilnNr)/2-DO19+1-(DN19-MAX(TeilnNr)/2-1)>=1,MAX(TeilnNr)/2-DO19+1-(DN19-MAX(TeilnNr)/2-1),MAX(TeilnNr)/2-DO19+1-(DN19-MAX(TeilnNr)/2-1)+MAX(TeilnNr)-1),IF(DO19-(DN19-1)>=1,DO19-(DN19-1),DO19-(DN19-1)+MAX(TeilnNr)-1)))","v":20},{"$f":"IF(LEFT(DM19,1)=\"V\",\"\",LEFT(DM19,1))","v":""},{"$f":"IF(RIGHT(DM19,1)=\"V\",\"\",RIGHT(DM19,1))","v":""},{"$f":"ADDRESS(ROW(Teilnehmer)+DP19,COLUMN(Teilnehmer)+DQ19)","v":"$W$50"},{"$f":"ADDRESS(ROW(Teilnehmer)+DQ19,COLUMN(Teilnehmer)+DP19)","v":"$U$52"},{"$f":"IF(OR(INDEX($DC$33:$DC$52,ED19),INDEX($DC$33:$DC$52,EE19)),0,1)","v":1},{"$f":"INDEX($DD$33:$DD$52,MATCH($ED19,TeilnNr,0))","v":"Spieler 20"},"-",{"$f":"INDEX($DD$33:$DD$52,MATCH($EE19,TeilnNr,0))","v":"Spieler 17"},null,null,{"$f":"DW18","v":4},1,{"$f":"IF(AND(EC19=1,MOD(EB19,2)=0),MAX(TeilnNr),IF(MOD(EC19,2)=0,IF(MAX(TeilnNr)/2-EC19+1-(EB19-MAX(TeilnNr)/2-1)>=1,MAX(TeilnNr)/2-EC19+1-(EB19-MAX(TeilnNr)/2-1),MAX(TeilnNr)/2-EC19+1-(EB19-MAX(TeilnNr)/2-1)+MAX(TeilnNr)-1),IF(EC19-(EB19-1)>=1,EC19-(EB19-1),EC19-(EB19-1)+MAX(TeilnNr)-1)))","v":20},{"$f":"IF(AND(EC19=1,MOD(EB19,2)<>0),MAX(TeilnNr),IF(MOD(EC19,2)<>0,IF(MAX(TeilnNr)/2-EC19+1-(EB19-MAX(TeilnNr)/2-1)>=1,MAX(TeilnNr)/2-EC19+1-(EB19-MAX(TeilnNr)/2-1),MAX(TeilnNr)/2-EC19+1-(EB19-MAX(TeilnNr)/2-1)+MAX(TeilnNr)-1),IF(EC19-(EB19-1)>=1,EC19-(EB19-1),EC19-(EB19-1)+MAX(TeilnNr)-1)))","v":17},{"$f":"IF(LEFT(EA19,1)=\"V\",\"\",LEFT(EA19,1))","v":""},{"$f":"IF(RIGHT(EA19,1)=\"V\",\"\",RIGHT(EA19,1))","v":""},{"$f":"ADDRESS(ROW(Teilnehmer)+ED19,COLUMN(Teilnehmer)+EE19)","v":"$T$52"},{"$f":"ADDRESS(ROW(Teilnehmer)+EE19,COLUMN(Teilnehmer)+ED19)","v":"$W$49"},{"$f":"DH19","v":1},"Spieler 18","-",{"$f":"DK19","v":"Spieler 20"},null,{"$f":"DV19","v":1},{"$f":"DY19","v":"Spieler 17"},"-",{"$f":"DW19","v":"Spieler 20"}]
[null,"","Spieler 14","","","","","","","","","","","","","","","","","","","","",0,0,0,0,0,0,0,14,null,null,null,null,null,null,null,null,null,null,null,null,null,null,null,null,null,null,null,null,null,null,null,null,null,null,null,null,null,null,null,null,null,null,null,null,null,null,null,null,null,null,null,null,null,null,null,null,null,null,null,null,null,null,null,null,null,null,null,null,null,null,null,null,null,null,null,null,null,null,null,null,null,null,null,null,null,null,null,null,{"$f":"DH19+1","v":2},"Spieler 17","-","Spieler 19",null,null,{"$f":"DN19","v":3},{"$f":"DO19+1","v":2},17,19,"","","$V$49","$T$51",{"$f":"DV19+1","v":2},"Spieler 16","-","Spieler 18",null,null,{"$f":"EB19","v":4},{"$f":"EC19+1","v":2},16,18,"","","$U$48","$S$50",{"$f":"DH20","v":2},{"$f":"DK20","v":"Spieler 19"},"-",{"$f":"DI20","v":"Spieler 17"},null,2,"Spieler 18","-","Spieler 16"]
[null,"","Spieler 15","","","","","","","","","","","","","","","","","","","","",0,0,0,0,0,0,0,15,null,null,null,null,null,null,null,null,null,null,null,null,null,null,null,null,null,null,null,null,null,null,null,null,null,null,null,null,null,null,null,null,null,null,null,null,null,null,null,null,null,null,null,null,null,null,null,null,null,null,null,null,null,null,null,null,null,null,null,null,null,null,null,null,null,null,null,null,null,null,null,null,null,null,null,null,null,null,null,null,{"$f":"DH20+1","v":3},"Spieler 01","-","Spieler 16",null,null,{"$f":"DN20","v":3},{"$f":"DO20+1","v":3},1,16,"","","$S$33","$D$48",{"$f":"DV20+1","v":3},"Spieler 19","-","Spieler 15",null,null,{"$f":"EB20","v":4},{"$f":"EC20+1","v":3},19,15,"","","$R$51","$V$47",3,"Spieler 01","-",{"$f":"DK21","v":"Spieler 16"},null,3,"Spieler 19","-",{"$f":"DY21","v":"Spieler 15"}]
[null,"","Spieler 16","","","","","","","","","","","","","","","","","","","","",0,0,0,0,0,0,0,16,null,null,null,null,null,null,null,null,null,null,null,null,null,null,null,null,null,null,null,null,null,null,null,null,null,null,null,null,null,null,null,null,null,null,null,null,null,null,null,null,null,null,null,null,null,null,null,null,null,null,null,null,null,null,null,null,null,null,null,null,null,null,null,null,null,null,null,null,null,null,null,null,null,null,null,null,null,null,null,null,4,"Spieler 15","-","Spieler 02",null,null,{"$f":"DN21","v":3},4,15,2,"","","$E$47","$R$34",4,"Spieler 14","-","Spieler 01",null,null,{"$f":"EB21","v":4},4,14,1,"","","$D$46","$Q$33",4,{"$f":"DK22","v":"Spieler 02"},"-",{"$f":"DI22","v":"Spieler 15"},null,4,{"$f":"DY22","v":"Spieler 01"},"-",{"$f":"DW22","v":"Spieler 14"}]
[null,"","Spieler 17","","","","","","","","","","","","","","","","","","","","",0,0,0,0,0,0,0,17,null,null,null,null,null,null,null,null,null,null,null,null,null,null,null,null,null,null,null,null,null,null,null,null,null,null,null,null,null,null,null,null,null,null,null,null,null,null,null,null,null,null,null,null,null,null,null,null,null,null,null,null,null,null,null,null,null,null,null,null,null,null,null,null,null,null,null,null,null,null,null,null,null,null,null,null,null,null,null,null,5,"Spieler 03","-","Spieler 14",null,null,3,5,3,14,"","","$Q$35","$F$46",5,"Spieler 02","-","Spieler 13",null,null,4,5,2,13,"","","$P$34","$E$45",5,"Spieler 03","-",{"$f":"DK23","v":"Spieler 14"},null,5,"Spieler 02","-",{"$f":"DY23","v":"Spieler 13"}]
[null,"","Spieler 18","","","","","","","","","","","","","","","","","","","","",0,0,0,0,0,0,0,18,null,null,null,null,null,null,null,null,null,null,null,null,null,null,null,null,null,null,null,null,null,null,null,null,null,null,null,null,null,null,null,null,null,null,null,null,null,null,null,null,null,null,null,null,null,null,null,null,null,null,null,null,null,null,null,null,null,null,null,null,null,null,null,null,null,null,null,null,null,null,null,null,null,null,null,null,null,null,null,null,6,"Spieler 13","-","Spieler 04",null,null,3,6,13,4,"","","$G$45","$P$36",6,"Spieler 12","-","Spieler 03",null,null,4,6,12,3,"","","$F$44","$O$35",6,{"$f":"DK24","v":"Spieler 04"},"-",{"$f":"DI24","v":"Spieler 13"},null,6,{"$f":"DY24","v":"Spieler 03"},"-",{"$f":"DW24","v":"Spieler 12"}]
[null,"","Spieler 19","","","","","","","","","","","","","","","","","","","","",0,0,0,0,0,0,0,19,null,null,null,null,null,null,null,null,null,null,null,null,null,null,null,null,null,null,null,null,null,null,null,null,null,null,null,null,null,null,null,null,null,null,null,null,null,null,null,null,null,null,null,null,null,null,null,null,null,null,null,null,null,null,null,null,null,null,null,null,null,null,null,null,null,null,null,null,null,null,null,null,null,null,null,null,null,null,null,null,7,"Spieler 05","-","Spieler 12",null,null,3,7,5,12,"","",{"$f":"ADDRESS(ROW(Teilnehmer)+DP25,COLUMN(Teilnehmer)+DQ25)","v":"$O$37"},{"$f":"ADDRESS(ROW(Teilnehmer)+DQ25,COLUMN(Teilnehmer)+DP25)","v":"$H$44"},7,"Spieler 04","-","Spieler 11",null,null,4,7,4,11,"","",{"$f":"ADDRESS(ROW(Teilnehmer)+ED25,COLUMN(Teilnehmer)+EE25)","v":"$N$36"},{"$f":"ADDRESS(ROW(Teilnehmer)+EE25,COLUMN(Teilnehmer)+ED25)","v":"$G$43"},7,"Spieler 05","-",{"$f":"DK25","v":"Spieler 12"},null,7,"Spieler 04","-",{"$f":"DY25","v":"Spieler 11"}]
[null,"","Spieler 20","","","","","","","","","","","","","","","","","","","","",0,0,0,0,0,0,0,20,null,null,null,null,null,null,null,null,null,null,null,null,null,null,null,null,null,null,null,null,null,null,null,null,null,null,null,null,null,null,null,null,null,null,null,null,null,null,null,null,null,null,null,null,null,null,null,null,null,null,null,null,null,null,null,null,null,null,null,null,null,null,null,null,null,null,null,null,null,null,null,null,null,null,null,null,null,null,null,null,8,"Spieler 11","-","Spieler 06",null,null,3,8,11,6,"","","$I$43","$N$38",8,"Spieler 10","-","Spieler 05",null,null,4,8,10,5,"","","$H$42","$M$37",8,{"$f":"DK26","v":"Spieler 06"},"-",{"$f":"DI26","v":"Spieler 11"},null,8,{"$f":"DY26","v":"Spieler 05"},"-",{"$f":"DW26","v":"Spieler 10"}]
[null,"Wertungskriterien:",null,null,null,null,null,null,null,null,null,null,null,null,null,null,null,null,null,null,null,null,null,null,null,null,null,null,null,null,null,null,null,null,null,null,null,null,null,null,null,null,null,null,null,null,null,null,null,null,null,null,null,null,null,null,null,null,null,null,null,null,null,null,null,null,null,null,null,null,null,null,null,null,null,null,null,null,null,null,null,null,null,null,null,null,null,null,null,null,null,null,null,null,null,null,null,null,null,null,null,null,null,null,null,null,null,null,null,null,null,9,"Spieler 07","-","Spieler 10",null,null,3,9,7,10,"","","$M$39","$J$42",9,"Spieler 06","-","Spieler 09",null,null,4,9,6,9,"","","$L$38","$I$41",9,"Spieler 07","-",{"$f":"DK27","v":"Spieler 10"},null,9,"Spieler 06","-",{"$f":"DY27","v":"Spieler 09"}]
[null,{"$f":"INDEX(Wertungskriterien,WertungskriterienA)","v":"1) Punkte 2) Anz. Partien 3) So-Be 4) direkte Begegnung 5) Manuelle Feinwertung "},null,null,null,null,null,null,null,null,null,null,null,null,null,null,null,null,null,null,null,null,null,null,null,null,null,null,null,null,null,null,null,null,null,null,null,null,null,null,null,null,null,null,null,null,null,null,null,null,null,null,null,null,null,null,null,null,null,null,null,null,null,null,null,null,null,null,null,null,null,null,null,null,null,null,null,null,null,null,null,null,null,null,null,null,null,null,null,null,null,null,null,null,null,null,null,null,null,null,null,null,null,null,null,null,null,null,null,null,null,10,"Spieler 09","-","Spieler 08",null,null,3,10,9,8,"","","$K$41","$L$40",10,"Spieler 08","-","Spieler 07",null,null,4,10,8,7,"","","$J$40","$K$39",10,{"$f":"DK28","v":"Spieler 08"},"-",{"$f":"DI28","v":"Spieler 09"},null,10,{"$f":"DY28","v":"Spieler 07"},"-",{"$f":"DW28","v":"Spieler 08"}]
[]
[null,"+",null,null,null,null,null,null,null,null,null,null,null,null,null,null,null,null,null,null,null,null,null,null,null,null,{"$f":"IF(EinAusblenden=\"-\",\"\",IF(FWPlusMinus=\"+\",\"é\",\"ê\"))","v":"é"},null,null,null,null,null,null,null,null,null,null,null,null,null,null,null,null,null,null,null,null,null,null,null,null,null,null,null,null,null,null,null,null,null,null,null,null,null,null,null,null,null,null,null,null,null,null,null,null,null,null,null,null,null,null,null,null,null,null,null,null,null,null,null,null,null,null,null,null,null,null,null,null,null,null,null,null,null,null,null,null,null,null,null,null,null,{"$f":"DI18+2","v":5},null,null,null,null,"R","B","SpNr w","SpNr s","Res w","Res s",null,null,null,{"$f":"DW18+2","v":6},null,null,null,null,"R","B","SpNr w","SpNr s","Res w","Res s",null,null,null,{"$f":"DI30","v":5},1,null,null,null,{"$f":"DW30","v":6}]
[null,"Turniertabelle",null,null,null,null,null,null,null,null,null,null,null,null,null,null,null,null,null,null,null,null,null,null,null,"manuelle Feinwertung: ","+","Partien",null,null,null,"Punkte",null,null,null,null,null,null,null,null,null,null,null,null,null,null,null,null,null,null,null,null,null,"Sonneborn-Berger-Berechnung",null,null,null,null,null,null,null,null,null,null,null,null,null,null,null,null,null,null,null,null,null,{"$f":"MAX(BX33:BX52)","v":0},null,null,null,null,{"$f":"FWPlusMinus=\"+\"","v":true},"Summierung Wertungskriterien vor direkter Begegnung",null,null,null,null,null,null,null,null,null,null,null,null,"Summierung Wertungskriterien nach direkter Begegnung",null,null,null,null,null,null,null,null,null,null,null,null,null,null,null,null,{"$f":"IF(OR(INDEX($DC$33:$DC$52,DP31),INDEX($DC$33:$DC$52,DQ31)),0,1)","v":1},{"$f":"INDEX($DD$33:$DD$52,MATCH($DP31,TeilnNr,0))","v":"Spieler 16"},"-",{"$f":"INDEX($DD$33:$DD$52,MATCH($DQ31,TeilnNr,0))","v":"Spieler 20"},null,null,{"$f":"DI30","v":5},1,{"$f":"IF(AND(DO31=1,MOD(DN31,2)=0),MAX(TeilnNr),IF(MOD(DO31,2)=0,IF(MAX(TeilnNr)/2-DO31+1-(DN31-MAX(TeilnNr)/2-1)>=1,MAX(TeilnNr)/2-DO31+1-(DN31-MAX(TeilnNr)/2-1),MAX(TeilnNr)/2-DO31+1-(DN31-MAX(TeilnNr)/2-1)+MAX(TeilnNr)-1),IF(DO31-(DN31-1)>=1,DO31-(DN31-1),DO31-(DN31-1)+MAX(TeilnNr)-1)))","v":16},{"$f":"IF(AND(DO31=1,MOD(DN31,2)<>0),MAX(TeilnNr),IF(MOD(DO31,2)<>0,IF(MAX(TeilnNr)/2-DO31+1-(DN31-MAX(TeilnNr)/2-1)>=1,MAX(TeilnNr)/2-DO31+1-(DN31-MAX(TeilnNr)/2-1),MAX(TeilnNr)/2-DO31+1-(DN31-MAX(TeilnNr)/2-1)+MAX(TeilnNr)-1),IF(DO31-(DN31-1)>=1,DO31-(DN31-1),DO31-(DN31-1)+MAX(TeilnNr)-1)))","v":20},{"$f":"IF(LEFT(DM31,1)=\"V\",\"\",LEFT(DM31,1))","v":""},{"$f":"IF(RIGHT(DM31,1)=\"V\",\"\",RIGHT(DM31,1))","v":""},{"$f":"ADDRESS(ROW(Teilnehmer)+DP31,COLUMN(Teilnehmer)+DQ31)","v":"$W$48"},{"$f":"ADDRESS(ROW(Teilnehmer)+DQ31,COLUMN(Teilnehmer)+DP31)","v":"$S$52"},{"$f":"IF(OR(INDEX($DC$33:$DC$52,ED31),INDEX($DC$33:$DC$52,EE31)),0,1)","v":1},{"$f":"INDEX($DD$33:$DD$52,MATCH($ED31,TeilnNr,0))","v":"Spieler 20"},"-",{"$f":"INDEX($DD$33:$DD$52,MATCH($EE31,TeilnNr,0))","v":"Spieler 15"},null,null,{"$f":"DW30","v":6},1,{"$f":"IF(AND(EC31=1,MOD(EB31,2)=0),MAX(TeilnNr),IF(MOD(EC31,2)=0,IF(MAX(TeilnNr)/2-EC31+1-(EB31-MAX(TeilnNr)/2-1)>=1,MAX(TeilnNr)/2-EC31+1-(EB31-MAX(TeilnNr)/2-1),MAX(TeilnNr)/2-EC31+1-(EB31-MAX(TeilnNr)/2-1)+MAX(TeilnNr)-1),IF(EC31-(EB31-1)>=1,EC31-(EB31-1),EC31-(EB31-1)+MAX(TeilnNr)-1)))","v":20},{"$f":"IF(AND(EC31=1,MOD(EB31,2)<>0),MAX(TeilnNr),IF(MOD(EC31,2)<>0,IF(MAX(TeilnNr)/2-EC31+1-(EB31-MAX(TeilnNr)/2-1)>=1,MAX(TeilnNr)/2-EC31+1-(EB31-MAX(TeilnNr)/2-1),MAX(TeilnNr)/2-EC31+1-(EB31-MAX(TeilnNr)/2-1)+MAX(TeilnNr)-1),IF(EC31-(EB31-1)>=1,EC31-(EB31-1),EC31-(EB31-1)+MAX(TeilnNr)-1)))","v":15},{"$f":"IF(LEFT(EA31,1)=\"V\",\"\",LEFT(EA31,1))","v":""},{"$f":"IF(RIGHT(EA31,1)=\"V\",\"\",RIGHT(EA31,1))","v":""},{"$f":"ADDRESS(ROW(Teilnehmer)+ED31,COLUMN(Teilnehmer)+EE31)","v":"$R$52"},{"$f":"ADDRESS(ROW(Teilnehmer)+EE31,COLUMN(Teilnehmer)+ED31)","v":"$W$47"},{"$f":"DH31","v":1},"Spieler 16","-",{"$f":"DK31","v":"Spieler 20"},null,{"$f":"DV31","v":1},{"$f":"DY31","v":"Spieler 15"},"-",{"$f":"DW31","v":"Spieler 20"}]
[null,"Nr.","Teilnehmer",1,2,3,4,5,6,7,8,9,10,11,12,13,14,15,16,17,18,19,20,"Punkte","Spiele","So-Be","FW+","weiss","schw.","Rang",null,1,2,3,4,5,6,7,8,9,10,11,12,13,14,15,16,17,18,19,20,"P",null,1,2,3,4,5,6,7,8,9,10,11,12,13,14,15,16,17,18,19,20,"So-Be",null,{"$f":"IF(AA32=\"\",\"FW2\",AA32)","v":"FW+"},"Rang\nPunkte","Rang\nPartien","Rang\nSo-Be","Rang\nschwrz","Rang\nFW?","Wertung 1","Wertung 2","Wertung 3","Wertung 4","Wertung 5","Wertung 6","Wertung 7","Wertung 8","Wertung 9","Wertung 10","Wertung","direkte Begegnung","Rang\ndir.Begegn.","Wertung 1","Wertung 2","Wertung 3","Wertung 4","Wertung 5","Wertung 6","Wertung 7","Wertung 8","Wertung 9","Wertung 10","Wertung2","Rang","Platz-halter?","Name","Alphabet","Rang & Alphabet","Reihen-folge",{"$f":"DH31+1","v":2},"Spieler 15","-","Spieler 17",null,null,{"$f":"DN31","v":5},{"$f":"DO31+1","v":2},15,17,"","",{"$f":"ADDRESS(ROW(Teilnehmer)+DP32,COLUMN(Teilnehmer)+DQ32)","v":"$T$47"},{"$f":"ADDRESS(ROW(Teilnehmer)+DQ32,COLUMN(Teilnehmer)+DP32)","v":"$R$49"},{"$f":"DV31+1","v":2},"Spieler 14","-","Spieler 16",null,null,{"$f":"EB31","v":6},{"$f":"EC31+1","v":2},14,16,"","",{"$f":"ADDRESS(ROW(Teilnehmer)+ED32,COLUMN(Teilnehmer)+EE32)","v":"$S$46"},{"$f":"ADDRESS(ROW(Teilnehmer)+EE32,COLUMN(Teilnehmer)+ED32)","v":"$Q$48"},{"$f":"DH32","v":2},{"$f":"DK32","v":"Spieler 17"},"-",{"$f":"DI32","v":"Spieler 15"},null,2,"Spieler 16","-","Spieler 14"]
[null,1,null,{"$f":"IF(ISNA(MATCH(ADDRESS(ROW(),COLUMN()),$DT:$DT,0)),\"\",INDEX($DR:$DR,MATCH(ADDRESS(ROW(),COLUMN()),$DT:$DT,0)))&IF(ISNA(MATCH(ADDRESS(ROW(),COLUMN()),$DU:$DU,0)),\"\",INDEX($DS:$DS,MATCH(ADDRESS(ROW(),COLUMN()),$DU:$DU,0)))&IF(ISNA(MATCH(ADDRESS(ROW(),COLUMN()),$EH:$EH,0)),\"\",INDEX($EF:$EF,MATCH(ADDRESS(ROW(),COLUMN()),$EH:$EH,0)))&IF(ISNA(MATCH(ADDRESS(ROW(),COLUMN()),$EI:$EI,0)),\"\",INDEX($EG:$EG,MATCH(ADDRESS(ROW(),COLUMN()),$EI:$EI,0)))","v":""},"","","","","","","","","",{"$f":"IF(ISNA(MATCH(ADDRESS(ROW(),COLUMN()),$DT:$DT,0)),\"\",INDEX($DR:$DR,MATCH(ADDRESS(ROW(),COLUMN()),$DT:$DT,0)))&IF(ISNA(MATCH(ADDRESS(ROW(),COLUMN()),$DU:$DU,0)),\"\",INDEX($DS:$DS,MATCH(ADDRESS(ROW(),COLUMN()),$DU:$DU,0)))&IF(ISNA(MATCH(ADDRESS(ROW(),COLUMN()),$EH:$EH,0)),\"\",INDEX($EF:$EF,MATCH(ADDRESS(ROW(),COLUMN()),$EH:$EH,0)))&IF(ISNA(MATCH(ADDRESS(ROW(),COLUMN()),$EI:$EI,0)),\"\",INDEX($EG:$EG,MATCH(ADDRESS(ROW(),COLUMN()),$EI:$EI,0)))","v":""},"","","","","","","","","",{"$f":"AZ33","v":0},{"$f":"MAX($B$33:$B$52)-COUNTIF(D33:W33,\"\")","v":0},{"$f":"BV33","v":0},null,{"$f":"IF($DC33,0,COUNTIFS($DP:$DP,$B33,$DM:$DM,\"<>\")+COUNTIFS($ED:$ED,$B33,$EA:$EA,\"<>\"))","v":0},{"$f":"IF($DC33,0,COUNTIFS($DQ:$DQ,$B33,$DM:$DM,\"<>\")+COUNTIFS($EE:$EE,$B33,$EA:$EA,\"<>\"))","v":0},{"$f":"DB33","v":1},null,{"$f":"IF(D33=\"\",0,VLOOKUP(D33,Wertung,3,FALSE))","v":0},{"$f":"IF(E33=\"\",0,VLOOKUP(E33,Wertung,3,FALSE))","v":0},{"$f":"IF(F33=\"\",0,VLOOKUP(F33,Wertung,3,FALSE))","v":0},{"$f":"IF(G33=\"\",0,VLOOKUP(G33,Wertung,3,FALSE))","v":0},{"$f":"IF(H33=\"\",0,VLOOKUP(H33,Wertung,3,FALSE))","v":0},{"$f":"IF(I33=\"\",0,VLOOKUP(I33,Wertung,3,FALSE))","v":0},{"$f":"IF(J33=\"\",0,VLOOKUP(J33,Wertung,3,FALSE))","v":0},{"$f":"IF(K33=\"\",0,VLOOKUP(K33,Wertung,3,FALSE))","v":0},{"$f":"IF(L33=\"\",0,VLOOKUP(L33,Wertung,3,FALSE))","v":0},{"$f":"IF(M33=\"\",0,VLOOKUP(M33,Wertung,3,FALSE))","v":0},{"$f":"IF(N33=\"\",0,VLOOKUP(N33,Wertung,3,FALSE))","v":0},{"$f":"IF(O33=\"\",0,VLOOKUP(O33,Wertung,3,FALSE))","v":0},{"$f":"IF(P33=\"\",0,VLOOKUP(P33,Wertung,3,FALSE))","v":0},{"$f":"IF(Q33=\"\",0,VLOOKUP(Q33,Wertung,3,FALSE))","v":0},{"$f":"IF(R33=\"\",0,VLOOKUP(R33,Wertung,3,FALSE))","v":0},{"$f":"IF(S33=\"\",0,VLOOKUP(S33,Wertung,3,FALSE))","v":0},{"$f":"IF(T33=\"\",0,VLOOKUP(T33,Wertung,3,FALSE))","v":0},{"$f":"IF(U33=\"\",0,VLOOKUP(U33,Wertung,3,FALSE))","v":0},{"$f":"IF(V33=\"\",0,VLOOKUP(V33,Wertung,3,FALSE))","v":0},{"$f":"IF(W33=\"\",0,VLOOKUP(W33,Wertung,3,FALSE))","v":0},{"$f":"SUM(AF33:AY33)","v":0},null,{"$f":"AF33*INDEX($AZ:$AZ,ROW($BB$32)+AF$32)","v":0},{"$f":"AG33*INDEX($AZ:$AZ,ROW($BB$32)+AG$32)","v":0},{"$f":"AH33*INDEX($AZ:$AZ,ROW($BB$32)+AH$32)","v":0},{"$f":"AI33*INDEX($AZ:$AZ,ROW($BB$32)+AI$32)","v":0},{"$f":"AJ33*INDEX($AZ:$AZ,ROW($BB$32)+AJ$32)","v":0},{"$f":"AK33*INDEX($AZ:$AZ,ROW($BB$32)+AK$32)","v":0},{"$f":"AL33*INDEX($AZ:$AZ,ROW($BB$32)+AL$32)","v":0},{"$f":"AM33*INDEX($AZ:$AZ,ROW($BB$32)+AM$32)","v":0},{"$f":"AN33*INDEX($AZ:$AZ,ROW($BB$32)+AN$32)","v":0},{"$f":"AO33*INDEX($AZ:$AZ,ROW($BB$32)+AO$32)","v":0},{"$f":"AP33*INDEX($AZ:$AZ,ROW($BB$32)+AP$32)","v":0},{"$f":"AQ33*INDEX($AZ:$AZ,ROW($BB$32)+AQ$32)","v":0},{"$f":"AR33*INDEX($AZ:$AZ,ROW($BB$32)+AR$32)","v":0},{"$f":"AS33*INDEX($AZ:$AZ,ROW($BB$32)+AS$32)","v":0},{"$f":"AT33*INDEX($AZ:$AZ,ROW($BB$32)+AT$32)","v":0},{"$f":"AU33*INDEX($AZ:$AZ,ROW($BB$32)+AU$32)","v":0},{"$f":"AV33*INDEX($AZ:$AZ,ROW($BB$32)+AV$32)","v":0},{"$f":"AW33*INDEX($AZ:$AZ,ROW($BB$32)+AW$32)","v":0},{"$f":"AX33*INDEX($AZ:$AZ,ROW($BB$32)+AX$32)","v":0},{"$f":"AY33*INDEX($AZ:$AZ,ROW($BB$32)+AY$32)","v":0},{"$f":"SUM(BB33:BU33)","v":0},null,{"$f":"AA33","v":0},{"$f":"RANK($AZ33,$AZ$33:$AZ$52,0)","v":1},{"$f":"RANK($Y33,$Y$33:$Y$52,1)","v":1},{"$f":"RANK($BV33,$BV$33:$BV$52,0)","v":1},{"$f":"RANK($AC33,$AC$33:$AC$52,0)","v":1},{"$f":"RANK($BX33,$BX$33:$BX$52,IF($CC$31,0,1))","v":1},{"$f":"VALUE(CONCATENATE(IF($DC33,\"1\",\"0\"),TEXT($BY33,\"00\"),TEXT($CA33,\"00\"),TEXT($CC33,\"00\")))","v":10101},{"$f":"VALUE(CONCATENATE(IF($DC33,\"1\",\"0\"),TEXT($BY33,\"00\"),TEXT($CA33,\"00\")))","v":101},{"$f":"VALUE(CONCATENATE(IF($DC33,\"1\",\"0\"),TEXT($BY33,\"00\"),TEXT($BZ33,\"00\"),TEXT($CA33,\"00\"),TEXT($CC33,\"00\")))","v":1010101},{"$f":"VALUE(CONCATENATE(IF($DC33,\"1\",\"0\"),TEXT($BY33,\"00\"),TEXT($BZ33,\"00\"),TEXT($CA33,\"00\")))","v":10101},{"$f":"VALUE(CONCATENATE(IF($DC33,\"1\",\"0\"),TEXT($BY33,\"00\"),TEXT($BZ33,\"00\"),TEXT($CA33,\"00\")))","v":10101},{"$f":"VALUE(CONCATENATE(IF($DC33,\"1\",\"0\"),TEXT($BY33,\"00\"),TEXT($BZ33,\"00\"),TEXT($CA33,\"00\"),TEXT($CB33,\"00\")))","v":1010101},{"$f":"VALUE(CONCATENATE(IF($DC33,\"1\",\"0\"),TEXT($BY33,\"00\"),TEXT($BZ33,\"00\")))","v":101},{"$f":"VALUE(CONCATENATE(IF($DC33,\"1\",\"0\"),TEXT($BY33,\"00\"),TEXT($BZ33,\"00\")))","v":101},{"$f":"VALUE(CONCATENATE(IF($DC33,\"1\",\"0\"),TEXT($BY33,\"00\"),TEXT($BZ33,\"00\"),TEXT($CB33,\"00\"),TEXT($CA33,\"00\")))","v":1010101},{"$f":"VALUE(CONCATENATE(IF($DC33,\"1\",\"0\"),TEXT($BY33,\"00\"),TEXT($BZ33,\"00\"),TEXT($CB33,\"00\")))","v":10101},{"$f":"INDEX($CD33:$CM33,1,WertungskriterienA)","v":10101},{"$f":"SUM((TRANSPOSE($CN$33:$CN$52)=CN33)*$AF33:$AY33)","v":0},{"$f":"RANK($CO33,$CO$33:$CO$52,0)","v":1},{"$f":"$CN33","v":10101},{"$f":"VALUE(CONCATENATE($CN33,TEXT($CP33,\"00\"),TEXT($CC33,\"00\")))","v":101010101},{"$f":"$CN33","v":10101},{"$f":"VALUE(CONCATENATE($CN33,TEXT($CP33,\"00\"),TEXT($CC33,\"00\")))","v":101010101},{"$f":"VALUE(CONCATENATE($CN33,TEXT($CP33,\"00\"),TEXT($CB33,\"00\"),TEXT($CC33,\"00\")))","v":10101010101},{"$f":"VALUE(CONCATENATE($CN33,TEXT($CP33,\"00\"),TEXT($CC33,\"00\")))","v":101010101},{"$f":"VALUE(CONCATENATE($CN33,TEXT($CP33,\"00\"),TEXT($CA33,\"00\"),TEXT($CB33,\"00\"),TEXT($CC33,\"00\")))","v":1010101010101},{"$f":"VALUE(CONCATENATE($CN33,TEXT($CP33,\"00\"),TEXT($CB33,\"00\"),TEXT($CA33,\"00\"),TEXT($CC33,\"00\")))","v":1010101010101},{"$f":"VALUE(CONCATENATE($CN33,TEXT($CP33,\"00\"),TEXT($CC33,\"00\")))","v":101010101},{"$f":"VALUE(CONCATENATE($CN33,TEXT($CP33,\"00\"),TEXT($CA33,\"00\"),TEXT($CC33,\"00\")))","v":10101010101},{"$f":"INDEX(CQ33:CZ33,1,WertungskriterienA)","v":101010101},{"$f":"RANK(DA33,$DA$33:$DA$52,1)","v":1},{"$f":"IF($C33=\"\",FALSE,AND(LEN($C33)=1,OR(CODE($C33)<65,CODE($C33)>122,AND(CODE($C33)>90,CODE($C33)<97)),NOT(AND(CODE($C33)>48,CODE($C33)<58))))","v":false},{"$f":"IF(DC33,$C33,IF($C33=\"\",\"Spieler \"&TEXT($B33,\"00\"),$C33))","v":"Spieler 01"},{"$f":"IF(DC33,MAX(TeilnNr),0)+SUMPRODUCT((DD33>$DD$33:$DD$52)*1)","v":0},{"$f":"DB33+DE33/1000+B33/1000000","v":1.0000009999999999},{"$f":"RANK(DF33,$DF$33:$DF$52,1)","v":1},{"$f":"DH32+1","v":3},"Spieler 18","-","Spieler 14",null,null,{"$f":"DN32","v":5},{"$f":"DO32+1","v":3},{"$f":"IF(AND(DO33=1,MOD(DN33,2)=0),MAX(TeilnNr),IF(MOD(DO33,2)=0,IF(MAX(TeilnNr)/2-DO33+1-(DN33-MAX(TeilnNr)/2-1)>=1,MAX(TeilnNr)/2-DO33+1-(DN33-MAX(TeilnNr)/2-1),MAX(TeilnNr)/2-DO33+1-(DN33-MAX(TeilnNr)/2-1)+MAX(TeilnNr)-1),IF(DO33-(DN33-1)>=1,DO33-(DN33-1),DO33-(DN33-1)+MAX(TeilnNr)-1)))","v":18},{"$f":"IF(AND(DO33=1,MOD(DN33,2)<>0),MAX(TeilnNr),IF(MOD(DO33,2)<>0,IF(MAX(TeilnNr)/2-DO33+1-(DN33-MAX(TeilnNr)/2-1)>=1,MAX(TeilnNr)/2-DO33+1-(DN33-MAX(TeilnNr)/2-1),MAX(TeilnNr)/2-DO33+1-(DN33-MAX(TeilnNr)/2-1)+MAX(TeilnNr)-1),IF(DO33-(DN33-1)>=1,DO33-(DN33-1),DO33-(DN33-1)+MAX(TeilnNr)-1)))","v":14},"","",{"$f":"ADDRESS(ROW(Teilnehmer)+DP33,COLUMN(Teilnehmer)+DQ33)","v":"$Q$50"},{"$f":"ADDRESS(ROW(Teilnehmer)+DQ33,COLUMN(Teilnehmer)+DP33)","v":"$U$46"},{"$f":"DV32+1","v":3},"Spieler 17","-","Spieler 13",null,null,{"$f":"EB32","v":6},{"$f":"EC32+1","v":3},{"$f":"IF(AND(EC33=1,MOD(EB33,2)=0),MAX(TeilnNr),IF(MOD(EC33,2)=0,IF(MAX(TeilnNr)/2-EC33+1-(EB33-MAX(TeilnNr)/2-1)>=1,MAX(TeilnNr)/2-EC33+1-(EB33-MAX(TeilnNr)/2-1),MAX(TeilnNr)/2-EC33+1-(EB33-MAX(TeilnNr)/2-1)+MAX(TeilnNr)-1),IF(EC33-(EB33-1)>=1,EC33-(EB33-1),EC33-(EB33-1)+MAX(TeilnNr)-1)))","v":17},{"$f":"IF(AND(EC33=1,MOD(EB33,2)<>0),MAX(TeilnNr),IF(MOD(EC33,2)<>0,IF(MAX(TeilnNr)/2-EC33+1-(EB33-MAX(TeilnNr)/2-1)>=1,MAX(TeilnNr)/2-EC33+1-(EB33-MAX(TeilnNr)/2-1),MAX(TeilnNr)/2-EC33+1-(EB33-MAX(TeilnNr)/2-1)+MAX(TeilnNr)-1),IF(EC33-(EB33-1)>=1,EC33-(EB33-1),EC33-(EB33-1)+MAX(TeilnNr)-1)))","v":13},"","",{"$f":"ADDRESS(ROW(Teilnehmer)+ED33,COLUMN(Teilnehmer)+EE33)","v":"$P$49"},{"$f":"ADDRESS(ROW(Teilnehmer)+EE33,COLUMN(Teilnehmer)+ED33)","v":"$T$45"},3,"Spieler 18","-",{"$f":"DK33","v":"Spieler 14"},null,3,"Spieler 17","-",{"$f":"DY33","v":"Spieler 13"}]
[null,2,null,"","","","","","","","","","","","","","","","","","","","",{"$f":"AZ34","v":0},0,0,null,0,0,1,null,0,0,0,0,0,0,0,0,0,0,0,0,0,0,0,0,0,0,0,0,0,null,0,0,0,0,0,0,0,0,0,0,0,0,0,0,0,0,0,0,0,0,0,null,0,1,1,1,1,1,{"$f":"VALUE(CONCATENATE(IF($DC34,\"1\",\"0\"),TEXT($BY34,\"00\"),TEXT($CA34,\"00\"),TEXT($CC34,\"00\")))","v":10101},{"$f":"VALUE(CONCATENATE(IF($DC34,\"1\",\"0\"),TEXT($BY34,\"00\"),TEXT($CA34,\"00\")))","v":101},{"$f":"VALUE(CONCATENATE(IF($DC34,\"1\",\"0\"),TEXT($BY34,\"00\"),TEXT($BZ34,\"00\"),TEXT($CA34,\"00\"),TEXT($CC34,\"00\")))","v":1010101},{"$f":"VALUE(CONCATENATE(IF($DC34,\"1\",\"0\"),TEXT($BY34,\"00\"),TEXT($BZ34,\"00\"),TEXT($CA34,\"00\")))","v":10101},10101,{"$f":"VALUE(CONCATENATE(IF($DC34,\"1\",\"0\"),TEXT($BY34,\"00\"),TEXT($BZ34,\"00\"),TEXT($CA34,\"00\"),TEXT($CB34,\"00\")))","v":1010101},{"$f":"VALUE(CONCATENATE(IF($DC34,\"1\",\"0\"),TEXT($BY34,\"00\"),TEXT($BZ34,\"00\")))","v":101},101,{"$f":"VALUE(CONCATENATE(IF($DC34,\"1\",\"0\"),TEXT($BY34,\"00\"),TEXT($BZ34,\"00\"),TEXT($CB34,\"00\"),TEXT($CA34,\"00\")))","v":1010101},{"$f":"VALUE(CONCATENATE(IF($DC34,\"1\",\"0\"),TEXT($BY34,\"00\"),TEXT($BZ34,\"00\"),TEXT($CB34,\"00\")))","v":10101},{"$f":"INDEX($CD34:$CM34,1,WertungskriterienA)","v":10101},{"$f":"SUM((TRANSPOSE($CN$33:$CN$52)=CN34)*$AF34:$AY34)","v":0},1,{"$f":"$CN34","v":10101},{"$f":"VALUE(CONCATENATE($CN34,TEXT($CP34,\"00\"),TEXT($CC34,\"00\")))","v":101010101},{"$f":"$CN34","v":10101},{"$f":"VALUE(CONCATENATE($CN34,TEXT($CP34,\"00\"),TEXT($CC34,\"00\")))","v":101010101},{"$f":"VALUE(CONCATENATE($CN34,TEXT($CP34,\"00\"),TEXT($CB34,\"00\"),TEXT($CC34,\"00\")))","v":10101010101},{"$f":"VALUE(CONCATENATE($CN34,TEXT($CP34,\"00\"),TEXT($CC34,\"00\")))","v":101010101},{"$f":"VALUE(CONCATENATE($CN34,TEXT($CP34,\"00\"),TEXT($CA34,\"00\"),TEXT($CB34,\"00\"),TEXT($CC34,\"00\")))","v":1010101010101},{"$f":"VALUE(CONCATENATE($CN34,TEXT($CP34,\"00\"),TEXT($CB34,\"00\"),TEXT($CA34,\"00\"),TEXT($CC34,\"00\")))","v":1010101010101},{"$f":"VALUE(CONCATENATE($CN34,TEXT($CP34,\"00\"),TEXT($CC34,\"00\")))","v":101010101},{"$f":"VALUE(CONCATENATE($CN34,TEXT($CP34,\"00\"),TEXT($CA34,\"00\"),TEXT($CC34,\"00\")))","v":10101010101},{"$f":"INDEX(CQ34:CZ34,1,WertungskriterienA)","v":101010101},1,{"$f":"IF($C34=\"\",FALSE,AND(LEN($C34)=1,OR(CODE($C34)<65,CODE($C34)>122,AND(CODE($C34)>90,CODE($C34)<97)),NOT(AND(CODE($C34)>48,CODE($C34)<58))))","v":false},"Spieler 02",1,1.0010019999999999,2,4,"Spieler 13","-","Spieler 19",null,null,{"$f":"DN33","v":5},4,{"$f":"IF(AND(DO34=1,MOD(DN34,2)=0),MAX(TeilnNr),IF(MOD(DO34,2)=0,IF(MAX(TeilnNr)/2-DO34+1-(DN34-MAX(TeilnNr)/2-1)>=1,MAX(TeilnNr)/2-DO34+1-(DN34-MAX(TeilnNr)/2-1),MAX(TeilnNr)/2-DO34+1-(DN34-MAX(TeilnNr)/2-1)+MAX(TeilnNr)-1),IF(DO34-(DN34-1)>=1,DO34-(DN34-1),DO34-(DN34-1)+MAX(TeilnNr)-1)))","v":13},{"$f":"IF(AND(DO34=1,MOD(DN34,2)<>0),MAX(TeilnNr),IF(MOD(DO34,2)<>0,IF(MAX(TeilnNr)/2-DO34+1-(DN34-MAX(TeilnNr)/2-1)>=1,MAX(TeilnNr)/2-DO34+1-(DN34-MAX(TeilnNr)/2-1),MAX(TeilnNr)/2-DO34+1-(DN34-MAX(TeilnNr)/2-1)+MAX(TeilnNr)-1),IF(DO34-(DN34-1)>=1,DO34-(DN34-1),DO34-(DN34-1)+MAX(TeilnNr)-1)))","v":19},"","",{"$f":"ADDRESS(ROW(Teilnehmer)+DP34,COLUMN(Teilnehmer)+DQ34)","v":"$V$45"},{"$f":"ADDRESS(ROW(Teilnehmer)+DQ34,COLUMN(Teilnehmer)+DP34)","v":"$P$51"},4,"Spieler 12","-","Spieler 18",null,null,{"$f":"EB33","v":6},4,{"$f":"IF(AND(EC34=1,MOD(EB34,2)=0),MAX(TeilnNr),IF(MOD(EC34,2)=0,IF(MAX(TeilnNr)/2-EC34+1-(EB34-MAX(TeilnNr)/2-1)>=1,MAX(TeilnNr)/2-EC34+1-(EB34-MAX(TeilnNr)/2-1),MAX(TeilnNr)/2-EC34+1-(EB34-MAX(TeilnNr)/2-1)+MAX(TeilnNr)-1),IF(EC34-(EB34-1)>=1,EC34-(EB34-1),EC34-(EB34-1)+MAX(TeilnNr)-1)))","v":12},{"$f":"IF(AND(EC34=1,MOD(EB34,2)<>0),MAX(TeilnNr),IF(MOD(EC34,2)<>0,IF(MAX(TeilnNr)/2-EC34+1-(EB34-MAX(TeilnNr)/2-1)>=1,MAX(TeilnNr)/2-EC34+1-(EB34-MAX(TeilnNr)/2-1),MAX(TeilnNr)/2-EC34+1-(EB34-MAX(TeilnNr)/2-1)+MAX(TeilnNr)-1),IF(EC34-(EB34-1)>=1,EC34-(EB34-1),EC34-(EB34-1)+MAX(TeilnNr)-1)))","v":18},"","",{"$f":"ADDRESS(ROW(Teilnehmer)+ED34,COLUMN(Teilnehmer)+EE34)","v":"$U$44"},{"$f":"ADDRESS(ROW(Teilnehmer)+EE34,COLUMN(Teilnehmer)+ED34)","v":"$O$50"},4,{"$f":"DK34","v":"Spieler 19"},"-",{"$f":"DI34","v":"Spieler 13"},null,4,{"$f":"DY34","v":"Spieler 18"},"-",{"$f":"DW34","v":"Spieler 12"}]
[null,3,null,"","","","","","","","","","","","","","","","","","","","",0,0,0,null,0,0,1,null,0,0,0,0,0,0,0,0,0,0,0,0,0,0,0,0,0,0,0,0,0,null,0,0,0,0,0,0,0,0,0,0,0,0,0,0,0,0,0,0,0,0,0,null,0,1,1,1,1,1,10101,101,1010101,10101,10101,1010101,101,101,1010101,10101,{"$f":"INDEX($CD35:$CM35,1,WertungskriterienA)","v":10101},{"$f":"SUM((TRANSPOSE($CN$33:$CN$52)=CN35)*$AF35:$AY35)","v":0},1,10101,101010101,10101,101010101,10101010101,101010101,1010101010101,1010101010101,101010101,10101010101,{"$f":"INDEX(CQ35:CZ35,1,WertungskriterienA)","v":101010101},1,false,"Spieler 03",2,1.002003,3,5,"Spieler 01","-","Spieler 12",null,null,{"$f":"DN34","v":5},5,{"$f":"IF(AND(DO35=1,MOD(DN35,2)=0),MAX(TeilnNr),IF(MOD(DO35,2)=0,IF(MAX(TeilnNr)/2-DO35+1-(DN35-MAX(TeilnNr)/2-1)>=1,MAX(TeilnNr)/2-DO35+1-(DN35-MAX(TeilnNr)/2-1),MAX(TeilnNr)/2-DO35+1-(DN35-MAX(TeilnNr)/2-1)+MAX(TeilnNr)-1),IF(DO35-(DN35-1)>=1,DO35-(DN35-1),DO35-(DN35-1)+MAX(TeilnNr)-1)))","v":1},{"$f":"IF(AND(DO35=1,MOD(DN35,2)<>0),MAX(TeilnNr),IF(MOD(DO35,2)<>0,IF(MAX(TeilnNr)/2-DO35+1-(DN35-MAX(TeilnNr)/2-1)>=1,MAX(TeilnNr)/2-DO35+1-(DN35-MAX(TeilnNr)/2-1),MAX(TeilnNr)/2-DO35+1-(DN35-MAX(TeilnNr)/2-1)+MAX(TeilnNr)-1),IF(DO35-(DN35-1)>=1,DO35-(DN35-1),DO35-(DN35-1)+MAX(TeilnNr)-1)))","v":12},"","",{"$f":"ADDRESS(ROW(Teilnehmer)+DP35,COLUMN(Teilnehmer)+DQ35)","v":"$O$33"},{"$f":"ADDRESS(ROW(Teilnehmer)+DQ35,COLUMN(Teilnehmer)+DP35)","v":"$D$44"},5,"Spieler 19","-","Spieler 11",null,null,6,5,{"$f":"IF(AND(EC35=1,MOD(EB35,2)=0),MAX(TeilnNr),IF(MOD(EC35,2)=0,IF(MAX(TeilnNr)/2-EC35+1-(EB35-MAX(TeilnNr)/2-1)>=1,MAX(TeilnNr)/2-EC35+1-(EB35-MAX(TeilnNr)/2-1),MAX(TeilnNr)/2-EC35+1-(EB35-MAX(TeilnNr)/2-1)+MAX(TeilnNr)-1),IF(EC35-(EB35-1)>=1,EC35-(EB35-1),EC35-(EB35-1)+MAX(TeilnNr)-1)))","v":19},{"$f":"IF(AND(EC35=1,MOD(EB35,2)<>0),MAX(TeilnNr),IF(MOD(EC35,2)<>0,IF(MAX(TeilnNr)/2-EC35+1-(EB35-MAX(TeilnNr)/2-1)>=1,MAX(TeilnNr)/2-EC35+1-(EB35-MAX(TeilnNr)/2-1),MAX(TeilnNr)/2-EC35+1-(EB35-MAX(TeilnNr)/2-1)+MAX(TeilnNr)-1),IF(EC35-(EB35-1)>=1,EC35-(EB35-1),EC35-(EB35-1)+MAX(TeilnNr)-1)))","v":11},"","",{"$f":"ADDRESS(ROW(Teilnehmer)+ED35,COLUMN(Teilnehmer)+EE35)","v":"$N$51"},{"$f":"ADDRESS(ROW(Teilnehmer)+EE35,COLUMN(Teilnehmer)+ED35)","v":"$V$43"},5,"Spieler 01","-",{"$f":"DK35","v":"Spieler 12"},null,5,"Spieler 19","-",{"$f":"DY35","v":"Spieler 11"}]
[null,4,null,"","","","","","","","","","","","","","","","","","","","",0,0,0,null,0,0,1,null,0,0,0,0,0,0,0,0,0,0,0,0,0,0,0,0,0,0,0,0,0,null,0,0,0,0,0,0,0,0,0,0,0,0,0,0,0,0,0,0,0,0,0,null,0,1,1,1,1,1,10101,101,1010101,10101,10101,1010101,101,101,1010101,10101,{"$f":"INDEX($CD36:$CM36,1,WertungskriterienA)","v":10101},{"$f":"SUM((TRANSPOSE($CN$33:$CN$52)=CN36)*$AF36:$AY36)","v":0},1,10101,101010101,10101,101010101,10101010101,101010101,1010101010101,1010101010101,101010101,10101010101,{"$f":"INDEX(CQ36:CZ36,1,WertungskriterienA)","v":101010101},1,false,"Spieler 04",3,1.0030039999999998,4,6,"Spieler 11","-","Spieler 02",null,null,{"$f":"DN35","v":5},6,{"$f":"IF(AND(DO36=1,MOD(DN36,2)=0),MAX(TeilnNr),IF(MOD(DO36,2)=0,IF(MAX(TeilnNr)/2-DO36+1-(DN36-MAX(TeilnNr)/2-1)>=1,MAX(TeilnNr)/2-DO36+1-(DN36-MAX(TeilnNr)/2-1),MAX(TeilnNr)/2-DO36+1-(DN36-MAX(TeilnNr)/2-1)+MAX(TeilnNr)-1),IF(DO36-(DN36-1)>=1,DO36-(DN36-1),DO36-(DN36-1)+MAX(TeilnNr)-1)))","v":11},{"$f":"IF(AND(DO36=1,MOD(DN36,2)<>0),MAX(TeilnNr),IF(MOD(DO36,2)<>0,IF(MAX(TeilnNr)/2-DO36+1-(DN36-MAX(TeilnNr)/2-1)>=1,MAX(TeilnNr)/2-DO36+1-(DN36-MAX(TeilnNr)/2-1),MAX(TeilnNr)/2-DO36+1-(DN36-MAX(TeilnNr)/2-1)+MAX(TeilnNr)-1),IF(DO36-(DN36-1)>=1,DO36-(DN36-1),DO36-(DN36-1)+MAX(TeilnNr)-1)))","v":2},"","",{"$f":"ADDRESS(ROW(Teilnehmer)+DP36,COLUMN(Teilnehmer)+DQ36)","v":"$E$43"},{"$f":"ADDRESS(ROW(Teilnehmer)+DQ36,COLUMN(Teilnehmer)+DP36)","v":"$N$34"},6,"Spieler 10","-","Spieler 01",null,null,6,6,{"$f":"IF(AND(EC36=1,MOD(EB36,2)=0),MAX(TeilnNr),IF(MOD(EC36,2)=0,IF(MAX(TeilnNr)/2-EC36+1-(EB36-MAX(TeilnNr)/2-1)>=1,MAX(TeilnNr)/2-EC36+1-(EB36-MAX(TeilnNr)/2-1),MAX(TeilnNr)/2-EC36+1-(EB36-MAX(TeilnNr)/2-1)+MAX(TeilnNr)-1),IF(EC36-(EB36-1)>=1,EC36-(EB36-1),EC36-(EB36-1)+MAX(TeilnNr)-1)))","v":10},{"$f":"IF(AND(EC36=1,MOD(EB36,2)<>0),MAX(TeilnNr),IF(MOD(EC36,2)<>0,IF(MAX(TeilnNr)/2-EC36+1-(EB36-MAX(TeilnNr)/2-1)>=1,MAX(TeilnNr)/2-EC36+1-(EB36-MAX(TeilnNr)/2-1),MAX(TeilnNr)/2-EC36+1-(EB36-MAX(TeilnNr)/2-1)+MAX(TeilnNr)-1),IF(EC36-(EB36-1)>=1,EC36-(EB36-1),EC36-(EB36-1)+MAX(TeilnNr)-1)))","v":1},"","",{"$f":"ADDRESS(ROW(Teilnehmer)+ED36,COLUMN(Teilnehmer)+EE36)","v":"$D$42"},{"$f":"ADDRESS(ROW(Teilnehmer)+EE36,COLUMN(Teilnehmer)+ED36)","v":"$M$33"},6,{"$f":"DK36","v":"Spieler 02"},"-",{"$f":"DI36","v":"Spieler 11"},null,6,{"$f":"DY36","v":"Spieler 01"},"-",{"$f":"DW36","v":"Spieler 10"}]
[null,5,null,"","","","","","","","","","","","","","","","","","","","",0,0,0,null,0,0,1,null,0,0,0,0,0,0,0,0,0,0,0,0,0,0,0,0,0,0,0,0,0,null,0,0,0,0,0,0,0,0,0,0,0,0,0,0,0,0,0,0,0,0,0,null,0,1,1,1,1,1,10101,101,1010101,10101,10101,1010101,101,101,1010101,10101,{"$f":"INDEX($CD37:$CM37,1,WertungskriterienA)","v":10101},{"$f":"SUM((TRANSPOSE($CN$33:$CN$52)=CN37)*$AF37:$AY37)","v":0},1,10101,101010101,10101,101010101,10101010101,101010101,1010101010101,1010101010101,101010101,10101010101,{"$f":"INDEX(CQ37:CZ37,1,WertungskriterienA)","v":101010101},1,false,"Spieler 05",4,1.004005,5,7,"Spieler 03","-","Spieler 10",null,null,{"$f":"DN36","v":5},7,{"$f":"IF(AND(DO37=1,MOD(DN37,2)=0),MAX(TeilnNr),IF(MOD(DO37,2)=0,IF(MAX(TeilnNr)/2-DO37+1-(DN37-MAX(TeilnNr)/2-1)>=1,MAX(TeilnNr)/2-DO37+1-(DN37-MAX(TeilnNr)/2-1),MAX(TeilnNr)/2-DO37+1-(DN37-MAX(TeilnNr)/2-1)+MAX(TeilnNr)-1),IF(DO37-(DN37-1)>=1,DO37-(DN37-1),DO37-(DN37-1)+MAX(TeilnNr)-1)))","v":3},{"$f":"IF(AND(DO37=1,MOD(DN37,2)<>0),MAX(TeilnNr),IF(MOD(DO37,2)<>0,IF(MAX(TeilnNr)/2-DO37+1-(DN37-MAX(TeilnNr)/2-1)>=1,MAX(TeilnNr)/2-DO37+1-(DN37-MAX(TeilnNr)/2-1),MAX(TeilnNr)/2-DO37+1-(DN37-MAX(TeilnNr)/2-1)+MAX(TeilnNr)-1),IF(DO37-(DN37-1)>=1,DO37-(DN37-1),DO37-(DN37-1)+MAX(TeilnNr)-1)))","v":10},"","",{"$f":"ADDRESS(ROW(Teilnehmer)+DP37,COLUMN(Teilnehmer)+DQ37)","v":"$M$35"},{"$f":"ADDRESS(ROW(Teilnehmer)+DQ37,COLUMN(Teilnehmer)+DP37)","v":"$F$42"},7,"Spieler 02","-","Spieler 09",null,null,6,7,{"$f":"IF(AND(EC37=1,MOD(EB37,2)=0),MAX(TeilnNr),IF(MOD(EC37,2)=0,IF(MAX(TeilnNr)/2-EC37+1-(EB37-MAX(TeilnNr)/2-1)>=1,MAX(TeilnNr)/2-EC37+1-(EB37-MAX(TeilnNr)/2-1),MAX(TeilnNr)/2-EC37+1-(EB37-MAX(TeilnNr)/2-1)+MAX(TeilnNr)-1),IF(EC37-(EB37-1)>=1,EC37-(EB37-1),EC37-(EB37-1)+MAX(TeilnNr)-1)))","v":2},{"$f":"IF(AND(EC37=1,MOD(EB37,2)<>0),MAX(TeilnNr),IF(MOD(EC37,2)<>0,IF(MAX(TeilnNr)/2-EC37+1-(EB37-MAX(TeilnNr)/2-1)>=1,MAX(TeilnNr)/2-EC37+1-(EB37-MAX(TeilnNr)/2-1),MAX(TeilnNr)/2-EC37+1-(EB37-MAX(TeilnNr)/2-1)+MAX(TeilnNr)-1),IF(EC37-(EB37-1)>=1,EC37-(EB37-1),EC37-(EB37-1)+MAX(TeilnNr)-1)))","v":9},"","",{"$f":"ADDRESS(ROW(Teilnehmer)+ED37,COLUMN(Teilnehmer)+EE37)","v":"$L$34"},{"$f":"ADDRESS(ROW(Teilnehmer)+EE37,COLUMN(Teilnehmer)+ED37)","v":"$E$41"},7,"Spieler 03","-",{"$f":"DK37","v":"Spieler 10"},null,7,"Spieler 02","-",{"$f":"DY37","v":"Spieler 09"}]
[null,6,null,"","","","","","","","","","","","","","","","","","","","",0,0,0,null,0,0,1,null,0,0,0,0,0,0,0,0,0,0,0,0,0,0,0,0,0,0,0,0,0,null,0,0,0,0,0,0,0,0,0,0,0,0,0,0,0,0,0,0,0,0,0,null,0,1,1,1,1,1,10101,101,1010101,10101,10101,1010101,101,101,1010101,10101,{"$f":"INDEX($CD38:$CM38,1,WertungskriterienA)","v":10101},{"$f":"SUM((TRANSPOSE($CN$33:$CN$52)=CN38)*$AF38:$AY38)","v":0},1,10101,101010101,10101,101010101,10101010101,101010101,1010101010101,1010101010101,101010101,10101010101,{"$f":"INDEX(CQ38:CZ38,1,WertungskriterienA)","v":101010101},1,false,"Spieler 06",5,1.0050059999999998,6,8,"Spieler 09","-","Spieler 04",null,null,5,8,{"$f":"IF(AND(DO38=1,MOD(DN38,2)=0),MAX(TeilnNr),IF(MOD(DO38,2)=0,IF(MAX(TeilnNr)/2-DO38+1-(DN38-MAX(TeilnNr)/2-1)>=1,MAX(TeilnNr)/2-DO38+1-(DN38-MAX(TeilnNr)/2-1),MAX(TeilnNr)/2-DO38+1-(DN38-MAX(TeilnNr)/2-1)+MAX(TeilnNr)-1),IF(DO38-(DN38-1)>=1,DO38-(DN38-1),DO38-(DN38-1)+MAX(TeilnNr)-1)))","v":9},{"$f":"IF(AND(DO38=1,MOD(DN38,2)<>0),MAX(TeilnNr),IF(MOD(DO38,2)<>0,IF(MAX(TeilnNr)/2-DO38+1-(DN38-MAX(TeilnNr)/2-1)>=1,MAX(TeilnNr)/2-DO38+1-(DN38-MAX(TeilnNr)/2-1),MAX(TeilnNr)/2-DO38+1-(DN38-MAX(TeilnNr)/2-1)+MAX(TeilnNr)-1),IF(DO38-(DN38-1)>=1,DO38-(DN38-1),DO38-(DN38-1)+MAX(TeilnNr)-1)))","v":4},"","",{"$f":"ADDRESS(ROW(Teilnehmer)+DP38,COLUMN(Teilnehmer)+DQ38)","v":"$G$41"},{"$f":"ADDRESS(ROW(Teilnehmer)+DQ38,COLUMN(Teilnehmer)+DP38)","v":"$L$36"},8,"Spieler 08","-","Spieler 03",null,null,6,8,{"$f":"IF(AND(EC38=1,MOD(EB38,2)=0),MAX(TeilnNr),IF(MOD(EC38,2)=0,IF(MAX(TeilnNr)/2-EC38+1-(EB38-MAX(TeilnNr)/2-1)>=1,MAX(TeilnNr)/2-EC38+1-(EB38-MAX(TeilnNr)/2-1),MAX(TeilnNr)/2-EC38+1-(EB38-MAX(TeilnNr)/2-1)+MAX(TeilnNr)-1),IF(EC38-(EB38-1)>=1,EC38-(EB38-1),EC38-(EB38-1)+MAX(TeilnNr)-1)))","v":8},{"$f":"IF(AND(EC38=1,MOD(EB38,2)<>0),MAX(TeilnNr),IF(MOD(EC38,2)<>0,IF(MAX(TeilnNr)/2-EC38+1-(EB38-MAX(TeilnNr)/2-1)>=1,MAX(TeilnNr)/2-EC38+1-(EB38-MAX(TeilnNr)/2-1),MAX(TeilnNr)/2-EC38+1-(EB38-MAX(TeilnNr)/2-1)+MAX(TeilnNr)-1),IF(EC38-(EB38-1)>=1,EC38-(EB38-1),EC38-(EB38-1)+MAX(TeilnNr)-1)))","v":3},"","",{"$f":"ADDRESS(ROW(Teilnehmer)+ED38,COLUMN(Teilnehmer)+EE38)","v":"$F$40"},{"$f":"ADDRESS(ROW(Teilnehmer)+EE38,COLUMN(Teilnehmer)+ED38)","v":"$K$35"},8,{"$f":"DK38","v":"Spieler 04"},"-",{"$f":"DI38","v":"Spieler 09"},null,8,{"$f":"DY38","v":"Spieler 03"},"-",{"$f":"DW38","v":"Spieler 08"}]
[null,7,null,"","","","","","","","","","","","","","","","","","","","",0,0,0,null,0,0,1,null,0,0,0,0,0,0,0,0,0,0,0,0,0,0,0,0,0,0,0,0,0,null,0,0,0,0,0,0,0,0,0,0,0,0,0,0,0,0,0,0,0,0,0,null,0,1,1,1,1,1,10101,101,1010101,10101,10101,1010101,101,101,1010101,10101,{"$f":"INDEX($CD39:$CM39,1,WertungskriterienA)","v":10101},{"$f":"SUM((TRANSPOSE($CN$33:$CN$52)=CN39)*$AF39:$AY39)","v":0},1,10101,101010101,10101,101010101,10101010101,101010101,1010101010101,1010101010101,101010101,10101010101,{"$f":"INDEX(CQ39:CZ39,1,WertungskriterienA)","v":101010101},1,false,"Spieler 07",6,1.0060070000000001,7,9,"Spieler 05","-","Spieler 08",null,null,5,9,{"$f":"IF(AND(DO39=1,MOD(DN39,2)=0),MAX(TeilnNr),IF(MOD(DO39,2)=0,IF(MAX(TeilnNr)/2-DO39+1-(DN39-MAX(TeilnNr)/2-1)>=1,MAX(TeilnNr)/2-DO39+1-(DN39-MAX(TeilnNr)/2-1),MAX(TeilnNr)/2-DO39+1-(DN39-MAX(TeilnNr)/2-1)+MAX(TeilnNr)-1),IF(DO39-(DN39-1)>=1,DO39-(DN39-1),DO39-(DN39-1)+MAX(TeilnNr)-1)))","v":5},{"$f":"IF(AND(DO39=1,MOD(DN39,2)<>0),MAX(TeilnNr),IF(MOD(DO39,2)<>0,IF(MAX(TeilnNr)/2-DO39+1-(DN39-MAX(TeilnNr)/2-1)>=1,MAX(TeilnNr)/2-DO39+1-(DN39-MAX(TeilnNr)/2-1),MAX(TeilnNr)/2-DO39+1-(DN39-MAX(TeilnNr)/2-1)+MAX(TeilnNr)-1),IF(DO39-(DN39-1)>=1,DO39-(DN39-1),DO39-(DN39-1)+MAX(TeilnNr)-1)))","v":8},"","",{"$f":"ADDRESS(ROW(Teilnehmer)+DP39,COLUMN(Teilnehmer)+DQ39)","v":"$K$37"},{"$f":"ADDRESS(ROW(Teilnehmer)+DQ39,COLUMN(Teilnehmer)+DP39)","v":"$H$40"},9,"Spieler 04","-","Spieler 07",null,null,6,9,{"$f":"IF(AND(EC39=1,MOD(EB39,2)=0),MAX(TeilnNr),IF(MOD(EC39,2)=0,IF(MAX(TeilnNr)/2-EC39+1-(EB39-MAX(TeilnNr)/2-1)>=1,MAX(TeilnNr)/2-EC39+1-(EB39-MAX(TeilnNr)/2-1),MAX(TeilnNr)/2-EC39+1-(EB39-MAX(TeilnNr)/2-1)+MAX(TeilnNr)-1),IF(EC39-(EB39-1)>=1,EC39-(EB39-1),EC39-(EB39-1)+MAX(TeilnNr)-1)))","v":4},{"$f":"IF(AND(EC39=1,MOD(EB39,2)<>0),MAX(TeilnNr),IF(MOD(EC39,2)<>0,IF(MAX(TeilnNr)/2-EC39+1-(EB39-MAX(TeilnNr)/2-1)>=1,MAX(TeilnNr)/2-EC39+1-(EB39-MAX(TeilnNr)/2-1),MAX(TeilnNr)/2-EC39+1-(EB39-MAX(TeilnNr)/2-1)+MAX(TeilnNr)-1),IF(EC39-(EB39-1)>=1,EC39-(EB39-1),EC39-(EB39-1)+MAX(TeilnNr)-1)))","v":7},"","",{"$f":"ADDRESS(ROW(Teilnehmer)+ED39,COLUMN(Teilnehmer)+EE39)","v":"$J$36"},{"$f":"ADDRESS(ROW(Teilnehmer)+EE39,COLUMN(Teilnehmer)+ED39)","v":"$G$39"},9,"Spieler 05","-",{"$f":"DK39","v":"Spieler 08"},null,9,"Spieler 04","-",{"$f":"DY39","v":"Spieler 07"}]
[null,8,null,"","","","","","","","","","","","","","","","","","","","",0,0,0,null,0,0,1,null,0,0,0,0,0,0,0,0,0,0,0,0,0,0,0,0,0,0,0,0,0,null,0,0,0,0,0,0,0,0,0,0,0,0,0,0,0,0,0,0,0,0,0,null,0,1,1,1,1,1,10101,101,1010101,10101,10101,1010101,101,101,1010101,10101,{"$f":"INDEX($CD40:$CM40,1,WertungskriterienA)","v":10101},{"$f":"SUM((TRANSPOSE($CN$33:$CN$52)=CN40)*$AF40:$AY40)","v":0},1,10101,101010101,10101,101010101,10101010101,101010101,1010101010101,1010101010101,101010101,10101010101,{"$f":"INDEX(CQ40:CZ40,1,WertungskriterienA)","v":101010101},1,false,"Spieler 08",7,1.0070079999999999,8,10,"Spieler 07","-","Spieler 06",null,null,5,10,{"$f":"IF(AND(DO40=1,MOD(DN40,2)=0),MAX(TeilnNr),IF(MOD(DO40,2)=0,IF(MAX(TeilnNr)/2-DO40+1-(DN40-MAX(TeilnNr)/2-1)>=1,MAX(TeilnNr)/2-DO40+1-(DN40-MAX(TeilnNr)/2-1),MAX(TeilnNr)/2-DO40+1-(DN40-MAX(TeilnNr)/2-1)+MAX(TeilnNr)-1),IF(DO40-(DN40-1)>=1,DO40-(DN40-1),DO40-(DN40-1)+MAX(TeilnNr)-1)))","v":7},{"$f":"IF(AND(DO40=1,MOD(DN40,2)<>0),MAX(TeilnNr),IF(MOD(DO40,2)<>0,IF(MAX(TeilnNr)/2-DO40+1-(DN40-MAX(TeilnNr)/2-1)>=1,MAX(TeilnNr)/2-DO40+1-(DN40-MAX(TeilnNr)/2-1),MAX(TeilnNr)/2-DO40+1-(DN40-MAX(TeilnNr)/2-1)+MAX(TeilnNr)-1),IF(DO40-(DN40-1)>=1,DO40-(DN40-1),DO40-(DN40-1)+MAX(TeilnNr)-1)))","v":6},"","",{"$f":"ADDRESS(ROW(Teilnehmer)+DP40,COLUMN(Teilnehmer)+DQ40)","v":"$I$39"},{"$f":"ADDRESS(ROW(Teilnehmer)+DQ40,COLUMN(Teilnehmer)+DP40)","v":"$J$38"},10,"Spieler 06","-","Spieler 05",null,null,6,10,{"$f":"IF(AND(EC40=1,MOD(EB40,2)=0),MAX(TeilnNr),IF(MOD(EC40,2)=0,IF(MAX(TeilnNr)/2-EC40+1-(EB40-MAX(TeilnNr)/2-1)>=1,MAX(TeilnNr)/2-EC40+1-(EB40-MAX(TeilnNr)/2-1),MAX(TeilnNr)/2-EC40+1-(EB40-MAX(TeilnNr)/2-1)+MAX(TeilnNr)-1),IF(EC40-(EB40-1)>=1,EC40-(EB40-1),EC40-(EB40-1)+MAX(TeilnNr)-1)))","v":6},{"$f":"IF(AND(EC40=1,MOD(EB40,2)<>0),MAX(TeilnNr),IF(MOD(EC40,2)<>0,IF(MAX(TeilnNr)/2-EC40+1-(EB40-MAX(TeilnNr)/2-1)>=1,MAX(TeilnNr)/2-EC40+1-(EB40-MAX(TeilnNr)/2-1),MAX(TeilnNr)/2-EC40+1-(EB40-MAX(TeilnNr)/2-1)+MAX(TeilnNr)-1),IF(EC40-(EB40-1)>=1,EC40-(EB40-1),EC40-(EB40-1)+MAX(TeilnNr)-1)))","v":5},"","",{"$f":"ADDRESS(ROW(Teilnehmer)+ED40,COLUMN(Teilnehmer)+EE40)","v":"$H$38"},{"$f":"ADDRESS(ROW(Teilnehmer)+EE40,COLUMN(Teilnehmer)+ED40)","v":"$I$37"},10,{"$f":"DK40","v":"Spieler 06"},"-",{"$f":"DI40","v":"Spieler 07"},null,10,{"$f":"DY40","v":"Spieler 05"},"-",{"$f":"DW40","v":"Spieler 06"}]
[null,9,null,"","","","","","","","","","","","","","","","","","","","",0,0,0,null,0,0,1,null,0,0,0,0,0,0,0,0,0,0,0,0,0,0,0,0,0,0,0,0,0,null,0,0,0,0,0,0,0,0,0,0,0,0,0,0,0,0,0,0,0,0,0,null,0,1,1,1,1,1,10101,101,1010101,10101,10101,1010101,101,101,1010101,10101,{"$f":"INDEX($CD41:$CM41,1,WertungskriterienA)","v":10101},{"$f":"SUM((TRANSPOSE($CN$33:$CN$52)=CN41)*$AF41:$AY41)","v":0},1,10101,101010101,10101,101010101,10101010101,101010101,1010101010101,1010101010101,101010101,10101010101,{"$f":"INDEX(CQ41:CZ41,1,WertungskriterienA)","v":101010101},1,false,"Spieler 09",8,1.0080089999999999,9]
[null,10,null,"","","","","","","","","","","","","","","","","","","","",0,0,0,null,0,0,1,null,0,0,0,0,0,0,0,0,0,0,0,0,0,0,0,0,0,0,0,0,0,null,0,0,0,0,0,0,0,0,0,0,0,0,0,0,0,0,0,0,0,0,0,null,0,1,1,1,1,1,10101,101,1010101,10101,10101,1010101,101,101,1010101,10101,{"$f":"INDEX($CD42:$CM42,1,WertungskriterienA)","v":10101},{"$f":"SUM((TRANSPOSE($CN$33:$CN$52)=CN42)*$AF42:$AY42)","v":0},1,10101,101010101,10101,101010101,10101010101,101010101,1010101010101,1010101010101,101010101,10101010101,{"$f":"INDEX(CQ42:CZ42,1,WertungskriterienA)","v":101010101},1,false,"Spieler 10",9,1.00901,10,null,{"$f":"DI30+2","v":7},null,null,null,null,"R","B","SpNr w","SpNr s","Res w","Res s",null,null,null,{"$f":"DW30+2","v":8},null,null,null,null,"R","B","SpNr w","SpNr s","Res w","Res s",null,null,null,{"$f":"DI42","v":7},1,null,null,null,{"$f":"DW42","v":8}]
[null,11,null,{"$f":"IF(ISNA(MATCH(ADDRESS(ROW(),COLUMN()),$DT:$DT,0)),\"\",INDEX($DR:$DR,MATCH(ADDRESS(ROW(),COLUMN()),$DT:$DT,0)))&IF(ISNA(MATCH(ADDRESS(ROW(),COLUMN()),$DU:$DU,0)),\"\",INDEX($DS:$DS,MATCH(ADDRESS(ROW(),COLUMN()),$DU:$DU,0)))&IF(ISNA(MATCH(ADDRESS(ROW(),COLUMN()),$EH:$EH,0)),\"\",INDEX($EF:$EF,MATCH(ADDRESS(ROW(),COLUMN()),$EH:$EH,0)))&IF(ISNA(MATCH(ADDRESS(ROW(),COLUMN()),$EI:$EI,0)),\"\",INDEX($EG:$EG,MATCH(ADDRESS(ROW(),COLUMN()),$EI:$EI,0)))","v":""},"","","","","","","","","",{"$f":"IF(ISNA(MATCH(ADDRESS(ROW(),COLUMN()),$DT:$DT,0)),\"\",INDEX($DR:$DR,MATCH(ADDRESS(ROW(),COLUMN()),$DT:$DT,0)))&IF(ISNA(MATCH(ADDRESS(ROW(),COLUMN()),$DU:$DU,0)),\"\",INDEX($DS:$DS,MATCH(ADDRESS(ROW(),COLUMN()),$DU:$DU,0)))&IF(ISNA(MATCH(ADDRESS(ROW(),COLUMN()),$EH:$EH,0)),\"\",INDEX($EF:$EF,MATCH(ADDRESS(ROW(),COLUMN()),$EH:$EH,0)))&IF(ISNA(MATCH(ADDRESS(ROW(),COLUMN()),$EI:$EI,0)),\"\",INDEX($EG:$EG,MATCH(ADDRESS(ROW(),COLUMN()),$EI:$EI,0)))","v":""},"","","","","","","","","",0,0,0,null,0,0,1,null,0,0,0,0,0,0,0,0,0,0,0,0,0,0,0,0,0,0,0,0,0,null,0,0,0,0,0,0,0,0,0,0,0,0,0,0,0,0,0,0,0,0,0,null,0,1,1,1,1,1,10101,101,1010101,10101,10101,1010101,101,101,1010101,10101,{"$f":"INDEX($CD43:$CM43,1,WertungskriterienA)","v":10101},{"$f":"SUM((TRANSPOSE($CN$33:$CN$52)=CN43)*$AF43:$AY43)","v":0},1,10101,101010101,10101,101010101,10101010101,101010101,1010101010101,1010101010101,101010101,10101010101,{"$f":"INDEX(CQ43:CZ43,1,WertungskriterienA)","v":101010101},1,false,"Spieler 11",10,1.010011,11,{"$f":"IF(OR(INDEX($DC$33:$DC$52,DP43),INDEX($DC$33:$DC$52,DQ43)),0,1)","v":1},{"$f":"INDEX($DD$33:$DD$52,MATCH($DP43,TeilnNr,0))","v":"Spieler 14"},"-",{"$f":"INDEX($DD$33:$DD$52,MATCH($DQ43,TeilnNr,0))","v":"Spieler 20"},null,null,{"$f":"DI42","v":7},1,{"$f":"IF(AND(DO43=1,MOD(DN43,2)=0),MAX(TeilnNr),IF(MOD(DO43,2)=0,IF(MAX(TeilnNr)/2-DO43+1-(DN43-MAX(TeilnNr)/2-1)>=1,MAX(TeilnNr)/2-DO43+1-(DN43-MAX(TeilnNr)/2-1),MAX(TeilnNr)/2-DO43+1-(DN43-MAX(TeilnNr)/2-1)+MAX(TeilnNr)-1),IF(DO43-(DN43-1)>=1,DO43-(DN43-1),DO43-(DN43-1)+MAX(TeilnNr)-1)))","v":14},{"$f":"IF(AND(DO43=1,MOD(DN43,2)<>0),MAX(TeilnNr),IF(MOD(DO43,2)<>0,IF(MAX(TeilnNr)/2-DO43+1-(DN43-MAX(TeilnNr)/2-1)>=1,MAX(TeilnNr)/2-DO43+1-(DN43-MAX(TeilnNr)/2-1),MAX(TeilnNr)/2-DO43+1-(DN43-MAX(TeilnNr)/2-1)+MAX(TeilnNr)-1),IF(DO43-(DN43-1)>=1,DO43-(DN43-1),DO43-(DN43-1)+MAX(TeilnNr)-1)))","v":20},{"$f":"IF(LEFT(DM43,1)=\"V\",\"\",LEFT(DM43,1))","v":""},{"$f":"IF(RIGHT(DM43,1)=\"V\",\"\",RIGHT(DM43,1))","v":""},{"$f":"ADDRESS(ROW(Teilnehmer)+DP43,COLUMN(Teilnehmer)+DQ43)","v":"$W$46"},{"$f":"ADDRESS(ROW(Teilnehmer)+DQ43,COLUMN(Teilnehmer)+DP43)","v":"$Q$52"},{"$f":"IF(OR(INDEX($DC$33:$DC$52,ED43),INDEX($DC$33:$DC$52,EE43)),0,1)","v":1},{"$f":"INDEX($DD$33:$DD$52,MATCH($ED43,TeilnNr,0))","v":"Spieler 20"},"-",{"$f":"INDEX($DD$33:$DD$52,MATCH($EE43,TeilnNr,0))","v":"Spieler 13"},null,null,{"$f":"DW42","v":8},1,{"$f":"IF(AND(EC43=1,MOD(EB43,2)=0),MAX(TeilnNr),IF(MOD(EC43,2)=0,IF(MAX(TeilnNr)/2-EC43+1-(EB43-MAX(TeilnNr)/2-1)>=1,MAX(TeilnNr)/2-EC43+1-(EB43-MAX(TeilnNr)/2-1),MAX(TeilnNr)/2-EC43+1-(EB43-MAX(TeilnNr)/2-1)+MAX(TeilnNr)-1),IF(EC43-(EB43-1)>=1,EC43-(EB43-1),EC43-(EB43-1)+MAX(TeilnNr)-1)))","v":20},{"$f":"IF(AND(EC43=1,MOD(EB43,2)<>0),MAX(TeilnNr),IF(MOD(EC43,2)<>0,IF(MAX(TeilnNr)/2-EC43+1-(EB43-MAX(TeilnNr)/2-1)>=1,MAX(TeilnNr)/2-EC43+1-(EB43-MAX(TeilnNr)/2-1),MAX(TeilnNr)/2-EC43+1-(EB43-MAX(TeilnNr)/2-1)+MAX(TeilnNr)-1),IF(EC43-(EB43-1)>=1,EC43-(EB43-1),EC43-(EB43-1)+MAX(TeilnNr)-1)))","v":13},{"$f":"IF(LEFT(EA43,1)=\"V\",\"\",LEFT(EA43,1))","v":""},{"$f":"IF(RIGHT(EA43,1)=\"V\",\"\",RIGHT(EA43,1))","v":""},{"$f":"ADDRESS(ROW(Teilnehmer)+ED43,COLUMN(Teilnehmer)+EE43)","v":"$P$52"},{"$f":"ADDRESS(ROW(Teilnehmer)+EE43,COLUMN(Teilnehmer)+ED43)","v":"$W$45"},{"$f":"DH43","v":1},"Spieler 14","-",{"$f":"DK43","v":"Spieler 20"},null,{"$f":"DV43","v":1},{"$f":"DY43","v":"Spieler 13"},"-",{"$f":"DW43","v":"Spieler 20"}]
[null,12,null,"","","","","","","","","","","","","","","","","","","","",0,0,0,null,0,0,1,null,0,0,0,0,0,0,0,0,0,0,0,0,0,0,0,0,0,0,0,0,0,null,0,0,0,0,0,0,0,0,0,0,0,0,0,0,0,0,0,0,0,0,0,null,0,1,1,1,1,1,10101,101,1010101,10101,10101,1010101,101,101,1010101,10101,{"$f":"INDEX($CD44:$CM44,1,WertungskriterienA)","v":10101},{"$f":"SUM((TRANSPOSE($CN$33:$CN$52)=CN44)*$AF44:$AY44)","v":0},1,10101,101010101,10101,101010101,10101010101,101010101,1010101010101,1010101010101,101010101,10101010101,{"$f":"INDEX(CQ44:CZ44,1,WertungskriterienA)","v":101010101},1,false,"Spieler 12",11,1.0110119999999998,12,{"$f":"DH43+1","v":2},"Spieler 13","-","Spieler 15",null,null,{"$f":"DN43","v":7},{"$f":"DO43+1","v":2},{"$f":"IF(AND(DO44=1,MOD(DN44,2)=0),MAX(TeilnNr),IF(MOD(DO44,2)=0,IF(MAX(TeilnNr)/2-DO44+1-(DN44-MAX(TeilnNr)/2-1)>=1,MAX(TeilnNr)/2-DO44+1-(DN44-MAX(TeilnNr)/2-1),MAX(TeilnNr)/2-DO44+1-(DN44-MAX(TeilnNr)/2-1)+MAX(TeilnNr)-1),IF(DO44-(DN44-1)>=1,DO44-(DN44-1),DO44-(DN44-1)+MAX(TeilnNr)-1)))","v":13},{"$f":"IF(AND(DO44=1,MOD(DN44,2)<>0),MAX(TeilnNr),IF(MOD(DO44,2)<>0,IF(MAX(TeilnNr)/2-DO44+1-(DN44-MAX(TeilnNr)/2-1)>=1,MAX(TeilnNr)/2-DO44+1-(DN44-MAX(TeilnNr)/2-1),MAX(TeilnNr)/2-DO44+1-(DN44-MAX(TeilnNr)/2-1)+MAX(TeilnNr)-1),IF(DO44-(DN44-1)>=1,DO44-(DN44-1),DO44-(DN44-1)+MAX(TeilnNr)-1)))","v":15},"","",{"$f":"ADDRESS(ROW(Teilnehmer)+DP44,COLUMN(Teilnehmer)+DQ44)","v":"$R$45"},{"$f":"ADDRESS(ROW(Teilnehmer)+DQ44,COLUMN(Teilnehmer)+DP44)","v":"$P$47"},{"$f":"DV43+1","v":2},"Spieler 12","-","Spieler 14",null,null,{"$f":"EB43","v":8},{"$f":"EC43+1","v":2},{"$f":"IF(AND(EC44=1,MOD(EB44,2)=0),MAX(TeilnNr),IF(MOD(EC44,2)=0,IF(MAX(TeilnNr)/2-EC44+1-(EB44-MAX(TeilnNr)/2-1)>=1,MAX(TeilnNr)/2-EC44+1-(EB44-MAX(TeilnNr)/2-1),MAX(TeilnNr)/2-EC44+1-(EB44-MAX(TeilnNr)/2-1)+MAX(TeilnNr)-1),IF(EC44-(EB44-1)>=1,EC44-(EB44-1),EC44-(EB44-1)+MAX(TeilnNr)-1)))","v":12},{"$f":"IF(AND(EC44=1,MOD(EB44,2)<>0),MAX(TeilnNr),IF(MOD(EC44,2)<>0,IF(MAX(TeilnNr)/2-EC44+1-(EB44-MAX(TeilnNr)/2-1)>=1,MAX(TeilnNr)/2-EC44+1-(EB44-MAX(TeilnNr)/2-1),MAX(TeilnNr)/2-EC44+1-(EB44-MAX(TeilnNr)/2-1)+MAX(TeilnNr)-1),IF(EC44-(EB44-1)>=1,EC44-(EB44-1),EC44-(EB44-1)+MAX(TeilnNr)-1)))","v":14},"","",{"$f":"ADDRESS(ROW(Teilnehmer)+ED44,COLUMN(Teilnehmer)+EE44)","v":"$Q$44"},{"$f":"ADDRESS(ROW(Teilnehmer)+EE44,COLUMN(Teilnehmer)+ED44)","v":"$O$46"},{"$f":"DH44","v":2},{"$f":"DK44","v":"Spieler 15"},"-",{"$f":"DI44","v":"Spieler 13"},null,2,"Spieler 14","-","Spieler 12"]
[null,13,null,"","","","","","","","","","","","","","","","","","","","",0,0,0,null,0,0,1,null,0,0,0,0,0,0,0,0,0,0,0,0,0,0,0,0,0,0,0,0,0,null,0,0,0,0,0,0,0,0,0,0,0,0,0,0,0,0,0,0,0,0,0,null,0,1,1,1,1,1,10101,101,1010101,10101,10101,1010101,101,101,1010101,10101,{"$f":"INDEX($CD45:$CM45,1,WertungskriterienA)","v":10101},{"$f":"SUM((TRANSPOSE($CN$33:$CN$52)=CN45)*$AF45:$AY45)","v":0},1,10101,101010101,10101,101010101,10101010101,101010101,1010101010101,1010101010101,101010101,10101010101,{"$f":"INDEX(CQ45:CZ45,1,WertungskriterienA)","v":101010101},1,false,"Spieler 13",12,1.0120130000000001,13,{"$f":"DH44+1","v":3},"Spieler 16","-","Spieler 12",null,null,{"$f":"DN44","v":7},{"$f":"DO44+1","v":3},{"$f":"IF(AND(DO45=1,MOD(DN45,2)=0),MAX(TeilnNr),IF(MOD(DO45,2)=0,IF(MAX(TeilnNr)/2-DO45+1-(DN45-MAX(TeilnNr)/2-1)>=1,MAX(TeilnNr)/2-DO45+1-(DN45-MAX(TeilnNr)/2-1),MAX(TeilnNr)/2-DO45+1-(DN45-MAX(TeilnNr)/2-1)+MAX(TeilnNr)-1),IF(DO45-(DN45-1)>=1,DO45-(DN45-1),DO45-(DN45-1)+MAX(TeilnNr)-1)))","v":16},{"$f":"IF(AND(DO45=1,MOD(DN45,2)<>0),MAX(TeilnNr),IF(MOD(DO45,2)<>0,IF(MAX(TeilnNr)/2-DO45+1-(DN45-MAX(TeilnNr)/2-1)>=1,MAX(TeilnNr)/2-DO45+1-(DN45-MAX(TeilnNr)/2-1),MAX(TeilnNr)/2-DO45+1-(DN45-MAX(TeilnNr)/2-1)+MAX(TeilnNr)-1),IF(DO45-(DN45-1)>=1,DO45-(DN45-1),DO45-(DN45-1)+MAX(TeilnNr)-1)))","v":12},"","",{"$f":"ADDRESS(ROW(Teilnehmer)+DP45,COLUMN(Teilnehmer)+DQ45)","v":"$O$48"},{"$f":"ADDRESS(ROW(Teilnehmer)+DQ45,COLUMN(Teilnehmer)+DP45)","v":"$S$44"},{"$f":"DV44+1","v":3},"Spieler 15","-","Spieler 11",null,null,{"$f":"EB44","v":8},{"$f":"EC44+1","v":3},{"$f":"IF(AND(EC45=1,MOD(EB45,2)=0),MAX(TeilnNr),IF(MOD(EC45,2)=0,IF(MAX(TeilnNr)/2-EC45+1-(EB45-MAX(TeilnNr)/2-1)>=1,MAX(TeilnNr)/2-EC45+1-(EB45-MAX(TeilnNr)/2-1),MAX(TeilnNr)/2-EC45+1-(EB45-MAX(TeilnNr)/2-1)+MAX(TeilnNr)-1),IF(EC45-(EB45-1)>=1,EC45-(EB45-1),EC45-(EB45-1)+MAX(TeilnNr)-1)))","v":15},{"$f":"IF(AND(EC45=1,MOD(EB45,2)<>0),MAX(TeilnNr),IF(MOD(EC45,2)<>0,IF(MAX(TeilnNr)/2-EC45+1-(EB45-MAX(TeilnNr)/2-1)>=1,MAX(TeilnNr)/2-EC45+1-(EB45-MAX(TeilnNr)/2-1),MAX(TeilnNr)/2-EC45+1-(EB45-MAX(TeilnNr)/2-1)+MAX(TeilnNr)-1),IF(EC45-(EB45-1)>=1,EC45-(EB45-1),EC45-(EB45-1)+MAX(TeilnNr)-1)))","v":11},"","",{"$f":"ADDRESS(ROW(Teilnehmer)+ED45,COLUMN(Teilnehmer)+EE45)","v":"$N$47"},{"$f":"ADDRESS(ROW(Teilnehmer)+EE45,COLUMN(Teilnehmer)+ED45)","v":"$R$43"},3,"Spieler 16","-",{"$f":"DK45","v":"Spieler 12"},null,3,"Spieler 15","-",{"$f":"DY45","v":"Spieler 11"}]
[null,14,null,"","","","","","","","","","","","","","","","","","","","",0,0,0,null,0,0,1,null,0,0,0,0,0,0,0,0,0,0,0,0,0,0,0,0,0,0,0,0,0,null,0,0,0,0,0,0,0,0,0,0,0,0,0,0,0,0,0,0,0,0,0,null,0,1,1,1,1,1,10101,101,1010101,10101,10101,1010101,101,101,1010101,10101,{"$f":"INDEX($CD46:$CM46,1,WertungskriterienA)","v":10101},{"$f":"SUM((TRANSPOSE($CN$33:$CN$52)=CN46)*$AF46:$AY46)","v":0},1,10101,101010101,10101,101010101,10101010101,101010101,1010101010101,1010101010101,101010101,10101010101,{"$f":"INDEX(CQ46:CZ46,1,WertungskriterienA)","v":101010101},1,false,"Spieler 14",13,1.0130139999999999,14,4,"Spieler 11","-","Spieler 17",null,null,{"$f":"DN45","v":7},4,{"$f":"IF(AND(DO46=1,MOD(DN46,2)=0),MAX(TeilnNr),IF(MOD(DO46,2)=0,IF(MAX(TeilnNr)/2-DO46+1-(DN46-MAX(TeilnNr)/2-1)>=1,MAX(TeilnNr)/2-DO46+1-(DN46-MAX(TeilnNr)/2-1),MAX(TeilnNr)/2-DO46+1-(DN46-MAX(TeilnNr)/2-1)+MAX(TeilnNr)-1),IF(DO46-(DN46-1)>=1,DO46-(DN46-1),DO46-(DN46-1)+MAX(TeilnNr)-1)))","v":11},{"$f":"IF(AND(DO46=1,MOD(DN46,2)<>0),MAX(TeilnNr),IF(MOD(DO46,2)<>0,IF(MAX(TeilnNr)/2-DO46+1-(DN46-MAX(TeilnNr)/2-1)>=1,MAX(TeilnNr)/2-DO46+1-(DN46-MAX(TeilnNr)/2-1),MAX(TeilnNr)/2-DO46+1-(DN46-MAX(TeilnNr)/2-1)+MAX(TeilnNr)-1),IF(DO46-(DN46-1)>=1,DO46-(DN46-1),DO46-(DN46-1)+MAX(TeilnNr)-1)))","v":17},"","",{"$f":"ADDRESS(ROW(Teilnehmer)+DP46,COLUMN(Teilnehmer)+DQ46)","v":"$T$43"},{"$f":"ADDRESS(ROW(Teilnehmer)+DQ46,COLUMN(Teilnehmer)+DP46)","v":"$N$49"},4,"Spieler 10","-","Spieler 16",null,null,{"$f":"EB45","v":8},4,{"$f":"IF(AND(EC46=1,MOD(EB46,2)=0),MAX(TeilnNr),IF(MOD(EC46,2)=0,IF(MAX(TeilnNr)/2-EC46+1-(EB46-MAX(TeilnNr)/2-1)>=1,MAX(TeilnNr)/2-EC46+1-(EB46-MAX(TeilnNr)/2-1),MAX(TeilnNr)/2-EC46+1-(EB46-MAX(TeilnNr)/2-1)+MAX(TeilnNr)-1),IF(EC46-(EB46-1)>=1,EC46-(EB46-1),EC46-(EB46-1)+MAX(TeilnNr)-1)))","v":10},{"$f":"IF(AND(EC46=1,MOD(EB46,2)<>0),MAX(TeilnNr),IF(MOD(EC46,2)<>0,IF(MAX(TeilnNr)/2-EC46+1-(EB46-MAX(TeilnNr)/2-1)>=1,MAX(TeilnNr)/2-EC46+1-(EB46-MAX(TeilnNr)/2-1),MAX(TeilnNr)/2-EC46+1-(EB46-MAX(TeilnNr)/2-1)+MAX(TeilnNr)-1),IF(EC46-(EB46-1)>=1,EC46-(EB46-1),EC46-(EB46-1)+MAX(TeilnNr)-1)))","v":16},"","",{"$f":"ADDRESS(ROW(Teilnehmer)+ED46,COLUMN(Teilnehmer)+EE46)","v":"$S$42"},{"$f":"ADDRESS(ROW(Teilnehmer)+EE46,COLUMN(Teilnehmer)+ED46)","v":"$M$48"},4,{"$f":"DK46","v":"Spieler 17"},"-",{"$f":"DI46","v":"Spieler 11"},null,4,{"$f":"DY46","v":"Spieler 16"},"-",{"$f":"DW46","v":"Spieler 10"}]
[null,15,null,"","","","","","","","","","","","","","","","","","","","",0,0,0,null,0,0,1,null,0,0,0,0,0,0,0,0,0,0,0,0,0,0,0,0,0,0,0,0,0,null,0,0,0,0,0,0,0,0,0,0,0,0,0,0,0,0,0,0,0,0,0,null,0,1,1,1,1,1,10101,101,1010101,10101,10101,1010101,101,101,1010101,10101,{"$f":"INDEX($CD47:$CM47,1,WertungskriterienA)","v":10101},{"$f":"SUM((TRANSPOSE($CN$33:$CN$52)=CN47)*$AF47:$AY47)","v":0},1,10101,101010101,10101,101010101,10101010101,101010101,1010101010101,1010101010101,101010101,10101010101,{"$f":"INDEX(CQ47:CZ47,1,WertungskriterienA)","v":101010101},1,false,"Spieler 15",14,1.0140150000000001,15,5,"Spieler 18","-","Spieler 10",null,null,{"$f":"DN46","v":7},5,{"$f":"IF(AND(DO47=1,MOD(DN47,2)=0),MAX(TeilnNr),IF(MOD(DO47,2)=0,IF(MAX(TeilnNr)/2-DO47+1-(DN47-MAX(TeilnNr)/2-1)>=1,MAX(TeilnNr)/2-DO47+1-(DN47-MAX(TeilnNr)/2-1),MAX(TeilnNr)/2-DO47+1-(DN47-MAX(TeilnNr)/2-1)+MAX(TeilnNr)-1),IF(DO47-(DN47-1)>=1,DO47-(DN47-1),DO47-(DN47-1)+MAX(TeilnNr)-1)))","v":18},{"$f":"IF(AND(DO47=1,MOD(DN47,2)<>0),MAX(TeilnNr),IF(MOD(DO47,2)<>0,IF(MAX(TeilnNr)/2-DO47+1-(DN47-MAX(TeilnNr)/2-1)>=1,MAX(TeilnNr)/2-DO47+1-(DN47-MAX(TeilnNr)/2-1),MAX(TeilnNr)/2-DO47+1-(DN47-MAX(TeilnNr)/2-1)+MAX(TeilnNr)-1),IF(DO47-(DN47-1)>=1,DO47-(DN47-1),DO47-(DN47-1)+MAX(TeilnNr)-1)))","v":10},"","",{"$f":"ADDRESS(ROW(Teilnehmer)+DP47,COLUMN(Teilnehmer)+DQ47)","v":"$M$50"},{"$f":"ADDRESS(ROW(Teilnehmer)+DQ47,COLUMN(Teilnehmer)+DP47)","v":"$U$42"},5,"Spieler 17","-","Spieler 09",null,null,8,5,{"$f":"IF(AND(EC47=1,MOD(EB47,2)=0),MAX(TeilnNr),IF(MOD(EC47,2)=0,IF(MAX(TeilnNr)/2-EC47+1-(EB47-MAX(TeilnNr)/2-1)>=1,MAX(TeilnNr)/2-EC47+1-(EB47-MAX(TeilnNr)/2-1),MAX(TeilnNr)/2-EC47+1-(EB47-MAX(TeilnNr)/2-1)+MAX(TeilnNr)-1),IF(EC47-(EB47-1)>=1,EC47-(EB47-1),EC47-(EB47-1)+MAX(TeilnNr)-1)))","v":17},{"$f":"IF(AND(EC47=1,MOD(EB47,2)<>0),MAX(TeilnNr),IF(MOD(EC47,2)<>0,IF(MAX(TeilnNr)/2-EC47+1-(EB47-MAX(TeilnNr)/2-1)>=1,MAX(TeilnNr)/2-EC47+1-(EB47-MAX(TeilnNr)/2-1),MAX(TeilnNr)/2-EC47+1-(EB47-MAX(TeilnNr)/2-1)+MAX(TeilnNr)-1),IF(EC47-(EB47-1)>=1,EC47-(EB47-1),EC47-(EB47-1)+MAX(TeilnNr)-1)))","v":9},"","",{"$f":"ADDRESS(ROW(Teilnehmer)+ED47,COLUMN(Teilnehmer)+EE47)","v":"$L$49"},{"$f":"ADDRESS(ROW(Teilnehmer)+EE47,COLUMN(Teilnehmer)+ED47)","v":"$T$41"},5,"Spieler 18","-",{"$f":"DK47","v":"Spieler 10"},null,5,"Spieler 17","-",{"$f":"DY47","v":"Spieler 09"}]
[null,16,null,"","","","","","","","","","","","","","","","","","","","",0,0,0,null,0,0,1,null,0,0,0,0,0,0,0,0,0,0,0,0,0,0,0,0,0,0,0,0,0,null,0,0,0,0,0,0,0,0,0,0,0,0,0,0,0,0,0,0,0,0,0,null,0,1,1,1,1,1,10101,101,1010101,10101,10101,1010101,101,101,1010101,10101,{"$f":"INDEX($CD48:$CM48,1,WertungskriterienA)","v":10101},{"$f":"SUM((TRANSPOSE($CN$33:$CN$52)=CN48)*$AF48:$AY48)","v":0},1,10101,101010101,10101,101010101,10101010101,101010101,1010101010101,1010101010101,101010101,10101010101,{"$f":"INDEX(CQ48:CZ48,1,WertungskriterienA)","v":101010101},1,false,"Spieler 16",15,1.0150159999999999,16,6,"Spieler 09","-","Spieler 19",null,null,{"$f":"DN47","v":7},6,{"$f":"IF(AND(DO48=1,MOD(DN48,2)=0),MAX(TeilnNr),IF(MOD(DO48,2)=0,IF(MAX(TeilnNr)/2-DO48+1-(DN48-MAX(TeilnNr)/2-1)>=1,MAX(TeilnNr)/2-DO48+1-(DN48-MAX(TeilnNr)/2-1),MAX(TeilnNr)/2-DO48+1-(DN48-MAX(TeilnNr)/2-1)+MAX(TeilnNr)-1),IF(DO48-(DN48-1)>=1,DO48-(DN48-1),DO48-(DN48-1)+MAX(TeilnNr)-1)))","v":9},{"$f":"IF(AND(DO48=1,MOD(DN48,2)<>0),MAX(TeilnNr),IF(MOD(DO48,2)<>0,IF(MAX(TeilnNr)/2-DO48+1-(DN48-MAX(TeilnNr)/2-1)>=1,MAX(TeilnNr)/2-DO48+1-(DN48-MAX(TeilnNr)/2-1),MAX(TeilnNr)/2-DO48+1-(DN48-MAX(TeilnNr)/2-1)+MAX(TeilnNr)-1),IF(DO48-(DN48-1)>=1,DO48-(DN48-1),DO48-(DN48-1)+MAX(TeilnNr)-1)))","v":19},"","",{"$f":"ADDRESS(ROW(Teilnehmer)+DP48,COLUMN(Teilnehmer)+DQ48)","v":"$V$41"},{"$f":"ADDRESS(ROW(Teilnehmer)+DQ48,COLUMN(Teilnehmer)+DP48)","v":"$L$51"},6,"Spieler 08","-","Spieler 18",null,null,8,6,{"$f":"IF(AND(EC48=1,MOD(EB48,2)=0),MAX(TeilnNr),IF(MOD(EC48,2)=0,IF(MAX(TeilnNr)/2-EC48+1-(EB48-MAX(TeilnNr)/2-1)>=1,MAX(TeilnNr)/2-EC48+1-(EB48-MAX(TeilnNr)/2-1),MAX(TeilnNr)/2-EC48+1-(EB48-MAX(TeilnNr)/2-1)+MAX(TeilnNr)-1),IF(EC48-(EB48-1)>=1,EC48-(EB48-1),EC48-(EB48-1)+MAX(TeilnNr)-1)))","v":8},{"$f":"IF(AND(EC48=1,MOD(EB48,2)<>0),MAX(TeilnNr),IF(MOD(EC48,2)<>0,IF(MAX(TeilnNr)/2-EC48+1-(EB48-MAX(TeilnNr)/2-1)>=1,MAX(TeilnNr)/2-EC48+1-(EB48-MAX(TeilnNr)/2-1),MAX(TeilnNr)/2-EC48+1-(EB48-MAX(TeilnNr)/2-1)+MAX(TeilnNr)-1),IF(EC48-(EB48-1)>=1,EC48-(EB48-1),EC48-(EB48-1)+MAX(TeilnNr)-1)))","v":18},"","",{"$f":"ADDRESS(ROW(Teilnehmer)+ED48,COLUMN(Teilnehmer)+EE48)","v":"$U$40"},{"$f":"ADDRESS(ROW(Teilnehmer)+EE48,COLUMN(Teilnehmer)+ED48)","v":"$K$50"},6,{"$f":"DK48","v":"Spieler 19"},"-",{"$f":"DI48","v":"Spieler 09"},null,6,{"$f":"DY48","v":"Spieler 18"},"-",{"$f":"DW48","v":"Spieler 08"}]
[null,17,null,"","","","","","","","","","","","","","","","","","","","",0,0,0,null,0,0,1,null,0,0,0,0,0,0,0,0,0,0,0,0,0,0,0,0,0,0,0,0,0,null,0,0,0,0,0,0,0,0,0,0,0,0,0,0,0,0,0,0,0,0,0,null,0,1,1,1,1,1,10101,101,1010101,10101,10101,1010101,101,101,1010101,10101,{"$f":"INDEX($CD49:$CM49,1,WertungskriterienA)","v":10101},{"$f":"SUM((TRANSPOSE($CN$33:$CN$52)=CN49)*$AF49:$AY49)","v":0},1,10101,101010101,10101,101010101,10101010101,101010101,1010101010101,1010101010101,101010101,10101010101,{"$f":"INDEX(CQ49:CZ49,1,WertungskriterienA)","v":101010101},1,false,"Spieler 17",16,1.0160169999999999,17,7,"Spieler 01","-","Spieler 08",null,null,{"$f":"DN48","v":7},7,{"$f":"IF(AND(DO49=1,MOD(DN49,2)=0),MAX(TeilnNr),IF(MOD(DO49,2)=0,IF(MAX(TeilnNr)/2-DO49+1-(DN49-MAX(TeilnNr)/2-1)>=1,MAX(TeilnNr)/2-DO49+1-(DN49-MAX(TeilnNr)/2-1),MAX(TeilnNr)/2-DO49+1-(DN49-MAX(TeilnNr)/2-1)+MAX(TeilnNr)-1),IF(DO49-(DN49-1)>=1,DO49-(DN49-1),DO49-(DN49-1)+MAX(TeilnNr)-1)))","v":1},{"$f":"IF(AND(DO49=1,MOD(DN49,2)<>0),MAX(TeilnNr),IF(MOD(DO49,2)<>0,IF(MAX(TeilnNr)/2-DO49+1-(DN49-MAX(TeilnNr)/2-1)>=1,MAX(TeilnNr)/2-DO49+1-(DN49-MAX(TeilnNr)/2-1),MAX(TeilnNr)/2-DO49+1-(DN49-MAX(TeilnNr)/2-1)+MAX(TeilnNr)-1),IF(DO49-(DN49-1)>=1,DO49-(DN49-1),DO49-(DN49-1)+MAX(TeilnNr)-1)))","v":8},"","",{"$f":"ADDRESS(ROW(Teilnehmer)+DP49,COLUMN(Teilnehmer)+DQ49)","v":"$K$33"},{"$f":"ADDRESS(ROW(Teilnehmer)+DQ49,COLUMN(Teilnehmer)+DP49)","v":"$D$40"},7,"Spieler 19","-","Spieler 07",null,null,8,7,{"$f":"IF(AND(EC49=1,MOD(EB49,2)=0),MAX(TeilnNr),IF(MOD(EC49,2)=0,IF(MAX(TeilnNr)/2-EC49+1-(EB49-MAX(TeilnNr)/2-1)>=1,MAX(TeilnNr)/2-EC49+1-(EB49-MAX(TeilnNr)/2-1),MAX(TeilnNr)/2-EC49+1-(EB49-MAX(TeilnNr)/2-1)+MAX(TeilnNr)-1),IF(EC49-(EB49-1)>=1,EC49-(EB49-1),EC49-(EB49-1)+MAX(TeilnNr)-1)))","v":19},{"$f":"IF(AND(EC49=1,MOD(EB49,2)<>0),MAX(TeilnNr),IF(MOD(EC49,2)<>0,IF(MAX(TeilnNr)/2-EC49+1-(EB49-MAX(TeilnNr)/2-1)>=1,MAX(TeilnNr)/2-EC49+1-(EB49-MAX(TeilnNr)/2-1),MAX(TeilnNr)/2-EC49+1-(EB49-MAX(TeilnNr)/2-1)+MAX(TeilnNr)-1),IF(EC49-(EB49-1)>=1,EC49-(EB49-1),EC49-(EB49-1)+MAX(TeilnNr)-1)))","v":7},"","",{"$f":"ADDRESS(ROW(Teilnehmer)+ED49,COLUMN(Teilnehmer)+EE49)","v":"$J$51"},{"$f":"ADDRESS(ROW(Teilnehmer)+EE49,COLUMN(Teilnehmer)+ED49)","v":"$V$39"},7,"Spieler 01","-",{"$f":"DK49","v":"Spieler 08"},null,7,"Spieler 19","-",{"$f":"DY49","v":"Spieler 07"}]
[null,18,null,"","","","","","","","","","","","","","","","","","","","",0,0,0,null,0,0,1,null,0,0,0,0,0,0,0,0,0,0,0,0,0,0,0,0,0,0,0,0,0,null,0,0,0,0,0,0,0,0,0,0,0,0,0,0,0,0,0,0,0,0,0,null,0,1,1,1,1,1,10101,101,1010101,10101,10101,1010101,101,101,1010101,10101,{"$f":"INDEX($CD50:$CM50,1,WertungskriterienA)","v":10101},{"$f":"SUM((TRANSPOSE($CN$33:$CN$52)=CN50)*$AF50:$AY50)","v":0},1,10101,101010101,10101,101010101,10101010101,101010101,1010101010101,1010101010101,101010101,10101010101,{"$f":"INDEX(CQ50:CZ50,1,WertungskriterienA)","v":101010101},1,false,"Spieler 18",17,1.017018,18,8,"Spieler 07","-","Spieler 02",null,null,7,8,{"$f":"IF(AND(DO50=1,MOD(DN50,2)=0),MAX(TeilnNr),IF(MOD(DO50,2)=0,IF(MAX(TeilnNr)/2-DO50+1-(DN50-MAX(TeilnNr)/2-1)>=1,MAX(TeilnNr)/2-DO50+1-(DN50-MAX(TeilnNr)/2-1),MAX(TeilnNr)/2-DO50+1-(DN50-MAX(TeilnNr)/2-1)+MAX(TeilnNr)-1),IF(DO50-(DN50-1)>=1,DO50-(DN50-1),DO50-(DN50-1)+MAX(TeilnNr)-1)))","v":7},{"$f":"IF(AND(DO50=1,MOD(DN50,2)<>0),MAX(TeilnNr),IF(MOD(DO50,2)<>0,IF(MAX(TeilnNr)/2-DO50+1-(DN50-MAX(TeilnNr)/2-1)>=1,MAX(TeilnNr)/2-DO50+1-(DN50-MAX(TeilnNr)/2-1),MAX(TeilnNr)/2-DO50+1-(DN50-MAX(TeilnNr)/2-1)+MAX(TeilnNr)-1),IF(DO50-(DN50-1)>=1,DO50-(DN50-1),DO50-(DN50-1)+MAX(TeilnNr)-1)))","v":2},"","",{"$f":"ADDRESS(ROW(Teilnehmer)+DP50,COLUMN(Teilnehmer)+DQ50)","v":"$E$39"},{"$f":"ADDRESS(ROW(Teilnehmer)+DQ50,COLUMN(Teilnehmer)+DP50)","v":"$J$34"},8,"Spieler 06","-","Spieler 01",null,null,8,8,{"$f":"IF(AND(EC50=1,MOD(EB50,2)=0),MAX(TeilnNr),IF(MOD(EC50,2)=0,IF(MAX(TeilnNr)/2-EC50+1-(EB50-MAX(TeilnNr)/2-1)>=1,MAX(TeilnNr)/2-EC50+1-(EB50-MAX(TeilnNr)/2-1),MAX(TeilnNr)/2-EC50+1-(EB50-MAX(TeilnNr)/2-1)+MAX(TeilnNr)-1),IF(EC50-(EB50-1)>=1,EC50-(EB50-1),EC50-(EB50-1)+MAX(TeilnNr)-1)))","v":6},{"$f":"IF(AND(EC50=1,MOD(EB50,2)<>0),MAX(TeilnNr),IF(MOD(EC50,2)<>0,IF(MAX(TeilnNr)/2-EC50+1-(EB50-MAX(TeilnNr)/2-1)>=1,MAX(TeilnNr)/2-EC50+1-(EB50-MAX(TeilnNr)/2-1),MAX(TeilnNr)/2-EC50+1-(EB50-MAX(TeilnNr)/2-1)+MAX(TeilnNr)-1),IF(EC50-(EB50-1)>=1,EC50-(EB50-1),EC50-(EB50-1)+MAX(TeilnNr)-1)))","v":1},"","",{"$f":"ADDRESS(ROW(Teilnehmer)+ED50,COLUMN(Teilnehmer)+EE50)","v":"$D$38"},{"$f":"ADDRESS(ROW(Teilnehmer)+EE50,COLUMN(Teilnehmer)+ED50)","v":"$I$33"},8,{"$f":"DK50","v":"Spieler 02"},"-",{"$f":"DI50","v":"Spieler 07"},null,8,{"$f":"DY50","v":"Spieler 01"},"-",{"$f":"DW50","v":"Spieler 06"}]
[null,19,null,"","","","","","","","","","","","","","","","","","","","",0,0,0,null,0,0,1,null,0,0,0,0,0,0,0,0,0,0,0,0,0,0,0,0,0,0,0,0,0,null,0,0,0,0,0,0,0,0,0,0,0,0,0,0,0,0,0,0,0,0,0,null,0,1,1,1,1,1,10101,101,1010101,10101,10101,1010101,101,101,1010101,10101,{"$f":"INDEX($CD51:$CM51,1,WertungskriterienA)","v":10101},{"$f":"SUM((TRANSPOSE($CN$33:$CN$52)=CN51)*$AF51:$AY51)","v":0},1,10101,101010101,10101,101010101,10101010101,101010101,1010101010101,1010101010101,101010101,10101010101,{"$f":"INDEX(CQ51:CZ51,1,WertungskriterienA)","v":101010101},1,false,"Spieler 19",18,1.018019,19,9,"Spieler 03","-","Spieler 06",null,null,7,9,{"$f":"IF(AND(DO51=1,MOD(DN51,2)=0),MAX(TeilnNr),IF(MOD(DO51,2)=0,IF(MAX(TeilnNr)/2-DO51+1-(DN51-MAX(TeilnNr)/2-1)>=1,MAX(TeilnNr)/2-DO51+1-(DN51-MAX(TeilnNr)/2-1),MAX(TeilnNr)/2-DO51+1-(DN51-MAX(TeilnNr)/2-1)+MAX(TeilnNr)-1),IF(DO51-(DN51-1)>=1,DO51-(DN51-1),DO51-(DN51-1)+MAX(TeilnNr)-1)))","v":3},{"$f":"IF(AND(DO51=1,MOD(DN51,2)<>0),MAX(TeilnNr),IF(MOD(DO51,2)<>0,IF(MAX(TeilnNr)/2-DO51+1-(DN51-MAX(TeilnNr)/2-1)>=1,MAX(TeilnNr)/2-DO51+1-(DN51-MAX(TeilnNr)/2-1),MAX(TeilnNr)/2-DO51+1-(DN51-MAX(TeilnNr)/2-1)+MAX(TeilnNr)-1),IF(DO51-(DN51-1)>=1,DO51-(DN51-1),DO51-(DN51-1)+MAX(TeilnNr)-1)))","v":6},"","",{"$f":"ADDRESS(ROW(Teilnehmer)+DP51,COLUMN(Teilnehmer)+DQ51)","v":"$I$35"},{"$f":"ADDRESS(ROW(Teilnehmer)+DQ51,COLUMN(Teilnehmer)+DP51)","v":"$F$38"},9,"Spieler 02","-","Spieler 05",null,null,8,9,{"$f":"IF(AND(EC51=1,MOD(EB51,2)=0),MAX(TeilnNr),IF(MOD(EC51,2)=0,IF(MAX(TeilnNr)/2-EC51+1-(EB51-MAX(TeilnNr)/2-1)>=1,MAX(TeilnNr)/2-EC51+1-(EB51-MAX(TeilnNr)/2-1),MAX(TeilnNr)/2-EC51+1-(EB51-MAX(TeilnNr)/2-1)+MAX(TeilnNr)-1),IF(EC51-(EB51-1)>=1,EC51-(EB51-1),EC51-(EB51-1)+MAX(TeilnNr)-1)))","v":2},{"$f":"IF(AND(EC51=1,MOD(EB51,2)<>0),MAX(TeilnNr),IF(MOD(EC51,2)<>0,IF(MAX(TeilnNr)/2-EC51+1-(EB51-MAX(TeilnNr)/2-1)>=1,MAX(TeilnNr)/2-EC51+1-(EB51-MAX(TeilnNr)/2-1),MAX(TeilnNr)/2-EC51+1-(EB51-MAX(TeilnNr)/2-1)+MAX(TeilnNr)-1),IF(EC51-(EB51-1)>=1,EC51-(EB51-1),EC51-(EB51-1)+MAX(TeilnNr)-1)))","v":5},"","",{"$f":"ADDRESS(ROW(Teilnehmer)+ED51,COLUMN(Teilnehmer)+EE51)","v":"$H$34"},{"$f":"ADDRESS(ROW(Teilnehmer)+EE51,COLUMN(Teilnehmer)+ED51)","v":"$E$37"},9,"Spieler 03","-",{"$f":"DK51","v":"Spieler 06"},null,9,"Spieler 02","-",{"$f":"DY51","v":"Spieler 05"}]
[null,20,null,"","","","","","","","","","","","","","","","","","","","",0,0,0,null,0,0,1,null,0,0,0,0,0,0,0,0,0,0,0,0,0,0,0,0,0,0,0,0,0,null,0,0,0,0,0,0,0,0,0,0,0,0,0,0,0,0,0,0,0,0,0,null,0,1,1,1,1,1,10101,101,1010101,10101,10101,1010101,101,101,1010101,10101,{"$f":"INDEX($CD52:$CM52,1,WertungskriterienA)","v":10101},{"$f":"SUM((TRANSPOSE($CN$33:$CN$52)=CN52)*$AF52:$AY52)","v":0},1,10101,101010101,10101,101010101,10101010101,101010101,1010101010101,1010101010101,101010101,10101010101,{"$f":"INDEX(CQ52:CZ52,1,WertungskriterienA)","v":101010101},1,false,"Spieler 20",19,1.0190199999999998,20,10,"Spieler 05","-","Spieler 04",null,null,7,10,{"$f":"IF(AND(DO52=1,MOD(DN52,2)=0),MAX(TeilnNr),IF(MOD(DO52,2)=0,IF(MAX(TeilnNr)/2-DO52+1-(DN52-MAX(TeilnNr)/2-1)>=1,MAX(TeilnNr)/2-DO52+1-(DN52-MAX(TeilnNr)/2-1),MAX(TeilnNr)/2-DO52+1-(DN52-MAX(TeilnNr)/2-1)+MAX(TeilnNr)-1),IF(DO52-(DN52-1)>=1,DO52-(DN52-1),DO52-(DN52-1)+MAX(TeilnNr)-1)))","v":5},{"$f":"IF(AND(DO52=1,MOD(DN52,2)<>0),MAX(TeilnNr),IF(MOD(DO52,2)<>0,IF(MAX(TeilnNr)/2-DO52+1-(DN52-MAX(TeilnNr)/2-1)>=1,MAX(TeilnNr)/2-DO52+1-(DN52-MAX(TeilnNr)/2-1),MAX(TeilnNr)/2-DO52+1-(DN52-MAX(TeilnNr)/2-1)+MAX(TeilnNr)-1),IF(DO52-(DN52-1)>=1,DO52-(DN52-1),DO52-(DN52-1)+MAX(TeilnNr)-1)))","v":4},"","",{"$f":"ADDRESS(ROW(Teilnehmer)+DP52,COLUMN(Teilnehmer)+DQ52)","v":"$G$37"},{"$f":"ADDRESS(ROW(Teilnehmer)+DQ52,COLUMN(Teilnehmer)+DP52)","v":"$H$36"},10,"Spieler 04","-","Spieler 03",null,null,8,10,{"$f":"IF(AND(EC52=1,MOD(EB52,2)=0),MAX(TeilnNr),IF(MOD(EC52,2)=0,IF(MAX(TeilnNr)/2-EC52+1-(EB52-MAX(TeilnNr)/2-1)>=1,MAX(TeilnNr)/2-EC52+1-(EB52-MAX(TeilnNr)/2-1),MAX(TeilnNr)/2-EC52+1-(EB52-MAX(TeilnNr)/2-1)+MAX(TeilnNr)-1),IF(EC52-(EB52-1)>=1,EC52-(EB52-1),EC52-(EB52-1)+MAX(TeilnNr)-1)))","v":4},{"$f":"IF(AND(EC52=1,MOD(EB52,2)<>0),MAX(TeilnNr),IF(MOD(EC52,2)<>0,IF(MAX(TeilnNr)/2-EC52+1-(EB52-MAX(TeilnNr)/2-1)>=1,MAX(TeilnNr)/2-EC52+1-(EB52-MAX(TeilnNr)/2-1),MAX(TeilnNr)/2-EC52+1-(EB52-MAX(TeilnNr)/2-1)+MAX(TeilnNr)-1),IF(EC52-(EB52-1)>=1,EC52-(EB52-1),EC52-(EB52-1)+MAX(TeilnNr)-1)))","v":3},"","",{"$f":"ADDRESS(ROW(Teilnehmer)+ED52,COLUMN(Teilnehmer)+EE52)","v":"$F$36"},{"$f":"ADDRESS(ROW(Teilnehmer)+EE52,COLUMN(Teilnehmer)+ED52)","v":"$G$35"},10,{"$f":"DK52","v":"Spieler 04"},"-",{"$f":"DI52","v":"Spieler 05"},null,10,{"$f":"DY52","v":"Spieler 03"},"-",{"$f":"DW52","v":"Spieler 04"}]
[null,null,{"$f":"\"-> bei nur \"&MAX(TeilnNr)-1&\" Spielern an Pos. \"&MAX(TeilnNr)&\" einen Stern (*) eintragen\"","v":"-> bei nur 19 Spielern an Pos. 20 einen Stern (*) eintragen"},null,null,null,null,null,null,null,null,null,null,null,null,null,null,null,null,null,null,null,null,null,{"$f":"SUM(Y33:Y52)","v":0},null,null,{"$f":"SUM(AB33:AB52)","v":0},{"$f":"SUM(AC33:AC52)","v":0}]
[null,null,null,null,null,null,null,null,null,null,null,null,null,null,null,null,null,null,null,null,null,null,null,null,null,null,null,null,null,null,null,null,null,null,null,null,null,null,null,null,null,null,null,null,null,null,null,null,null,null,null,null,null,null,null,null,null,null,null,null,null,null,null,null,null,null,null,null,null,null,null,null,null,null,null,null,null,null,null,null,null,null,null,null,null,null,null,null,null,null,null,null,null,null,null,null,null,null,null,null,null,null,null,null,null,null,null,null,null,null,null,null,{"$f":"DI42+2","v":9},null,null,null,null,"R","B","SpNr w","SpNr s","Res w","Res s",null,null,null,{"$f":"DW42+2","v":10},null,null,null,null,"R","B","SpNr w","SpNr s","Res w","Res s",null,null,null,{"$f":"DI54","v":9},1,null,null,null,{"$f":"DW54","v":10}]
[null,null,null,null,null,null,null,null,null,null,null,null,null,null,null,null,null,null,null,null,null,null,null,null,null,null,null,null,null,null,null,null,null,null,null,null,null,null,null,null,null,null,null,null,null,null,null,null,null,null,null,null,null,null,null,null,null,null,null,null,null,null,null,null,null,null,null,null,null,null,null,null,null,null,null,null,null,null,null,null,null,null,null,null,null,null,null,null,null,null,null,null,null,null,null,null,null,null,null,null,null,null,null,null,null,null,null,null,null,null,null,{"$f":"IF(OR(INDEX($DC$33:$DC$52,DP55),INDEX($DC$33:$DC$52,DQ55)),0,1)","v":1},{"$f":"INDEX($DD$33:$DD$52,MATCH($DP55,TeilnNr,0))","v":"Spieler 12"},"-",{"$f":"INDEX($DD$33:$DD$52,MATCH($DQ55,TeilnNr,0))","v":"Spieler 20"},null,null,{"$f":"DI54","v":9},1,{"$f":"IF(AND(DO55=1,MOD(DN55,2)=0),MAX(TeilnNr),IF(MOD(DO55,2)=0,IF(MAX(TeilnNr)/2-DO55+1-(DN55-MAX(TeilnNr)/2-1)>=1,MAX(TeilnNr)/2-DO55+1-(DN55-MAX(TeilnNr)/2-1),MAX(TeilnNr)/2-DO55+1-(DN55-MAX(TeilnNr)/2-1)+MAX(TeilnNr)-1),IF(DO55-(DN55-1)>=1,DO55-(DN55-1),DO55-(DN55-1)+MAX(TeilnNr)-1)))","v":12},{"$f":"IF(AND(DO55=1,MOD(DN55,2)<>0),MAX(TeilnNr),IF(MOD(DO55,2)<>0,IF(MAX(TeilnNr)/2-DO55+1-(DN55-MAX(TeilnNr)/2-1)>=1,MAX(TeilnNr)/2-DO55+1-(DN55-MAX(TeilnNr)/2-1),MAX(TeilnNr)/2-DO55+1-(DN55-MAX(TeilnNr)/2-1)+MAX(TeilnNr)-1),IF(DO55-(DN55-1)>=1,DO55-(DN55-1),DO55-(DN55-1)+MAX(TeilnNr)-1)))","v":20},{"$f":"IF(LEFT(DM55,1)=\"V\",\"\",LEFT(DM55,1))","v":""},{"$f":"IF(RIGHT(DM55,1)=\"V\",\"\",RIGHT(DM55,1))","v":""},{"$f":"ADDRESS(ROW(Teilnehmer)+DP55,COLUMN(Teilnehmer)+DQ55)","v":"$W$44"},{"$f":"ADDRESS(ROW(Teilnehmer)+DQ55,COLUMN(Teilnehmer)+DP55)","v":"$O$52"},{"$f":"IF(OR(INDEX($DC$33:$DC$52,ED55),INDEX($DC$33:$DC$52,EE55)),0,1)","v":1},{"$f":"INDEX($DD$33:$DD$52,MATCH($ED55,TeilnNr,0))","v":"Spieler 20"},"-",{"$f":"INDEX($DD$33:$DD$52,MATCH($EE55,TeilnNr,0))","v":"Spieler 11"},null,null,{"$f":"DW54","v":10},1,{"$f":"IF(AND(EC55=1,MOD(EB55,2)=0),MAX(TeilnNr),IF(MOD(EC55,2)=0,IF(MAX(TeilnNr)/2-EC55+1-(EB55-MAX(TeilnNr)/2-1)>=1,MAX(TeilnNr)/2-EC55+1-(EB55-MAX(TeilnNr)/2-1),MAX(TeilnNr)/2-EC55+1-(EB55-MAX(TeilnNr)/2-1)+MAX(TeilnNr)-1),IF(EC55-(EB55-1)>=1,EC55-(EB55-1),EC55-(EB55-1)+MAX(TeilnNr)-1)))","v":20},{"$f":"IF(AND(EC55=1,MOD(EB55,2)<>0),MAX(TeilnNr),IF(MOD(EC55,2)<>0,IF(MAX(TeilnNr)/2-EC55+1-(EB55-MAX(TeilnNr)/2-1)>=1,MAX(TeilnNr)/2-EC55+1-(EB55-MAX(TeilnNr)/2-1),MAX(TeilnNr)/2-EC55+1-(EB55-MAX(TeilnNr)/2-1)+MAX(TeilnNr)-1),IF(EC55-(EB55-1)>=1,EC55-(EB55-1),EC55-(EB55-1)+MAX(TeilnNr)-1)))","v":11},{"$f":"IF(LEFT(EA55,1)=\"V\",\"\",LEFT(EA55,1))","v":""},{"$f":"IF(RIGHT(EA55,1)=\"V\",\"\",RIGHT(EA55,1))","v":""},{"$f":"ADDRESS(ROW(Teilnehmer)+ED55,COLUMN(Teilnehmer)+EE55)","v":"$N$52"},{"$f":"ADDRESS(ROW(Teilnehmer)+EE55,COLUMN(Teilnehmer)+ED55)","v":"$W$43"},{"$f":"DH55","v":1},"Spieler 12","-",{"$f":"DK55","v":"Spieler 20"},null,{"$f":"DV55","v":1},{"$f":"DY55","v":"Spieler 11"},"-",{"$f":"DW55","v":"Spieler 20"}]
[null,null,null,null,null,null,null,null,null,null,null,null,null,null,null,null,null,null,null,null,null,null,null,null,null,null,null,null,null,null,null,null,null,null,null,null,null,null,null,null,null,null,null,null,null,null,null,null,null,null,null,null,null,null,null,null,null,null,null,null,null,null,null,null,null,null,null,null,null,null,null,null,null,null,null,null,null,null,null,null,null,null,null,null,null,null,null,null,null,null,null,null,null,null,null,null,null,null,null,null,null,null,null,null,null,null,null,null,null,null,null,{"$f":"DH55+1","v":2},"Spieler 11","-","Spieler 13",null,null,{"$f":"DN55","v":9},{"$f":"DO55+1","v":2},11,13,"","","$P$43","$N$45",{"$f":"DV55+1","v":2},"Spieler 10","-","Spieler 12",null,null,{"$f":"EB55","v":10},{"$f":"EC55+1","v":2},10,12,"","","$O$42","$M$44",{"$f":"DH56","v":2},{"$f":"DK56","v":"Spieler 13"},"-",{"$f":"DI56","v":"Spieler 11"},null,2,"Spieler 12","-","Spieler 10"]
[null,null,null,null,null,null,null,null,null,null,null,null,null,null,null,null,null,null,null,null,null,null,null,null,null,null,null,null,null,null,null,null,null,null,null,null,null,null,null,null,null,null,null,null,null,null,null,null,null,null,null,null,null,null,null,null,null,null,null,null,null,null,null,null,null,null,null,null,null,null,null,null,null,null,null,null,null,null,null,null,null,null,null,null,null,null,null,null,null,null,null,null,null,null,null,null,null,null,null,null,null,null,null,null,null,null,null,null,null,null,null,{"$f":"DH56+1","v":3},"Spieler 14","-","Spieler 10",null,null,{"$f":"DN56","v":9},{"$f":"DO56+1","v":3},14,10,"","","$M$46","$Q$42",{"$f":"DV56+1","v":3},"Spieler 13","-","Spieler 09",null,null,{"$f":"EB56","v":10},{"$f":"EC56+1","v":3},13,9,"","","$L$45","$P$41",3,"Spieler 14","-",{"$f":"DK57","v":"Spieler 10"},null,3,"Spieler 13","-",{"$f":"DY57","v":"Spieler 09"}]
[null,null,null,null,null,null,null,null,null,null,null,null,null,null,null,null,null,null,null,null,null,null,null,null,null,null,null,null,null,null,null,null,null,null,null,null,null,null,null,null,null,null,null,null,null,null,null,null,null,null,null,null,null,null,null,null,null,null,null,null,null,null,null,null,null,null,null,null,null,null,null,null,null,null,null,null,null,null,null,null,null,null,null,null,null,null,null,null,null,null,null,null,null,null,null,null,null,null,null,null,null,null,null,null,null,null,null,null,null,null,null,4,"Spieler 09","-","Spieler 15",null,null,{"$f":"DN57","v":9},4,9,15,"","","$R$41","$L$47",4,"Spieler 08","-","Spieler 14",null,null,{"$f":"EB57","v":10},4,8,14,"","","$Q$40","$K$46",4,{"$f":"DK58","v":"Spieler 15"},"-",{"$f":"DI58","v":"Spieler 09"},null,4,{"$f":"DY58","v":"Spieler 14"},"-",{"$f":"DW58","v":"Spieler 08"}]
[null,null,null,null,null,null,null,null,null,null,null,null,null,null,null,null,null,null,null,null,null,null,null,null,null,null,null,null,null,null,null,null,null,null,null,null,null,null,null,null,null,null,null,null,null,null,null,null,null,null,null,null,null,null,null,null,null,null,null,null,null,null,null,null,null,null,null,null,null,null,null,null,null,null,null,null,null,null,null,null,null,null,null,null,null,null,null,null,null,null,null,null,null,null,null,null,null,null,null,null,null,null,null,null,null,null,null,null,null,null,null,5,"Spieler 16","-","Spieler 08",null,null,{"$f":"DN58","v":9},5,16,8,"","","$K$48","$S$40",5,"Spieler 15","-","Spieler 07",null,null,10,5,15,7,"","","$J$47","$R$39",5,"Spieler 16","-",{"$f":"DK59","v":"Spieler 08"},null,5,"Spieler 15","-",{"$f":"DY59","v":"Spieler 07"}]
[null,null,null,null,null,null,null,null,null,null,null,null,null,null,null,null,null,null,null,null,null,null,null,null,null,null,null,null,null,null,null,null,null,null,null,null,null,null,null,null,null,null,null,null,null,null,null,null,null,null,null,null,null,null,null,null,null,null,null,null,null,null,null,null,null,null,null,null,null,null,null,null,null,null,null,null,null,null,null,null,null,null,null,null,null,null,null,null,null,null,null,null,null,null,null,null,null,null,null,null,null,null,null,null,null,null,null,null,null,null,null,6,"Spieler 07","-","Spieler 17",null,null,{"$f":"DN59","v":9},6,7,17,"","","$T$39","$J$49",6,"Spieler 06","-","Spieler 16",null,null,10,6,6,16,"","","$S$38","$I$48",6,{"$f":"DK60","v":"Spieler 17"},"-",{"$f":"DI60","v":"Spieler 07"},null,6,{"$f":"DY60","v":"Spieler 16"},"-",{"$f":"DW60","v":"Spieler 06"}]
[null,null,null,null,null,null,null,null,null,null,null,null,null,null,null,null,null,null,null,null,null,null,null,null,null,null,null,null,null,null,null,null,null,null,null,null,null,null,null,null,null,null,null,null,null,null,null,null,null,null,null,null,null,null,null,null,null,null,null,null,null,null,null,null,null,null,null,null,null,null,null,null,null,null,null,null,null,null,null,null,null,null,null,null,null,null,null,null,null,null,null,null,null,null,null,null,null,null,null,null,null,null,null,null,null,null,null,null,null,null,null,7,"Spieler 18","-","Spieler 06",null,null,{"$f":"DN60","v":9},7,18,6,"","",{"$f":"ADDRESS(ROW(Teilnehmer)+DP61,COLUMN(Teilnehmer)+DQ61)","v":"$I$50"},{"$f":"ADDRESS(ROW(Teilnehmer)+DQ61,COLUMN(Teilnehmer)+DP61)","v":"$U$38"},7,"Spieler 17","-","Spieler 05",null,null,10,7,17,5,"","",{"$f":"ADDRESS(ROW(Teilnehmer)+ED61,COLUMN(Teilnehmer)+EE61)","v":"$H$49"},{"$f":"ADDRESS(ROW(Teilnehmer)+EE61,COLUMN(Teilnehmer)+ED61)","v":"$T$37"},7,"Spieler 18","-",{"$f":"DK61","v":"Spieler 06"},null,7,"Spieler 17","-",{"$f":"DY61","v":"Spieler 05"}]
[null,null,null,null,null,null,null,null,null,null,null,null,null,null,null,null,null,null,null,null,null,null,null,null,null,null,null,null,null,null,null,null,null,null,null,null,null,null,null,null,null,null,null,null,null,null,null,null,null,null,null,null,null,null,null,null,null,null,null,null,null,null,null,null,null,null,null,null,null,null,null,null,null,null,null,null,null,null,null,null,null,null,null,null,null,null,null,null,null,null,null,null,null,null,null,null,null,null,null,null,null,null,null,null,null,null,null,null,null,null,null,8,"Spieler 05","-","Spieler 19",null,null,9,8,5,19,"","","$V$37","$H$51",8,"Spieler 04","-","Spieler 18",null,null,10,8,4,18,"","","$U$36","$G$50",8,{"$f":"DK62","v":"Spieler 19"},"-",{"$f":"DI62","v":"Spieler 05"},null,8,{"$f":"DY62","v":"Spieler 18"},"-",{"$f":"DW62","v":"Spieler 04"}]
[null,null,null,null,null,null,null,null,null,null,null,null,null,null,null,null,null,null,null,null,null,null,null,null,null,null,null,null,null,null,null,null,null,null,null,null,null,null,null,null,null,null,null,null,null,null,null,null,null,null,null,null,null,null,null,null,null,null,null,null,null,null,null,null,null,null,null,null,null,null,null,null,null,null,null,null,null,null,null,null,null,null,null,null,null,null,null,null,null,null,null,null,null,null,null,null,null,null,null,null,null,null,null,null,null,null,null,null,null,null,null,9,"Spieler 01","-","Spieler 04",null,null,9,9,1,4,"","","$G$33","$D$36",9,"Spieler 19","-","Spieler 03",null,null,10,9,19,3,"","","$F$51","$V$35",9,"Spieler 01","-",{"$f":"DK63","v":"Spieler 04"},null,9,"Spieler 19","-",{"$f":"DY63","v":"Spieler 03"}]
[null,null,null,null,null,null,null,null,null,null,null,null,null,null,null,null,null,null,null,null,null,null,null,null,null,null,null,null,null,null,null,null,null,null,null,null,null,null,null,null,null,null,null,null,null,null,null,null,null,null,null,null,null,null,null,null,null,null,null,null,null,null,null,null,null,null,null,null,null,null,null,null,null,null,null,null,null,null,null,null,null,null,null,null,null,null,null,null,null,null,null,null,null,null,null,null,null,null,null,null,null,null,null,null,null,null,null,null,null,null,null,10,"Spieler 03","-","Spieler 02",null,null,9,10,3,2,"","","$E$35","$F$34",10,"Spieler 02","-","Spieler 01",null,null,10,10,2,1,"","","$D$34","$E$33",10,{"$f":"DK64","v":"Spieler 02"},"-",{"$f":"DI64","v":"Spieler 03"},null,10,{"$f":"DY64","v":"Spieler 01"},"-",{"$f":"DW64","v":"Spieler 02"}]
[]
[null,null,null,null,null,null,null,null,null,null,null,null,null,null,null,null,null,null,null,null,null,null,null,null,null,null,null,null,null,null,null,null,null,null,null,null,null,null,null,null,null,null,null,null,null,null,null,null,null,null,null,null,null,null,null,null,null,null,null,null,null,null,null,null,null,null,null,null,null,null,null,null,null,null,null,null,null,null,null,null,null,null,null,null,null,null,null,null,null,null,null,null,null,null,null,null,null,null,null,null,null,null,null,null,null,null,null,null,null,null,null,null,{"$f":"DI54+2","v":11},null,null,null,null,"R","B","SpNr w","SpNr s","Res w","Res s",null,null,null,{"$f":"DW54+2","v":12},null,null,null,null,"R","B","SpNr w","SpNr s","Res w","Res s",null,null,null,{"$f":"DI66","v":11},1,null,null,null,{"$f":"DW66","v":12}]
[null,null,null,null,null,null,null,null,null,null,null,null,null,null,null,null,null,null,null,null,null,null,null,null,null,null,null,null,null,null,null,null,null,null,null,null,null,null,null,null,null,null,null,null,null,null,null,null,null,null,null,null,null,null,null,null,null,null,null,null,null,null,null,null,null,null,null,null,null,null,null,null,null,null,null,null,null,null,null,null,null,null,null,null,null,null,null,null,null,null,null,null,null,null,null,null,null,null,null,null,null,null,null,null,null,null,null,null,null,null,null,{"$f":"IF(OR(INDEX($DC$33:$DC$52,DP67),INDEX($DC$33:$DC$52,DQ67)),0,1)","v":1},{"$f":"INDEX($DD$33:$DD$52,MATCH($DP67,TeilnNr,0))","v":"Spieler 10"},"-",{"$f":"INDEX($DD$33:$DD$52,MATCH($DQ67,TeilnNr,0))","v":"Spieler 20"},null,null,{"$f":"DI66","v":11},1,{"$f":"IF(AND(DO67=1,MOD(DN67,2)=0),MAX(TeilnNr),IF(MOD(DO67,2)=0,IF(MAX(TeilnNr)/2-DO67+1-(DN67-MAX(TeilnNr)/2-1)>=1,MAX(TeilnNr)/2-DO67+1-(DN67-MAX(TeilnNr)/2-1),MAX(TeilnNr)/2-DO67+1-(DN67-MAX(TeilnNr)/2-1)+MAX(TeilnNr)-1),IF(DO67-(DN67-1)>=1,DO67-(DN67-1),DO67-(DN67-1)+MAX(TeilnNr)-1)))","v":10},{"$f":"IF(AND(DO67=1,MOD(DN67,2)<>0),MAX(TeilnNr),IF(MOD(DO67,2)<>0,IF(MAX(TeilnNr)/2-DO67+1-(DN67-MAX(TeilnNr)/2-1)>=1,MAX(TeilnNr)/2-DO67+1-(DN67-MAX(TeilnNr)/2-1),MAX(TeilnNr)/2-DO67+1-(DN67-MAX(TeilnNr)/2-1)+MAX(TeilnNr)-1),IF(DO67-(DN67-1)>=1,DO67-(DN67-1),DO67-(DN67-1)+MAX(TeilnNr)-1)))","v":20},{"$f":"IF(LEFT(DM67,1)=\"V\",\"\",LEFT(DM67,1))","v":""},{"$f":"IF(RIGHT(DM67,1)=\"V\",\"\",RIGHT(DM67,1))","v":""},{"$f":"ADDRESS(ROW(Teilnehmer)+DP67,COLUMN(Teilnehmer)+DQ67)","v":"$W$42"},{"$f":"ADDRESS(ROW(Teilnehmer)+DQ67,COLUMN(Teilnehmer)+DP67)","v":"$M$52"},{"$f":"IF(OR(INDEX($DC$33:$DC$52,ED67),INDEX($DC$33:$DC$52,EE67)),0,1)","v":1},{"$f":"INDEX($DD$33:$DD$52,MATCH($ED67,TeilnNr,0))","v":"Spieler 20"},"-",{"$f":"INDEX($DD$33:$DD$52,MATCH($EE67,TeilnNr,0))","v":"Spieler 09"},null,null,{"$f":"DW66","v":12},1,{"$f":"IF(AND(EC67=1,MOD(EB67,2)=0),MAX(TeilnNr),IF(MOD(EC67,2)=0,IF(MAX(TeilnNr)/2-EC67+1-(EB67-MAX(TeilnNr)/2-1)>=1,MAX(TeilnNr)/2-EC67+1-(EB67-MAX(TeilnNr)/2-1),MAX(TeilnNr)/2-EC67+1-(EB67-MAX(TeilnNr)/2-1)+MAX(TeilnNr)-1),IF(EC67-(EB67-1)>=1,EC67-(EB67-1),EC67-(EB67-1)+MAX(TeilnNr)-1)))","v":20},{"$f":"IF(AND(EC67=1,MOD(EB67,2)<>0),MAX(TeilnNr),IF(MOD(EC67,2)<>0,IF(MAX(TeilnNr)/2-EC67+1-(EB67-MAX(TeilnNr)/2-1)>=1,MAX(TeilnNr)/2-EC67+1-(EB67-MAX(TeilnNr)/2-1),MAX(TeilnNr)/2-EC67+1-(EB67-MAX(TeilnNr)/2-1)+MAX(TeilnNr)-1),IF(EC67-(EB67-1)>=1,EC67-(EB67-1),EC67-(EB67-1)+MAX(TeilnNr)-1)))","v":9},{"$f":"IF(LEFT(EA67,1)=\"V\",\"\",LEFT(EA67,1))","v":""},{"$f":"IF(RIGHT(EA67,1)=\"V\",\"\",RIGHT(EA67,1))","v":""},{"$f":"ADDRESS(ROW(Teilnehmer)+ED67,COLUMN(Teilnehmer)+EE67)","v":"$L$52"},{"$f":"ADDRESS(ROW(Teilnehmer)+EE67,COLUMN(Teilnehmer)+ED67)","v":"$W$41"},{"$f":"DH67","v":1},"Spieler 10","-",{"$f":"DK67","v":"Spieler 20"},null,{"$f":"DV67","v":1},{"$f":"DY67","v":"Spieler 09"},"-",{"$f":"DW67","v":"Spieler 20"}]
[null,null,null,null,null,null,null,null,null,null,null,null,null,null,null,null,null,null,null,null,null,null,null,null,null,null,null,null,null,null,null,null,null,null,null,null,null,null,null,null,null,null,null,null,null,null,null,null,null,null,null,null,null,null,null,null,null,null,null,null,null,null,null,null,null,null,null,null,null,null,null,null,null,null,null,null,null,null,null,null,null,null,null,null,null,null,null,null,null,null,null,null,null,null,null,null,null,null,null,null,null,null,null,null,null,null,null,null,null,null,null,{"$f":"DH67+1","v":2},"Spieler 09","-","Spieler 11",null,null,{"$f":"DN67","v":11},{"$f":"DO67+1","v":2},9,11,"","","$N$41","$L$43",{"$f":"DV67+1","v":2},"Spieler 08","-","Spieler 10",null,null,{"$f":"EB67","v":12},{"$f":"EC67+1","v":2},8,10,"","","$M$40","$K$42",{"$f":"DH68","v":2},{"$f":"DK68","v":"Spieler 11"},"-",{"$f":"DI68","v":"Spieler 09"},null,2,"Spieler 10","-","Spieler 08"]
[null,null,null,null,null,null,null,null,null,null,null,null,null,null,null,null,null,null,null,null,null,null,null,null,null,null,null,null,null,null,null,null,null,null,null,null,null,null,null,null,null,null,null,null,null,null,null,null,null,null,null,null,null,null,null,null,null,null,null,null,null,null,null,null,null,null,null,null,null,null,null,null,null,null,null,null,null,null,null,null,null,null,null,null,null,null,null,null,null,null,null,null,null,null,null,null,null,null,null,null,null,null,null,null,null,null,null,null,null,null,null,{"$f":"DH68+1","v":3},"Spieler 12","-","Spieler 08",null,null,{"$f":"DN68","v":11},{"$f":"DO68+1","v":3},12,8,"","","$K$44","$O$40",{"$f":"DV68+1","v":3},"Spieler 11","-","Spieler 07",null,null,{"$f":"EB68","v":12},{"$f":"EC68+1","v":3},11,7,"","","$J$43","$N$39",3,"Spieler 12","-",{"$f":"DK69","v":"Spieler 08"},null,3,"Spieler 11","-",{"$f":"DY69","v":"Spieler 07"}]
[null,null,null,null,null,null,null,null,null,null,null,null,null,null,null,null,null,null,null,null,null,null,null,null,null,null,null,null,null,null,null,null,null,null,null,null,null,null,null,null,null,null,null,null,null,null,null,null,null,null,null,null,null,null,null,null,null,null,null,null,null,null,null,null,null,null,null,null,null,null,null,null,null,null,null,null,null,null,null,null,null,null,null,null,null,null,null,null,null,null,null,null,null,null,null,null,null,null,null,null,null,null,null,null,null,null,null,null,null,null,null,4,"Spieler 07","-","Spieler 13",null,null,{"$f":"DN69","v":11},4,7,13,"","","$P$39","$J$45",4,"Spieler 06","-","Spieler 12",null,null,{"$f":"EB69","v":12},4,6,12,"","","$O$38","$I$44",4,{"$f":"DK70","v":"Spieler 13"},"-",{"$f":"DI70","v":"Spieler 07"},null,4,{"$f":"DY70","v":"Spieler 12"},"-",{"$f":"DW70","v":"Spieler 06"}]
[null,null,null,null,null,null,null,null,null,null,null,null,null,null,null,null,null,null,null,null,null,null,null,null,null,null,null,null,null,null,null,null,null,null,null,null,null,null,null,null,null,null,null,null,null,null,null,null,null,null,null,null,null,null,null,null,null,null,null,null,null,null,null,null,null,null,null,null,null,null,null,null,null,null,null,null,null,null,null,null,null,null,null,null,null,null,null,null,null,null,null,null,null,null,null,null,null,null,null,null,null,null,null,null,null,null,null,null,null,null,null,5,"Spieler 14","-","Spieler 06",null,null,{"$f":"DN70","v":11},5,14,6,"","","$I$46","$Q$38",5,"Spieler 13","-","Spieler 05",null,null,12,5,13,5,"","","$H$45","$P$37",5,"Spieler 14","-",{"$f":"DK71","v":"Spieler 06"},null,5,"Spieler 13","-",{"$f":"DY71","v":"Spieler 05"}]
[null,null,null,null,null,null,null,null,null,null,null,null,null,null,null,null,null,null,null,null,null,null,null,null,null,null,null,null,null,null,null,null,null,null,null,null,null,null,null,null,null,null,null,null,null,null,null,null,null,null,null,null,null,null,null,null,null,null,null,null,null,null,null,null,null,null,null,null,null,null,null,null,null,null,null,null,null,null,null,null,null,null,null,null,null,null,null,null,null,null,null,null,null,null,null,null,null,null,null,null,null,null,null,null,null,null,null,null,null,null,null,6,"Spieler 05","-","Spieler 15",null,null,{"$f":"DN71","v":11},6,5,15,"","","$R$37","$H$47",6,"Spieler 04","-","Spieler 14",null,null,12,6,4,14,"","","$Q$36","$G$46",6,{"$f":"DK72","v":"Spieler 15"},"-",{"$f":"DI72","v":"Spieler 05"},null,6,{"$f":"DY72","v":"Spieler 14"},"-",{"$f":"DW72","v":"Spieler 04"}]
[null,null,null,null,null,null,null,null,null,null,null,null,null,null,null,null,null,null,null,null,null,null,null,null,null,null,null,null,null,null,null,null,null,null,null,null,null,null,null,null,null,null,null,null,null,null,null,null,null,null,null,null,null,null,null,null,null,null,null,null,null,null,null,null,null,null,null,null,null,null,null,null,null,null,null,null,null,null,null,null,null,null,null,null,null,null,null,null,null,null,null,null,null,null,null,null,null,null,null,null,null,null,null,null,null,null,null,null,null,null,null,7,"Spieler 16","-","Spieler 04",null,null,{"$f":"DN72","v":11},7,16,4,"","",{"$f":"ADDRESS(ROW(Teilnehmer)+DP73,COLUMN(Teilnehmer)+DQ73)","v":"$G$48"},{"$f":"ADDRESS(ROW(Teilnehmer)+DQ73,COLUMN(Teilnehmer)+DP73)","v":"$S$36"},7,"Spieler 15","-","Spieler 03",null,null,12,7,15,3,"","",{"$f":"ADDRESS(ROW(Teilnehmer)+ED73,COLUMN(Teilnehmer)+EE73)","v":"$F$47"},{"$f":"ADDRESS(ROW(Teilnehmer)+EE73,COLUMN(Teilnehmer)+ED73)","v":"$R$35"},7,"Spieler 16","-",{"$f":"DK73","v":"Spieler 04"},null,7,"Spieler 15","-",{"$f":"DY73","v":"Spieler 03"}]
[null,null,null,null,null,null,null,null,null,null,null,null,null,null,null,null,null,null,null,null,null,null,null,null,null,null,null,null,null,null,null,null,null,null,null,null,null,null,null,null,null,null,null,null,null,null,null,null,null,null,null,null,null,null,null,null,null,null,null,null,null,null,null,null,null,null,null,null,null,null,null,null,null,null,null,null,null,null,null,null,null,null,null,null,null,null,null,null,null,null,null,null,null,null,null,null,null,null,null,null,null,null,null,null,null,null,null,null,null,null,null,8,"Spieler 03","-","Spieler 17",null,null,11,8,3,17,"","","$T$35","$F$49",8,"Spieler 02","-","Spieler 16",null,null,12,8,2,16,"","","$S$34","$E$48",8,{"$f":"DK74","v":"Spieler 17"},"-",{"$f":"DI74","v":"Spieler 03"},null,8,{"$f":"DY74","v":"Spieler 16"},"-",{"$f":"DW74","v":"Spieler 02"}]
[null,null,null,null,null,null,null,null,null,null,null,null,null,null,null,null,null,null,null,null,null,null,null,null,null,null,null,null,null,null,null,null,null,null,null,null,null,null,null,null,null,null,null,null,null,null,null,null,null,null,null,null,null,null,null,null,null,null,null,null,null,null,null,null,null,null,null,null,null,null,null,null,null,null,null,null,null,null,null,null,null,null,null,null,null,null,null,null,null,null,null,null,null,null,null,null,null,null,null,null,null,null,null,null,null,null,null,null,null,null,null,9,"Spieler 18","-","Spieler 02",null,null,11,9,18,2,"","","$E$50","$U$34",9,"Spieler 17","-","Spieler 01",null,null,12,9,17,1,"","","$D$49","$T$33",9,"Spieler 18","-",{"$f":"DK75","v":"Spieler 02"},null,9,"Spieler 17","-",{"$f":"DY75","v":"Spieler 01"}]
[null,null,null,null,null,null,null,null,null,null,null,null,null,null,null,null,null,null,null,null,null,null,null,null,null,null,null,null,null,null,null,null,null,null,null,null,null,null,null,null,null,null,null,null,null,null,null,null,null,null,null,null,null,null,null,null,null,null,null,null,null,null,null,null,null,null,null,null,null,null,null,null,null,null,null,null,null,null,null,null,null,null,null,null,null,null,null,null,null,null,null,null,null,null,null,null,null,null,null,null,null,null,null,null,null,null,null,null,null,null,null,10,"Spieler 01","-","Spieler 19",null,null,11,10,1,19,"","","$V$33","$D$51",10,"Spieler 19","-","Spieler 18",null,null,12,10,19,18,"","","$U$51","$V$50",10,{"$f":"DK76","v":"Spieler 19"},"-",{"$f":"DI76","v":"Spieler 01"},null,10,{"$f":"DY76","v":"Spieler 18"},"-",{"$f":"DW76","v":"Spieler 19"}]
[]
[null,null,null,null,null,null,null,null,null,null,null,null,null,null,null,null,null,null,null,null,null,null,null,null,null,null,null,null,null,null,null,null,null,null,null,null,null,null,null,null,null,null,null,null,null,null,null,null,null,null,null,null,null,null,null,null,null,null,null,null,null,null,null,null,null,null,null,null,null,null,null,null,null,null,null,null,null,null,null,null,null,null,null,null,null,null,null,null,null,null,null,null,null,null,null,null,null,null,null,null,null,null,null,null,null,null,null,null,null,null,null,null,{"$f":"DI66+2","v":13},null,null,null,null,"R","B","SpNr w","SpNr s","Res w","Res s",null,null,null,{"$f":"DW66+2","v":14},null,null,null,null,"R","B","SpNr w","SpNr s","Res w","Res s",null,null,null,{"$f":"DI78","v":13},1,null,null,null,{"$f":"DW78","v":14}]
[null,null,null,null,null,null,null,null,null,null,null,null,null,null,null,null,null,null,null,null,null,null,null,null,null,null,null,null,null,null,null,null,null,null,null,null,null,null,null,null,null,null,null,null,null,null,null,null,null,null,null,null,null,null,null,null,null,null,null,null,null,null,null,null,null,null,null,null,null,null,null,null,null,null,null,null,null,null,null,null,null,null,null,null,null,null,null,null,null,null,null,null,null,null,null,null,null,null,null,null,null,null,null,null,null,null,null,null,null,null,null,{"$f":"IF(OR(INDEX($DC$33:$DC$52,DP79),INDEX($DC$33:$DC$52,DQ79)),0,1)","v":1},{"$f":"INDEX($DD$33:$DD$52,MATCH($DP79,TeilnNr,0))","v":"Spieler 08"},"-",{"$f":"INDEX($DD$33:$DD$52,MATCH($DQ79,TeilnNr,0))","v":"Spieler 20"},null,null,{"$f":"DI78","v":13},1,{"$f":"IF(AND(DO79=1,MOD(DN79,2)=0),MAX(TeilnNr),IF(MOD(DO79,2)=0,IF(MAX(TeilnNr)/2-DO79+1-(DN79-MAX(TeilnNr)/2-1)>=1,MAX(TeilnNr)/2-DO79+1-(DN79-MAX(TeilnNr)/2-1),MAX(TeilnNr)/2-DO79+1-(DN79-MAX(TeilnNr)/2-1)+MAX(TeilnNr)-1),IF(DO79-(DN79-1)>=1,DO79-(DN79-1),DO79-(DN79-1)+MAX(TeilnNr)-1)))","v":8},{"$f":"IF(AND(DO79=1,MOD(DN79,2)<>0),MAX(TeilnNr),IF(MOD(DO79,2)<>0,IF(MAX(TeilnNr)/2-DO79+1-(DN79-MAX(TeilnNr)/2-1)>=1,MAX(TeilnNr)/2-DO79+1-(DN79-MAX(TeilnNr)/2-1),MAX(TeilnNr)/2-DO79+1-(DN79-MAX(TeilnNr)/2-1)+MAX(TeilnNr)-1),IF(DO79-(DN79-1)>=1,DO79-(DN79-1),DO79-(DN79-1)+MAX(TeilnNr)-1)))","v":20},{"$f":"IF(LEFT(DM79,1)=\"V\",\"\",LEFT(DM79,1))","v":""},{"$f":"IF(RIGHT(DM79,1)=\"V\",\"\",RIGHT(DM79,1))","v":""},{"$f":"ADDRESS(ROW(Teilnehmer)+DP79,COLUMN(Teilnehmer)+DQ79)","v":"$W$40"},{"$f":"ADDRESS(ROW(Teilnehmer)+DQ79,COLUMN(Teilnehmer)+DP79)","v":"$K$52"},{"$f":"IF(OR(INDEX($DC$33:$DC$52,ED79),INDEX($DC$33:$DC$52,EE79)),0,1)","v":1},{"$f":"INDEX($DD$33:$DD$52,MATCH($ED79,TeilnNr,0))","v":"Spieler 20"},"-",{"$f":"INDEX($DD$33:$DD$52,MATCH($EE79,TeilnNr,0))","v":"Spieler 07"},null,null,{"$f":"DW78","v":14},1,{"$f":"IF(AND(EC79=1,MOD(EB79,2)=0),MAX(TeilnNr),IF(MOD(EC79,2)=0,IF(MAX(TeilnNr)/2-EC79+1-(EB79-MAX(TeilnNr)/2-1)>=1,MAX(TeilnNr)/2-EC79+1-(EB79-MAX(TeilnNr)/2-1),MAX(TeilnNr)/2-EC79+1-(EB79-MAX(TeilnNr)/2-1)+MAX(TeilnNr)-1),IF(EC79-(EB79-1)>=1,EC79-(EB79-1),EC79-(EB79-1)+MAX(TeilnNr)-1)))","v":20},{"$f":"IF(AND(EC79=1,MOD(EB79,2)<>0),MAX(TeilnNr),IF(MOD(EC79,2)<>0,IF(MAX(TeilnNr)/2-EC79+1-(EB79-MAX(TeilnNr)/2-1)>=1,MAX(TeilnNr)/2-EC79+1-(EB79-MAX(TeilnNr)/2-1),MAX(TeilnNr)/2-EC79+1-(EB79-MAX(TeilnNr)/2-1)+MAX(TeilnNr)-1),IF(EC79-(EB79-1)>=1,EC79-(EB79-1),EC79-(EB79-1)+MAX(TeilnNr)-1)))","v":7},{"$f":"IF(LEFT(EA79,1)=\"V\",\"\",LEFT(EA79,1))","v":""},{"$f":"IF(RIGHT(EA79,1)=\"V\",\"\",RIGHT(EA79,1))","v":""},{"$f":"ADDRESS(ROW(Teilnehmer)+ED79,COLUMN(Teilnehmer)+EE79)","v":"$J$52"},{"$f":"ADDRESS(ROW(Teilnehmer)+EE79,COLUMN(Teilnehmer)+ED79)","v":"$W$39"},{"$f":"DH79","v":1},"Spieler 08","-",{"$f":"DK79","v":"Spieler 20"},null,{"$f":"DV79","v":1},{"$f":"DY79","v":"Spieler 07"},"-",{"$f":"DW79","v":"Spieler 20"}]
[null,null,null,null,null,null,null,null,null,null,null,null,null,null,null,null,null,null,null,null,null,null,null,null,null,null,null,null,null,null,null,null,null,null,null,null,null,null,null,null,null,null,null,null,null,null,null,null,null,null,null,null,null,null,null,null,null,null,null,null,null,null,null,null,null,null,null,null,null,null,null,null,null,null,null,null,null,null,null,null,null,null,null,null,null,null,null,null,null,null,null,null,null,null,null,null,null,null,null,null,null,null,null,null,null,null,null,null,null,null,null,{"$f":"DH79+1","v":2},"Spieler 07","-","Spieler 09",null,null,{"$f":"DN79","v":13},{"$f":"DO79+1","v":2},7,9,"","","$L$39","$J$41",{"$f":"DV79+1","v":2},"Spieler 06","-","Spieler 08",null,null,{"$f":"EB79","v":14},{"$f":"EC79+1","v":2},6,8,"","","$K$38","$I$40",{"$f":"DH80","v":2},{"$f":"DK80","v":"Spieler 09"},"-",{"$f":"DI80","v":"Spieler 07"},null,2,"Spieler 08","-","Spieler 06"]
[null,null,null,null,null,null,null,null,null,null,null,null,null,null,null,null,null,null,null,null,null,null,null,null,null,null,null,null,null,null,null,null,null,null,null,null,null,null,null,null,null,null,null,null,null,null,null,null,null,null,null,null,null,null,null,null,null,null,null,null,null,null,null,null,null,null,null,null,null,null,null,null,null,null,null,null,null,null,null,null,null,null,null,null,null,null,null,null,null,null,null,null,null,null,null,null,null,null,null,null,null,null,null,null,null,null,null,null,null,null,null,{"$f":"DH80+1","v":3},"Spieler 10","-","Spieler 06",null,null,{"$f":"DN80","v":13},{"$f":"DO80+1","v":3},10,6,"","","$I$42","$M$38",{"$f":"DV80+1","v":3},"Spieler 09","-","Spieler 05",null,null,{"$f":"EB80","v":14},{"$f":"EC80+1","v":3},9,5,"","","$H$41","$L$37",3,"Spieler 10","-",{"$f":"DK81","v":"Spieler 06"},null,3,"Spieler 09","-",{"$f":"DY81","v":"Spieler 05"}]
[null,null,null,null,null,null,null,null,null,null,null,null,null,null,null,null,null,null,null,null,null,null,null,null,null,null,null,null,null,null,null,null,null,null,null,null,null,null,null,null,null,null,null,null,null,null,null,null,null,null,null,null,null,null,null,null,null,null,null,null,null,null,null,null,null,null,null,null,null,null,null,null,null,null,null,null,null,null,null,null,null,null,null,null,null,null,null,null,null,null,null,null,null,null,null,null,null,null,null,null,null,null,null,null,null,null,null,null,null,null,null,4,"Spieler 05","-","Spieler 11",null,null,{"$f":"DN81","v":13},4,5,11,"","","$N$37","$H$43",4,"Spieler 04","-","Spieler 10",null,null,{"$f":"EB81","v":14},4,4,10,"","","$M$36","$G$42",4,{"$f":"DK82","v":"Spieler 11"},"-",{"$f":"DI82","v":"Spieler 05"},null,4,{"$f":"DY82","v":"Spieler 10"},"-",{"$f":"DW82","v":"Spieler 04"}]
[null,null,null,null,null,null,null,null,null,null,null,null,null,null,null,null,null,null,null,null,null,null,null,null,null,null,null,null,null,null,null,null,null,null,null,null,null,null,null,null,null,null,null,null,null,null,null,null,null,null,null,null,null,null,null,null,null,null,null,null,null,null,null,null,null,null,null,null,null,null,null,null,null,null,null,null,null,null,null,null,null,null,null,null,null,null,null,null,null,null,null,null,null,null,null,null,null,null,null,null,null,null,null,null,null,null,null,null,null,null,null,5,"Spieler 12","-","Spieler 04",null,null,{"$f":"DN82","v":13},5,12,4,"","","$G$44","$O$36",5,"Spieler 11","-","Spieler 03",null,null,14,5,11,3,"","","$F$43","$N$35",5,"Spieler 12","-",{"$f":"DK83","v":"Spieler 04"},null,5,"Spieler 11","-",{"$f":"DY83","v":"Spieler 03"}]
[null,null,null,null,null,null,null,null,null,null,null,null,null,null,null,null,null,null,null,null,null,null,null,null,null,null,null,null,null,null,null,null,null,null,null,null,null,null,null,null,null,null,null,null,null,null,null,null,null,null,null,null,null,null,null,null,null,null,null,null,null,null,null,null,null,null,null,null,null,null,null,null,null,null,null,null,null,null,null,null,null,null,null,null,null,null,null,null,null,null,null,null,null,null,null,null,null,null,null,null,null,null,null,null,null,null,null,null,null,null,null,6,"Spieler 03","-","Spieler 13",null,null,{"$f":"DN83","v":13},6,3,13,"","","$P$35","$F$45",6,"Spieler 02","-","Spieler 12",null,null,14,6,2,12,"","","$O$34","$E$44",6,{"$f":"DK84","v":"Spieler 13"},"-",{"$f":"DI84","v":"Spieler 03"},null,6,{"$f":"DY84","v":"Spieler 12"},"-",{"$f":"DW84","v":"Spieler 02"}]
[null,null,null,null,null,null,null,null,null,null,null,null,null,null,null,null,null,null,null,null,null,null,null,null,null,null,null,null,null,null,null,null,null,null,null,null,null,null,null,null,null,null,null,null,null,null,null,null,null,null,null,null,null,null,null,null,null,null,null,null,null,null,null,null,null,null,null,null,null,null,null,null,null,null,null,null,null,null,null,null,null,null,null,null,null,null,null,null,null,null,null,null,null,null,null,null,null,null,null,null,null,null,null,null,null,null,null,null,null,null,null,7,"Spieler 14","-","Spieler 02",null,null,{"$f":"DN84","v":13},7,14,2,"","","$E$46","$Q$34",7,"Spieler 13","-","Spieler 01",null,null,14,7,13,1,"","","$D$45","$P$33",7,"Spieler 14","-",{"$f":"DK85","v":"Spieler 02"},null,7,"Spieler 13","-",{"$f":"DY85","v":"Spieler 01"}]
[null,null,null,null,null,null,null,null,null,null,null,null,null,null,null,null,null,null,null,null,null,null,null,null,null,null,null,null,null,null,null,null,null,null,null,null,null,null,null,null,null,null,null,null,null,null,null,null,null,null,null,null,null,null,null,null,null,null,null,null,null,null,null,null,null,null,null,null,null,null,null,null,null,null,null,null,null,null,null,null,null,null,null,null,null,null,null,null,null,null,null,null,null,null,null,null,null,null,null,null,null,null,null,null,null,null,null,null,null,null,null,8,"Spieler 01","-","Spieler 15",null,null,13,8,1,15,"","","$R$33","$D$47",8,"Spieler 19","-","Spieler 14",null,null,14,8,19,14,"","","$Q$51","$V$46",8,{"$f":"DK86","v":"Spieler 15"},"-",{"$f":"DI86","v":"Spieler 01"},null,8,{"$f":"DY86","v":"Spieler 14"},"-",{"$f":"DW86","v":"Spieler 19"}]
[null,null,null,null,null,null,null,null,null,null,null,null,null,null,null,null,null,null,null,null,null,null,null,null,null,null,null,null,null,null,null,null,null,null,null,null,null,null,null,null,null,null,null,null,null,null,null,null,null,null,null,null,null,null,null,null,null,null,null,null,null,null,null,null,null,null,null,null,null,null,null,null,null,null,null,null,null,null,null,null,null,null,null,null,null,null,null,null,null,null,null,null,null,null,null,null,null,null,null,null,null,null,null,null,null,null,null,null,null,null,null,9,"Spieler 16","-","Spieler 19",null,null,13,9,16,19,"","","$V$48","$S$51",9,"Spieler 15","-","Spieler 18",null,null,14,9,15,18,"","","$U$47","$R$50",9,"Spieler 16","-",{"$f":"DK87","v":"Spieler 19"},null,9,"Spieler 15","-",{"$f":"DY87","v":"Spieler 18"}]
[null,null,null,null,null,null,null,null,null,null,null,null,null,null,null,null,null,null,null,null,null,null,null,null,null,null,null,null,null,null,null,null,null,null,null,null,null,null,null,null,null,null,null,null,null,null,null,null,null,null,null,null,null,null,null,null,null,null,null,null,null,null,null,null,null,null,null,null,null,null,null,null,null,null,null,null,null,null,null,null,null,null,null,null,null,null,null,null,null,null,null,null,null,null,null,null,null,null,null,null,null,null,null,null,null,null,null,null,null,null,null,10,"Spieler 18","-","Spieler 17",null,null,13,10,18,17,"","","$T$50","$U$49",10,"Spieler 17","-","Spieler 16",null,null,14,10,17,16,"","","$S$49","$T$48",10,{"$f":"DK88","v":"Spieler 17"},"-",{"$f":"DI88","v":"Spieler 18"},null,10,{"$f":"DY88","v":"Spieler 16"},"-",{"$f":"DW88","v":"Spieler 17"}]
[]
[null,null,null,null,null,null,null,null,null,null,null,null,null,null,null,null,null,null,null,null,null,null,null,null,null,null,null,null,null,null,null,null,null,null,null,null,null,null,null,null,null,null,null,null,null,null,null,null,null,null,null,null,null,null,null,null,null,null,null,null,null,null,null,null,null,null,null,null,null,null,null,null,null,null,null,null,null,null,null,null,null,null,null,null,null,null,null,null,null,null,null,null,null,null,null,null,null,null,null,null,null,null,null,null,null,null,null,null,null,null,null,null,{"$f":"DI78+2","v":15},null,null,null,null,"R","B","SpNr w","SpNr s","Res w","Res s",null,null,null,{"$f":"DW78+2","v":16},null,null,null,null,"R","B","SpNr w","SpNr s","Res w","Res s",null,null,null,{"$f":"DI90","v":15},1,null,null,null,{"$f":"DW90","v":16}]
[null,null,null,null,null,null,null,null,null,null,null,null,null,null,null,null,null,null,null,null,null,null,null,null,null,null,null,null,null,null,null,null,null,null,null,null,null,null,null,null,null,null,null,null,null,null,null,null,null,null,null,null,null,null,null,null,null,null,null,null,null,null,null,null,null,null,null,null,null,null,null,null,null,null,null,null,null,null,null,null,null,null,null,null,null,null,null,null,null,null,null,null,null,null,null,null,null,null,null,null,null,null,null,null,null,null,null,null,null,null,null,{"$f":"IF(OR(INDEX($DC$33:$DC$52,DP91),INDEX($DC$33:$DC$52,DQ91)),0,1)","v":1},{"$f":"INDEX($DD$33:$DD$52,MATCH($DP91,TeilnNr,0))","v":"Spieler 06"},"-",{"$f":"INDEX($DD$33:$DD$52,MATCH($DQ91,TeilnNr,0))","v":"Spieler 20"},null,null,{"$f":"DI90","v":15},1,{"$f":"IF(AND(DO91=1,MOD(DN91,2)=0),MAX(TeilnNr),IF(MOD(DO91,2)=0,IF(MAX(TeilnNr)/2-DO91+1-(DN91-MAX(TeilnNr)/2-1)>=1,MAX(TeilnNr)/2-DO91+1-(DN91-MAX(TeilnNr)/2-1),MAX(TeilnNr)/2-DO91+1-(DN91-MAX(TeilnNr)/2-1)+MAX(TeilnNr)-1),IF(DO91-(DN91-1)>=1,DO91-(DN91-1),DO91-(DN91-1)+MAX(TeilnNr)-1)))","v":6},{"$f":"IF(AND(DO91=1,MOD(DN91,2)<>0),MAX(TeilnNr),IF(MOD(DO91,2)<>0,IF(MAX(TeilnNr)/2-DO91+1-(DN91-MAX(TeilnNr)/2-1)>=1,MAX(TeilnNr)/2-DO91+1-(DN91-MAX(TeilnNr)/2-1),MAX(TeilnNr)/2-DO91+1-(DN91-MAX(TeilnNr)/2-1)+MAX(TeilnNr)-1),IF(DO91-(DN91-1)>=1,DO91-(DN91-1),DO91-(DN91-1)+MAX(TeilnNr)-1)))","v":20},{"$f":"IF(LEFT(DM91,1)=\"V\",\"\",LEFT(DM91,1))","v":""},{"$f":"IF(RIGHT(DM91,1)=\"V\",\"\",RIGHT(DM91,1))","v":""},{"$f":"ADDRESS(ROW(Teilnehmer)+DP91,COLUMN(Teilnehmer)+DQ91)","v":"$W$38"},{"$f":"ADDRESS(ROW(Teilnehmer)+DQ91,COLUMN(Teilnehmer)+DP91)","v":"$I$52"},{"$f":"IF(OR(INDEX($DC$33:$DC$52,ED91),INDEX($DC$33:$DC$52,EE91)),0,1)","v":1},{"$f":"INDEX($DD$33:$DD$52,MATCH($ED91,TeilnNr,0))","v":"Spieler 20"},"-",{"$f":"INDEX($DD$33:$DD$52,MATCH($EE91,TeilnNr,0))","v":"Spieler 05"},null,null,{"$f":"DW90","v":16},1,{"$f":"IF(AND(EC91=1,MOD(EB91,2)=0),MAX(TeilnNr),IF(MOD(EC91,2)=0,IF(MAX(TeilnNr)/2-EC91+1-(EB91-MAX(TeilnNr)/2-1)>=1,MAX(TeilnNr)/2-EC91+1-(EB91-MAX(TeilnNr)/2-1),MAX(TeilnNr)/2-EC91+1-(EB91-MAX(TeilnNr)/2-1)+MAX(TeilnNr)-1),IF(EC91-(EB91-1)>=1,EC91-(EB91-1),EC91-(EB91-1)+MAX(TeilnNr)-1)))","v":20},{"$f":"IF(AND(EC91=1,MOD(EB91,2)<>0),MAX(TeilnNr),IF(MOD(EC91,2)<>0,IF(MAX(TeilnNr)/2-EC91+1-(EB91-MAX(TeilnNr)/2-1)>=1,MAX(TeilnNr)/2-EC91+1-(EB91-MAX(TeilnNr)/2-1),MAX(TeilnNr)/2-EC91+1-(EB91-MAX(TeilnNr)/2-1)+MAX(TeilnNr)-1),IF(EC91-(EB91-1)>=1,EC91-(EB91-1),EC91-(EB91-1)+MAX(TeilnNr)-1)))","v":5},{"$f":"IF(LEFT(EA91,1)=\"V\",\"\",LEFT(EA91,1))","v":""},{"$f":"IF(RIGHT(EA91,1)=\"V\",\"\",RIGHT(EA91,1))","v":""},{"$f":"ADDRESS(ROW(Teilnehmer)+ED91,COLUMN(Teilnehmer)+EE91)","v":"$H$52"},{"$f":"ADDRESS(ROW(Teilnehmer)+EE91,COLUMN(Teilnehmer)+ED91)","v":"$W$37"},{"$f":"DH91","v":1},"Spieler 06","-",{"$f":"DK91","v":"Spieler 20"},null,{"$f":"DV91","v":1},{"$f":"DY91","v":"Spieler 05"},"-",{"$f":"DW91","v":"Spieler 20"}]
[null,null,null,null,null,null,null,null,null,null,null,null,null,null,null,null,null,null,null,null,null,null,null,null,null,null,null,null,null,null,null,null,null,null,null,null,null,null,null,null,null,null,null,null,null,null,null,null,null,null,null,null,null,null,null,null,null,null,null,null,null,null,null,null,null,null,null,null,null,null,null,null,null,null,null,null,null,null,null,null,null,null,null,null,null,null,null,null,null,null,null,null,null,null,null,null,null,null,null,null,null,null,null,null,null,null,null,null,null,null,null,{"$f":"DH91+1","v":2},"Spieler 05","-","Spieler 07",null,null,{"$f":"DN91","v":15},{"$f":"DO91+1","v":2},5,7,"","","$J$37","$H$39",{"$f":"DV91+1","v":2},"Spieler 04","-","Spieler 06",null,null,{"$f":"EB91","v":16},{"$f":"EC91+1","v":2},4,6,"","","$I$36","$G$38",{"$f":"DH92","v":2},{"$f":"DK92","v":"Spieler 07"},"-",{"$f":"DI92","v":"Spieler 05"},null,2,"Spieler 06","-","Spieler 04"]
[null,null,null,null,null,null,null,null,null,null,null,null,null,null,null,null,null,null,null,null,null,null,null,null,null,null,null,null,null,null,null,null,null,null,null,null,null,null,null,null,null,null,null,null,null,null,null,null,null,null,null,null,null,null,null,null,null,null,null,null,null,null,null,null,null,null,null,null,null,null,null,null,null,null,null,null,null,null,null,null,null,null,null,null,null,null,null,null,null,null,null,null,null,null,null,null,null,null,null,null,null,null,null,null,null,null,null,null,null,null,null,{"$f":"DH92+1","v":3},"Spieler 08","-","Spieler 04",null,null,{"$f":"DN92","v":15},{"$f":"DO92+1","v":3},8,4,"","","$G$40","$K$36",{"$f":"DV92+1","v":3},"Spieler 07","-","Spieler 03",null,null,{"$f":"EB92","v":16},{"$f":"EC92+1","v":3},7,3,"","","$F$39","$J$35",3,"Spieler 08","-",{"$f":"DK93","v":"Spieler 04"},null,3,"Spieler 07","-",{"$f":"DY93","v":"Spieler 03"}]
[null,null,null,null,null,null,null,null,null,null,null,null,null,null,null,null,null,null,null,null,null,null,null,null,null,null,null,null,null,null,null,null,null,null,null,null,null,null,null,null,null,null,null,null,null,null,null,null,null,null,null,null,null,null,null,null,null,null,null,null,null,null,null,null,null,null,null,null,null,null,null,null,null,null,null,null,null,null,null,null,null,null,null,null,null,null,null,null,null,null,null,null,null,null,null,null,null,null,null,null,null,null,null,null,null,null,null,null,null,null,null,4,"Spieler 03","-","Spieler 09",null,null,{"$f":"DN93","v":15},4,3,9,"","","$L$35","$F$41",4,"Spieler 02","-","Spieler 08",null,null,{"$f":"EB93","v":16},4,2,8,"","","$K$34","$E$40",4,{"$f":"DK94","v":"Spieler 09"},"-",{"$f":"DI94","v":"Spieler 03"},null,4,{"$f":"DY94","v":"Spieler 08"},"-",{"$f":"DW94","v":"Spieler 02"}]
[null,null,null,null,null,null,null,null,null,null,null,null,null,null,null,null,null,null,null,null,null,null,null,null,null,null,null,null,null,null,null,null,null,null,null,null,null,null,null,null,null,null,null,null,null,null,null,null,null,null,null,null,null,null,null,null,null,null,null,null,null,null,null,null,null,null,null,null,null,null,null,null,null,null,null,null,null,null,null,null,null,null,null,null,null,null,null,null,null,null,null,null,null,null,null,null,null,null,null,null,null,null,null,null,null,null,null,null,null,null,null,5,"Spieler 10","-","Spieler 02",null,null,{"$f":"DN94","v":15},5,10,2,"","","$E$42","$M$34",5,"Spieler 09","-","Spieler 01",null,null,16,5,9,1,"","","$D$41","$L$33",5,"Spieler 10","-",{"$f":"DK95","v":"Spieler 02"},null,5,"Spieler 09","-",{"$f":"DY95","v":"Spieler 01"}]
[null,null,null,null,null,null,null,null,null,null,null,null,null,null,null,null,null,null,null,null,null,null,null,null,null,null,null,null,null,null,null,null,null,null,null,null,null,null,null,null,null,null,null,null,null,null,null,null,null,null,null,null,null,null,null,null,null,null,null,null,null,null,null,null,null,null,null,null,null,null,null,null,null,null,null,null,null,null,null,null,null,null,null,null,null,null,null,null,null,null,null,null,null,null,null,null,null,null,null,null,null,null,null,null,null,null,null,null,null,null,null,6,"Spieler 01","-","Spieler 11",null,null,{"$f":"DN95","v":15},6,1,11,"","","$N$33","$D$43",6,"Spieler 19","-","Spieler 10",null,null,16,6,19,10,"","","$M$51","$V$42",6,{"$f":"DK96","v":"Spieler 11"},"-",{"$f":"DI96","v":"Spieler 01"},null,6,{"$f":"DY96","v":"Spieler 10"},"-",{"$f":"DW96","v":"Spieler 19"}]
[null,null,null,null,null,null,null,null,null,null,null,null,null,null,null,null,null,null,null,null,null,null,null,null,null,null,null,null,null,null,null,null,null,null,null,null,null,null,null,null,null,null,null,null,null,null,null,null,null,null,null,null,null,null,null,null,null,null,null,null,null,null,null,null,null,null,null,null,null,null,null,null,null,null,null,null,null,null,null,null,null,null,null,null,null,null,null,null,null,null,null,null,null,null,null,null,null,null,null,null,null,null,null,null,null,null,null,null,null,null,null,7,"Spieler 12","-","Spieler 19",null,null,{"$f":"DN96","v":15},7,12,19,"","","$V$44","$O$51",7,"Spieler 11","-","Spieler 18",null,null,16,7,11,18,"","","$U$43","$N$50",7,"Spieler 12","-",{"$f":"DK97","v":"Spieler 19"},null,7,"Spieler 11","-",{"$f":"DY97","v":"Spieler 18"}]
[null,null,null,null,null,null,null,null,null,null,null,null,null,null,null,null,null,null,null,null,null,null,null,null,null,null,null,null,null,null,null,null,null,null,null,null,null,null,null,null,null,null,null,null,null,null,null,null,null,null,null,null,null,null,null,null,null,null,null,null,null,null,null,null,null,null,null,null,null,null,null,null,null,null,null,null,null,null,null,null,null,null,null,null,null,null,null,null,null,null,null,null,null,null,null,null,null,null,null,null,null,null,null,null,null,null,null,null,null,null,null,8,"Spieler 18","-","Spieler 13",null,null,15,8,18,13,"","","$P$50","$U$45",8,"Spieler 17","-","Spieler 12",null,null,16,8,17,12,"","","$O$49","$T$44",8,{"$f":"DK98","v":"Spieler 13"},"-",{"$f":"DI98","v":"Spieler 18"},null,8,{"$f":"DY98","v":"Spieler 12"},"-",{"$f":"DW98","v":"Spieler 17"}]
[null,null,null,null,null,null,null,null,null,null,null,null,null,null,null,null,null,null,null,null,null,null,null,null,null,null,null,null,null,null,null,null,null,null,null,null,null,null,null,null,null,null,null,null,null,null,null,null,null,null,null,null,null,null,null,null,null,null,null,null,null,null,null,null,null,null,null,null,null,null,null,null,null,null,null,null,null,null,null,null,null,null,null,null,null,null,null,null,null,null,null,null,null,null,null,null,null,null,null,null,null,null,null,null,null,null,null,null,null,null,null,9,"Spieler 14","-","Spieler 17",null,null,15,9,14,17,"","","$T$46","$Q$49",9,"Spieler 13","-","Spieler 16",null,null,16,9,13,16,"","","$S$45","$P$48",9,"Spieler 14","-",{"$f":"DK99","v":"Spieler 17"},null,9,"Spieler 13","-",{"$f":"DY99","v":"Spieler 16"}]
[null,null,null,null,null,null,null,null,null,null,null,null,null,null,null,null,null,null,null,null,null,null,null,null,null,null,null,null,null,null,null,null,null,null,null,null,null,null,null,null,null,null,null,null,null,null,null,null,null,null,null,null,null,null,null,null,null,null,null,null,null,null,null,null,null,null,null,null,null,null,null,null,null,null,null,null,null,null,null,null,null,null,null,null,null,null,null,null,null,null,null,null,null,null,null,null,null,null,null,null,null,null,null,null,null,null,null,null,null,null,null,10,"Spieler 16","-","Spieler 15",null,null,15,10,16,15,"","","$R$48","$S$47",10,"Spieler 15","-","Spieler 14",null,null,16,10,15,14,"","","$Q$47","$R$46",10,{"$f":"DK100","v":"Spieler 15"},"-",{"$f":"DI100","v":"Spieler 16"},null,10,{"$f":"DY100","v":"Spieler 14"},"-",{"$f":"DW100","v":"Spieler 15"}]
[]
[null,null,null,null,null,null,null,null,null,null,null,null,null,null,null,null,null,null,null,null,null,null,null,null,null,null,null,null,null,null,null,null,null,null,null,null,null,null,null,null,null,null,null,null,null,null,null,null,null,null,null,null,null,null,null,null,null,null,null,null,null,null,null,null,null,null,null,null,null,null,null,null,null,null,null,null,null,null,null,null,null,null,null,null,null,null,null,null,null,null,null,null,null,null,null,null,null,null,null,null,null,null,null,null,null,null,null,null,null,null,null,null,{"$f":"DI90+2","v":17},null,null,null,null,"R","B","SpNr w","SpNr s","Res w","Res s",null,null,null,{"$f":"DW90+2","v":18},null,null,null,null,"R","B","SpNr w","SpNr s","Res w","Res s",null,null,null,{"$f":"DI102","v":17},1,null,null,null,{"$f":"DW102","v":18}]
[null,null,null,null,null,null,null,null,null,null,null,null,null,null,null,null,null,null,null,null,null,null,null,null,null,null,null,null,null,null,null,null,null,null,null,null,null,null,null,null,null,null,null,null,null,null,null,null,null,null,null,null,null,null,null,null,null,null,null,null,null,null,null,null,null,null,null,null,null,null,null,null,null,null,null,null,null,null,null,null,null,null,null,null,null,null,null,null,null,null,null,null,null,null,null,null,null,null,null,null,null,null,null,null,null,null,null,null,null,null,null,{"$f":"IF(OR(INDEX($DC$33:$DC$52,DP103),INDEX($DC$33:$DC$52,DQ103)),0,1)","v":1},{"$f":"INDEX($DD$33:$DD$52,MATCH($DP103,TeilnNr,0))","v":"Spieler 04"},"-",{"$f":"INDEX($DD$33:$DD$52,MATCH($DQ103,TeilnNr,0))","v":"Spieler 20"},null,null,{"$f":"DI102","v":17},1,{"$f":"IF(AND(DO103=1,MOD(DN103,2)=0),MAX(TeilnNr),IF(MOD(DO103,2)=0,IF(MAX(TeilnNr)/2-DO103+1-(DN103-MAX(TeilnNr)/2-1)>=1,MAX(TeilnNr)/2-DO103+1-(DN103-MAX(TeilnNr)/2-1),MAX(TeilnNr)/2-DO103+1-(DN103-MAX(TeilnNr)/2-1)+MAX(TeilnNr)-1),IF(DO103-(DN103-1)>=1,DO103-(DN103-1),DO103-(DN103-1)+MAX(TeilnNr)-1)))","v":4},{"$f":"IF(AND(DO103=1,MOD(DN103,2)<>0),MAX(TeilnNr),IF(MOD(DO103,2)<>0,IF(MAX(TeilnNr)/2-DO103+1-(DN103-MAX(TeilnNr)/2-1)>=1,MAX(TeilnNr)/2-DO103+1-(DN103-MAX(TeilnNr)/2-1),MAX(TeilnNr)/2-DO103+1-(DN103-MAX(TeilnNr)/2-1)+MAX(TeilnNr)-1),IF(DO103-(DN103-1)>=1,DO103-(DN103-1),DO103-(DN103-1)+MAX(TeilnNr)-1)))","v":20},{"$f":"IF(LEFT(DM103,1)=\"V\",\"\",LEFT(DM103,1))","v":""},{"$f":"IF(RIGHT(DM103,1)=\"V\",\"\",RIGHT(DM103,1))","v":""},{"$f":"ADDRESS(ROW(Teilnehmer)+DP103,COLUMN(Teilnehmer)+DQ103)","v":"$W$36"},{"$f":"ADDRESS(ROW(Teilnehmer)+DQ103,COLUMN(Teilnehmer)+DP103)","v":"$G$52"},{"$f":"IF(OR(INDEX($DC$33:$DC$52,ED103),INDEX($DC$33:$DC$52,EE103)),0,1)","v":1},{"$f":"INDEX($DD$33:$DD$52,MATCH($ED103,TeilnNr,0))","v":"Spieler 20"},"-",{"$f":"INDEX($DD$33:$DD$52,MATCH($EE103,TeilnNr,0))","v":"Spieler 03"},null,null,{"$f":"DW102","v":18},1,{"$f":"IF(AND(EC103=1,MOD(EB103,2)=0),MAX(TeilnNr),IF(MOD(EC103,2)=0,IF(MAX(TeilnNr)/2-EC103+1-(EB103-MAX(TeilnNr)/2-1)>=1,MAX(TeilnNr)/2-EC103+1-(EB103-MAX(TeilnNr)/2-1),MAX(TeilnNr)/2-EC103+1-(EB103-MAX(TeilnNr)/2-1)+MAX(TeilnNr)-1),IF(EC103-(EB103-1)>=1,EC103-(EB103-1),EC103-(EB103-1)+MAX(TeilnNr)-1)))","v":20},{"$f":"IF(AND(EC103=1,MOD(EB103,2)<>0),MAX(TeilnNr),IF(MOD(EC103,2)<>0,IF(MAX(TeilnNr)/2-EC103+1-(EB103-MAX(TeilnNr)/2-1)>=1,MAX(TeilnNr)/2-EC103+1-(EB103-MAX(TeilnNr)/2-1),MAX(TeilnNr)/2-EC103+1-(EB103-MAX(TeilnNr)/2-1)+MAX(TeilnNr)-1),IF(EC103-(EB103-1)>=1,EC103-(EB103-1),EC103-(EB103-1)+MAX(TeilnNr)-1)))","v":3},{"$f":"IF(LEFT(EA103,1)=\"V\",\"\",LEFT(EA103,1))","v":""},{"$f":"IF(RIGHT(EA103,1)=\"V\",\"\",RIGHT(EA103,1))","v":""},{"$f":"ADDRESS(ROW(Teilnehmer)+ED103,COLUMN(Teilnehmer)+EE103)","v":"$F$52"},{"$f":"ADDRESS(ROW(Teilnehmer)+EE103,COLUMN(Teilnehmer)+ED103)","v":"$W$35"},{"$f":"DH103","v":1},"Spieler 04","-",{"$f":"DK103","v":"Spieler 20"},null,{"$f":"DV103","v":1},{"$f":"DY103","v":"Spieler 03"},"-",{"$f":"DW103","v":"Spieler 20"}]
[null,null,null,null,null,null,null,null,null,null,null,null,null,null,null,null,null,null,null,null,null,null,null,null,null,null,null,null,null,null,null,null,null,null,null,null,null,null,null,null,null,null,null,null,null,null,null,null,null,null,null,null,null,null,null,null,null,null,null,null,null,null,null,null,null,null,null,null,null,null,null,null,null,null,null,null,null,null,null,null,null,null,null,null,null,null,null,null,null,null,null,null,null,null,null,null,null,null,null,null,null,null,null,null,null,null,null,null,null,null,null,{"$f":"DH103+1","v":2},"Spieler 03","-","Spieler 05",null,null,{"$f":"DN103","v":17},{"$f":"DO103+1","v":2},3,5,"","","$H$35","$F$37",{"$f":"DV103+1","v":2},"Spieler 02","-","Spieler 04",null,null,{"$f":"EB103","v":18},{"$f":"EC103+1","v":2},2,4,"","","$G$34","$E$36",{"$f":"DH104","v":2},{"$f":"DK104","v":"Spieler 05"},"-",{"$f":"DI104","v":"Spieler 03"},null,2,"Spieler 04","-","Spieler 02"]
[null,null,null,null,null,null,null,null,null,null,null,null,null,null,null,null,null,null,null,null,null,null,null,null,null,null,null,null,null,null,null,null,null,null,null,null,null,null,null,null,null,null,null,null,null,null,null,null,null,null,null,null,null,null,null,null,null,null,null,null,null,null,null,null,null,null,null,null,null,null,null,null,null,null,null,null,null,null,null,null,null,null,null,null,null,null,null,null,null,null,null,null,null,null,null,null,null,null,null,null,null,null,null,null,null,null,null,null,null,null,null,{"$f":"DH104+1","v":3},"Spieler 06","-","Spieler 02",null,null,{"$f":"DN104","v":17},{"$f":"DO104+1","v":3},6,2,"","","$E$38","$I$34",{"$f":"DV104+1","v":3},"Spieler 05","-","Spieler 01",null,null,{"$f":"EB104","v":18},{"$f":"EC104+1","v":3},5,1,"","","$D$37","$H$33",3,"Spieler 06","-",{"$f":"DK105","v":"Spieler 02"},null,3,"Spieler 05","-",{"$f":"DY105","v":"Spieler 01"}]
[null,null,null,null,null,null,null,null,null,null,null,null,null,null,null,null,null,null,null,null,null,null,null,null,null,null,null,null,null,null,null,null,null,null,null,null,null,null,null,null,null,null,null,null,null,null,null,null,null,null,null,null,null,null,null,null,null,null,null,null,null,null,null,null,null,null,null,null,null,null,null,null,null,null,null,null,null,null,null,null,null,null,null,null,null,null,null,null,null,null,null,null,null,null,null,null,null,null,null,null,null,null,null,null,null,null,null,null,null,null,null,4,"Spieler 01","-","Spieler 07",null,null,{"$f":"DN105","v":17},4,1,7,"","","$J$33","$D$39",4,"Spieler 19","-","Spieler 06",null,null,{"$f":"EB105","v":18},4,19,6,"","","$I$51","$V$38",4,{"$f":"DK106","v":"Spieler 07"},"-",{"$f":"DI106","v":"Spieler 01"},null,4,{"$f":"DY106","v":"Spieler 06"},"-",{"$f":"DW106","v":"Spieler 19"}]
[null,null,null,null,null,null,null,null,null,null,null,null,null,null,null,null,null,null,null,null,null,null,null,null,null,null,null,null,null,null,null,null,null,null,null,null,null,null,null,null,null,null,null,null,null,null,null,null,null,null,null,null,null,null,null,null,null,null,null,null,null,null,null,null,null,null,null,null,null,null,null,null,null,null,null,null,null,null,null,null,null,null,null,null,null,null,null,null,null,null,null,null,null,null,null,null,null,null,null,null,null,null,null,null,null,null,null,null,null,null,null,5,"Spieler 08","-","Spieler 19",null,null,{"$f":"DN106","v":17},5,8,19,"","","$V$40","$K$51",5,"Spieler 07","-","Spieler 18",null,null,18,5,7,18,"","","$U$39","$J$50",5,"Spieler 08","-",{"$f":"DK107","v":"Spieler 19"},null,5,"Spieler 07","-",{"$f":"DY107","v":"Spieler 18"}]
[null,null,null,null,null,null,null,null,null,null,null,null,null,null,null,null,null,null,null,null,null,null,null,null,null,null,null,null,null,null,null,null,null,null,null,null,null,null,null,null,null,null,null,null,null,null,null,null,null,null,null,null,null,null,null,null,null,null,null,null,null,null,null,null,null,null,null,null,null,null,null,null,null,null,null,null,null,null,null,null,null,null,null,null,null,null,null,null,null,null,null,null,null,null,null,null,null,null,null,null,null,null,null,null,null,null,null,null,null,null,null,6,"Spieler 18","-","Spieler 09",null,null,{"$f":"DN107","v":17},6,18,9,"","","$L$50","$U$41",6,"Spieler 17","-","Spieler 08",null,null,18,6,17,8,"","","$K$49","$T$40",6,{"$f":"DK108","v":"Spieler 09"},"-",{"$f":"DI108","v":"Spieler 18"},null,6,{"$f":"DY108","v":"Spieler 08"},"-",{"$f":"DW108","v":"Spieler 17"}]
[null,null,null,null,null,null,null,null,null,null,null,null,null,null,null,null,null,null,null,null,null,null,null,null,null,null,null,null,null,null,null,null,null,null,null,null,null,null,null,null,null,null,null,null,null,null,null,null,null,null,null,null,null,null,null,null,null,null,null,null,null,null,null,null,null,null,null,null,null,null,null,null,null,null,null,null,null,null,null,null,null,null,null,null,null,null,null,null,null,null,null,null,null,null,null,null,null,null,null,null,null,null,null,null,null,null,null,null,null,null,null,7,"Spieler 10","-","Spieler 17",null,null,{"$f":"DN108","v":17},7,10,17,"","","$T$42","$M$49",7,"Spieler 09","-","Spieler 16",null,null,18,7,9,16,"","","$S$41","$L$48",7,"Spieler 10","-",{"$f":"DK109","v":"Spieler 17"},null,7,"Spieler 09","-",{"$f":"DY109","v":"Spieler 16"}]
[null,null,null,null,null,null,null,null,null,null,null,null,null,null,null,null,null,null,null,null,null,null,null,null,null,null,null,null,null,null,null,null,null,null,null,null,null,null,null,null,null,null,null,null,null,null,null,null,null,null,null,null,null,null,null,null,null,null,null,null,null,null,null,null,null,null,null,null,null,null,null,null,null,null,null,null,null,null,null,null,null,null,null,null,null,null,null,null,null,null,null,null,null,null,null,null,null,null,null,null,null,null,null,null,null,null,null,null,null,null,null,8,"Spieler 16","-","Spieler 11",null,null,17,8,16,11,"","","$N$48","$S$43",8,"Spieler 15","-","Spieler 10",null,null,18,8,15,10,"","","$M$47","$R$42",8,{"$f":"DK110","v":"Spieler 11"},"-",{"$f":"DI110","v":"Spieler 16"},null,8,{"$f":"DY110","v":"Spieler 10"},"-",{"$f":"DW110","v":"Spieler 15"}]
[null,null,null,null,null,null,null,null,null,null,null,null,null,null,null,null,null,null,null,null,null,null,null,null,null,null,null,null,null,null,null,null,null,null,null,null,null,null,null,null,null,null,null,null,null,null,null,null,null,null,null,null,null,null,null,null,null,null,null,null,null,null,null,null,null,null,null,null,null,null,null,null,null,null,null,null,null,null,null,null,null,null,null,null,null,null,null,null,null,null,null,null,null,null,null,null,null,null,null,null,null,null,null,null,null,null,null,null,null,null,null,9,"Spieler 12","-","Spieler 15",null,null,17,9,12,15,"","","$R$44","$O$47",9,"Spieler 11","-","Spieler 14",null,null,18,9,11,14,"","","$Q$43","$N$46",9,"Spieler 12","-",{"$f":"DK111","v":"Spieler 15"},null,9,"Spieler 11","-",{"$f":"DY111","v":"Spieler 14"}]
[null,null,null,null,null,null,null,null,null,null,null,null,null,null,null,null,null,null,null,null,null,null,null,null,null,null,null,null,null,null,null,null,null,null,null,null,null,null,null,null,null,null,null,null,null,null,null,null,null,null,null,null,null,null,null,null,null,null,null,null,null,null,null,null,null,null,null,null,null,null,null,null,null,null,null,null,null,null,null,null,null,null,null,null,null,null,null,null,null,null,null,null,null,null,null,null,null,null,null,null,null,null,null,null,null,null,null,null,null,null,null,10,"Spieler 14","-","Spieler 13",null,null,17,10,14,13,"","","$P$46","$Q$45",10,"Spieler 13","-","Spieler 12",null,null,18,10,13,12,"","","$O$45","$P$44",10,{"$f":"DK112","v":"Spieler 13"},"-",{"$f":"DI112","v":"Spieler 14"},null,10,{"$f":"DY112","v":"Spieler 12"},"-",{"$f":"DW112","v":"Spieler 13"}]
[]
[null,null,null,null,null,null,null,null,null,null,null,null,null,null,null,null,null,null,null,null,null,null,null,null,null,null,null,null,null,null,null,null,null,null,null,null,null,null,null,null,null,null,null,null,null,null,null,null,null,null,null,null,null,null,null,null,null,null,null,null,null,null,null,null,null,null,null,null,null,null,null,null,null,null,null,null,null,null,null,null,null,null,null,null,null,null,null,null,null,null,null,null,null,null,null,null,null,null,null,null,null,null,null,null,null,null,null,null,null,null,null,null,{"$f":"DI102+2","v":19},null,null,null,null,"R","B","SpNr w","SpNr s","Res w","Res s",null,null,null,null,null,null,null,null,null,null,null,null,null,null,null,null,null,{"$f":"DI114","v":19},1]
[null,null,null,null,null,null,null,null,null,null,null,null,null,null,null,null,null,null,null,null,null,null,null,null,null,null,null,null,null,null,null,null,null,null,null,null,null,null,null,null,null,null,null,null,null,null,null,null,null,null,null,null,null,null,null,null,null,null,null,null,null,null,null,null,null,null,null,null,null,null,null,null,null,null,null,null,null,null,null,null,null,null,null,null,null,null,null,null,null,null,null,null,null,null,null,null,null,null,null,null,null,null,null,null,null,null,null,null,null,null,null,{"$f":"IF(OR(INDEX($DC$33:$DC$52,DP115),INDEX($DC$33:$DC$52,DQ115)),0,1)","v":1},{"$f":"INDEX($DD$33:$DD$52,MATCH($DP115,TeilnNr,0))","v":"Spieler 02"},"-",{"$f":"INDEX($DD$33:$DD$52,MATCH($DQ115,TeilnNr,0))","v":"Spieler 20"},null,null,{"$f":"DI114","v":19},1,{"$f":"IF(AND(DO115=1,MOD(DN115,2)=0),MAX(TeilnNr),IF(MOD(DO115,2)=0,IF(MAX(TeilnNr)/2-DO115+1-(DN115-MAX(TeilnNr)/2-1)>=1,MAX(TeilnNr)/2-DO115+1-(DN115-MAX(TeilnNr)/2-1),MAX(TeilnNr)/2-DO115+1-(DN115-MAX(TeilnNr)/2-1)+MAX(TeilnNr)-1),IF(DO115-(DN115-1)>=1,DO115-(DN115-1),DO115-(DN115-1)+MAX(TeilnNr)-1)))","v":2},{"$f":"IF(AND(DO115=1,MOD(DN115,2)<>0),MAX(TeilnNr),IF(MOD(DO115,2)<>0,IF(MAX(TeilnNr)/2-DO115+1-(DN115-MAX(TeilnNr)/2-1)>=1,MAX(TeilnNr)/2-DO115+1-(DN115-MAX(TeilnNr)/2-1),MAX(TeilnNr)/2-DO115+1-(DN115-MAX(TeilnNr)/2-1)+MAX(TeilnNr)-1),IF(DO115-(DN115-1)>=1,DO115-(DN115-1),DO115-(DN115-1)+MAX(TeilnNr)-1)))","v":20},{"$f":"IF(LEFT(DM115,1)=\"V\",\"\",LEFT(DM115,1))","v":""},{"$f":"IF(RIGHT(DM115,1)=\"V\",\"\",RIGHT(DM115,1))","v":""},{"$f":"ADDRESS(ROW(Teilnehmer)+DP115,COLUMN(Teilnehmer)+DQ115)","v":"$W$34"},{"$f":"ADDRESS(ROW(Teilnehmer)+DQ115,COLUMN(Teilnehmer)+DP115)","v":"$E$52"},null,null,null,null,null,null,null,null,null,null,null,null,null,null,{"$f":"DH115","v":1},"Spieler 02","-",{"$f":"DK115","v":"Spieler 20"}]
[null,null,null,null,null,null,null,null,null,null,null,null,null,null,null,null,null,null,null,null,null,null,null,null,null,null,null,null,null,null,null,null,null,null,null,null,null,null,null,null,null,null,null,null,null,null,null,null,null,null,null,null,null,null,null,null,null,null,null,null,null,null,null,null,null,null,null,null,null,null,null,null,null,null,null,null,null,null,null,null,null,null,null,null,null,null,null,null,null,null,null,null,null,null,null,null,null,null,null,null,null,null,null,null,null,null,null,null,null,null,null,{"$f":"DH115+1","v":2},"Spieler 01","-","Spieler 03",null,null,{"$f":"DN115","v":19},{"$f":"DO115+1","v":2},1,3,"","","$F$33","$D$35",null,null,null,null,null,null,null,null,null,null,null,null,null,null,{"$f":"DH116","v":2},{"$f":"DK116","v":"Spieler 03"},"-",{"$f":"DI116","v":"Spieler 01"}]
[null,null,null,null,null,null,null,null,null,null,null,null,null,null,null,null,null,null,null,null,null,null,null,null,null,null,null,null,null,null,null,null,null,null,null,null,null,null,null,null,null,null,null,null,null,null,null,null,null,null,null,null,null,null,null,null,null,null,null,null,null,null,null,null,null,null,null,null,null,null,null,null,null,null,null,null,null,null,null,null,null,null,null,null,null,null,null,null,null,null,null,null,null,null,null,null,null,null,null,null,null,null,null,null,null,null,null,null,null,null,null,{"$f":"DH116+1","v":3},"Spieler 04","-","Spieler 19",null,null,{"$f":"DN116","v":19},{"$f":"DO116+1","v":3},4,19,"","","$V$36","$G$51",null,null,null,null,null,null,null,null,null,null,null,null,null,null,3,"Spieler 04","-",{"$f":"DK117","v":"Spieler 19"}]
[null,null,null,null,null,null,null,null,null,null,null,null,null,null,null,null,null,null,null,null,null,null,null,null,null,null,null,null,null,null,null,null,null,null,null,null,null,null,null,null,null,null,null,null,null,null,null,null,null,null,null,null,null,null,null,null,null,null,null,null,null,null,null,null,null,null,null,null,null,null,null,null,null,null,null,null,null,null,null,null,null,null,null,null,null,null,null,null,null,null,null,null,null,null,null,null,null,null,null,null,null,null,null,null,null,null,null,null,null,null,null,4,"Spieler 18","-","Spieler 05",null,null,{"$f":"DN117","v":19},4,18,5,"","","$H$50","$U$37",null,null,null,null,null,null,null,null,null,null,null,null,null,null,4,{"$f":"DK118","v":"Spieler 05"},"-",{"$f":"DI118","v":"Spieler 18"}]
[null,null,null,null,null,null,null,null,null,null,null,null,null,null,null,null,null,null,null,null,null,null,null,null,null,null,null,null,null,null,null,null,null,null,null,null,null,null,null,null,null,null,null,null,null,null,null,null,null,null,null,null,null,null,null,null,null,null,null,null,null,null,null,null,null,null,null,null,null,null,null,null,null,null,null,null,null,null,null,null,null,null,null,null,null,null,null,null,null,null,null,null,null,null,null,null,null,null,null,null,null,null,null,null,null,null,null,null,null,null,null,5,"Spieler 06","-","Spieler 17",null,null,{"$f":"DN118","v":19},5,6,17,"","","$T$38","$I$49",null,null,null,null,null,null,null,null,null,null,null,null,null,null,5,"Spieler 06","-",{"$f":"DK119","v":"Spieler 17"}]
[null,null,null,null,null,null,null,null,null,null,null,null,null,null,null,null,null,null,null,null,null,null,null,null,null,null,null,null,null,null,null,null,null,null,null,null,null,null,null,null,null,null,null,null,null,null,null,null,null,null,null,null,null,null,null,null,null,null,null,null,null,null,null,null,null,null,null,null,null,null,null,null,null,null,null,null,null,null,null,null,null,null,null,null,null,null,null,null,null,null,null,null,null,null,null,null,null,null,null,null,null,null,null,null,null,null,null,null,null,null,null,6,"Spieler 16","-","Spieler 07",null,null,{"$f":"DN119","v":19},6,16,7,"","","$J$48","$S$39",null,null,null,null,null,null,null,null,null,null,null,null,null,null,6,{"$f":"DK120","v":"Spieler 07"},"-",{"$f":"DI120","v":"Spieler 16"}]
[null,null,null,null,null,null,null,null,null,null,null,null,null,null,null,null,null,null,null,null,null,null,null,null,null,null,null,null,null,null,null,null,null,null,null,null,null,null,null,null,null,null,null,null,null,null,null,null,null,null,null,null,null,null,null,null,null,null,null,null,null,null,null,null,null,null,null,null,null,null,null,null,null,null,null,null,null,null,null,null,null,null,null,null,null,null,null,null,null,null,null,null,null,null,null,null,null,null,null,null,null,null,null,null,null,null,null,null,null,null,null,7,"Spieler 08","-","Spieler 15",null,null,{"$f":"DN120","v":19},7,8,15,"","","$R$40","$K$47",null,null,null,null,null,null,null,null,null,null,null,null,null,null,7,"Spieler 08","-",{"$f":"DK121","v":"Spieler 15"}]
[null,null,null,null,null,null,null,null,null,null,null,null,null,null,null,null,null,null,null,null,null,null,null,null,null,null,null,null,null,null,null,null,null,null,null,null,null,null,null,null,null,null,null,null,null,null,null,null,null,null,null,null,null,null,null,null,null,null,null,null,null,null,null,null,null,null,null,null,null,null,null,null,null,null,null,null,null,null,null,null,null,null,null,null,null,null,null,null,null,null,null,null,null,null,null,null,null,null,null,null,null,null,null,null,null,null,null,null,null,null,null,8,"Spieler 14","-","Spieler 09",null,null,19,8,14,9,"","","$L$46","$Q$41",null,null,null,null,null,null,null,null,null,null,null,null,null,null,8,{"$f":"DK122","v":"Spieler 09"},"-",{"$f":"DI122","v":"Spieler 14"}]
[null,null,null,null,null,null,null,null,null,null,null,null,null,null,null,null,null,null,null,null,null,null,null,null,null,null,null,null,null,null,null,null,null,null,null,null,null,null,null,null,null,null,null,null,null,null,null,null,null,null,null,null,null,null,null,null,null,null,null,null,null,null,null,null,null,null,null,null,null,null,null,null,null,null,null,null,null,null,null,null,null,null,null,null,null,null,null,null,null,null,null,null,null,null,null,null,null,null,null,null,null,null,null,null,null,null,null,null,null,null,null,9,"Spieler 10","-","Spieler 13",null,null,19,9,10,13,"","","$P$42","$M$45",null,null,null,null,null,null,null,null,null,null,null,null,null,null,9,"Spieler 10","-",{"$f":"DK123","v":"Spieler 13"}]
[null,null,null,null,null,null,null,null,null,null,null,null,null,null,null,null,null,null,null,null,null,null,null,null,null,null,null,null,null,null,null,null,null,null,null,null,null,null,null,null,null,null,null,null,null,null,null,null,null,null,null,null,null,null,null,null,null,null,null,null,null,null,null,null,null,null,null,null,null,null,null,null,null,null,null,null,null,null,null,null,null,null,null,null,null,null,null,null,null,null,null,null,null,null,null,null,null,null,null,null,null,null,null,null,null,null,null,null,null,null,null,10,"Spieler 12","-","Spieler 11",null,null,19,10,12,11,"","","$N$44","$O$43",null,null,null,null,null,null,null,null,null,null,null,null,null,null,10,{"$f":"DK124","v":"Spieler 11"},"-",{"$f":"DI124","v":"Spieler 12"}]

{"sheet":"18","index":4,"n_rows":103,"n_cols":142,"rows_kept":103,"cut":false,"hidden":false,"merged":[[49,108,49,110],[49,122,49,124],[0,1,0,27],[1,122,1,124],[3,108,3,124],[5,108,5,110],[5,122,5,124],[16,108,16,110],[16,122,16,124],[27,108,27,110],[27,122,27,124],[28,25,28,26],[38,108,38,110],[38,122,38,124],[93,108,93,110],[60,108,60,110],[60,122,60,124],[71,108,71,110],[71,122,71,124],[82,108,82,110],[82,122,82,124]]}
[null,"Turniername",null,null,null,null,null,null,null,null,null,null,null,null,null,null,null,null,null,null,null,null,null,null,null,null,null,null,null,null,null,null,null,null,null,null,null,null,null,null,null,null,null,null,null,null,null,null,null,null,null,1,"1) Punkte 2) So-Be 3) Manuelle Feinwertung ",null,null,null,null,null,null,null,null,null,null,null,null,null,null,null,null,null,null,null,null,null,null,null,null,null,null,null,null,null,null,null,null,null,null,null,null,"Wiederholung Kriterien:",null,null,null,null,null,null,null,null,null,null,null,null,null,null,null,null,{"$f":"\"Paarungsliste und Resultate \"&IF(Turnier=\"\",\"\",Turnier)","v":"Paarungsliste und Resultate Turniername"},null,null,null,null,null,null,null,null,null,null,null,null,null,null,null,null,null,null,null,null,null,null,null,null,null,null,null,"Paarungsliste Darstellung Rutschsystem",null,null,null,null,null,{"$f":"IF(Datum=\"\",\"\",\"Datum:\")","v":""}]
[null,null,null,null,null,null,null,null,null,null,null,null,null,null,null,null,null,null,null,null,null,null,null,null,null,null,null,null,null,null,null,null,null,null,null,null,null,null,null,null,null,null,null,null,null,null,null,null,"a","b","P",2,"1) Punkte 2) So-Be 3) direkte Begegnung 4) Manuelle Feinwertung ",null,null,null,null,null,null,null,null,null,null,null,null,null,null,null,null,null,null,null,null,null,null,null,null,null,null,null,null,null,null,null,null,null,null,null,1,{"$f":"BA1","v":"1) Punkte 2) So-Be 3) Manuelle Feinwertung "},null,null,null,null,null,null,null,null,null,null,null,null,null,null,null,null,{"$f":"IF(Turnier=\"\",\"\",\"Turniername:\")","v":"Turniername:"},null,{"$f":"IF(Turnier=\"\",\"\",Turnier)","v":"Turniername"},null,null,null,null,null,null,null,null,null,null,null,null,"Datum:",null,null,null,null,null,null,null,null,null,null,null,null,{"$f":"IF(Turnier=\"\",\"\",\"Turniername:\")","v":"Turniername:"},null,{"$f":"IF(Turnier=\"\",\"\",Turnier)&IF(Datum=\"\",\"\",\", \"&TEXT(Datum,\"TT.MM.JJJJ\"))","v":"Turniername"}]
[null,null,null,null,null,null,null,null,null,null,null,null,null,null,null,null,null,null,null,null,null,null,null,null,null,null,null,null,null,null,null,null,null,null,null,null,null,null,null,null,null,null,null,null,null,null,null,null,"1","0",1,3,"1) Punkte 2) Anz. Partien 3) So-Be 4) Manuelle Feinwertung "]
[null,"Rangliste",null,null,null,null,null,null,null,null,null,null,null,null,null,null,null,null,null,null,null,null,null,null,null,null,null,null,null,null,null,null,null,null,null,null,null,null,null,null,null,null,null,null,null,null,null,null,"0","1",0,4,"1) Punkte 2) Anz. Partien 3) So-Be 4) direkte Begegnung 5) Manuelle Feinwertung ",null,null,null,null,null,null,null,null,null,null,null,null,null,null,null,null,null,null,null,null,null,null,null,null,null,null,null,null,null,null,null,null,null,null,null,2,{"$f":"BA2","v":"1) Punkte 2) So-Be 3) direkte Begegnung 4) Manuelle Feinwertung "},null,null,null,null,null,null,null,null,null,null,null,null,null,null,null,null,"Turnierleitung:",null,null,null,null,null,null,null,null,null,null,null,null,null,null,null,null,null,null,null,null,null,null,null,null,null,null,null,{"$f":"IF(Turnierleitung=\"\",\"\",\"Turnierleitung:\")","v":""},null,{"$f":"IF(Turnierleitung=\"\",\"\",Turnierleitung)","v":""}]
[null,null,null,null,null,null,null,null,null,null,null,null,null,null,null,null,null,null,null,null,null,null,null,null,null,null,null,null,null,null,null,null,null,null,null,null,null,null,null,null,null,null,null,null,null,null,null,null,"½","½",0.5,5,"1) Punkte 2) Anz. Partien 3) So-Be 4) direkte Begegnung 5) Anz.Schwarzpartien 6) Manuelle Feinwertung ",null,null,null,null,null,null,null,null,null,null,null,null,null,null,null,null,null,null,null,null,null,null,null,null,null,null,null,null,null,null,null,null,null,null,null,3,"1) Punkte 2) Anz. Partien 3) So-Be 4) Manuelle Feinwertung "]
[null,"Rang","Teilnehmer",1,2,3,4,5,6,7,8,9,10,11,12,13,14,15,16,17,18,"Punkte","Spiele","So-Be",{"$f":"IF(Y30=\"\",\"FWm\",Y30)","v":"FW+"},1,"½",0,"Nr",null,null,null,null,null,null,null,null,null,null,null,null,null,null,null,null,null,null,null,"+","-",1,6,"1) Punkte 2) Anz. Partien 3) So-Be 4) Anz.Schwarzpartien 5) direkte Begegnung 6) Manuelle Feinwertung ",null,null,null,null,null,null,null,null,null,null,null,null,null,null,null,null,null,null,null,null,null,null,null,null,null,null,null,null,null,null,null,null,null,null,null,4,"1) Punkte 2) Anz. Partien 3) So-Be 4) direkte Begegnung 5) Manuelle Feinwertung ",null,null,null,null,null,null,null,null,null,null,null,null,null,null,null,null,1,null,null,null,null,"R","B","SpNr w","SpNr s","Res w","Res s","AdrTTw","AdrTTs",null,{"$f":"DC6+1","v":2},null,null,null,null,"R","B","SpNr w","SpNr s","Res w","Res s","AdrTTw","AdrTTs",null,{"$f":"DC6","v":1},1,null,null,null,{"$f":"DQ6","v":2}]
[null,{"$f":"IF(INDEX($CW$31:$CW$48,MATCH(B31,$DA$31:$DA$48,0)),\"--\",IF(INDEX($CV$31:$CV$48,MATCH(B31,$DA$31:$DA$48,0))<ROW()-ROW($B$6),\"\",INDEX($CV$31:$CV$48,MATCH(B31,$DA$31:$DA$48,0))))","v":1},{"$f":"IF(INDEX($C$31:$C$48,MATCH(B31,$DA$31:$DA$48,0))=0,\"Spieler \"&TEXT(AC7,\"00\"),INDEX($C$31:$C$48,MATCH(B31,$DA$31:$DA$48,0)))","v":"Spieler 01"},{"$f":"IF(INDEX($B$30:$U$48,MATCH($AC7,$B$30:$B$48,0),MATCH(INDEX($B$31:$B$48,MATCH(OFFSET($AC$6,D$6,0),$B$31:$B$48,0)),$B$30:$U$30,0))=\"\",\"\",INDEX($B$30:$U$48,MATCH($AC7,$B$30:$B$48,0),MATCH(INDEX($B$31:$B$48,MATCH(OFFSET($AC$6,D$6,0),$B$31:$B$48,0)),$B$30:$U$30,0)))","v":""},"","","","","","","","","",{"$f":"IF(INDEX($B$30:$U$48,MATCH($AC7,$B$30:$B$48,0),MATCH(INDEX($B$31:$B$48,MATCH(OFFSET($AC$6,N$6,0),$B$31:$B$48,0)),$B$30:$U$30,0))=\"\",\"\",INDEX($B$30:$U$48,MATCH($AC7,$B$30:$B$48,0),MATCH(INDEX($B$31:$B$48,MATCH(OFFSET($AC$6,N$6,0),$B$31:$B$48,0)),$B$30:$U$30,0)))","v":""},"","","","","","","",{"$f":"INDEX($AV$31:$AV$48,MATCH(AC7,$B$31:$B$48,0))","v":0},{"$f":"INDEX($W$31:$W$48,MATCH(AC7,$B$31:$B$48,0))","v":0},{"$f":"INDEX($X$31:$X$48,MATCH(AC7,$B$31:$B$48,0))","v":0},{"$f":"INDEX($Y$31:$Y$48,MATCH(AC7,$B$31:$B$48,0))","v":0},{"$f":"COUNTIF($D7:$U7,1)+COUNTIF($D7:$U7,\"+\")","v":0},{"$f":"COUNTIF($D7:$U7,\"½\")","v":0},{"$f":"COUNTIF($D7:$U7,0)+COUNTIF($D7:$U7,\"-\")","v":0},{"$f":"INDEX($B$31:$B$48,MATCH(B31,$DA$31:$DA$48,0))","v":1},null,null,null,null,null,null,null,null,null,null,null,null,null,null,null,null,null,null,null,"-","+",0,7,"1) Punkte 2) Anz. Partien 3) direkte Begegnung 4) So-Be 5) Anz.Schwarzpartien 6) Manuelle Feinwertung ",null,null,null,null,null,null,null,null,null,null,null,null,null,null,null,null,null,null,null,null,null,null,null,null,null,null,null,null,null,null,null,null,null,null,null,5,"1) Punkte 2) Anz. Partien 3) So-Be 4) direkte Begegnung 5) Anz.Schwarzpartien 6) Manuelle Feinwertung ",null,null,null,null,null,null,null,null,null,null,null,null,null,null,null,{"$f":"IF(OR(INDEX($CW$31:$CW$48,DJ7),INDEX($CW$31:$CW$48,DK7)),0,1)","v":1},{"$f":"INDEX($CX$31:$CX$48,MATCH($DJ7,TeilnNr,0))","v":"Spieler 01"},"-",{"$f":"INDEX($CX$31:$CX$48,MATCH($DK7,TeilnNr,0))","v":"Spieler 18"},null,null,{"$f":"DC6","v":1},1,{"$f":"IF(AND(DI7=1,MOD(DH7,2)=0),MAX(TeilnNr),IF(MOD(DI7,2)=0,IF(MAX(TeilnNr)/2-DI7+1-(DH7-MAX(TeilnNr)/2-1)>=1,MAX(TeilnNr)/2-DI7+1-(DH7-MAX(TeilnNr)/2-1),MAX(TeilnNr)/2-DI7+1-(DH7-MAX(TeilnNr)/2-1)+MAX(TeilnNr)-1),IF(DI7-(DH7-1)>=1,DI7-(DH7-1),DI7-(DH7-1)+MAX(TeilnNr)-1)))","v":1},{"$f":"IF(AND(DI7=1,MOD(DH7,2)<>0),MAX(TeilnNr),IF(MOD(DI7,2)<>0,IF(MAX(TeilnNr)/2-DI7+1-(DH7-MAX(TeilnNr)/2-1)>=1,MAX(TeilnNr)/2-DI7+1-(DH7-MAX(TeilnNr)/2-1),MAX(TeilnNr)/2-DI7+1-(DH7-MAX(TeilnNr)/2-1)+MAX(TeilnNr)-1),IF(DI7-(DH7-1)>=1,DI7-(DH7-1),DI7-(DH7-1)+MAX(TeilnNr)-1)))","v":18},{"$f":"IF(LEFT(DG7,1)=\"V\",\"\",LEFT(DG7,1))","v":""},{"$f":"IF(RIGHT(DG7,1)=\"V\",\"\",RIGHT(DG7,1))","v":""},{"$f":"ADDRESS(ROW(Teilnehmer)+DJ7,COLUMN(Teilnehmer)+DK7)","v":"$U$31"},{"$f":"ADDRESS(ROW(Teilnehmer)+DK7,COLUMN(Teilnehmer)+DJ7)","v":"$D$48"},{"$f":"IF(OR(INDEX($CW$31:$CW$48,DX7),INDEX($CW$31:$CW$48,DY7)),0,1)","v":1},{"$f":"INDEX($CX$31:$CX$48,MATCH($DX7,TeilnNr,0))","v":"Spieler 18"},"-",{"$f":"INDEX($CX$31:$CX$48,MATCH($DY7,TeilnNr,0))","v":"Spieler 17"},null,null,{"$f":"DQ6","v":2},1,{"$f":"IF(AND(DW7=1,MOD(DV7,2)=0),MAX(TeilnNr),IF(MOD(DW7,2)=0,IF(MAX(TeilnNr)/2-DW7+1-(DV7-MAX(TeilnNr)/2-1)>=1,MAX(TeilnNr)/2-DW7+1-(DV7-MAX(TeilnNr)/2-1),MAX(TeilnNr)/2-DW7+1-(DV7-MAX(TeilnNr)/2-1)+MAX(TeilnNr)-1),IF(DW7-(DV7-1)>=1,DW7-(DV7-1),DW7-(DV7-1)+MAX(TeilnNr)-1)))","v":18},{"$f":"IF(AND(DW7=1,MOD(DV7,2)<>0),MAX(TeilnNr),IF(MOD(DW7,2)<>0,IF(MAX(TeilnNr)/2-DW7+1-(DV7-MAX(TeilnNr)/2-1)>=1,MAX(TeilnNr)/2-DW7+1-(DV7-MAX(TeilnNr)/2-1),MAX(TeilnNr)/2-DW7+1-(DV7-MAX(TeilnNr)/2-1)+MAX(TeilnNr)-1),IF(DW7-(DV7-1)>=1,DW7-(DV7-1),DW7-(DV7-1)+MAX(TeilnNr)-1)))","v":17},{"$f":"IF(LEFT(DU7,1)=\"V\",\"\",LEFT(DU7,1))","v":""},{"$f":"IF(RIGHT(DU7,1)=\"V\",\"\",RIGHT(DU7,1))","v":""},{"$f":"ADDRESS(ROW(Teilnehmer)+DX7,COLUMN(Teilnehmer)+DY7)","v":"$T$48"},{"$f":"ADDRESS(ROW(Teilnehmer)+DY7,COLUMN(Teilnehmer)+DX7)","v":"$U$47"},{"$f":"DB7","v":1},{"$f":"DC7","v":"Spieler 01"},"-",{"$f":"DE7","v":"Spieler 18"},null,{"$f":"DP7","v":1},{"$f":"DS7","v":"Spieler 17"},"-",{"$f":"DQ7","v":"Spieler 18"}]
[null,"","Spieler 02","","","","","","","","","","","","","","","","","","",0,0,0,0,0,0,0,2,null,null,null,null,null,null,null,null,null,null,null,null,null,null,null,null,null,null,null,null,null,null,8,"1) Punkte 2) Anz. Partien 3) direkte Begegnung 4) Anz.Schwarzpartien 5) So-Be 6) Manuelle Feinwertung ",null,null,null,null,null,null,null,null,null,null,null,null,null,null,null,null,null,null,null,null,null,null,null,null,null,null,null,null,null,null,null,null,null,null,null,6,"1) Punkte 2) Anz. Partien 3) So-Be 4) Anz.Schwarzpartien 5) direkte Begegnung 6) Manuelle Feinwertung ",null,null,null,null,null,null,null,null,null,null,null,null,null,null,null,{"$f":"DB7+1","v":2},"Spieler 17","-","Spieler 02",null,null,{"$f":"DH7","v":1},{"$f":"DI7+1","v":2},17,2,"","","$E$47","$T$32",{"$f":"DP7+1","v":2},"Spieler 16","-","Spieler 01",null,null,{"$f":"DV7","v":2},{"$f":"DW7+1","v":2},16,1,"","","$D$46","$S$31",{"$f":"DB8","v":2},{"$f":"DE8","v":"Spieler 02"},"-",{"$f":"DC8","v":"Spieler 17"},null,{"$f":"DP8","v":2},{"$f":"DS8","v":"Spieler 01"},"-",{"$f":"DQ8","v":"Spieler 16"}]
[null,"","Spieler 03","","","","","","","","","","","","","","","","","","",0,0,0,0,0,0,0,3,null,null,null,null,null,null,null,null,null,null,null,null,null,null,null,null,null,null,null,null,null,null,9,"1) Punkte 2) Anz. Partien 3) Anz.Schwarzpartien 4) So-Be 5) direkte Begegnung 6) Manuelle Feinwertung ",null,null,null,null,null,null,null,null,null,null,null,null,null,null,null,null,null,null,null,null,null,null,null,null,null,null,null,null,null,null,null,null,null,null,null,7,"1) Punkte 2) Anz. Partien 3) direkte Begegnung 4) So-Be 5) Anz.Schwarzpartien 6) Manuelle Feinwertung ",null,null,null,null,null,null,null,null,null,null,null,null,null,null,null,{"$f":"DB8+1","v":3},"Spieler 03","-","Spieler 16",null,null,{"$f":"DH8","v":1},{"$f":"DI8+1","v":3},3,16,"","","$S$33","$F$46",{"$f":"DP8+1","v":3},"Spieler 02","-","Spieler 15",null,null,{"$f":"DV8","v":2},{"$f":"DW8+1","v":3},2,15,"","","$R$32","$E$45",{"$f":"DB9","v":3},{"$f":"DC9","v":"Spieler 03"},"-",{"$f":"DE9","v":"Spieler 16"},null,{"$f":"DP9","v":3},{"$f":"DQ9","v":"Spieler 02"},"-",{"$f":"DS9","v":"Spieler 15"}]
[null,"","Spieler 04","","","","","","","","","","","","","","","","","","",0,0,0,0,0,0,0,4,null,null,null,null,null,null,null,null,null,null,null,null,null,null,null,null,null,null,null,null,null,4,10,"1) Punkte 2) Anz. Partien 3) Anz.Schwarzpartien 4) direkte Begegnung 5) So-Be 6) Manuelle Feinwertung ",null,null,null,null,null,null,null,null,null,null,null,null,null,null,null,null,null,null,null,null,null,null,null,null,null,null,null,null,null,null,null,null,null,null,null,8,"1) Punkte 2) Anz. Partien 3) direkte Begegnung 4) Anz.Schwarzpartien 5) So-Be 6) Manuelle Feinwertung ",null,null,null,null,null,null,null,null,null,null,null,null,null,null,null,4,"Spieler 15","-","Spieler 04",null,null,{"$f":"DH9","v":1},4,15,4,"","","$G$45","$R$34",4,"Spieler 14","-","Spieler 03",null,null,{"$f":"DV9","v":2},4,14,3,"","","$F$44","$Q$33",{"$f":"DB10","v":4},{"$f":"DE10","v":"Spieler 04"},"-",{"$f":"DC10","v":"Spieler 15"},null,{"$f":"DP10","v":4},{"$f":"DS10","v":"Spieler 03"},"-",{"$f":"DQ10","v":"Spieler 14"}]
[null,"","Spieler 05","","","","","","","","","","","","","","","","","","",0,0,0,0,0,0,0,5,null,null,null,null,null,null,null,null,null,null,null,null,null,null,null,null,null,null,null,null,null,null,null,null,null,null,null,null,null,null,null,null,null,null,null,null,null,null,null,null,null,null,null,null,null,null,null,null,null,null,null,null,null,null,null,null,null,null,null,9,"1) Punkte 2) Anz. Partien 3) Anz.Schwarzpartien 4) So-Be 5) direkte Begegnung 6) Manuelle Feinwertung ",null,null,null,null,null,null,null,null,null,null,null,null,null,null,null,5,"Spieler 05","-","Spieler 14",null,null,1,5,5,14,"","","$Q$35","$H$44",5,"Spieler 04","-","Spieler 13",null,null,2,5,4,13,"","","$P$34","$G$43",5,"Spieler 05","-",{"$f":"DE11","v":"Spieler 14"},null,5,"Spieler 04","-",{"$f":"DS11","v":"Spieler 13"}]
[null,"","Spieler 06","","","","","","","","","","","","","","","","","","",0,0,0,0,0,0,0,6,null,null,null,null,null,null,null,null,null,null,null,null,null,null,null,null,null,null,null,null,null,null,null,null,null,null,null,null,null,null,null,null,null,null,null,null,null,null,null,null,null,null,null,null,null,null,null,null,null,null,null,null,null,null,null,null,null,null,null,10,"1) Punkte 2) Anz. Partien 3) Anz.Schwarzpartien 4) direkte Begegnung 5) So-Be 6) Manuelle Feinwertung ",null,null,null,null,null,null,null,null,null,null,null,null,null,null,null,6,"Spieler 13","-","Spieler 06",null,null,1,6,13,6,"","","$I$43","$P$36",6,"Spieler 12","-","Spieler 05",null,null,2,6,12,5,"","","$H$42","$O$35",6,{"$f":"DE12","v":"Spieler 06"},"-",{"$f":"DC12","v":"Spieler 13"},null,6,{"$f":"DS12","v":"Spieler 05"},"-",{"$f":"DQ12","v":"Spieler 12"}]
[null,"","Spieler 07","","","","","","","","","","","","","","","","","","",0,0,0,0,0,0,0,7,null,null,null,null,null,null,null,null,null,null,null,null,null,null,null,null,null,null,null,null,null,null,null,null,null,null,null,null,null,null,null,null,null,null,null,null,null,null,null,null,null,null,null,null,null,null,null,null,null,null,null,null,null,null,null,null,null,null,null,null,null,null,null,null,null,null,null,null,null,null,null,null,null,null,null,null,7,"Spieler 07","-","Spieler 12",null,null,1,7,7,12,"","",{"$f":"ADDRESS(ROW(Teilnehmer)+DJ13,COLUMN(Teilnehmer)+DK13)","v":"$O$37"},{"$f":"ADDRESS(ROW(Teilnehmer)+DK13,COLUMN(Teilnehmer)+DJ13)","v":"$J$42"},7,"Spieler 06","-","Spieler 11",null,null,2,7,6,11,"","",{"$f":"ADDRESS(ROW(Teilnehmer)+DX13,COLUMN(Teilnehmer)+DY13)","v":"$N$36"},{"$f":"ADDRESS(ROW(Teilnehmer)+DY13,COLUMN(Teilnehmer)+DX13)","v":"$I$41"},7,"Spieler 07","-",{"$f":"DE13","v":"Spieler 12"},null,7,"Spieler 06","-",{"$f":"DS13","v":"Spieler 11"}]
[null,"","Spieler 08","","","","","","","","","","","","","","","","","","",0,0,0,0,0,0,0,8,null,null,null,null,null,null,null,null,null,null,null,null,null,null,null,null,null,null,null,null,null,null,null,null,null,null,null,null,null,null,null,null,null,null,null,null,null,null,null,null,null,null,null,null,null,null,null,null,null,null,null,null,null,null,null,null,null,null,null,null,null,null,null,null,null,null,null,null,null,null,null,null,null,null,null,null,8,"Spieler 11","-","Spieler 08",null,null,1,8,11,8,"","","$K$41","$N$38",8,"Spieler 10","-","Spieler 07",null,null,2,8,10,7,"","","$J$40","$M$37",8,{"$f":"DE14","v":"Spieler 08"},"-",{"$f":"DC14","v":"Spieler 11"},null,8,{"$f":"DS14","v":"Spieler 07"},"-",{"$f":"DQ14","v":"Spieler 10"}]
[null,"","Spieler 09","","","","","","","","","","","","","","","","","","",0,0,0,0,0,0,0,9,null,null,null,null,null,null,null,null,null,null,null,null,null,null,null,null,null,null,null,null,null,null,null,null,null,null,null,null,null,null,null,null,null,null,null,null,null,null,null,null,null,null,null,null,null,null,null,null,null,null,null,null,null,null,null,null,null,null,null,null,null,null,null,null,null,null,null,null,null,null,null,null,null,null,null,null,9,"Spieler 09","-","Spieler 10",null,null,1,9,9,10,"","","$M$39","$L$40",9,"Spieler 08","-","Spieler 09",null,null,2,9,8,9,"","","$L$38","$K$39",9,"Spieler 09","-",{"$f":"DE15","v":"Spieler 10"},null,9,"Spieler 08","-",{"$f":"DS15","v":"Spieler 09"}]
[null,"","Spieler 10","","","","","","","","","","","","","","","","","","",0,0,0,0,0,0,0,10]
[null,"","Spieler 11",{"$f":"IF(INDEX($B$30:$U$48,MATCH($AC17,$B$30:$B$48,0),MATCH(INDEX($B$31:$B$48,MATCH(OFFSET($AC$6,D$6,0),$B$31:$B$48,0)),$B$30:$U$30,0))=\"\",\"\",INDEX($B$30:$U$48,MATCH($AC17,$B$30:$B$48,0),MATCH(INDEX($B$31:$B$48,MATCH(OFFSET($AC$6,D$6,0),$B$31:$B$48,0)),$B$30:$U$30,0)))","v":""},"","","","","","","","","",{"$f":"IF(INDEX($B$30:$U$48,MATCH($AC17,$B$30:$B$48,0),MATCH(INDEX($B$31:$B$48,MATCH(OFFSET($AC$6,N$6,0),$B$31:$B$48,0)),$B$30:$U$30,0))=\"\",\"\",INDEX($B$30:$U$48,MATCH($AC17,$B$30:$B$48,0),MATCH(INDEX($B$31:$B$48,MATCH(OFFSET($AC$6,N$6,0),$B$31:$B$48,0)),$B$30:$U$30,0)))","v":""},"","","","","","","",0,0,0,0,0,0,0,11,null,null,null,null,null,null,null,null,null,null,null,null,null,null,null,null,null,null,null,null,null,null,null,null,null,null,null,null,null,null,null,null,null,null,null,null,null,null,null,null,null,null,null,null,null,null,null,null,null,null,null,null,null,null,null,null,null,null,null,null,null,null,null,null,null,null,null,null,null,null,null,null,null,null,null,null,null,{"$f":"DC6+2","v":3},null,null,null,null,"R","B","SpNr w","SpNr s","Res w","Res s",null,null,null,{"$f":"DQ6+2","v":4},null,null,null,null,"R","B","SpNr w","SpNr s","Res w","Res s",null,null,null,{"$f":"DC17","v":3},1,null,null,null,{"$f":"DQ17","v":4}]
[null,"","Spieler 12","","","","","","","","","","","","","","","","","","",0,0,0,0,0,0,0,12,null,null,null,null,null,null,null,null,null,null,null,null,null,null,null,null,null,null,null,null,null,null,null,null,null,null,null,null,null,null,null,null,null,null,null,null,null,null,null,null,null,null,null,null,null,null,null,null,null,null,null,null,null,null,null,null,null,null,null,null,null,null,null,null,null,null,null,null,null,null,null,null,null,null,null,null,{"$f":"IF(OR(INDEX($CW$31:$CW$48,DJ18),INDEX($CW$31:$CW$48,DK18)),0,1)","v":1},{"$f":"INDEX($CX$31:$CX$48,MATCH($DJ18,TeilnNr,0))","v":"Spieler 16"},"-",{"$f":"INDEX($CX$31:$CX$48,MATCH($DK18,TeilnNr,0))","v":"Spieler 18"},null,null,{"$f":"DC17","v":3},1,{"$f":"IF(AND(DI18=1,MOD(DH18,2)=0),MAX(TeilnNr),IF(MOD(DI18,2)=0,IF(MAX(TeilnNr)/2-DI18+1-(DH18-MAX(TeilnNr)/2-1)>=1,MAX(TeilnNr)/2-DI18+1-(DH18-MAX(TeilnNr)/2-1),MAX(TeilnNr)/2-DI18+1-(DH18-MAX(TeilnNr)/2-1)+MAX(TeilnNr)-1),IF(DI18-(DH18-1)>=1,DI18-(DH18-1),DI18-(DH18-1)+MAX(TeilnNr)-1)))","v":16},{"$f":"IF(AND(DI18=1,MOD(DH18,2)<>0),MAX(TeilnNr),IF(MOD(DI18,2)<>0,IF(MAX(TeilnNr)/2-DI18+1-(DH18-MAX(TeilnNr)/2-1)>=1,MAX(TeilnNr)/2-DI18+1-(DH18-MAX(TeilnNr)/2-1),MAX(TeilnNr)/2-DI18+1-(DH18-MAX(TeilnNr)/2-1)+MAX(TeilnNr)-1),IF(DI18-(DH18-1)>=1,DI18-(DH18-1),DI18-(DH18-1)+MAX(TeilnNr)-1)))","v":18},{"$f":"IF(LEFT(DG18,1)=\"V\",\"\",LEFT(DG18,1))","v":""},{"$f":"IF(RIGHT(DG18,1)=\"V\",\"\",RIGHT(DG18,1))","v":""},{"$f":"ADDRESS(ROW(Teilnehmer)+DJ18,COLUMN(Teilnehmer)+DK18)","v":"$U$46"},{"$f":"ADDRESS(ROW(Teilnehmer)+DK18,COLUMN(Teilnehmer)+DJ18)","v":"$S$48"},{"$f":"IF(OR(INDEX($CW$31:$CW$48,DX18),INDEX($CW$31:$CW$48,DY18)),0,1)","v":1},{"$f":"INDEX($CX$31:$CX$48,MATCH($DX18,TeilnNr,0))","v":"Spieler 18"},"-",{"$f":"INDEX($CX$31:$CX$48,MATCH($DY18,TeilnNr,0))","v":"Spieler 15"},null,null,{"$f":"DQ17","v":4},1,{"$f":"IF(AND(DW18=1,MOD(DV18,2)=0),MAX(TeilnNr),IF(MOD(DW18,2)=0,IF(MAX(TeilnNr)/2-DW18+1-(DV18-MAX(TeilnNr)/2-1)>=1,MAX(TeilnNr)/2-DW18+1-(DV18-MAX(TeilnNr)/2-1),MAX(TeilnNr)/2-DW18+1-(DV18-MAX(TeilnNr)/2-1)+MAX(TeilnNr)-1),IF(DW18-(DV18-1)>=1,DW18-(DV18-1),DW18-(DV18-1)+MAX(TeilnNr)-1)))","v":18},{"$f":"IF(AND(DW18=1,MOD(DV18,2)<>0),MAX(TeilnNr),IF(MOD(DW18,2)<>0,IF(MAX(TeilnNr)/2-DW18+1-(DV18-MAX(TeilnNr)/2-1)>=1,MAX(TeilnNr)/2-DW18+1-(DV18-MAX(TeilnNr)/2-1),MAX(TeilnNr)/2-DW18+1-(DV18-MAX(TeilnNr)/2-1)+MAX(TeilnNr)-1),IF(DW18-(DV18-1)>=1,DW18-(DV18-1),DW18-(DV18-1)+MAX(TeilnNr)-1)))","v":15},{"$f":"IF(LEFT(DU18,1)=\"V\",\"\",LEFT(DU18,1))","v":""},{"$f":"IF(RIGHT(DU18,1)=\"V\",\"\",RIGHT(DU18,1))","v":""},{"$f":"ADDRESS(ROW(Teilnehmer)+DX18,COLUMN(Teilnehmer)+DY18)","v":"$R$48"},{"$f":"ADDRESS(ROW(Teilnehmer)+DY18,COLUMN(Teilnehmer)+DX18)","v":"$U$45"},{"$f":"DB18","v":1},"Spieler 16","-",{"$f":"DE18","v":"Spieler 18"},null,{"$f":"DP18","v":1},{"$f":"DS18","v":"Spieler 15"},"-",{"$f":"DQ18","v":"Spieler 18"}]
[null,"","Spieler 13","","","","","","","","","","","","","","","","","","",0,0,0,0,0,0,0,13,null,null,null,null,null,null,null,null,null,null,null,null,null,null,null,null,null,null,null,null,null,null,null,null,null,null,null,null,null,null,null,null,null,null,null,null,null,null,null,null,null,null,null,null,null,null,null,null,null,null,null,null,null,null,null,null,null,null,null,null,null,null,null,null,null,null,null,null,null,null,null,null,null,null,null,null,{"$f":"DB18+1","v":2},"Spieler 15","-","Spieler 17",null,null,{"$f":"DH18","v":3},{"$f":"DI18+1","v":2},15,17,"","","$T$45","$R$47",{"$f":"DP18+1","v":2},"Spieler 14","-","Spieler 16",null,null,{"$f":"DV18","v":4},{"$f":"DW18+1","v":2},14,16,"","","$S$44","$Q$46",{"$f":"DB19","v":2},{"$f":"DE19","v":"Spieler 17"},"-",{"$f":"DC19","v":"Spieler 15"},null,2,"Spieler 16","-","Spieler 14"]
[null,"","Spieler 14","","","","","","","","","","","","","","","","","","",0,0,0,0,0,0,0,14,null,null,null,null,null,null,null,null,null,null,null,null,null,null,null,null,null,null,null,null,null,null,null,null,null,null,null,null,null,null,null,null,null,null,null,null,null,null,null,null,null,null,null,null,null,null,null,null,null,null,null,null,null,null,null,null,null,null,null,null,null,null,null,null,null,null,null,null,null,null,null,null,null,null,null,null,{"$f":"DB19+1","v":3},"Spieler 01","-","Spieler 14",null,null,{"$f":"DH19","v":3},{"$f":"DI19+1","v":3},1,14,"","","$Q$31","$D$44",{"$f":"DP19+1","v":3},"Spieler 17","-","Spieler 13",null,null,{"$f":"DV19","v":4},{"$f":"DW19+1","v":3},17,13,"","","$P$47","$T$43",3,"Spieler 01","-",{"$f":"DE20","v":"Spieler 14"},null,3,"Spieler 17","-",{"$f":"DS20","v":"Spieler 13"}]
[null,"","Spieler 15","","","","","","","","","","","","","","","","","","",0,0,0,0,0,0,0,15,null,null,null,null,null,null,null,null,null,null,null,null,null,null,null,null,null,null,null,null,null,null,null,null,null,null,null,null,null,null,null,null,null,null,null,null,null,null,null,null,null,null,null,null,null,null,null,null,null,null,null,null,null,null,null,null,null,null,null,null,null,null,null,null,null,null,null,null,null,null,null,null,null,null,null,null,4,"Spieler 13","-","Spieler 02",null,null,{"$f":"DH20","v":3},4,13,2,"","","$E$43","$P$32",4,"Spieler 12","-","Spieler 01",null,null,{"$f":"DV20","v":4},4,12,1,"","","$D$42","$O$31",4,{"$f":"DE21","v":"Spieler 02"},"-",{"$f":"DC21","v":"Spieler 13"},null,4,{"$f":"DS21","v":"Spieler 01"},"-",{"$f":"DQ21","v":"Spieler 12"}]
[null,"","Spieler 16","","","","","","","","","","","","","","","","","","",0,0,0,0,0,0,0,16,null,null,null,null,null,null,null,null,null,null,null,null,null,null,null,null,null,null,null,null,null,null,null,null,null,null,null,null,null,null,null,null,null,null,null,null,null,null,null,null,null,null,null,null,null,null,null,null,null,null,null,null,null,null,null,null,null,null,null,null,null,null,null,null,null,null,null,null,null,null,null,null,null,null,null,null,5,"Spieler 03","-","Spieler 12",null,null,3,5,3,12,"","","$O$33","$F$42",5,"Spieler 02","-","Spieler 11",null,null,4,5,2,11,"","","$N$32","$E$41",5,"Spieler 03","-",{"$f":"DE22","v":"Spieler 12"},null,5,"Spieler 02","-",{"$f":"DS22","v":"Spieler 11"}]
[null,"","Spieler 17","","","","","","","","","","","","","","","","","","",0,0,0,0,0,0,0,17,null,null,null,null,null,null,null,null,null,null,null,null,null,null,null,null,null,null,null,null,null,null,null,null,null,null,null,null,null,null,null,null,null,null,null,null,null,null,null,null,null,null,null,null,null,null,null,null,null,null,null,null,null,null,null,null,null,null,null,null,null,null,null,null,null,null,null,null,null,null,null,null,null,null,null,null,6,"Spieler 11","-","Spieler 04",null,null,3,6,11,4,"","","$G$41","$N$34",6,"Spieler 10","-","Spieler 03",null,null,4,6,10,3,"","","$F$40","$M$33",6,{"$f":"DE23","v":"Spieler 04"},"-",{"$f":"DC23","v":"Spieler 11"},null,6,{"$f":"DS23","v":"Spieler 03"},"-",{"$f":"DQ23","v":"Spieler 10"}]
[null,"","Spieler 18","","","","","","","","","","","","","","","","","","",0,0,0,0,0,0,0,18,null,null,null,null,null,null,null,null,null,null,null,null,null,null,null,null,null,null,null,null,null,null,null,null,null,null,null,null,null,null,null,null,null,null,null,null,null,null,null,null,null,null,null,null,null,null,null,null,null,null,null,null,null,null,null,null,null,null,null,null,null,null,null,null,null,null,null,null,null,null,null,null,null,null,null,null,7,"Spieler 05","-","Spieler 10",null,null,3,7,5,10,"","",{"$f":"ADDRESS(ROW(Teilnehmer)+DJ24,COLUMN(Teilnehmer)+DK24)","v":"$M$35"},{"$f":"ADDRESS(ROW(Teilnehmer)+DK24,COLUMN(Teilnehmer)+DJ24)","v":"$H$40"},7,"Spieler 04","-","Spieler 09",null,null,4,7,4,9,"","",{"$f":"ADDRESS(ROW(Teilnehmer)+DX24,COLUMN(Teilnehmer)+DY24)","v":"$L$34"},{"$f":"ADDRESS(ROW(Teilnehmer)+DY24,COLUMN(Teilnehmer)+DX24)","v":"$G$39"},7,"Spieler 05","-",{"$f":"DE24","v":"Spieler 10"},null,7,"Spieler 04","-",{"$f":"DS24","v":"Spieler 09"}]
[null,"Wertungskriterien:",null,null,null,null,null,null,null,null,null,null,null,null,null,null,null,null,null,null,null,null,null,null,null,null,null,null,null,null,null,null,null,null,null,null,null,null,null,null,null,null,null,null,null,null,null,null,null,null,null,null,null,null,null,null,null,null,null,null,null,null,null,null,null,null,null,null,null,null,null,null,null,null,null,null,null,null,null,null,null,null,null,null,null,null,null,null,null,null,null,null,null,null,null,null,null,null,null,null,null,null,null,null,null,8,"Spieler 09","-","Spieler 06",null,null,3,8,9,6,"","","$I$39","$L$36",8,"Spieler 08","-","Spieler 05",null,null,4,8,8,5,"","","$H$38","$K$35",8,{"$f":"DE25","v":"Spieler 06"},"-",{"$f":"DC25","v":"Spieler 09"},null,8,{"$f":"DS25","v":"Spieler 05"},"-",{"$f":"DQ25","v":"Spieler 08"}]
[null,{"$f":"INDEX(Wertungskriterien,WertungskriterienA)","v":"1) Punkte 2) Anz. Partien 3) So-Be 4) direkte Begegnung 5) Manuelle Feinwertung "},null,null,null,null,null,null,null,null,null,null,null,null,null,null,null,null,null,null,null,null,null,null,null,null,null,null,null,null,null,null,null,null,null,null,null,null,null,null,null,null,null,null,null,null,null,null,null,null,null,null,null,null,null,null,null,null,null,null,null,null,null,null,null,null,null,null,null,null,null,null,null,null,null,null,null,null,null,null,null,null,null,null,null,null,null,null,null,null,null,null,null,null,null,null,null,null,null,null,null,null,null,null,null,9,"Spieler 07","-","Spieler 08",null,null,3,9,7,8,"","","$K$37","$J$38",9,"Spieler 06","-","Spieler 07",null,null,4,9,6,7,"","","$J$36","$I$37",9,"Spieler 07","-",{"$f":"DE26","v":"Spieler 08"},null,9,"Spieler 06","-",{"$f":"DS26","v":"Spieler 07"}]
[]
[null,"+",null,null,null,null,null,null,null,null,null,null,null,null,null,null,null,null,null,null,null,null,null,null,{"$f":"IF(EinAusblenden=\"-\",\"\",IF(FWPlusMinus=\"+\",\"é\",\"ê\"))","v":"é"},null,null,null,null,null,null,null,null,null,null,null,null,null,null,null,null,null,null,null,null,null,null,null,null,null,null,null,null,null,null,null,null,null,null,null,null,null,null,null,null,null,null,null,null,null,null,null,null,null,null,null,null,null,null,null,null,null,null,null,null,null,null,null,null,null,null,null,null,null,null,null,null,null,null,null,null,null,null,null,null,null,{"$f":"DC17+2","v":5},null,null,null,null,"R","B","SpNr w","SpNr s","Res w","Res s",null,null,null,{"$f":"DQ17+2","v":6},null,null,null,null,"R","B","SpNr w","SpNr s","Res w","Res s",null,null,null,{"$f":"DC28","v":5},1,null,null,null,{"$f":"DQ28","v":6}]
[null,"Turniertabelle",null,null,null,null,null,null,null,null,null,null,null,null,null,null,null,null,null,null,null,null,null,"manuelle Feinwertung: ","+","Partien",null,null,null,"Punkte",null,null,null,null,null,null,null,null,null,null,null,null,null,null,null,null,null,null,null,"Sonneborn-Berger-Berechnung",null,null,null,null,null,null,null,null,null,null,null,null,null,null,null,null,null,null,null,{"$f":"MAX(BR31:BR48)","v":0},null,null,null,null,{"$f":"FWPlusMinus=\"+\"","v":true},"Summierung Wertungskriterien vor direkter Begegnung",null,null,null,null,null,null,null,null,null,null,null,null,"Summierung Wertungskriterien nach direkter Begegnung",null,null,null,null,null,null,null,null,null,null,null,null,null,null,null,null,{"$f":"IF(OR(INDEX($CW$31:$CW$48,DJ29),INDEX($CW$31:$CW$48,DK29)),0,1)","v":1},{"$f":"INDEX($CX$31:$CX$48,MATCH($DJ29,TeilnNr,0))","v":"Spieler 14"},"-",{"$f":"INDEX($CX$31:$CX$48,MATCH($DK29,TeilnNr,0))","v":"Spieler 18"},null,null,{"$f":"DC28","v":5},1,{"$f":"IF(AND(DI29=1,MOD(DH29,2)=0),MAX(TeilnNr),IF(MOD(DI29,2)=0,IF(MAX(TeilnNr)/2-DI29+1-(DH29-MAX(TeilnNr)/2-1)>=1,MAX(TeilnNr)/2-DI29+1-(DH29-MAX(TeilnNr)/2-1),MAX(TeilnNr)/2-DI29+1-(DH29-MAX(TeilnNr)/2-1)+MAX(TeilnNr)-1),IF(DI29-(DH29-1)>=1,DI29-(DH29-1),DI29-(DH29-1)+MAX(TeilnNr)-1)))","v":14},{"$f":"IF(AND(DI29=1,MOD(DH29,2)<>0),MAX(TeilnNr),IF(MOD(DI29,2)<>0,IF(MAX(TeilnNr)/2-DI29+1-(DH29-MAX(TeilnNr)/2-1)>=1,MAX(TeilnNr)/2-DI29+1-(DH29-MAX(TeilnNr)/2-1),MAX(TeilnNr)/2-DI29+1-(DH29-MAX(TeilnNr)/2-1)+MAX(TeilnNr)-1),IF(DI29-(DH29-1)>=1,DI29-(DH29-1),DI29-(DH29-1)+MAX(TeilnNr)-1)))","v":18},{"$f":"IF(LEFT(DG29,1)=\"V\",\"\",LEFT(DG29,1))","v":""},{"$f":"IF(RIGHT(DG29,1)=\"V\",\"\",RIGHT(DG29,1))","v":""},{"$f":"ADDRESS(ROW(Teilnehmer)+DJ29,COLUMN(Teilnehmer)+DK29)","v":"$U$44"},{"$f":"ADDRESS(ROW(Teilnehmer)+DK29,COLUMN(Teilnehmer)+DJ29)","v":"$Q$48"},{"$f":"IF(OR(INDEX($CW$31:$CW$48,DX29),INDEX($CW$31:$CW$48,DY29)),0,1)","v":1},{"$f":"INDEX($CX$31:$CX$48,MATCH($DX29,TeilnNr,0))","v":"Spieler 18"},"-",{"$f":"INDEX($CX$31:$CX$48,MATCH($DY29,TeilnNr,0))","v":"Spieler 13"},null,null,{"$f":"DQ28","v":6},1,{"$f":"IF(AND(DW29=1,MOD(DV29,2)=0),MAX(TeilnNr),IF(MOD(DW29,2)=0,IF(MAX(TeilnNr)/2-DW29+1-(DV29-MAX(TeilnNr)/2-1)>=1,MAX(TeilnNr)/2-DW29+1-(DV29-MAX(TeilnNr)/2-1),MAX(TeilnNr)/2-DW29+1-(DV29-MAX(TeilnNr)/2-1)+MAX(TeilnNr)-1),IF(DW29-(DV29-1)>=1,DW29-(DV29-1),DW29-(DV29-1)+MAX(TeilnNr)-1)))","v":18},{"$f":"IF(AND(DW29=1,MOD(DV29,2)<>0),MAX(TeilnNr),IF(MOD(DW29,2)<>0,IF(MAX(TeilnNr)/2-DW29+1-(DV29-MAX(TeilnNr)/2-1)>=1,MAX(TeilnNr)/2-DW29+1-(DV29-MAX(TeilnNr)/2-1),MAX(TeilnNr)/2-DW29+1-(DV29-MAX(TeilnNr)/2-1)+MAX(TeilnNr)-1),IF(DW29-(DV29-1)>=1,DW29-(DV29-1),DW29-(DV29-1)+MAX(TeilnNr)-1)))","v":13},{"$f":"IF(LEFT(DU29,1)=\"V\",\"\",LEFT(DU29,1))","v":""},{"$f":"IF(RIGHT(DU29,1)=\"V\",\"\",RIGHT(DU29,1))","v":""},{"$f":"ADDRESS(ROW(Teilnehmer)+DX29,COLUMN(Teilnehmer)+DY29)","v":"$P$48"},{"$f":"ADDRESS(ROW(Teilnehmer)+DY29,COLUMN(Teilnehmer)+DX29)","v":"$U$43"},{"$f":"DB29","v":1},"Spieler 14","-",{"$f":"DE29","v":"Spieler 18"},null,{"$f":"DP29","v":1},{"$f":"DS29","v":"Spieler 13"},"-",{"$f":"DQ29","v":"Spieler 18"}]
[null,"Nr.","Teilnehmer",1,2,3,4,5,6,7,8,9,10,11,12,13,14,15,16,17,18,"Punkte","Spiele","So-Be","FW+","weiss","schw.","Rang",null,1,2,3,4,5,6,7,8,9,10,11,12,13,14,15,16,17,18,"P",null,1,2,3,4,5,6,7,8,9,10,11,12,13,14,15,16,17,18,"So-Be",null,{"$f":"IF(Y30=\"\",\"FW2\",Y30)","v":"FW+"},"Rang\nPunkte","Rang\nPartien","Rang\nSo-Be","Rang\nschwrz","Rang\nFW?","Wertung 1","Wertung 2","Wertung 3","Wertung 4","Wertung 5","Wertung 6","Wertung 7","Wertung 8","Wertung 9","Wertung 10","Wertung","direkte Begegnung","Rang\ndir.Begegn.","Wertung 1","Wertung 2","Wertung 3","Wertung 4","Wertung 5","Wertung 6","Wertung 7","Wertung 8","Wertung 9","Wertung 10","Wertung2","Rang","Platz-halter?","Name","Alphabet","Rang & Alphabet","Reihen-folge",{"$f":"DB29+1","v":2},"Spieler 13","-","Spieler 15",null,null,{"$f":"DH29","v":5},{"$f":"DI29+1","v":2},13,15,"","",{"$f":"ADDRESS(ROW(Teilnehmer)+DJ30,COLUMN(Teilnehmer)+DK30)","v":"$R$43"},{"$f":"ADDRESS(ROW(Teilnehmer)+DK30,COLUMN(Teilnehmer)+DJ30)","v":"$P$45"},{"$f":"DP29+1","v":2},"Spieler 12","-","Spieler 14",null,null,{"$f":"DV29","v":6},{"$f":"DW29+1","v":2},12,14,"","",{"$f":"ADDRESS(ROW(Teilnehmer)+DX30,COLUMN(Teilnehmer)+DY30)","v":"$Q$42"},{"$f":"ADDRESS(ROW(Teilnehmer)+DY30,COLUMN(Teilnehmer)+DX30)","v":"$O$44"},{"$f":"DB30","v":2},{"$f":"DE30","v":"Spieler 15"},"-",{"$f":"DC30","v":"Spieler 13"},null,2,"Spieler 14","-","Spieler 12"]
[null,1,null,{"$f":"IF(ISNA(MATCH(ADDRESS(ROW(),COLUMN()),$DN:$DN,0)),\"\",INDEX($DL:$DL,MATCH(ADDRESS(ROW(),COLUMN()),$DN:$DN,0)))&IF(ISNA(MATCH(ADDRESS(ROW(),COLUMN()),$DO:$DO,0)),\"\",INDEX($DM:$DM,MATCH(ADDRESS(ROW(),COLUMN()),$DO:$DO,0)))&IF(ISNA(MATCH(ADDRESS(ROW(),COLUMN()),$EB:$EB,0)),\"\",INDEX($DZ:$DZ,MATCH(ADDRESS(ROW(),COLUMN()),$EB:$EB,0)))&IF(ISNA(MATCH(ADDRESS(ROW(),COLUMN()),$EC:$EC,0)),\"\",INDEX($EA:$EA,MATCH(ADDRESS(ROW(),COLUMN()),$EC:$EC,0)))","v":""},"","","","","","","","","",{"$f":"IF(ISNA(MATCH(ADDRESS(ROW(),COLUMN()),$DN:$DN,0)),\"\",INDEX($DL:$DL,MATCH(ADDRESS(ROW(),COLUMN()),$DN:$DN,0)))&IF(ISNA(MATCH(ADDRESS(ROW(),COLUMN()),$DO:$DO,0)),\"\",INDEX($DM:$DM,MATCH(ADDRESS(ROW(),COLUMN()),$DO:$DO,0)))&IF(ISNA(MATCH(ADDRESS(ROW(),COLUMN()),$EB:$EB,0)),\"\",INDEX($DZ:$DZ,MATCH(ADDRESS(ROW(),COLUMN()),$EB:$EB,0)))&IF(ISNA(MATCH(ADDRESS(ROW(),COLUMN()),$EC:$EC,0)),\"\",INDEX($EA:$EA,MATCH(ADDRESS(ROW(),COLUMN()),$EC:$EC,0)))","v":""},"","","","","","","",{"$f":"AV31","v":0},{"$f":"MAX($B$31:$B$48)-COUNTIF(D31:U31,\"\")","v":0},{"$f":"BP31","v":0},null,{"$f":"IF($CW31,0,COUNTIFS($DJ:$DJ,$B31,$DG:$DG,\"<>\")+COUNTIFS($DX:$DX,$B31,$DU:$DU,\"<>\"))","v":0},{"$f":"IF($CW31,0,COUNTIFS($DK:$DK,$B31,$DG:$DG,\"<>\")+COUNTIFS($DY:$DY,$B31,$DU:$DU,\"<>\"))","v":0},{"$f":"CV31","v":1},null,{"$f":"IF(D31=\"\",0,VLOOKUP(D31,Wertung,3,FALSE))","v":0},{"$f":"IF(E31=\"\",0,VLOOKUP(E31,Wertung,3,FALSE))","v":0},{"$f":"IF(F31=\"\",0,VLOOKUP(F31,Wertung,3,FALSE))","v":0},{"$f":"IF(G31=\"\",0,VLOOKUP(G31,Wertung,3,FALSE))","v":0},{"$f":"IF(H31=\"\",0,VLOOKUP(H31,Wertung,3,FALSE))","v":0},{"$f":"IF(I31=\"\",0,VLOOKUP(I31,Wertung,3,FALSE))","v":0},{"$f":"IF(J31=\"\",0,VLOOKUP(J31,Wertung,3,FALSE))","v":0},{"$f":"IF(K31=\"\",0,VLOOKUP(K31,Wertung,3,FALSE))","v":0},{"$f":"IF(L31=\"\",0,VLOOKUP(L31,Wertung,3,FALSE))","v":0},{"$f":"IF(M31=\"\",0,VLOOKUP(M31,Wertung,3,FALSE))","v":0},{"$f":"IF(N31=\"\",0,VLOOKUP(N31,Wertung,3,FALSE))","v":0},{"$f":"IF(O31=\"\",0,VLOOKUP(O31,Wertung,3,FALSE))","v":0},{"$f":"IF(P31=\"\",0,VLOOKUP(P31,Wertung,3,FALSE))","v":0},{"$f":"IF(Q31=\"\",0,VLOOKUP(Q31,Wertung,3,FALSE))","v":0},{"$f":"IF(R31=\"\",0,VLOOKUP(R31,Wertung,3,FALSE))","v":0},{"$f":"IF(S31=\"\",0,VLOOKUP(S31,Wertung,3,FALSE))","v":0},{"$f":"IF(T31=\"\",0,VLOOKUP(T31,Wertung,3,FALSE))","v":0},{"$f":"IF(U31=\"\",0,VLOOKUP(U31,Wertung,3,FALSE))","v":0},{"$f":"SUM(AD31:AU31)","v":0},null,{"$f":"AD31*INDEX($AV:$AV,ROW($AX$30)+AD$30)","v":0},{"$f":"AE31*INDEX($AV:$AV,ROW($AX$30)+AE$30)","v":0},{"$f":"AF31*INDEX($AV:$AV,ROW($AX$30)+AF$30)","v":0},{"$f":"AG31*INDEX($AV:$AV,ROW($AX$30)+AG$30)","v":0},{"$f":"AH31*INDEX($AV:$AV,ROW($AX$30)+AH$30)","v":0},{"$f":"AI31*INDEX($AV:$AV,ROW($AX$30)+AI$30)","v":0},{"$f":"AJ31*INDEX($AV:$AV,ROW($AX$30)+AJ$30)","v":0},{"$f":"AK31*INDEX($AV:$AV,ROW($AX$30)+AK$30)","v":0},{"$f":"AL31*INDEX($AV:$AV,ROW($AX$30)+AL$30)","v":0},{"$f":"AM31*INDEX($AV:$AV,ROW($AX$30)+AM$30)","v":0},{"$f":"AN31*INDEX($AV:$AV,ROW($AX$30)+AN$30)","v":0},{"$f":"AO31*INDEX($AV:$AV,ROW($AX$30)+AO$30)","v":0},{"$f":"AP31*INDEX($AV:$AV,ROW($AX$30)+AP$30)","v":0},{"$f":"AQ31*INDEX($AV:$AV,ROW($AX$30)+AQ$30)","v":0},{"$f":"AR31*INDEX($AV:$AV,ROW($AX$30)+AR$30)","v":0},{"$f":"AS31*INDEX($AV:$AV,ROW($AX$30)+AS$30)","v":0},{"$f":"AT31*INDEX($AV:$AV,ROW($AX$30)+AT$30)","v":0},{"$f":"AU31*INDEX($AV:$AV,ROW($AX$30)+AU$30)","v":0},{"$f":"SUM(AX31:BO31)","v":0},null,{"$f":"Y31","v":0},{"$f":"RANK($AV31,$AV$31:$AV$48,0)","v":1},{"$f":"RANK($W31,$W$31:$W$48,1)","v":1},{"$f":"RANK($BP31,$BP$31:$BP$48,0)","v":1},{"$f":"RANK($AA31,$AA$31:$AA$48,0)","v":1},{"$f":"RANK($BR31,$BR$31:$BR$48,IF($BW$29,0,1))","v":1},{"$f":"VALUE(CONCATENATE(IF($CW31,\"1\",\"0\"),TEXT($BS31,\"00\"),TEXT($BU31,\"00\"),TEXT($BW31,\"00\")))","v":10101},{"$f":"VALUE(CONCATENATE(IF($CW31,\"1\",\"0\"),TEXT($BS31,\"00\"),TEXT($BU31,\"00\")))","v":101},{"$f":"VALUE(CONCATENATE(IF($CW31,\"1\",\"0\"),TEXT($BS31,\"00\"),TEXT($BT31,\"00\"),TEXT($BU31,\"00\"),TEXT($BW31,\"00\")))","v":1010101},{"$f":"VALUE(CONCATENATE(IF($CW31,\"1\",\"0\"),TEXT($BS31,\"00\"),TEXT($BT31,\"00\"),TEXT($BU31,\"00\")))","v":10101},{"$f":"VALUE(CONCATENATE(IF($CW31,\"1\",\"0\"),TEXT($BS31,\"00\"),TEXT($BT31,\"00\"),TEXT($BU31,\"00\")))","v":10101},{"$f":"VALUE(CONCATENATE(IF($CW31,\"1\",\"0\"),TEXT($BS31,\"00\"),TEXT($BT31,\"00\"),TEXT($BU31,\"00\"),TEXT($BV31,\"00\")))","v":1010101},{"$f":"VALUE(CONCATENATE(IF($CW31,\"1\",\"0\"),TEXT($BS31,\"00\"),TEXT($BT31,\"00\")))","v":101},{"$f":"VALUE(CONCATENATE(IF($CW31,\"1\",\"0\"),TEXT($BS31,\"00\"),TEXT($BT31,\"00\")))","v":101},{"$f":"VALUE(CONCATENATE(IF($CW31,\"1\",\"0\"),TEXT($BS31,\"00\"),TEXT($BT31,\"00\"),TEXT($BV31,\"00\"),TEXT($BU31,\"00\")))","v":1010101},{"$f":"VALUE(CONCATENATE(IF($CW31,\"1\",\"0\"),TEXT($BS31,\"00\"),TEXT($BT31,\"00\"),TEXT($BV31,\"00\")))","v":10101},{"$f":"INDEX($BX31:$CG31,1,WertungskriterienA)","v":10101},{"$f":"SUM((TRANSPOSE($CH$31:$CH$48)=CH31)*$AD31:$AU31)","v":0},{"$f":"RANK($CI31,$CI$31:$CI$48,0)","v":1},{"$f":"$CH31","v":10101},{"$f":"VALUE(CONCATENATE($CH31,TEXT($CJ31,\"00\"),TEXT($BW31,\"00\")))","v":101010101},{"$f":"$CH31","v":10101},{"$f":"VALUE(CONCATENATE($CH31,TEXT($CJ31,\"00\"),TEXT($BW31,\"00\")))","v":101010101},{"$f":"VALUE(CONCATENATE($CH31,TEXT($CJ31,\"00\"),TEXT($BV31,\"00\"),TEXT($BW31,\"00\")))","v":10101010101},{"$f":"VALUE(CONCATENATE($CH31,TEXT($CJ31,\"00\"),TEXT($BW31,\"00\")))","v":101010101},{"$f":"VALUE(CONCATENATE($CH31,TEXT($CJ31,\"00\"),TEXT($BU31,\"00\"),TEXT($BV31,\"00\"),TEXT($BW31,\"00\")))","v":1010101010101},{"$f":"VALUE(CONCATENATE($CH31,TEXT($CJ31,\"00\"),TEXT($BV31,\"00\"),TEXT($BU31,\"00\"),TEXT($BW31,\"00\")))","v":1010101010101},{"$f":"VALUE(CONCATENATE($CH31,TEXT($CJ31,\"00\"),TEXT($BW31,\"00\")))","v":101010101},{"$f":"VALUE(CONCATENATE($CH31,TEXT($CJ31,\"00\"),TEXT($BU31,\"00\"),TEXT($BW31,\"00\")))","v":10101010101},{"$f":"INDEX(CK31:CT31,1,WertungskriterienA)","v":101010101},{"$f":"RANK(CU31,$CU$31:$CU$48,1)","v":1},{"$f":"IF($C31=\"\",FALSE,AND(LEN($C31)=1,OR(CODE($C31)<65,CODE($C31)>122,AND(CODE($C31)>90,CODE($C31)<97)),NOT(AND(CODE($C31)>48,CODE($C31)<58))))","v":false},{"$f":"IF(CW31,$C31,IF($C31=\"\",\"Spieler \"&TEXT($B31,\"00\"),$C31))","v":"Spieler 01"},{"$f":"IF(CW31,MAX(TeilnNr),0)+SUMPRODUCT((CX31>$CX$31:$CX$48)*1)","v":0},{"$f":"CV31+CY31/1000+B31/1000000","v":1.0000009999999999},{"$f":"RANK(CZ31,$CZ$31:$CZ$48,1)","v":1},{"$f":"DB30+1","v":3},"Spieler 16","-","Spieler 12",null,null,{"$f":"DH30","v":5},{"$f":"DI30+1","v":3},{"$f":"IF(AND(DI31=1,MOD(DH31,2)=0),MAX(TeilnNr),IF(MOD(DI31,2)=0,IF(MAX(TeilnNr)/2-DI31+1-(DH31-MAX(TeilnNr)/2-1)>=1,MAX(TeilnNr)/2-DI31+1-(DH31-MAX(TeilnNr)/2-1),MAX(TeilnNr)/2-DI31+1-(DH31-MAX(TeilnNr)/2-1)+MAX(TeilnNr)-1),IF(DI31-(DH31-1)>=1,DI31-(DH31-1),DI31-(DH31-1)+MAX(TeilnNr)-1)))","v":16},{"$f":"IF(AND(DI31=1,MOD(DH31,2)<>0),MAX(TeilnNr),IF(MOD(DI31,2)<>0,IF(MAX(TeilnNr)/2-DI31+1-(DH31-MAX(TeilnNr)/2-1)>=1,MAX(TeilnNr)/2-DI31+1-(DH31-MAX(TeilnNr)/2-1),MAX(TeilnNr)/2-DI31+1-(DH31-MAX(TeilnNr)/2-1)+MAX(TeilnNr)-1),IF(DI31-(DH31-1)>=1,DI31-(DH31-1),DI31-(DH31-1)+MAX(TeilnNr)-1)))","v":12},"","",{"$f":"ADDRESS(ROW(Teilnehmer)+DJ31,COLUMN(Teilnehmer)+DK31)","v":"$O$46"},{"$f":"ADDRESS(ROW(Teilnehmer)+DK31,COLUMN(Teilnehmer)+DJ31)","v":"$S$42"},{"$f":"DP30+1","v":3},"Spieler 15","-","Spieler 11",null,null,{"$f":"DV30","v":6},{"$f":"DW30+1","v":3},{"$f":"IF(AND(DW31=1,MOD(DV31,2)=0),MAX(TeilnNr),IF(MOD(DW31,2)=0,IF(MAX(TeilnNr)/2-DW31+1-(DV31-MAX(TeilnNr)/2-1)>=1,MAX(TeilnNr)/2-DW31+1-(DV31-MAX(TeilnNr)/2-1),MAX(TeilnNr)/2-DW31+1-(DV31-MAX(TeilnNr)/2-1)+MAX(TeilnNr)-1),IF(DW31-(DV31-1)>=1,DW31-(DV31-1),DW31-(DV31-1)+MAX(TeilnNr)-1)))","v":15},{"$f":"IF(AND(DW31=1,MOD(DV31,2)<>0),MAX(TeilnNr),IF(MOD(DW31,2)<>0,IF(MAX(TeilnNr)/2-DW31+1-(DV31-MAX(TeilnNr)/2-1)>=1,MAX(TeilnNr)/2-DW31+1-(DV31-MAX(TeilnNr)/2-1),MAX(TeilnNr)/2-DW31+1-(DV31-MAX(TeilnNr)/2-1)+MAX(TeilnNr)-1),IF(DW31-(DV31-1)>=1,DW31-(DV31-1),DW31-(DV31-1)+MAX(TeilnNr)-1)))","v":11},"","",{"$f":"ADDRESS(ROW(Teilnehmer)+DX31,COLUMN(Teilnehmer)+DY31)","v":"$N$45"},{"$f":"ADDRESS(ROW(Teilnehmer)+DY31,COLUMN(Teilnehmer)+DX31)","v":"$R$41"},3,"Spieler 16","-",{"$f":"DE31","v":"Spieler 12"},null,3,"Spieler 15","-",{"$f":"DS31","v":"Spieler 11"}]
[null,2,null,"","","","","","","","","","","","","","","","","","",{"$f":"AV32","v":0},0,0,null,0,0,1,null,0,0,0,0,0,0,0,0,0,0,0,0,0,0,0,0,0,0,0,null,0,0,0,0,0,0,0,0,0,0,0,0,0,0,0,0,0,0,0,null,0,1,1,1,1,1,{"$f":"VALUE(CONCATENATE(IF($CW32,\"1\",\"0\"),TEXT($BS32,\"00\"),TEXT($BU32,\"00\"),TEXT($BW32,\"00\")))","v":10101},{"$f":"VALUE(CONCATENATE(IF($CW32,\"1\",\"0\"),TEXT($BS32,\"00\"),TEXT($BU32,\"00\")))","v":101},{"$f":"VALUE(CONCATENATE(IF($CW32,\"1\",\"0\"),TEXT($BS32,\"00\"),TEXT($BT32,\"00\"),TEXT($BU32,\"00\"),TEXT($BW32,\"00\")))","v":1010101},{"$f":"VALUE(CONCATENATE(IF($CW32,\"1\",\"0\"),TEXT($BS32,\"00\"),TEXT($BT32,\"00\"),TEXT($BU32,\"00\")))","v":10101},10101,{"$f":"VALUE(CONCATENATE(IF($CW32,\"1\",\"0\"),TEXT($BS32,\"00\"),TEXT($BT32,\"00\"),TEXT($BU32,\"00\"),TEXT($BV32,\"00\")))","v":1010101},{"$f":"VALUE(CONCATENATE(IF($CW32,\"1\",\"0\"),TEXT($BS32,\"00\"),TEXT($BT32,\"00\")))","v":101},101,{"$f":"VALUE(CONCATENATE(IF($CW32,\"1\",\"0\"),TEXT($BS32,\"00\"),TEXT($BT32,\"00\"),TEXT($BV32,\"00\"),TEXT($BU32,\"00\")))","v":1010101},{"$f":"VALUE(CONCATENATE(IF($CW32,\"1\",\"0\"),TEXT($BS32,\"00\"),TEXT($BT32,\"00\"),TEXT($BV32,\"00\")))","v":10101},{"$f":"INDEX($BX32:$CG32,1,WertungskriterienA)","v":10101},{"$f":"SUM((TRANSPOSE($CH$31:$CH$48)=CH32)*$AD32:$AU32)","v":0},1,{"$f":"$CH32","v":10101},{"$f":"VALUE(CONCATENATE($CH32,TEXT($CJ32,\"00\"),TEXT($BW32,\"00\")))","v":101010101},{"$f":"$CH32","v":10101},{"$f":"VALUE(CONCATENATE($CH32,TEXT($CJ32,\"00\"),TEXT($BW32,\"00\")))","v":101010101},{"$f":"VALUE(CONCATENATE($CH32,TEXT($CJ32,\"00\"),TEXT($BV32,\"00\"),TEXT($BW32,\"00\")))","v":10101010101},{"$f":"VALUE(CONCATENATE($CH32,TEXT($CJ32,\"00\"),TEXT($BW32,\"00\")))","v":101010101},{"$f":"VALUE(CONCATENATE($CH32,TEXT($CJ32,\"00\"),TEXT($BU32,\"00\"),TEXT($BV32,\"00\"),TEXT($BW32,\"00\")))","v":1010101010101},{"$f":"VALUE(CONCATENATE($CH32,TEXT($CJ32,\"00\"),TEXT($BV32,\"00\"),TEXT($BU32,\"00\"),TEXT($BW32,\"00\")))","v":1010101010101},{"$f":"VALUE(CONCATENATE($CH32,TEXT($CJ32,\"00\"),TEXT($BW32,\"00\")))","v":101010101},{"$f":"VALUE(CONCATENATE($CH32,TEXT($CJ32,\"00\"),TEXT($BU32,\"00\"),TEXT($BW32,\"00\")))","v":10101010101},{"$f":"INDEX(CK32:CT32,1,WertungskriterienA)","v":101010101},1,{"$f":"IF($C32=\"\",FALSE,AND(LEN($C32)=1,OR(CODE($C32)<65,CODE($C32)>122,AND(CODE($C32)>90,CODE($C32)<97)),NOT(AND(CODE($C32)>48,CODE($C32)<58))))","v":false},"Spieler 02",1,1.0010019999999999,2,4,"Spieler 11","-","Spieler 17",null,null,{"$f":"DH31","v":5},4,{"$f":"IF(AND(DI32=1,MOD(DH32,2)=0),MAX(TeilnNr),IF(MOD(DI32,2)=0,IF(MAX(TeilnNr)/2-DI32+1-(DH32-MAX(TeilnNr)/2-1)>=1,MAX(TeilnNr)/2-DI32+1-(DH32-MAX(TeilnNr)/2-1),MAX(TeilnNr)/2-DI32+1-(DH32-MAX(TeilnNr)/2-1)+MAX(TeilnNr)-1),IF(DI32-(DH32-1)>=1,DI32-(DH32-1),DI32-(DH32-1)+MAX(TeilnNr)-1)))","v":11},{"$f":"IF(AND(DI32=1,MOD(DH32,2)<>0),MAX(TeilnNr),IF(MOD(DI32,2)<>0,IF(MAX(TeilnNr)/2-DI32+1-(DH32-MAX(TeilnNr)/2-1)>=1,MAX(TeilnNr)/2-DI32+1-(DH32-MAX(TeilnNr)/2-1),MAX(TeilnNr)/2-DI32+1-(DH32-MAX(TeilnNr)/2-1)+MAX(TeilnNr)-1),IF(DI32-(DH32-1)>=1,DI32-(DH32-1),DI32-(DH32-1)+MAX(TeilnNr)-1)))","v":17},"","",{"$f":"ADDRESS(ROW(Teilnehmer)+DJ32,COLUMN(Teilnehmer)+DK32)","v":"$T$41"},{"$f":"ADDRESS(ROW(Teilnehmer)+DK32,COLUMN(Teilnehmer)+DJ32)","v":"$N$47"},4,"Spieler 10","-","Spieler 16",null,null,{"$f":"DV31","v":6},4,{"$f":"IF(AND(DW32=1,MOD(DV32,2)=0),MAX(TeilnNr),IF(MOD(DW32,2)=0,IF(MAX(TeilnNr)/2-DW32+1-(DV32-MAX(TeilnNr)/2-1)>=1,MAX(TeilnNr)/2-DW32+1-(DV32-MAX(TeilnNr)/2-1),MAX(TeilnNr)/2-DW32+1-(DV32-MAX(TeilnNr)/2-1)+MAX(TeilnNr)-1),IF(DW32-(DV32-1)>=1,DW32-(DV32-1),DW32-(DV32-1)+MAX(TeilnNr)-1)))","v":10},{"$f":"IF(AND(DW32=1,MOD(DV32,2)<>0),MAX(TeilnNr),IF(MOD(DW32,2)<>0,IF(MAX(TeilnNr)/2-DW32+1-(DV32-MAX(TeilnNr)/2-1)>=1,MAX(TeilnNr)/2-DW32+1-(DV32-MAX(TeilnNr)/2-1),MAX(TeilnNr)/2-DW32+1-(DV32-MAX(TeilnNr)/2-1)+MAX(TeilnNr)-1),IF(DW32-(DV32-1)>=1,DW32-(DV32-1),DW32-(DV32-1)+MAX(TeilnNr)-1)))","v":16},"","",{"$f":"ADDRESS(ROW(Teilnehmer)+DX32,COLUMN(Teilnehmer)+DY32)","v":"$S$40"},{"$f":"ADDRESS(ROW(Teilnehmer)+DY32,COLUMN(Teilnehmer)+DX32)","v":"$M$46"},4,{"$f":"DE32","v":"Spieler 17"},"-",{"$f":"DC32","v":"Spieler 11"},null,4,{"$f":"DS32","v":"Spieler 16"},"-",{"$f":"DQ32","v":"Spieler 10"}]
[null,3,null,"","","","","","","","","","","","","","","","","","",0,0,0,null,0,0,1,null,0,0,0,0,0,0,0,0,0,0,0,0,0,0,0,0,0,0,0,null,0,0,0,0,0,0,0,0,0,0,0,0,0,0,0,0,0,0,0,null,0,1,1,1,1,1,10101,101,1010101,10101,10101,1010101,101,101,1010101,10101,{"$f":"INDEX($BX33:$CG33,1,WertungskriterienA)","v":10101},{"$f":"SUM((TRANSPOSE($CH$31:$CH$48)=CH33)*$AD33:$AU33)","v":0},1,10101,101010101,10101,101010101,10101010101,101010101,1010101010101,1010101010101,101010101,10101010101,{"$f":"INDEX(CK33:CT33,1,WertungskriterienA)","v":101010101},1,false,"Spieler 03",2,1.002003,3,5,"Spieler 01","-","Spieler 10",null,null,{"$f":"DH32","v":5},5,{"$f":"IF(AND(DI33=1,MOD(DH33,2)=0),MAX(TeilnNr),IF(MOD(DI33,2)=0,IF(MAX(TeilnNr)/2-DI33+1-(DH33-MAX(TeilnNr)/2-1)>=1,MAX(TeilnNr)/2-DI33+1-(DH33-MAX(TeilnNr)/2-1),MAX(TeilnNr)/2-DI33+1-(DH33-MAX(TeilnNr)/2-1)+MAX(TeilnNr)-1),IF(DI33-(DH33-1)>=1,DI33-(DH33-1),DI33-(DH33-1)+MAX(TeilnNr)-1)))","v":1},{"$f":"IF(AND(DI33=1,MOD(DH33,2)<>0),MAX(TeilnNr),IF(MOD(DI33,2)<>0,IF(MAX(TeilnNr)/2-DI33+1-(DH33-MAX(TeilnNr)/2-1)>=1,MAX(TeilnNr)/2-DI33+1-(DH33-MAX(TeilnNr)/2-1),MAX(TeilnNr)/2-DI33+1-(DH33-MAX(TeilnNr)/2-1)+MAX(TeilnNr)-1),IF(DI33-(DH33-1)>=1,DI33-(DH33-1),DI33-(DH33-1)+MAX(TeilnNr)-1)))","v":10},"","",{"$f":"ADDRESS(ROW(Teilnehmer)+DJ33,COLUMN(Teilnehmer)+DK33)","v":"$M$31"},{"$f":"ADDRESS(ROW(Teilnehmer)+DK33,COLUMN(Teilnehmer)+DJ33)","v":"$D$40"},5,"Spieler 17","-","Spieler 09",null,null,6,5,{"$f":"IF(AND(DW33=1,MOD(DV33,2)=0),MAX(TeilnNr),IF(MOD(DW33,2)=0,IF(MAX(TeilnNr)/2-DW33+1-(DV33-MAX(TeilnNr)/2-1)>=1,MAX(TeilnNr)/2-DW33+1-(DV33-MAX(TeilnNr)/2-1),MAX(TeilnNr)/2-DW33+1-(DV33-MAX(TeilnNr)/2-1)+MAX(TeilnNr)-1),IF(DW33-(DV33-1)>=1,DW33-(DV33-1),DW33-(DV33-1)+MAX(TeilnNr)-1)))","v":17},{"$f":"IF(AND(DW33=1,MOD(DV33,2)<>0),MAX(TeilnNr),IF(MOD(DW33,2)<>0,IF(MAX(TeilnNr)/2-DW33+1-(DV33-MAX(TeilnNr)/2-1)>=1,MAX(TeilnNr)/2-DW33+1-(DV33-MAX(TeilnNr)/2-1),MAX(TeilnNr)/2-DW33+1-(DV33-MAX(TeilnNr)/2-1)+MAX(TeilnNr)-1),IF(DW33-(DV33-1)>=1,DW33-(DV33-1),DW33-(DV33-1)+MAX(TeilnNr)-1)))","v":9},"","",{"$f":"ADDRESS(ROW(Teilnehmer)+DX33,COLUMN(Teilnehmer)+DY33)","v":"$L$47"},{"$f":"ADDRESS(ROW(Teilnehmer)+DY33,COLUMN(Teilnehmer)+DX33)","v":"$T$39"},5,"Spieler 01","-",{"$f":"DE33","v":"Spieler 10"},null,5,"Spieler 17","-",{"$f":"DS33","v":"Spieler 09"}]
[null,4,null,"","","","","","","","","","","","","","","","","","",0,0,0,null,0,0,1,null,0,0,0,0,0,0,0,0,0,0,0,0,0,0,0,0,0,0,0,null,0,0,0,0,0,0,0,0,0,0,0,0,0,0,0,0,0,0,0,null,0,1,1,1,1,1,10101,101,1010101,10101,10101,1010101,101,101,1010101,10101,{"$f":"INDEX($BX34:$CG34,1,WertungskriterienA)","v":10101},{"$f":"SUM((TRANSPOSE($CH$31:$CH$48)=CH34)*$AD34:$AU34)","v":0},1,10101,101010101,10101,101010101,10101010101,101010101,1010101010101,1010101010101,101010101,10101010101,{"$f":"INDEX(CK34:CT34,1,WertungskriterienA)","v":101010101},1,false,"Spieler 04",3,1.0030039999999998,4,6,"Spieler 09","-","Spieler 02",null,null,{"$f":"DH33","v":5},6,{"$f":"IF(AND(DI34=1,MOD(DH34,2)=0),MAX(TeilnNr),IF(MOD(DI34,2)=0,IF(MAX(TeilnNr)/2-DI34+1-(DH34-MAX(TeilnNr)/2-1)>=1,MAX(TeilnNr)/2-DI34+1-(DH34-MAX(TeilnNr)/2-1),MAX(TeilnNr)/2-DI34+1-(DH34-MAX(TeilnNr)/2-1)+MAX(TeilnNr)-1),IF(DI34-(DH34-1)>=1,DI34-(DH34-1),DI34-(DH34-1)+MAX(TeilnNr)-1)))","v":9},{"$f":"IF(AND(DI34=1,MOD(DH34,2)<>0),MAX(TeilnNr),IF(MOD(DI34,2)<>0,IF(MAX(TeilnNr)/2-DI34+1-(DH34-MAX(TeilnNr)/2-1)>=1,MAX(TeilnNr)/2-DI34+1-(DH34-MAX(TeilnNr)/2-1),MAX(TeilnNr)/2-DI34+1-(DH34-MAX(TeilnNr)/2-1)+MAX(TeilnNr)-1),IF(DI34-(DH34-1)>=1,DI34-(DH34-1),DI34-(DH34-1)+MAX(TeilnNr)-1)))","v":2},"","",{"$f":"ADDRESS(ROW(Teilnehmer)+DJ34,COLUMN(Teilnehmer)+DK34)","v":"$E$39"},{"$f":"ADDRESS(ROW(Teilnehmer)+DK34,COLUMN(Teilnehmer)+DJ34)","v":"$L$32"},6,"Spieler 08","-","Spieler 01",null,null,6,6,{"$f":"IF(AND(DW34=1,MOD(DV34,2)=0),MAX(TeilnNr),IF(MOD(DW34,2)=0,IF(MAX(TeilnNr)/2-DW34+1-(DV34-MAX(TeilnNr)/2-1)>=1,MAX(TeilnNr)/2-DW34+1-(DV34-MAX(TeilnNr)/2-1),MAX(TeilnNr)/2-DW34+1-(DV34-MAX(TeilnNr)/2-1)+MAX(TeilnNr)-1),IF(DW34-(DV34-1)>=1,DW34-(DV34-1),DW34-(DV34-1)+MAX(TeilnNr)-1)))","v":8},{"$f":"IF(AND(DW34=1,MOD(DV34,2)<>0),MAX(TeilnNr),IF(MOD(DW34,2)<>0,IF(MAX(TeilnNr)/2-DW34+1-(DV34-MAX(TeilnNr)/2-1)>=1,MAX(TeilnNr)/2-DW34+1-(DV34-MAX(TeilnNr)/2-1),MAX(TeilnNr)/2-DW34+1-(DV34-MAX(TeilnNr)/2-1)+MAX(TeilnNr)-1),IF(DW34-(DV34-1)>=1,DW34-(DV34-1),DW34-(DV34-1)+MAX(TeilnNr)-1)))","v":1},"","",{"$f":"ADDRESS(ROW(Teilnehmer)+DX34,COLUMN(Teilnehmer)+DY34)","v":"$D$38"},{"$f":"ADDRESS(ROW(Teilnehmer)+DY34,COLUMN(Teilnehmer)+DX34)","v":"$K$31"},6,{"$f":"DE34","v":"Spieler 02"},"-",{"$f":"DC34","v":"Spieler 09"},null,6,{"$f":"DS34","v":"Spieler 01"},"-",{"$f":"DQ34","v":"Spieler 08"}]
[null,5,null,"","","","","","","","","","","","","","","","","","",0,0,0,null,0,0,1,null,0,0,0,0,0,0,0,0,0,0,0,0,0,0,0,0,0,0,0,null,0,0,0,0,0,0,0,0,0,0,0,0,0,0,0,0,0,0,0,null,0,1,1,1,1,1,10101,101,1010101,10101,10101,1010101,101,101,1010101,10101,{"$f":"INDEX($BX35:$CG35,1,WertungskriterienA)","v":10101},{"$f":"SUM((TRANSPOSE($CH$31:$CH$48)=CH35)*$AD35:$AU35)","v":0},1,10101,101010101,10101,101010101,10101010101,101010101,1010101010101,1010101010101,101010101,10101010101,{"$f":"INDEX(CK35:CT35,1,WertungskriterienA)","v":101010101},1,false,"Spieler 05",4,1.004005,5,7,"Spieler 03","-","Spieler 08",null,null,{"$f":"DH34","v":5},7,{"$f":"IF(AND(DI35=1,MOD(DH35,2)=0),MAX(TeilnNr),IF(MOD(DI35,2)=0,IF(MAX(TeilnNr)/2-DI35+1-(DH35-MAX(TeilnNr)/2-1)>=1,MAX(TeilnNr)/2-DI35+1-(DH35-MAX(TeilnNr)/2-1),MAX(TeilnNr)/2-DI35+1-(DH35-MAX(TeilnNr)/2-1)+MAX(TeilnNr)-1),IF(DI35-(DH35-1)>=1,DI35-(DH35-1),DI35-(DH35-1)+MAX(TeilnNr)-1)))","v":3},{"$f":"IF(AND(DI35=1,MOD(DH35,2)<>0),MAX(TeilnNr),IF(MOD(DI35,2)<>0,IF(MAX(TeilnNr)/2-DI35+1-(DH35-MAX(TeilnNr)/2-1)>=1,MAX(TeilnNr)/2-DI35+1-(DH35-MAX(TeilnNr)/2-1),MAX(TeilnNr)/2-DI35+1-(DH35-MAX(TeilnNr)/2-1)+MAX(TeilnNr)-1),IF(DI35-(DH35-1)>=1,DI35-(DH35-1),DI35-(DH35-1)+MAX(TeilnNr)-1)))","v":8},"","",{"$f":"ADDRESS(ROW(Teilnehmer)+DJ35,COLUMN(Teilnehmer)+DK35)","v":"$K$33"},{"$f":"ADDRESS(ROW(Teilnehmer)+DK35,COLUMN(Teilnehmer)+DJ35)","v":"$F$38"},7,"Spieler 02","-","Spieler 07",null,null,6,7,{"$f":"IF(AND(DW35=1,MOD(DV35,2)=0),MAX(TeilnNr),IF(MOD(DW35,2)=0,IF(MAX(TeilnNr)/2-DW35+1-(DV35-MAX(TeilnNr)/2-1)>=1,MAX(TeilnNr)/2-DW35+1-(DV35-MAX(TeilnNr)/2-1),MAX(TeilnNr)/2-DW35+1-(DV35-MAX(TeilnNr)/2-1)+MAX(TeilnNr)-1),IF(DW35-(DV35-1)>=1,DW35-(DV35-1),DW35-(DV35-1)+MAX(TeilnNr)-1)))","v":2},{"$f":"IF(AND(DW35=1,MOD(DV35,2)<>0),MAX(TeilnNr),IF(MOD(DW35,2)<>0,IF(MAX(TeilnNr)/2-DW35+1-(DV35-MAX(TeilnNr)/2-1)>=1,MAX(TeilnNr)/2-DW35+1-(DV35-MAX(TeilnNr)/2-1),MAX(TeilnNr)/2-DW35+1-(DV35-MAX(TeilnNr)/2-1)+MAX(TeilnNr)-1),IF(DW35-(DV35-1)>=1,DW35-(DV35-1),DW35-(DV35-1)+MAX(TeilnNr)-1)))","v":7},"","",{"$f":"ADDRESS(ROW(Teilnehmer)+DX35,COLUMN(Teilnehmer)+DY35)","v":"$J$32"},{"$f":"ADDRESS(ROW(Teilnehmer)+DY35,COLUMN(Teilnehmer)+DX35)","v":"$E$37"},7,"Spieler 03","-",{"$f":"DE35","v":"Spieler 08"},null,7,"Spieler 02","-",{"$f":"DS35","v":"Spieler 07"}]
[null,6,null,"","","","","","","","","","","","","","","","","","",0,0,0,null,0,0,1,null,0,0,0,0,0,0,0,0,0,0,0,0,0,0,0,0,0,0,0,null,0,0,0,0,0,0,0,0,0,0,0,0,0,0,0,0,0,0,0,null,0,1,1,1,1,1,10101,101,1010101,10101,10101,1010101,101,101,1010101,10101,{"$f":"INDEX($BX36:$CG36,1,WertungskriterienA)","v":10101},{"$f":"SUM((TRANSPOSE($CH$31:$CH$48)=CH36)*$AD36:$AU36)","v":0},1,10101,101010101,10101,101010101,10101010101,101010101,1010101010101,1010101010101,101010101,10101010101,{"$f":"INDEX(CK36:CT36,1,WertungskriterienA)","v":101010101},1,false,"Spieler 06",5,1.0050059999999998,6,8,"Spieler 07","-","Spieler 04",null,null,5,8,{"$f":"IF(AND(DI36=1,MOD(DH36,2)=0),MAX(TeilnNr),IF(MOD(DI36,2)=0,IF(MAX(TeilnNr)/2-DI36+1-(DH36-MAX(TeilnNr)/2-1)>=1,MAX(TeilnNr)/2-DI36+1-(DH36-MAX(TeilnNr)/2-1),MAX(TeilnNr)/2-DI36+1-(DH36-MAX(TeilnNr)/2-1)+MAX(TeilnNr)-1),IF(DI36-(DH36-1)>=1,DI36-(DH36-1),DI36-(DH36-1)+MAX(TeilnNr)-1)))","v":7},{"$f":"IF(AND(DI36=1,MOD(DH36,2)<>0),MAX(TeilnNr),IF(MOD(DI36,2)<>0,IF(MAX(TeilnNr)/2-DI36+1-(DH36-MAX(TeilnNr)/2-1)>=1,MAX(TeilnNr)/2-DI36+1-(DH36-MAX(TeilnNr)/2-1),MAX(TeilnNr)/2-DI36+1-(DH36-MAX(TeilnNr)/2-1)+MAX(TeilnNr)-1),IF(DI36-(DH36-1)>=1,DI36-(DH36-1),DI36-(DH36-1)+MAX(TeilnNr)-1)))","v":4},"","",{"$f":"ADDRESS(ROW(Teilnehmer)+DJ36,COLUMN(Teilnehmer)+DK36)","v":"$G$37"},{"$f":"ADDRESS(ROW(Teilnehmer)+DK36,COLUMN(Teilnehmer)+DJ36)","v":"$J$34"},8,"Spieler 06","-","Spieler 03",null,null,6,8,{"$f":"IF(AND(DW36=1,MOD(DV36,2)=0),MAX(TeilnNr),IF(MOD(DW36,2)=0,IF(MAX(TeilnNr)/2-DW36+1-(DV36-MAX(TeilnNr)/2-1)>=1,MAX(TeilnNr)/2-DW36+1-(DV36-MAX(TeilnNr)/2-1),MAX(TeilnNr)/2-DW36+1-(DV36-MAX(TeilnNr)/2-1)+MAX(TeilnNr)-1),IF(DW36-(DV36-1)>=1,DW36-(DV36-1),DW36-(DV36-1)+MAX(TeilnNr)-1)))","v":6},{"$f":"IF(AND(DW36=1,MOD(DV36,2)<>0),MAX(TeilnNr),IF(MOD(DW36,2)<>0,IF(MAX(TeilnNr)/2-DW36+1-(DV36-MAX(TeilnNr)/2-1)>=1,MAX(TeilnNr)/2-DW36+1-(DV36-MAX(TeilnNr)/2-1),MAX(TeilnNr)/2-DW36+1-(DV36-MAX(TeilnNr)/2-1)+MAX(TeilnNr)-1),IF(DW36-(DV36-1)>=1,DW36-(DV36-1),DW36-(DV36-1)+MAX(TeilnNr)-1)))","v":3},"","",{"$f":"ADDRESS(ROW(Teilnehmer)+DX36,COLUMN(Teilnehmer)+DY36)","v":"$F$36"},{"$f":"ADDRESS(ROW(Teilnehmer)+DY36,COLUMN(Teilnehmer)+DX36)","v":"$I$33"},8,{"$f":"DE36","v":"Spieler 04"},"-",{"$f":"DC36","v":"Spieler 07"},null,8,{"$f":"DS36","v":"Spieler 03"},"-",{"$f":"DQ36","v":"Spieler 06"}]
[null,7,null,"","","","","","","","","","","","","","","","","","",0,0,0,null,0,0,1,null,0,0,0,0,0,0,0,0,0,0,0,0,0,0,0,0,0,0,0,null,0,0,0,0,0,0,0,0,0,0,0,0,0,0,0,0,0,0,0,null,0,1,1,1,1,1,10101,101,1010101,10101,10101,1010101,101,101,1010101,10101,{"$f":"INDEX($BX37:$CG37,1,WertungskriterienA)","v":10101},{"$f":"SUM((TRANSPOSE($CH$31:$CH$48)=CH37)*$AD37:$AU37)","v":0},1,10101,101010101,10101,101010101,10101010101,101010101,1010101010101,1010101010101,101010101,10101010101,{"$f":"INDEX(CK37:CT37,1,WertungskriterienA)","v":101010101},1,false,"Spieler 07",6,1.0060070000000001,7,9,"Spieler 05","-","Spieler 06",null,null,5,9,{"$f":"IF(AND(DI37=1,MOD(DH37,2)=0),MAX(TeilnNr),IF(MOD(DI37,2)=0,IF(MAX(TeilnNr)/2-DI37+1-(DH37-MAX(TeilnNr)/2-1)>=1,MAX(TeilnNr)/2-DI37+1-(DH37-MAX(TeilnNr)/2-1),MAX(TeilnNr)/2-DI37+1-(DH37-MAX(TeilnNr)/2-1)+MAX(TeilnNr)-1),IF(DI37-(DH37-1)>=1,DI37-(DH37-1),DI37-(DH37-1)+MAX(TeilnNr)-1)))","v":5},{"$f":"IF(AND(DI37=1,MOD(DH37,2)<>0),MAX(TeilnNr),IF(MOD(DI37,2)<>0,IF(MAX(TeilnNr)/2-DI37+1-(DH37-MAX(TeilnNr)/2-1)>=1,MAX(TeilnNr)/2-DI37+1-(DH37-MAX(TeilnNr)/2-1),MAX(TeilnNr)/2-DI37+1-(DH37-MAX(TeilnNr)/2-1)+MAX(TeilnNr)-1),IF(DI37-(DH37-1)>=1,DI37-(DH37-1),DI37-(DH37-1)+MAX(TeilnNr)-1)))","v":6},"","",{"$f":"ADDRESS(ROW(Teilnehmer)+DJ37,COLUMN(Teilnehmer)+DK37)","v":"$I$35"},{"$f":"ADDRESS(ROW(Teilnehmer)+DK37,COLUMN(Teilnehmer)+DJ37)","v":"$H$36"},9,"Spieler 04","-","Spieler 05",null,null,6,9,{"$f":"IF(AND(DW37=1,MOD(DV37,2)=0),MAX(TeilnNr),IF(MOD(DW37,2)=0,IF(MAX(TeilnNr)/2-DW37+1-(DV37-MAX(TeilnNr)/2-1)>=1,MAX(TeilnNr)/2-DW37+1-(DV37-MAX(TeilnNr)/2-1),MAX(TeilnNr)/2-DW37+1-(DV37-MAX(TeilnNr)/2-1)+MAX(TeilnNr)-1),IF(DW37-(DV37-1)>=1,DW37-(DV37-1),DW37-(DV37-1)+MAX(TeilnNr)-1)))","v":4},{"$f":"IF(AND(DW37=1,MOD(DV37,2)<>0),MAX(TeilnNr),IF(MOD(DW37,2)<>0,IF(MAX(TeilnNr)/2-DW37+1-(DV37-MAX(TeilnNr)/2-1)>=1,MAX(TeilnNr)/2-DW37+1-(DV37-MAX(TeilnNr)/2-1),MAX(TeilnNr)/2-DW37+1-(DV37-MAX(TeilnNr)/2-1)+MAX(TeilnNr)-1),IF(DW37-(DV37-1)>=1,DW37-(DV37-1),DW37-(DV37-1)+MAX(TeilnNr)-1)))","v":5},"","",{"$f":"ADDRESS(ROW(Teilnehmer)+DX37,COLUMN(Teilnehmer)+DY37)","v":"$H$34"},{"$f":"ADDRESS(ROW(Teilnehmer)+DY37,COLUMN(Teilnehmer)+DX37)","v":"$G$35"},9,"Spieler 05","-",{"$f":"DE37","v":"Spieler 06"},null,9,"Spieler 04","-",{"$f":"DS37","v":"Spieler 05"}]
[null,8,null,"","","","","","","","","","","","","","","","","","",0,0,0,null,0,0,1,null,0,0,0,0,0,0,0,0,0,0,0,0,0,0,0,0,0,0,0,null,0,0,0,0,0,0,0,0,0,0,0,0,0,0,0,0,0,0,0,null,0,1,1,1,1,1,10101,101,1010101,10101,10101,1010101,101,101,1010101,10101,{"$f":"INDEX($BX38:$CG38,1,WertungskriterienA)","v":10101},{"$f":"SUM((TRANSPOSE($CH$31:$CH$48)=CH38)*$AD38:$AU38)","v":0},1,10101,101010101,10101,101010101,10101010101,101010101,1010101010101,1010101010101,101010101,10101010101,{"$f":"INDEX(CK38:CT38,1,WertungskriterienA)","v":101010101},1,false,"Spieler 08",7,1.0070079999999999,8]
[null,9,null,"","","","","","","","","","","","","","","","","","",0,0,0,null,0,0,1,null,0,0,0,0,0,0,0,0,0,0,0,0,0,0,0,0,0,0,0,null,0,0,0,0,0,0,0,0,0,0,0,0,0,0,0,0,0,0,0,null,0,1,1,1,1,1,10101,101,1010101,10101,10101,1010101,101,101,1010101,10101,{"$f":"INDEX($BX39:$CG39,1,WertungskriterienA)","v":10101},{"$f":"SUM((TRANSPOSE($CH$31:$CH$48)=CH39)*$AD39:$AU39)","v":0},1,10101,101010101,10101,101010101,10101010101,101010101,1010101010101,1010101010101,101010101,10101010101,{"$f":"INDEX(CK39:CT39,1,WertungskriterienA)","v":101010101},1,false,"Spieler 09",8,1.0080089999999999,9,null,{"$f":"DC28+2","v":7},null,null,null,null,"R","B","SpNr w","SpNr s","Res w","Res s",null,null,null,{"$f":"DQ28+2","v":8},null,null,null,null,"R","B","SpNr w","SpNr s","Res w","Res s",null,null,null,{"$f":"DC39","v":7},1,null,null,null,{"$f":"DQ39","v":8}]
[null,10,null,"","","","","","","","","","","","","","","","","","",0,0,0,null,0,0,1,null,0,0,0,0,0,0,0,0,0,0,0,0,0,0,0,0,0,0,0,null,0,0,0,0,0,0,0,0,0,0,0,0,0,0,0,0,0,0,0,null,0,1,1,1,1,1,10101,101,1010101,10101,10101,1010101,101,101,1010101,10101,{"$f":"INDEX($BX40:$CG40,1,WertungskriterienA)","v":10101},{"$f":"SUM((TRANSPOSE($CH$31:$CH$48)=CH40)*$AD40:$AU40)","v":0},1,10101,101010101,10101,101010101,10101010101,101010101,1010101010101,1010101010101,101010101,10101010101,{"$f":"INDEX(CK40:CT40,1,WertungskriterienA)","v":101010101},1,false,"Spieler 10",9,1.00901,10,{"$f":"IF(OR(INDEX($CW$31:$CW$48,DJ40),INDEX($CW$31:$CW$48,DK40)),0,1)","v":1},{"$f":"INDEX($CX$31:$CX$48,MATCH($DJ40,TeilnNr,0))","v":"Spieler 12"},"-",{"$f":"INDEX($CX$31:$CX$48,MATCH($DK40,TeilnNr,0))","v":"Spieler 18"},null,null,{"$f":"DC39","v":7},1,{"$f":"IF(AND(DI40=1,MOD(DH40,2)=0),MAX(TeilnNr),IF(MOD(DI40,2)=0,IF(MAX(TeilnNr)/2-DI40+1-(DH40-MAX(TeilnNr)/2-1)>=1,MAX(TeilnNr)/2-DI40+1-(DH40-MAX(TeilnNr)/2-1),MAX(TeilnNr)/2-DI40+1-(DH40-MAX(TeilnNr)/2-1)+MAX(TeilnNr)-1),IF(DI40-(DH40-1)>=1,DI40-(DH40-1),DI40-(DH40-1)+MAX(TeilnNr)-1)))","v":12},{"$f":"IF(AND(DI40=1,MOD(DH40,2)<>0),MAX(TeilnNr),IF(MOD(DI40,2)<>0,IF(MAX(TeilnNr)/2-DI40+1-(DH40-MAX(TeilnNr)/2-1)>=1,MAX(TeilnNr)/2-DI40+1-(DH40-MAX(TeilnNr)/2-1),MAX(TeilnNr)/2-DI40+1-(DH40-MAX(TeilnNr)/2-1)+MAX(TeilnNr)-1),IF(DI40-(DH40-1)>=1,DI40-(DH40-1),DI40-(DH40-1)+MAX(TeilnNr)-1)))","v":18},{"$f":"IF(LEFT(DG40,1)=\"V\",\"\",LEFT(DG40,1))","v":""},{"$f":"IF(RIGHT(DG40,1)=\"V\",\"\",RIGHT(DG40,1))","v":""},{"$f":"ADDRESS(ROW(Teilnehmer)+DJ40,COLUMN(Teilnehmer)+DK40)","v":"$U$42"},{"$f":"ADDRESS(ROW(Teilnehmer)+DK40,COLUMN(Teilnehmer)+DJ40)","v":"$O$48"},{"$f":"IF(OR(INDEX($CW$31:$CW$48,DX40),INDEX($CW$31:$CW$48,DY40)),0,1)","v":1},{"$f":"INDEX($CX$31:$CX$48,MATCH($DX40,TeilnNr,0))","v":"Spieler 18"},"-",{"$f":"INDEX($CX$31:$CX$48,MATCH($DY40,TeilnNr,0))","v":"Spieler 11"},null,null,{"$f":"DQ39","v":8},1,{"$f":"IF(AND(DW40=1,MOD(DV40,2)=0),MAX(TeilnNr),IF(MOD(DW40,2)=0,IF(MAX(TeilnNr)/2-DW40+1-(DV40-MAX(TeilnNr)/2-1)>=1,MAX(TeilnNr)/2-DW40+1-(DV40-MAX(TeilnNr)/2-1),MAX(TeilnNr)/2-DW40+1-(DV40-MAX(TeilnNr)/2-1)+MAX(TeilnNr)-1),IF(DW40-(DV40-1)>=1,DW40-(DV40-1),DW40-(DV40-1)+MAX(TeilnNr)-1)))","v":18},{"$f":"IF(AND(DW40=1,MOD(DV40,2)<>0),MAX(TeilnNr),IF(MOD(DW40,2)<>0,IF(MAX(TeilnNr)/2-DW40+1-(DV40-MAX(TeilnNr)/2-1)>=1,MAX(TeilnNr)/2-DW40+1-(DV40-MAX(TeilnNr)/2-1),MAX(TeilnNr)/2-DW40+1-(DV40-MAX(TeilnNr)/2-1)+MAX(TeilnNr)-1),IF(DW40-(DV40-1)>=1,DW40-(DV40-1),DW40-(DV40-1)+MAX(TeilnNr)-1)))","v":11},{"$f":"IF(LEFT(DU40,1)=\"V\",\"\",LEFT(DU40,1))","v":""},{"$f":"IF(RIGHT(DU40,1)=\"V\",\"\",RIGHT(DU40,1))","v":""},{"$f":"ADDRESS(ROW(Teilnehmer)+DX40,COLUMN(Teilnehmer)+DY40)","v":"$N$48"},{"$f":"ADDRESS(ROW(Teilnehmer)+DY40,COLUMN(Teilnehmer)+DX40)","v":"$U$41"},{"$f":"DB40","v":1},"Spieler 12","-",{"$f":"DE40","v":"Spieler 18"},null,{"$f":"DP40","v":1},{"$f":"DS40","v":"Spieler 11"},"-",{"$f":"DQ40","v":"Spieler 18"}]
[null,11,null,{"$f":"IF(ISNA(MATCH(ADDRESS(ROW(),COLUMN()),$DN:$DN,0)),\"\",INDEX($DL:$DL,MATCH(ADDRESS(ROW(),COLUMN()),$DN:$DN,0)))&IF(ISNA(MATCH(ADDRESS(ROW(),COLUMN()),$DO:$DO,0)),\"\",INDEX($DM:$DM,MATCH(ADDRESS(ROW(),COLUMN()),$DO:$DO,0)))&IF(ISNA(MATCH(ADDRESS(ROW(),COLUMN()),$EB:$EB,0)),\"\",INDEX($DZ:$DZ,MATCH(ADDRESS(ROW(),COLUMN()),$EB:$EB,0)))&IF(ISNA(MATCH(ADDRESS(ROW(),COLUMN()),$EC:$EC,0)),\"\",INDEX($EA:$EA,MATCH(ADDRESS(ROW(),COLUMN()),$EC:$EC,0)))","v":""},"","","","","","","","","",{"$f":"IF(ISNA(MATCH(ADDRESS(ROW(),COLUMN()),$DN:$DN,0)),\"\",INDEX($DL:$DL,MATCH(ADDRESS(ROW(),COLUMN()),$DN:$DN,0)))&IF(ISNA(MATCH(ADDRESS(ROW(),COLUMN()),$DO:$DO,0)),\"\",INDEX($DM:$DM,MATCH(ADDRESS(ROW(),COLUMN()),$DO:$DO,0)))&IF(ISNA(MATCH(ADDRESS(ROW(),COLUMN()),$EB:$EB,0)),\"\",INDEX($DZ:$DZ,MATCH(ADDRESS(ROW(),COLUMN()),$EB:$EB,0)))&IF(ISNA(MATCH(ADDRESS(ROW(),COLUMN()),$EC:$EC,0)),\"\",INDEX($EA:$EA,MATCH(ADDRESS(ROW(),COLUMN()),$EC:$EC,0)))","v":""},"","","","","","","",0,0,0,null,0,0,1,null,0,0,0,0,0,0,0,0,0,0,0,0,0,0,0,0,0,0,0,null,0,0,0,0,0,0,0,0,0,0,0,0,0,0,0,0,0,0,0,null,0,1,1,1,1,1,10101,101,1010101,10101,10101,1010101,101,101,1010101,10101,{"$f":"INDEX($BX41:$CG41,1,WertungskriterienA)","v":10101},{"$f":"SUM((TRANSPOSE($CH$31:$CH$48)=CH41)*$AD41:$AU41)","v":0},1,10101,101010101,10101,101010101,10101010101,101010101,1010101010101,1010101010101,101010101,10101010101,{"$f":"INDEX(CK41:CT41,1,WertungskriterienA)","v":101010101},1,false,"Spieler 11",10,1.010011,11,{"$f":"DB40+1","v":2},"Spieler 11","-","Spieler 13",null,null,{"$f":"DH40","v":7},{"$f":"DI40+1","v":2},{"$f":"IF(AND(DI41=1,MOD(DH41,2)=0),MAX(TeilnNr),IF(MOD(DI41,2)=0,IF(MAX(TeilnNr)/2-DI41+1-(DH41-MAX(TeilnNr)/2-1)>=1,MAX(TeilnNr)/2-DI41+1-(DH41-MAX(TeilnNr)/2-1),MAX(TeilnNr)/2-DI41+1-(DH41-MAX(TeilnNr)/2-1)+MAX(TeilnNr)-1),IF(DI41-(DH41-1)>=1,DI41-(DH41-1),DI41-(DH41-1)+MAX(TeilnNr)-1)))","v":11},{"$f":"IF(AND(DI41=1,MOD(DH41,2)<>0),MAX(TeilnNr),IF(MOD(DI41,2)<>0,IF(MAX(TeilnNr)/2-DI41+1-(DH41-MAX(TeilnNr)/2-1)>=1,MAX(TeilnNr)/2-DI41+1-(DH41-MAX(TeilnNr)/2-1),MAX(TeilnNr)/2-DI41+1-(DH41-MAX(TeilnNr)/2-1)+MAX(TeilnNr)-1),IF(DI41-(DH41-1)>=1,DI41-(DH41-1),DI41-(DH41-1)+MAX(TeilnNr)-1)))","v":13},"","",{"$f":"ADDRESS(ROW(Teilnehmer)+DJ41,COLUMN(Teilnehmer)+DK41)","v":"$P$41"},{"$f":"ADDRESS(ROW(Teilnehmer)+DK41,COLUMN(Teilnehmer)+DJ41)","v":"$N$43"},{"$f":"DP40+1","v":2},"Spieler 10","-","Spieler 12",null,null,{"$f":"DV40","v":8},{"$f":"DW40+1","v":2},{"$f":"IF(AND(DW41=1,MOD(DV41,2)=0),MAX(TeilnNr),IF(MOD(DW41,2)=0,IF(MAX(TeilnNr)/2-DW41+1-(DV41-MAX(TeilnNr)/2-1)>=1,MAX(TeilnNr)/2-DW41+1-(DV41-MAX(TeilnNr)/2-1),MAX(TeilnNr)/2-DW41+1-(DV41-MAX(TeilnNr)/2-1)+MAX(TeilnNr)-1),IF(DW41-(DV41-1)>=1,DW41-(DV41-1),DW41-(DV41-1)+MAX(TeilnNr)-1)))","v":10},{"$f":"IF(AND(DW41=1,MOD(DV41,2)<>0),MAX(TeilnNr),IF(MOD(DW41,2)<>0,IF(MAX(TeilnNr)/2-DW41+1-(DV41-MAX(TeilnNr)/2-1)>=1,MAX(TeilnNr)/2-DW41+1-(DV41-MAX(TeilnNr)/2-1),MAX(TeilnNr)/2-DW41+1-(DV41-MAX(TeilnNr)/2-1)+MAX(TeilnNr)-1),IF(DW41-(DV41-1)>=1,DW41-(DV41-1),DW41-(DV41-1)+MAX(TeilnNr)-1)))","v":12},"","",{"$f":"ADDRESS(ROW(Teilnehmer)+DX41,COLUMN(Teilnehmer)+DY41)","v":"$O$40"},{"$f":"ADDRESS(ROW(Teilnehmer)+DY41,COLUMN(Teilnehmer)+DX41)","v":"$M$42"},{"$f":"DB41","v":2},{"$f":"DE41","v":"Spieler 13"},"-",{"$f":"DC41","v":"Spieler 11"},null,2,"Spieler 12","-","Spieler 10"]
[null,12,null,"","","","","","","","","","","","","","","","","","",0,0,0,null,0,0,1,null,0,0,0,0,0,0,0,0,0,0,0,0,0,0,0,0,0,0,0,null,0,0,0,0,0,0,0,0,0,0,0,0,0,0,0,0,0,0,0,null,0,1,1,1,1,1,10101,101,1010101,10101,10101,1010101,101,101,1010101,10101,{"$f":"INDEX($BX42:$CG42,1,WertungskriterienA)","v":10101},{"$f":"SUM((TRANSPOSE($CH$31:$CH$48)=CH42)*$AD42:$AU42)","v":0},1,10101,101010101,10101,101010101,10101010101,101010101,1010101010101,1010101010101,101010101,10101010101,{"$f":"INDEX(CK42:CT42,1,WertungskriterienA)","v":101010101},1,false,"Spieler 12",11,1.0110119999999998,12,{"$f":"DB41+1","v":3},"Spieler 14","-","Spieler 10",null,null,{"$f":"DH41","v":7},{"$f":"DI41+1","v":3},{"$f":"IF(AND(DI42=1,MOD(DH42,2)=0),MAX(TeilnNr),IF(MOD(DI42,2)=0,IF(MAX(TeilnNr)/2-DI42+1-(DH42-MAX(TeilnNr)/2-1)>=1,MAX(TeilnNr)/2-DI42+1-(DH42-MAX(TeilnNr)/2-1),MAX(TeilnNr)/2-DI42+1-(DH42-MAX(TeilnNr)/2-1)+MAX(TeilnNr)-1),IF(DI42-(DH42-1)>=1,DI42-(DH42-1),DI42-(DH42-1)+MAX(TeilnNr)-1)))","v":14},{"$f":"IF(AND(DI42=1,MOD(DH42,2)<>0),MAX(TeilnNr),IF(MOD(DI42,2)<>0,IF(MAX(TeilnNr)/2-DI42+1-(DH42-MAX(TeilnNr)/2-1)>=1,MAX(TeilnNr)/2-DI42+1-(DH42-MAX(TeilnNr)/2-1),MAX(TeilnNr)/2-DI42+1-(DH42-MAX(TeilnNr)/2-1)+MAX(TeilnNr)-1),IF(DI42-(DH42-1)>=1,DI42-(DH42-1),DI42-(DH42-1)+MAX(TeilnNr)-1)))","v":10},"","",{"$f":"ADDRESS(ROW(Teilnehmer)+DJ42,COLUMN(Teilnehmer)+DK42)","v":"$M$44"},{"$f":"ADDRESS(ROW(Teilnehmer)+DK42,COLUMN(Teilnehmer)+DJ42)","v":"$Q$40"},{"$f":"DP41+1","v":3},"Spieler 13","-","Spieler 09",null,null,{"$f":"DV41","v":8},{"$f":"DW41+1","v":3},{"$f":"IF(AND(DW42=1,MOD(DV42,2)=0),MAX(TeilnNr),IF(MOD(DW42,2)=0,IF(MAX(TeilnNr)/2-DW42+1-(DV42-MAX(TeilnNr)/2-1)>=1,MAX(TeilnNr)/2-DW42+1-(DV42-MAX(TeilnNr)/2-1),MAX(TeilnNr)/2-DW42+1-(DV42-MAX(TeilnNr)/2-1)+MAX(TeilnNr)-1),IF(DW42-(DV42-1)>=1,DW42-(DV42-1),DW42-(DV42-1)+MAX(TeilnNr)-1)))","v":13},{"$f":"IF(AND(DW42=1,MOD(DV42,2)<>0),MAX(TeilnNr),IF(MOD(DW42,2)<>0,IF(MAX(TeilnNr)/2-DW42+1-(DV42-MAX(TeilnNr)/2-1)>=1,MAX(TeilnNr)/2-DW42+1-(DV42-MAX(TeilnNr)/2-1),MAX(TeilnNr)/2-DW42+1-(DV42-MAX(TeilnNr)/2-1)+MAX(TeilnNr)-1),IF(DW42-(DV42-1)>=1,DW42-(DV42-1),DW42-(DV42-1)+MAX(TeilnNr)-1)))","v":9},"","",{"$f":"ADDRESS(ROW(Teilnehmer)+DX42,COLUMN(Teilnehmer)+DY42)","v":"$L$43"},{"$f":"ADDRESS(ROW(Teilnehmer)+DY42,COLUMN(Teilnehmer)+DX42)","v":"$P$39"},3,"Spieler 14","-",{"$f":"DE42","v":"Spieler 10"},null,3,"Spieler 13","-",{"$f":"DS42","v":"Spieler 09"}]
[null,13,null,"","","","","","","","","","","","","","","","","","",0,0,0,null,0,0,1,null,0,0,0,0,0,0,0,0,0,0,0,0,0,0,0,0,0,0,0,null,0,0,0,0,0,0,0,0,0,0,0,0,0,0,0,0,0,0,0,null,0,1,1,1,1,1,10101,101,1010101,10101,10101,1010101,101,101,1010101,10101,{"$f":"INDEX($BX43:$CG43,1,WertungskriterienA)","v":10101},{"$f":"SUM((TRANSPOSE($CH$31:$CH$48)=CH43)*$AD43:$AU43)","v":0},1,10101,101010101,10101,101010101,10101010101,101010101,1010101010101,1010101010101,101010101,10101010101,{"$f":"INDEX(CK43:CT43,1,WertungskriterienA)","v":101010101},1,false,"Spieler 13",12,1.0120130000000001,13,4,"Spieler 09","-","Spieler 15",null,null,{"$f":"DH42","v":7},4,{"$f":"IF(AND(DI43=1,MOD(DH43,2)=0),MAX(TeilnNr),IF(MOD(DI43,2)=0,IF(MAX(TeilnNr)/2-DI43+1-(DH43-MAX(TeilnNr)/2-1)>=1,MAX(TeilnNr)/2-DI43+1-(DH43-MAX(TeilnNr)/2-1),MAX(TeilnNr)/2-DI43+1-(DH43-MAX(TeilnNr)/2-1)+MAX(TeilnNr)-1),IF(DI43-(DH43-1)>=1,DI43-(DH43-1),DI43-(DH43-1)+MAX(TeilnNr)-1)))","v":9},{"$f":"IF(AND(DI43=1,MOD(DH43,2)<>0),MAX(TeilnNr),IF(MOD(DI43,2)<>0,IF(MAX(TeilnNr)/2-DI43+1-(DH43-MAX(TeilnNr)/2-1)>=1,MAX(TeilnNr)/2-DI43+1-(DH43-MAX(TeilnNr)/2-1),MAX(TeilnNr)/2-DI43+1-(DH43-MAX(TeilnNr)/2-1)+MAX(TeilnNr)-1),IF(DI43-(DH43-1)>=1,DI43-(DH43-1),DI43-(DH43-1)+MAX(TeilnNr)-1)))","v":15},"","",{"$f":"ADDRESS(ROW(Teilnehmer)+DJ43,COLUMN(Teilnehmer)+DK43)","v":"$R$39"},{"$f":"ADDRESS(ROW(Teilnehmer)+DK43,COLUMN(Teilnehmer)+DJ43)","v":"$L$45"},4,"Spieler 08","-","Spieler 14",null,null,{"$f":"DV42","v":8},4,{"$f":"IF(AND(DW43=1,MOD(DV43,2)=0),MAX(TeilnNr),IF(MOD(DW43,2)=0,IF(MAX(TeilnNr)/2-DW43+1-(DV43-MAX(TeilnNr)/2-1)>=1,MAX(TeilnNr)/2-DW43+1-(DV43-MAX(TeilnNr)/2-1),MAX(TeilnNr)/2-DW43+1-(DV43-MAX(TeilnNr)/2-1)+MAX(TeilnNr)-1),IF(DW43-(DV43-1)>=1,DW43-(DV43-1),DW43-(DV43-1)+MAX(TeilnNr)-1)))","v":8},{"$f":"IF(AND(DW43=1,MOD(DV43,2)<>0),MAX(TeilnNr),IF(MOD(DW43,2)<>0,IF(MAX(TeilnNr)/2-DW43+1-(DV43-MAX(TeilnNr)/2-1)>=1,MAX(TeilnNr)/2-DW43+1-(DV43-MAX(TeilnNr)/2-1),MAX(TeilnNr)/2-DW43+1-(DV43-MAX(TeilnNr)/2-1)+MAX(TeilnNr)-1),IF(DW43-(DV43-1)>=1,DW43-(DV43-1),DW43-(DV43-1)+MAX(TeilnNr)-1)))","v":14},"","",{"$f":"ADDRESS(ROW(Teilnehmer)+DX43,COLUMN(Teilnehmer)+DY43)","v":"$Q$38"},{"$f":"ADDRESS(ROW(Teilnehmer)+DY43,COLUMN(Teilnehmer)+DX43)","v":"$K$44"},4,{"$f":"DE43","v":"Spieler 15"},"-",{"$f":"DC43","v":"Spieler 09"},null,4,{"$f":"DS43","v":"Spieler 14"},"-",{"$f":"DQ43","v":"Spieler 08"}]
[null,14,null,"","","","","","","","","","","","","","","","","","",0,0,0,null,0,0,1,null,0,0,0,0,0,0,0,0,0,0,0,0,0,0,0,0,0,0,0,null,0,0,0,0,0,0,0,0,0,0,0,0,0,0,0,0,0,0,0,null,0,1,1,1,1,1,10101,101,1010101,10101,10101,1010101,101,101,1010101,10101,{"$f":"INDEX($BX44:$CG44,1,WertungskriterienA)","v":10101},{"$f":"SUM((TRANSPOSE($CH$31:$CH$48)=CH44)*$AD44:$AU44)","v":0},1,10101,101010101,10101,101010101,10101010101,101010101,1010101010101,1010101010101,101010101,10101010101,{"$f":"INDEX(CK44:CT44,1,WertungskriterienA)","v":101010101},1,false,"Spieler 14",13,1.0130139999999999,14,5,"Spieler 16","-","Spieler 08",null,null,{"$f":"DH43","v":7},5,{"$f":"IF(AND(DI44=1,MOD(DH44,2)=0),MAX(TeilnNr),IF(MOD(DI44,2)=0,IF(MAX(TeilnNr)/2-DI44+1-(DH44-MAX(TeilnNr)/2-1)>=1,MAX(TeilnNr)/2-DI44+1-(DH44-MAX(TeilnNr)/2-1),MAX(TeilnNr)/2-DI44+1-(DH44-MAX(TeilnNr)/2-1)+MAX(TeilnNr)-1),IF(DI44-(DH44-1)>=1,DI44-(DH44-1),DI44-(DH44-1)+MAX(TeilnNr)-1)))","v":16},{"$f":"IF(AND(DI44=1,MOD(DH44,2)<>0),MAX(TeilnNr),IF(MOD(DI44,2)<>0,IF(MAX(TeilnNr)/2-DI44+1-(DH44-MAX(TeilnNr)/2-1)>=1,MAX(TeilnNr)/2-DI44+1-(DH44-MAX(TeilnNr)/2-1),MAX(TeilnNr)/2-DI44+1-(DH44-MAX(TeilnNr)/2-1)+MAX(TeilnNr)-1),IF(DI44-(DH44-1)>=1,DI44-(DH44-1),DI44-(DH44-1)+MAX(TeilnNr)-1)))","v":8},"","",{"$f":"ADDRESS(ROW(Teilnehmer)+DJ44,COLUMN(Teilnehmer)+DK44)","v":"$K$46"},{"$f":"ADDRESS(ROW(Teilnehmer)+DK44,COLUMN(Teilnehmer)+DJ44)","v":"$S$38"},5,"Spieler 15","-","Spieler 07",null,null,8,5,{"$f":"IF(AND(DW44=1,MOD(DV44,2)=0),MAX(TeilnNr),IF(MOD(DW44,2)=0,IF(MAX(TeilnNr)/2-DW44+1-(DV44-MAX(TeilnNr)/2-1)>=1,MAX(TeilnNr)/2-DW44+1-(DV44-MAX(TeilnNr)/2-1),MAX(TeilnNr)/2-DW44+1-(DV44-MAX(TeilnNr)/2-1)+MAX(TeilnNr)-1),IF(DW44-(DV44-1)>=1,DW44-(DV44-1),DW44-(DV44-1)+MAX(TeilnNr)-1)))","v":15},{"$f":"IF(AND(DW44=1,MOD(DV44,2)<>0),MAX(TeilnNr),IF(MOD(DW44,2)<>0,IF(MAX(TeilnNr)/2-DW44+1-(DV44-MAX(TeilnNr)/2-1)>=1,MAX(TeilnNr)/2-DW44+1-(DV44-MAX(TeilnNr)/2-1),MAX(TeilnNr)/2-DW44+1-(DV44-MAX(TeilnNr)/2-1)+MAX(TeilnNr)-1),IF(DW44-(DV44-1)>=1,DW44-(DV44-1),DW44-(DV44-1)+MAX(TeilnNr)-1)))","v":7},"","",{"$f":"ADDRESS(ROW(Teilnehmer)+DX44,COLUMN(Teilnehmer)+DY44)","v":"$J$45"},{"$f":"ADDRESS(ROW(Teilnehmer)+DY44,COLUMN(Teilnehmer)+DX44)","v":"$R$37"},5,"Spieler 16","-",{"$f":"DE44","v":"Spieler 08"},null,5,"Spieler 15","-",{"$f":"DS44","v":"Spieler 07"}]
[null,15,null,"","","","","","","","","","","","","","","","","","",0,0,0,null,0,0,1,null,0,0,0,0,0,0,0,0,0,0,0,0,0,0,0,0,0,0,0,null,0,0,0,0,0,0,0,0,0,0,0,0,0,0,0,0,0,0,0,null,0,1,1,1,1,1,10101,101,1010101,10101,10101,1010101,101,101,1010101,10101,{"$f":"INDEX($BX45:$CG45,1,WertungskriterienA)","v":10101},{"$f":"SUM((TRANSPOSE($CH$31:$CH$48)=CH45)*$AD45:$AU45)","v":0},1,10101,101010101,10101,101010101,10101010101,101010101,1010101010101,1010101010101,101010101,10101010101,{"$f":"INDEX(CK45:CT45,1,WertungskriterienA)","v":101010101},1,false,"Spieler 15",14,1.0140150000000001,15,6,"Spieler 07","-","Spieler 17",null,null,{"$f":"DH44","v":7},6,{"$f":"IF(AND(DI45=1,MOD(DH45,2)=0),MAX(TeilnNr),IF(MOD(DI45,2)=0,IF(MAX(TeilnNr)/2-DI45+1-(DH45-MAX(TeilnNr)/2-1)>=1,MAX(TeilnNr)/2-DI45+1-(DH45-MAX(TeilnNr)/2-1),MAX(TeilnNr)/2-DI45+1-(DH45-MAX(TeilnNr)/2-1)+MAX(TeilnNr)-1),IF(DI45-(DH45-1)>=1,DI45-(DH45-1),DI45-(DH45-1)+MAX(TeilnNr)-1)))","v":7},{"$f":"IF(AND(DI45=1,MOD(DH45,2)<>0),MAX(TeilnNr),IF(MOD(DI45,2)<>0,IF(MAX(TeilnNr)/2-DI45+1-(DH45-MAX(TeilnNr)/2-1)>=1,MAX(TeilnNr)/2-DI45+1-(DH45-MAX(TeilnNr)/2-1),MAX(TeilnNr)/2-DI45+1-(DH45-MAX(TeilnNr)/2-1)+MAX(TeilnNr)-1),IF(DI45-(DH45-1)>=1,DI45-(DH45-1),DI45-(DH45-1)+MAX(TeilnNr)-1)))","v":17},"","",{"$f":"ADDRESS(ROW(Teilnehmer)+DJ45,COLUMN(Teilnehmer)+DK45)","v":"$T$37"},{"$f":"ADDRESS(ROW(Teilnehmer)+DK45,COLUMN(Teilnehmer)+DJ45)","v":"$J$47"},6,"Spieler 06","-","Spieler 16",null,null,8,6,{"$f":"IF(AND(DW45=1,MOD(DV45,2)=0),MAX(TeilnNr),IF(MOD(DW45,2)=0,IF(MAX(TeilnNr)/2-DW45+1-(DV45-MAX(TeilnNr)/2-1)>=1,MAX(TeilnNr)/2-DW45+1-(DV45-MAX(TeilnNr)/2-1),MAX(TeilnNr)/2-DW45+1-(DV45-MAX(TeilnNr)/2-1)+MAX(TeilnNr)-1),IF(DW45-(DV45-1)>=1,DW45-(DV45-1),DW45-(DV45-1)+MAX(TeilnNr)-1)))","v":6},{"$f":"IF(AND(DW45=1,MOD(DV45,2)<>0),MAX(TeilnNr),IF(MOD(DW45,2)<>0,IF(MAX(TeilnNr)/2-DW45+1-(DV45-MAX(TeilnNr)/2-1)>=1,MAX(TeilnNr)/2-DW45+1-(DV45-MAX(TeilnNr)/2-1),MAX(TeilnNr)/2-DW45+1-(DV45-MAX(TeilnNr)/2-1)+MAX(TeilnNr)-1),IF(DW45-(DV45-1)>=1,DW45-(DV45-1),DW45-(DV45-1)+MAX(TeilnNr)-1)))","v":16},"","",{"$f":"ADDRESS(ROW(Teilnehmer)+DX45,COLUMN(Teilnehmer)+DY45)","v":"$S$36"},{"$f":"ADDRESS(ROW(Teilnehmer)+DY45,COLUMN(Teilnehmer)+DX45)","v":"$I$46"},6,{"$f":"DE45","v":"Spieler 17"},"-",{"$f":"DC45","v":"Spieler 07"},null,6,{"$f":"DS45","v":"Spieler 16"},"-",{"$f":"DQ45","v":"Spieler 06"}]
[null,16,null,"","","","","","","","","","","","","","","","","","",0,0,0,null,0,0,1,null,0,0,0,0,0,0,0,0,0,0,0,0,0,0,0,0,0,0,0,null,0,0,0,0,0,0,0,0,0,0,0,0,0,0,0,0,0,0,0,null,0,1,1,1,1,1,10101,101,1010101,10101,10101,1010101,101,101,1010101,10101,{"$f":"INDEX($BX46:$CG46,1,WertungskriterienA)","v":10101},{"$f":"SUM((TRANSPOSE($CH$31:$CH$48)=CH46)*$AD46:$AU46)","v":0},1,10101,101010101,10101,101010101,10101010101,101010101,1010101010101,1010101010101,101010101,10101010101,{"$f":"INDEX(CK46:CT46,1,WertungskriterienA)","v":101010101},1,false,"Spieler 16",15,1.0150159999999999,16,7,"Spieler 01","-","Spieler 06",null,null,{"$f":"DH45","v":7},7,{"$f":"IF(AND(DI46=1,MOD(DH46,2)=0),MAX(TeilnNr),IF(MOD(DI46,2)=0,IF(MAX(TeilnNr)/2-DI46+1-(DH46-MAX(TeilnNr)/2-1)>=1,MAX(TeilnNr)/2-DI46+1-(DH46-MAX(TeilnNr)/2-1),MAX(TeilnNr)/2-DI46+1-(DH46-MAX(TeilnNr)/2-1)+MAX(TeilnNr)-1),IF(DI46-(DH46-1)>=1,DI46-(DH46-1),DI46-(DH46-1)+MAX(TeilnNr)-1)))","v":1},{"$f":"IF(AND(DI46=1,MOD(DH46,2)<>0),MAX(TeilnNr),IF(MOD(DI46,2)<>0,IF(MAX(TeilnNr)/2-DI46+1-(DH46-MAX(TeilnNr)/2-1)>=1,MAX(TeilnNr)/2-DI46+1-(DH46-MAX(TeilnNr)/2-1),MAX(TeilnNr)/2-DI46+1-(DH46-MAX(TeilnNr)/2-1)+MAX(TeilnNr)-1),IF(DI46-(DH46-1)>=1,DI46-(DH46-1),DI46-(DH46-1)+MAX(TeilnNr)-1)))","v":6},"","",{"$f":"ADDRESS(ROW(Teilnehmer)+DJ46,COLUMN(Teilnehmer)+DK46)","v":"$I$31"},{"$f":"ADDRESS(ROW(Teilnehmer)+DK46,COLUMN(Teilnehmer)+DJ46)","v":"$D$36"},7,"Spieler 17","-","Spieler 05",null,null,8,7,{"$f":"IF(AND(DW46=1,MOD(DV46,2)=0),MAX(TeilnNr),IF(MOD(DW46,2)=0,IF(MAX(TeilnNr)/2-DW46+1-(DV46-MAX(TeilnNr)/2-1)>=1,MAX(TeilnNr)/2-DW46+1-(DV46-MAX(TeilnNr)/2-1),MAX(TeilnNr)/2-DW46+1-(DV46-MAX(TeilnNr)/2-1)+MAX(TeilnNr)-1),IF(DW46-(DV46-1)>=1,DW46-(DV46-1),DW46-(DV46-1)+MAX(TeilnNr)-1)))","v":17},{"$f":"IF(AND(DW46=1,MOD(DV46,2)<>0),MAX(TeilnNr),IF(MOD(DW46,2)<>0,IF(MAX(TeilnNr)/2-DW46+1-(DV46-MAX(TeilnNr)/2-1)>=1,MAX(TeilnNr)/2-DW46+1-(DV46-MAX(TeilnNr)/2-1),MAX(TeilnNr)/2-DW46+1-(DV46-MAX(TeilnNr)/2-1)+MAX(TeilnNr)-1),IF(DW46-(DV46-1)>=1,DW46-(DV46-1),DW46-(DV46-1)+MAX(TeilnNr)-1)))","v":5},"","",{"$f":"ADDRESS(ROW(Teilnehmer)+DX46,COLUMN(Teilnehmer)+DY46)","v":"$H$47"},{"$f":"ADDRESS(ROW(Teilnehmer)+DY46,COLUMN(Teilnehmer)+DX46)","v":"$T$35"},7,"Spieler 01","-",{"$f":"DE46","v":"Spieler 06"},null,7,"Spieler 17","-",{"$f":"DS46","v":"Spieler 05"}]
[null,17,null,"","","","","","","","","","","","","","","","","","",0,0,0,null,0,0,1,null,0,0,0,0,0,0,0,0,0,0,0,0,0,0,0,0,0,0,0,null,0,0,0,0,0,0,0,0,0,0,0,0,0,0,0,0,0,0,0,null,0,1,1,1,1,1,10101,101,1010101,10101,10101,1010101,101,101,1010101,10101,{"$f":"INDEX($BX47:$CG47,1,WertungskriterienA)","v":10101},{"$f":"SUM((TRANSPOSE($CH$31:$CH$48)=CH47)*$AD47:$AU47)","v":0},1,10101,101010101,10101,101010101,10101010101,101010101,1010101010101,1010101010101,101010101,10101010101,{"$f":"INDEX(CK47:CT47,1,WertungskriterienA)","v":101010101},1,false,"Spieler 17",16,1.0160169999999999,17,8,"Spieler 05","-","Spieler 02",null,null,7,8,{"$f":"IF(AND(DI47=1,MOD(DH47,2)=0),MAX(TeilnNr),IF(MOD(DI47,2)=0,IF(MAX(TeilnNr)/2-DI47+1-(DH47-MAX(TeilnNr)/2-1)>=1,MAX(TeilnNr)/2-DI47+1-(DH47-MAX(TeilnNr)/2-1),MAX(TeilnNr)/2-DI47+1-(DH47-MAX(TeilnNr)/2-1)+MAX(TeilnNr)-1),IF(DI47-(DH47-1)>=1,DI47-(DH47-1),DI47-(DH47-1)+MAX(TeilnNr)-1)))","v":5},{"$f":"IF(AND(DI47=1,MOD(DH47,2)<>0),MAX(TeilnNr),IF(MOD(DI47,2)<>0,IF(MAX(TeilnNr)/2-DI47+1-(DH47-MAX(TeilnNr)/2-1)>=1,MAX(TeilnNr)/2-DI47+1-(DH47-MAX(TeilnNr)/2-1),MAX(TeilnNr)/2-DI47+1-(DH47-MAX(TeilnNr)/2-1)+MAX(TeilnNr)-1),IF(DI47-(DH47-1)>=1,DI47-(DH47-1),DI47-(DH47-1)+MAX(TeilnNr)-1)))","v":2},"","",{"$f":"ADDRESS(ROW(Teilnehmer)+DJ47,COLUMN(Teilnehmer)+DK47)","v":"$E$35"},{"$f":"ADDRESS(ROW(Teilnehmer)+DK47,COLUMN(Teilnehmer)+DJ47)","v":"$H$32"},8,"Spieler 04","-","Spieler 01",null,null,8,8,{"$f":"IF(AND(DW47=1,MOD(DV47,2)=0),MAX(TeilnNr),IF(MOD(DW47,2)=0,IF(MAX(TeilnNr)/2-DW47+1-(DV47-MAX(TeilnNr)/2-1)>=1,MAX(TeilnNr)/2-DW47+1-(DV47-MAX(TeilnNr)/2-1),MAX(TeilnNr)/2-DW47+1-(DV47-MAX(TeilnNr)/2-1)+MAX(TeilnNr)-1),IF(DW47-(DV47-1)>=1,DW47-(DV47-1),DW47-(DV47-1)+MAX(TeilnNr)-1)))","v":4},{"$f":"IF(AND(DW47=1,MOD(DV47,2)<>0),MAX(TeilnNr),IF(MOD(DW47,2)<>0,IF(MAX(TeilnNr)/2-DW47+1-(DV47-MAX(TeilnNr)/2-1)>=1,MAX(TeilnNr)/2-DW47+1-(DV47-MAX(TeilnNr)/2-1),MAX(TeilnNr)/2-DW47+1-(DV47-MAX(TeilnNr)/2-1)+MAX(TeilnNr)-1),IF(DW47-(DV47-1)>=1,DW47-(DV47-1),DW47-(DV47-1)+MAX(TeilnNr)-1)))","v":1},"","",{"$f":"ADDRESS(ROW(Teilnehmer)+DX47,COLUMN(Teilnehmer)+DY47)","v":"$D$34"},{"$f":"ADDRESS(ROW(Teilnehmer)+DY47,COLUMN(Teilnehmer)+DX47)","v":"$G$31"},8,{"$f":"DE47","v":"Spieler 02"},"-",{"$f":"DC47","v":"Spieler 05"},null,8,{"$f":"DS47","v":"Spieler 01"},"-",{"$f":"DQ47","v":"Spieler 04"}]
[null,18,null,"","","","","","","","","","","","","","","","","","",0,0,0,null,0,0,1,null,0,0,0,0,0,0,0,0,0,0,0,0,0,0,0,0,0,0,0,null,0,0,0,0,0,0,0,0,0,0,0,0,0,0,0,0,0,0,0,null,0,1,1,1,1,1,10101,101,1010101,10101,10101,1010101,101,101,1010101,10101,{"$f":"INDEX($BX48:$CG48,1,WertungskriterienA)","v":10101},{"$f":"SUM((TRANSPOSE($CH$31:$CH$48)=CH48)*$AD48:$AU48)","v":0},1,10101,101010101,10101,101010101,10101010101,101010101,1010101010101,1010101010101,101010101,10101010101,{"$f":"INDEX(CK48:CT48,1,WertungskriterienA)","v":101010101},1,false,"Spieler 18",17,1.017018,18,9,"Spieler 03","-","Spieler 04",null,null,7,9,{"$f":"IF(AND(DI48=1,MOD(DH48,2)=0),MAX(TeilnNr),IF(MOD(DI48,2)=0,IF(MAX(TeilnNr)/2-DI48+1-(DH48-MAX(TeilnNr)/2-1)>=1,MAX(TeilnNr)/2-DI48+1-(DH48-MAX(TeilnNr)/2-1),MAX(TeilnNr)/2-DI48+1-(DH48-MAX(TeilnNr)/2-1)+MAX(TeilnNr)-1),IF(DI48-(DH48-1)>=1,DI48-(DH48-1),DI48-(DH48-1)+MAX(TeilnNr)-1)))","v":3},{"$f":"IF(AND(DI48=1,MOD(DH48,2)<>0),MAX(TeilnNr),IF(MOD(DI48,2)<>0,IF(MAX(TeilnNr)/2-DI48+1-(DH48-MAX(TeilnNr)/2-1)>=1,MAX(TeilnNr)/2-DI48+1-(DH48-MAX(TeilnNr)/2-1),MAX(TeilnNr)/2-DI48+1-(DH48-MAX(TeilnNr)/2-1)+MAX(TeilnNr)-1),IF(DI48-(DH48-1)>=1,DI48-(DH48-1),DI48-(DH48-1)+MAX(TeilnNr)-1)))","v":4},"","",{"$f":"ADDRESS(ROW(Teilnehmer)+DJ48,COLUMN(Teilnehmer)+DK48)","v":"$G$33"},{"$f":"ADDRESS(ROW(Teilnehmer)+DK48,COLUMN(Teilnehmer)+DJ48)","v":"$F$34"},9,"Spieler 02","-","Spieler 03",null,null,8,9,{"$f":"IF(AND(DW48=1,MOD(DV48,2)=0),MAX(TeilnNr),IF(MOD(DW48,2)=0,IF(MAX(TeilnNr)/2-DW48+1-(DV48-MAX(TeilnNr)/2-1)>=1,MAX(TeilnNr)/2-DW48+1-(DV48-MAX(TeilnNr)/2-1),MAX(TeilnNr)/2-DW48+1-(DV48-MAX(TeilnNr)/2-1)+MAX(TeilnNr)-1),IF(DW48-(DV48-1)>=1,DW48-(DV48-1),DW48-(DV48-1)+MAX(TeilnNr)-1)))","v":2},{"$f":"IF(AND(DW48=1,MOD(DV48,2)<>0),MAX(TeilnNr),IF(MOD(DW48,2)<>0,IF(MAX(TeilnNr)/2-DW48+1-(DV48-MAX(TeilnNr)/2-1)>=1,MAX(TeilnNr)/2-DW48+1-(DV48-MAX(TeilnNr)/2-1),MAX(TeilnNr)/2-DW48+1-(DV48-MAX(TeilnNr)/2-1)+MAX(TeilnNr)-1),IF(DW48-(DV48-1)>=1,DW48-(DV48-1),DW48-(DV48-1)+MAX(TeilnNr)-1)))","v":3},"","",{"$f":"ADDRESS(ROW(Teilnehmer)+DX48,COLUMN(Teilnehmer)+DY48)","v":"$F$32"},{"$f":"ADDRESS(ROW(Teilnehmer)+DY48,COLUMN(Teilnehmer)+DX48)","v":"$E$33"},9,"Spieler 03","-",{"$f":"DE48","v":"Spieler 04"},null,9,"Spieler 02","-",{"$f":"DS48","v":"Spieler 03"}]
[null,null,{"$f":"\"-> bei nur \"&MAX(TeilnNr)-1&\" Spielern an Pos. \"&MAX(TeilnNr)&\" einen Stern (*) eintragen\"","v":"-> bei nur 17 Spielern an Pos. 18 einen Stern (*) eintragen"},null,null,null,null,null,null,null,null,null,null,null,null,null,null,null,null,null,null,null,{"$f":"SUM(W31:W48)","v":0},null,null,{"$f":"SUM(Z31:Z48)","v":0},{"$f":"SUM(AA31:AA48)","v":0}]
[null,null,null,null,null,null,null,null,null,null,null,null,null,null,null,null,null,null,null,null,null,null,null,null,null,null,null,null,null,null,null,null,null,null,null,null,null,null,null,null,null,null,null,null,null,null,null,null,null,null,null,null,null,null,null,null,null,null,null,null,null,null,null,null,null,null,null,null,null,null,null,null,null,null,null,null,null,null,null,null,null,null,null,null,null,null,null,null,null,null,null,null,null,null,null,null,null,null,null,null,null,null,null,null,null,null,{"$f":"DC39+2","v":9},null,null,null,null,"R","B","SpNr w","SpNr s","Res w","Res s",null,null,null,{"$f":"DQ39+2","v":10},null,null,null,null,"R","B","SpNr w","SpNr s","Res w","Res s",null,null,null,{"$f":"DC50","v":9},1,null,null,null,{"$f":"DQ50","v":10}]
[null,null,null,null,null,null,null,null,null,null,null,null,null,null,null,null,null,null,null,null,null,null,null,null,null,null,null,null,null,null,null,null,null,null,null,null,null,null,null,null,null,null,null,null,null,null,null,null,null,null,null,null,null,null,null,null,null,null,null,null,null,null,null,null,null,null,null,null,null,null,null,null,null,null,null,null,null,null,null,null,null,null,null,null,null,null,null,null,null,null,null,null,null,null,null,null,null,null,null,null,null,null,null,null,null,{"$f":"IF(OR(INDEX($CW$31:$CW$48,DJ51),INDEX($CW$31:$CW$48,DK51)),0,1)","v":1},{"$f":"INDEX($CX$31:$CX$48,MATCH($DJ51,TeilnNr,0))","v":"Spieler 10"},"-",{"$f":"INDEX($CX$31:$CX$48,MATCH($DK51,TeilnNr,0))","v":"Spieler 18"},null,null,{"$f":"DC50","v":9},1,{"$f":"IF(AND(DI51=1,MOD(DH51,2)=0),MAX(TeilnNr),IF(MOD(DI51,2)=0,IF(MAX(TeilnNr)/2-DI51+1-(DH51-MAX(TeilnNr)/2-1)>=1,MAX(TeilnNr)/2-DI51+1-(DH51-MAX(TeilnNr)/2-1),MAX(TeilnNr)/2-DI51+1-(DH51-MAX(TeilnNr)/2-1)+MAX(TeilnNr)-1),IF(DI51-(DH51-1)>=1,DI51-(DH51-1),DI51-(DH51-1)+MAX(TeilnNr)-1)))","v":10},{"$f":"IF(AND(DI51=1,MOD(DH51,2)<>0),MAX(TeilnNr),IF(MOD(DI51,2)<>0,IF(MAX(TeilnNr)/2-DI51+1-(DH51-MAX(TeilnNr)/2-1)>=1,MAX(TeilnNr)/2-DI51+1-(DH51-MAX(TeilnNr)/2-1),MAX(TeilnNr)/2-DI51+1-(DH51-MAX(TeilnNr)/2-1)+MAX(TeilnNr)-1),IF(DI51-(DH51-1)>=1,DI51-(DH51-1),DI51-(DH51-1)+MAX(TeilnNr)-1)))","v":18},{"$f":"IF(LEFT(DG51,1)=\"V\",\"\",LEFT(DG51,1))","v":""},{"$f":"IF(RIGHT(DG51,1)=\"V\",\"\",RIGHT(DG51,1))","v":""},{"$f":"ADDRESS(ROW(Teilnehmer)+DJ51,COLUMN(Teilnehmer)+DK51)","v":"$U$40"},{"$f":"ADDRESS(ROW(Teilnehmer)+DK51,COLUMN(Teilnehmer)+DJ51)","v":"$M$48"},{"$f":"IF(OR(INDEX($CW$31:$CW$48,DX51),INDEX($CW$31:$CW$48,DY51)),0,1)","v":1},{"$f":"INDEX($CX$31:$CX$48,MATCH($DX51,TeilnNr,0))","v":"Spieler 18"},"-",{"$f":"INDEX($CX$31:$CX$48,MATCH($DY51,TeilnNr,0))","v":"Spieler 09"},null,null,{"$f":"DQ50","v":10},1,{"$f":"IF(AND(DW51=1,MOD(DV51,2)=0),MAX(TeilnNr),IF(MOD(DW51,2)=0,IF(MAX(TeilnNr)/2-DW51+1-(DV51-MAX(TeilnNr)/2-1)>=1,MAX(TeilnNr)/2-DW51+1-(DV51-MAX(TeilnNr)/2-1),MAX(TeilnNr)/2-DW51+1-(DV51-MAX(TeilnNr)/2-1)+MAX(TeilnNr)-1),IF(DW51-(DV51-1)>=1,DW51-(DV51-1),DW51-(DV51-1)+MAX(TeilnNr)-1)))","v":18},{"$f":"IF(AND(DW51=1,MOD(DV51,2)<>0),MAX(TeilnNr),IF(MOD(DW51,2)<>0,IF(MAX(TeilnNr)/2-DW51+1-(DV51-MAX(TeilnNr)/2-1)>=1,MAX(TeilnNr)/2-DW51+1-(DV51-MAX(TeilnNr)/2-1),MAX(TeilnNr)/2-DW51+1-(DV51-MAX(TeilnNr)/2-1)+MAX(TeilnNr)-1),IF(DW51-(DV51-1)>=1,DW51-(DV51-1),DW51-(DV51-1)+MAX(TeilnNr)-1)))","v":9},{"$f":"IF(LEFT(DU51,1)=\"V\",\"\",LEFT(DU51,1))","v":""},{"$f":"IF(RIGHT(DU51,1)=\"V\",\"\",RIGHT(DU51,1))","v":""},{"$f":"ADDRESS(ROW(Teilnehmer)+DX51,COLUMN(Teilnehmer)+DY51)","v":"$L$48"},{"$f":"ADDRESS(ROW(Teilnehmer)+DY51,COLUMN(Teilnehmer)+DX51)","v":"$U$39"},{"$f":"DB51","v":1},"Spieler 10","-",{"$f":"DE51","v":"Spieler 18"},null,{"$f":"DP51","v":1},{"$f":"DS51","v":"Spieler 09"},"-",{"$f":"DQ51","v":"Spieler 18"}]
[null,null,null,null,null,null,null,null,null,null,null,null,null,null,null,null,null,null,null,null,null,null,null,null,null,null,null,null,null,null,null,null,null,null,null,null,null,null,null,null,null,null,null,null,null,null,null,null,null,null,null,null,null,null,null,null,null,null,null,null,null,null,null,null,null,null,null,null,null,null,null,null,null,null,null,null,null,null,null,null,null,null,null,null,null,null,null,null,null,null,null,null,null,null,null,null,null,null,null,null,null,null,null,null,null,{"$f":"DB51+1","v":2},"Spieler 09","-","Spieler 11",null,null,{"$f":"DH51","v":9},{"$f":"DI51+1","v":2},9,11,"","","$N$39","$L$41",{"$f":"DP51+1","v":2},"Spieler 08","-","Spieler 10",null,null,{"$f":"DV51","v":10},{"$f":"DW51+1","v":2},8,10,"","","$M$38","$K$40",{"$f":"DB52","v":2},{"$f":"DE52","v":"Spieler 11"},"-",{"$f":"DC52","v":"Spieler 09"},null,2,"Spieler 10","-","Spieler 08"]
[null,null,null,null,null,null,null,null,null,null,null,null,null,null,null,null,null,null,null,null,null,null,null,null,null,null,null,null,null,null,null,null,null,null,null,null,null,null,null,null,null,null,null,null,null,null,null,null,null,null,null,null,null,null,null,null,null,null,null,null,null,null,null,null,null,null,null,null,null,null,null,null,null,null,null,null,null,null,null,null,null,null,null,null,null,null,null,null,null,null,null,null,null,null,null,null,null,null,null,null,null,null,null,null,null,{"$f":"DB52+1","v":3},"Spieler 12","-","Spieler 08",null,null,{"$f":"DH52","v":9},{"$f":"DI52+1","v":3},12,8,"","","$K$42","$O$38",{"$f":"DP52+1","v":3},"Spieler 11","-","Spieler 07",null,null,{"$f":"DV52","v":10},{"$f":"DW52+1","v":3},11,7,"","","$J$41","$N$37",3,"Spieler 12","-",{"$f":"DE53","v":"Spieler 08"},null,3,"Spieler 11","-",{"$f":"DS53","v":"Spieler 07"}]
[null,null,null,null,null,null,null,null,null,null,null,null,null,null,null,null,null,null,null,null,null,null,null,null,null,null,null,null,null,null,null,null,null,null,null,null,null,null,null,null,null,null,null,null,null,null,null,null,null,null,null,null,null,null,null,null,null,null,null,null,null,null,null,null,null,null,null,null,null,null,null,null,null,null,null,null,null,null,null,null,null,null,null,null,null,null,null,null,null,null,null,null,null,null,null,null,null,null,null,null,null,null,null,null,null,4,"Spieler 07","-","Spieler 13",null,null,{"$f":"DH53","v":9},4,7,13,"","","$P$37","$J$43",4,"Spieler 06","-","Spieler 12",null,null,{"$f":"DV53","v":10},4,6,12,"","","$O$36","$I$42",4,{"$f":"DE54","v":"Spieler 13"},"-",{"$f":"DC54","v":"Spieler 07"},null,4,{"$f":"DS54","v":"Spieler 12"},"-",{"$f":"DQ54","v":"Spieler 06"}]
[null,null,null,null,null,null,null,null,null,null,null,null,null,null,null,null,null,null,null,null,null,null,null,null,null,null,null,null,null,null,null,null,null,null,null,null,null,null,null,null,null,null,null,null,null,null,null,null,null,null,null,null,null,null,null,null,null,null,null,null,null,null,null,null,null,null,null,null,null,null,null,null,null,null,null,null,null,null,null,null,null,null,null,null,null,null,null,null,null,null,null,null,null,null,null,null,null,null,null,null,null,null,null,null,null,5,"Spieler 14","-","Spieler 06",null,null,{"$f":"DH54","v":9},5,14,6,"","","$I$44","$Q$36",5,"Spieler 13","-","Spieler 05",null,null,10,5,13,5,"","","$H$43","$P$35",5,"Spieler 14","-",{"$f":"DE55","v":"Spieler 06"},null,5,"Spieler 13","-",{"$f":"DS55","v":"Spieler 05"}]
[null,null,null,null,null,null,null,null,null,null,null,null,null,null,null,null,null,null,null,null,null,null,null,null,null,null,null,null,null,null,null,null,null,null,null,null,null,null,null,null,null,null,null,null,null,null,null,null,null,null,null,null,null,null,null,null,null,null,null,null,null,null,null,null,null,null,null,null,null,null,null,null,null,null,null,null,null,null,null,null,null,null,null,null,null,null,null,null,null,null,null,null,null,null,null,null,null,null,null,null,null,null,null,null,null,6,"Spieler 05","-","Spieler 15",null,null,{"$f":"DH55","v":9},6,5,15,"","","$R$35","$H$45",6,"Spieler 04","-","Spieler 14",null,null,10,6,4,14,"","","$Q$34","$G$44",6,{"$f":"DE56","v":"Spieler 15"},"-",{"$f":"DC56","v":"Spieler 05"},null,6,{"$f":"DS56","v":"Spieler 14"},"-",{"$f":"DQ56","v":"Spieler 04"}]
[null,null,null,null,null,null,null,null,null,null,null,null,null,null,null,null,null,null,null,null,null,null,null,null,null,null,null,null,null,null,null,null,null,null,null,null,null,null,null,null,null,null,null,null,null,null,null,null,null,null,null,null,null,null,null,null,null,null,null,null,null,null,null,null,null,null,null,null,null,null,null,null,null,null,null,null,null,null,null,null,null,null,null,null,null,null,null,null,null,null,null,null,null,null,null,null,null,null,null,null,null,null,null,null,null,7,"Spieler 16","-","Spieler 04",null,null,{"$f":"DH56","v":9},7,16,4,"","",{"$f":"ADDRESS(ROW(Teilnehmer)+DJ57,COLUMN(Teilnehmer)+DK57)","v":"$G$46"},{"$f":"ADDRESS(ROW(Teilnehmer)+DK57,COLUMN(Teilnehmer)+DJ57)","v":"$S$34"},7,"Spieler 15","-","Spieler 03",null,null,10,7,15,3,"","",{"$f":"ADDRESS(ROW(Teilnehmer)+DX57,COLUMN(Teilnehmer)+DY57)","v":"$F$45"},{"$f":"ADDRESS(ROW(Teilnehmer)+DY57,COLUMN(Teilnehmer)+DX57)","v":"$R$33"},7,"Spieler 16","-",{"$f":"DE57","v":"Spieler 04"},null,7,"Spieler 15","-",{"$f":"DS57","v":"Spieler 03"}]
[null,null,null,null,null,null,null,null,null,null,null,null,null,null,null,null,null,null,null,null,null,null,null,null,null,null,null,null,null,null,null,null,null,null,null,null,null,null,null,null,null,null,null,null,null,null,null,null,null,null,null,null,null,null,null,null,null,null,null,null,null,null,null,null,null,null,null,null,null,null,null,null,null,null,null,null,null,null,null,null,null,null,null,null,null,null,null,null,null,null,null,null,null,null,null,null,null,null,null,null,null,null,null,null,null,8,"Spieler 03","-","Spieler 17",null,null,9,8,3,17,"","","$T$33","$F$47",8,"Spieler 02","-","Spieler 16",null,null,10,8,2,16,"","","$S$32","$E$46",8,{"$f":"DE58","v":"Spieler 17"},"-",{"$f":"DC58","v":"Spieler 03"},null,8,{"$f":"DS58","v":"Spieler 16"},"-",{"$f":"DQ58","v":"Spieler 02"}]
[null,null,null,null,null,null,null,null,null,null,null,null,null,null,null,null,null,null,null,null,null,null,null,null,null,null,null,null,null,null,null,null,null,null,null,null,null,null,null,null,null,null,null,null,null,null,null,null,null,null,null,null,null,null,null,null,null,null,null,null,null,null,null,null,null,null,null,null,null,null,null,null,null,null,null,null,null,null,null,null,null,null,null,null,null,null,null,null,null,null,null,null,null,null,null,null,null,null,null,null,null,null,null,null,null,9,"Spieler 01","-","Spieler 02",null,null,9,9,1,2,"","","$E$31","$D$32",9,"Spieler 17","-","Spieler 01",null,null,10,9,17,1,"","","$D$47","$T$31",9,"Spieler 01","-",{"$f":"DE59","v":"Spieler 02"},null,9,"Spieler 17","-",{"$f":"DS59","v":"Spieler 01"}]
[]
[null,null,null,null,null,null,null,null,null,null,null,null,null,null,null,null,null,null,null,null,null,null,null,null,null,null,null,null,null,null,null,null,null,null,null,null,null,null,null,null,null,null,null,null,null,null,null,null,null,null,null,null,null,null,null,null,null,null,null,null,null,null,null,null,null,null,null,null,null,null,null,null,null,null,null,null,null,null,null,null,null,null,null,null,null,null,null,null,null,null,null,null,null,null,null,null,null,null,null,null,null,null,null,null,null,null,{"$f":"DC50+2","v":11},null,null,null,null,"R","B","SpNr w","SpNr s","Res w","Res s",null,null,null,{"$f":"DQ50+2","v":12},null,null,null,null,"R","B","SpNr w","SpNr s","Res w","Res s",null,null,null,{"$f":"DC61","v":11},1,null,null,null,{"$f":"DQ61","v":12}]
[null,null,null,null,null,null,null,null,null,null,null,null,null,null,null,null,null,null,null,null,null,null,null,null,null,null,null,null,null,null,null,null,null,null,null,null,null,null,null,null,null,null,null,null,null,null,null,null,null,null,null,null,null,null,null,null,null,null,null,null,null,null,null,null,null,null,null,null,null,null,null,null,null,null,null,null,null,null,null,null,null,null,null,null,null,null,null,null,null,null,null,null,null,null,null,null,null,null,null,null,null,null,null,null,null,{"$f":"IF(OR(INDEX($CW$31:$CW$48,DJ62),INDEX($CW$31:$CW$48,DK62)),0,1)","v":1},{"$f":"INDEX($CX$31:$CX$48,MATCH($DJ62,TeilnNr,0))","v":"Spieler 08"},"-",{"$f":"INDEX($CX$31:$CX$48,MATCH($DK62,TeilnNr,0))","v":"Spieler 18"},null,null,{"$f":"DC61","v":11},1,{"$f":"IF(AND(DI62=1,MOD(DH62,2)=0),MAX(TeilnNr),IF(MOD(DI62,2)=0,IF(MAX(TeilnNr)/2-DI62+1-(DH62-MAX(TeilnNr)/2-1)>=1,MAX(TeilnNr)/2-DI62+1-(DH62-MAX(TeilnNr)/2-1),MAX(TeilnNr)/2-DI62+1-(DH62-MAX(TeilnNr)/2-1)+MAX(TeilnNr)-1),IF(DI62-(DH62-1)>=1,DI62-(DH62-1),DI62-(DH62-1)+MAX(TeilnNr)-1)))","v":8},{"$f":"IF(AND(DI62=1,MOD(DH62,2)<>0),MAX(TeilnNr),IF(MOD(DI62,2)<>0,IF(MAX(TeilnNr)/2-DI62+1-(DH62-MAX(TeilnNr)/2-1)>=1,MAX(TeilnNr)/2-DI62+1-(DH62-MAX(TeilnNr)/2-1),MAX(TeilnNr)/2-DI62+1-(DH62-MAX(TeilnNr)/2-1)+MAX(TeilnNr)-1),IF(DI62-(DH62-1)>=1,DI62-(DH62-1),DI62-(DH62-1)+MAX(TeilnNr)-1)))","v":18},{"$f":"IF(LEFT(DG62,1)=\"V\",\"\",LEFT(DG62,1))","v":""},{"$f":"IF(RIGHT(DG62,1)=\"V\",\"\",RIGHT(DG62,1))","v":""},{"$f":"ADDRESS(ROW(Teilnehmer)+DJ62,COLUMN(Teilnehmer)+DK62)","v":"$U$38"},{"$f":"ADDRESS(ROW(Teilnehmer)+DK62,COLUMN(Teilnehmer)+DJ62)","v":"$K$48"},{"$f":"IF(OR(INDEX($CW$31:$CW$48,DX62),INDEX($CW$31:$CW$48,DY62)),0,1)","v":1},{"$f":"INDEX($CX$31:$CX$48,MATCH($DX62,TeilnNr,0))","v":"Spieler 18"},"-",{"$f":"INDEX($CX$31:$CX$48,MATCH($DY62,TeilnNr,0))","v":"Spieler 07"},null,null,{"$f":"DQ61","v":12},1,{"$f":"IF(AND(DW62=1,MOD(DV62,2)=0),MAX(TeilnNr),IF(MOD(DW62,2)=0,IF(MAX(TeilnNr)/2-DW62+1-(DV62-MAX(TeilnNr)/2-1)>=1,MAX(TeilnNr)/2-DW62+1-(DV62-MAX(TeilnNr)/2-1),MAX(TeilnNr)/2-DW62+1-(DV62-MAX(TeilnNr)/2-1)+MAX(TeilnNr)-1),IF(DW62-(DV62-1)>=1,DW62-(DV62-1),DW62-(DV62-1)+MAX(TeilnNr)-1)))","v":18},{"$f":"IF(AND(DW62=1,MOD(DV62,2)<>0),MAX(TeilnNr),IF(MOD(DW62,2)<>0,IF(MAX(TeilnNr)/2-DW62+1-(DV62-MAX(TeilnNr)/2-1)>=1,MAX(TeilnNr)/2-DW62+1-(DV62-MAX(TeilnNr)/2-1),MAX(TeilnNr)/2-DW62+1-(DV62-MAX(TeilnNr)/2-1)+MAX(TeilnNr)-1),IF(DW62-(DV62-1)>=1,DW62-(DV62-1),DW62-(DV62-1)+MAX(TeilnNr)-1)))","v":7},{"$f":"IF(LEFT(DU62,1)=\"V\",\"\",LEFT(DU62,1))","v":""},{"$f":"IF(RIGHT(DU62,1)=\"V\",\"\",RIGHT(DU62,1))","v":""},{"$f":"ADDRESS(ROW(Teilnehmer)+DX62,COLUMN(Teilnehmer)+DY62)","v":"$J$48"},{"$f":"ADDRESS(ROW(Teilnehmer)+DY62,COLUMN(Teilnehmer)+DX62)","v":"$U$37"},{"$f":"DB62","v":1},"Spieler 08","-",{"$f":"DE62","v":"Spieler 18"},null,{"$f":"DP62","v":1},{"$f":"DS62","v":"Spieler 07"},"-",{"$f":"DQ62","v":"Spieler 18"}]
[null,null,null,null,null,null,null,null,null,null,null,null,null,null,null,null,null,null,null,null,null,null,null,null,null,null,null,null,null,null,null,null,null,null,null,null,null,null,null,null,null,null,null,null,null,null,null,null,null,null,null,null,null,null,null,null,null,null,null,null,null,null,null,null,null,null,null,null,null,null,null,null,null,null,null,null,null,null,null,null,null,null,null,null,null,null,null,null,null,null,null,null,null,null,null,null,null,null,null,null,null,null,null,null,null,{"$f":"DB62+1","v":2},"Spieler 07","-","Spieler 09",null,null,{"$f":"DH62","v":11},{"$f":"DI62+1","v":2},7,9,"","","$L$37","$J$39",{"$f":"DP62+1","v":2},"Spieler 06","-","Spieler 08",null,null,{"$f":"DV62","v":12},{"$f":"DW62+1","v":2},6,8,"","","$K$36","$I$38",{"$f":"DB63","v":2},{"$f":"DE63","v":"Spieler 09"},"-",{"$f":"DC63","v":"Spieler 07"},null,2,"Spieler 08","-","Spieler 06"]
[null,null,null,null,null,null,null,null,null,null,null,null,null,null,null,null,null,null,null,null,null,null,null,null,null,null,null,null,null,null,null,null,null,null,null,null,null,null,null,null,null,null,null,null,null,null,null,null,null,null,null,null,null,null,null,null,null,null,null,null,null,null,null,null,null,null,null,null,null,null,null,null,null,null,null,null,null,null,null,null,null,null,null,null,null,null,null,null,null,null,null,null,null,null,null,null,null,null,null,null,null,null,null,null,null,{"$f":"DB63+1","v":3},"Spieler 10","-","Spieler 06",null,null,{"$f":"DH63","v":11},{"$f":"DI63+1","v":3},10,6,"","","$I$40","$M$36",{"$f":"DP63+1","v":3},"Spieler 09","-","Spieler 05",null,null,{"$f":"DV63","v":12},{"$f":"DW63+1","v":3},9,5,"","","$H$39","$L$35",3,"Spieler 10","-",{"$f":"DE64","v":"Spieler 06"},null,3,"Spieler 09","-",{"$f":"DS64","v":"Spieler 05"}]
[null,null,null,null,null,null,null,null,null,null,null,null,null,null,null,null,null,null,null,null,null,null,null,null,null,null,null,null,null,null,null,null,null,null,null,null,null,null,null,null,null,null,null,null,null,null,null,null,null,null,null,null,null,null,null,null,null,null,null,null,null,null,null,null,null,null,null,null,null,null,null,null,null,null,null,null,null,null,null,null,null,null,null,null,null,null,null,null,null,null,null,null,null,null,null,null,null,null,null,null,null,null,null,null,null,4,"Spieler 05","-","Spieler 11",null,null,{"$f":"DH64","v":11},4,5,11,"","","$N$35","$H$41",4,"Spieler 04","-","Spieler 10",null,null,{"$f":"DV64","v":12},4,4,10,"","","$M$34","$G$40",4,{"$f":"DE65","v":"Spieler 11"},"-",{"$f":"DC65","v":"Spieler 05"},null,4,{"$f":"DS65","v":"Spieler 10"},"-",{"$f":"DQ65","v":"Spieler 04"}]
[null,null,null,null,null,null,null,null,null,null,null,null,null,null,null,null,null,null,null,null,null,null,null,null,null,null,null,null,null,null,null,null,null,null,null,null,null,null,null,null,null,null,null,null,null,null,null,null,null,null,null,null,null,null,null,null,null,null,null,null,null,null,null,null,null,null,null,null,null,null,null,null,null,null,null,null,null,null,null,null,null,null,null,null,null,null,null,null,null,null,null,null,null,null,null,null,null,null,null,null,null,null,null,null,null,5,"Spieler 12","-","Spieler 04",null,null,{"$f":"DH65","v":11},5,12,4,"","","$G$42","$O$34",5,"Spieler 11","-","Spieler 03",null,null,12,5,11,3,"","","$F$41","$N$33",5,"Spieler 12","-",{"$f":"DE66","v":"Spieler 04"},null,5,"Spieler 11","-",{"$f":"DS66","v":"Spieler 03"}]
[null,null,null,null,null,null,null,null,null,null,null,null,null,null,null,null,null,null,null,null,null,null,null,null,null,null,null,null,null,null,null,null,null,null,null,null,null,null,null,null,null,null,null,null,null,null,null,null,null,null,null,null,null,null,null,null,null,null,null,null,null,null,null,null,null,null,null,null,null,null,null,null,null,null,null,null,null,null,null,null,null,null,null,null,null,null,null,null,null,null,null,null,null,null,null,null,null,null,null,null,null,null,null,null,null,6,"Spieler 03","-","Spieler 13",null,null,{"$f":"DH66","v":11},6,3,13,"","","$P$33","$F$43",6,"Spieler 02","-","Spieler 12",null,null,12,6,2,12,"","","$O$32","$E$42",6,{"$f":"DE67","v":"Spieler 13"},"-",{"$f":"DC67","v":"Spieler 03"},null,6,{"$f":"DS67","v":"Spieler 12"},"-",{"$f":"DQ67","v":"Spieler 02"}]
[null,null,null,null,null,null,null,null,null,null,null,null,null,null,null,null,null,null,null,null,null,null,null,null,null,null,null,null,null,null,null,null,null,null,null,null,null,null,null,null,null,null,null,null,null,null,null,null,null,null,null,null,null,null,null,null,null,null,null,null,null,null,null,null,null,null,null,null,null,null,null,null,null,null,null,null,null,null,null,null,null,null,null,null,null,null,null,null,null,null,null,null,null,null,null,null,null,null,null,null,null,null,null,null,null,7,"Spieler 14","-","Spieler 02",null,null,{"$f":"DH67","v":11},7,14,2,"","",{"$f":"ADDRESS(ROW(Teilnehmer)+DJ68,COLUMN(Teilnehmer)+DK68)","v":"$E$44"},{"$f":"ADDRESS(ROW(Teilnehmer)+DK68,COLUMN(Teilnehmer)+DJ68)","v":"$Q$32"},7,"Spieler 13","-","Spieler 01",null,null,12,7,13,1,"","",{"$f":"ADDRESS(ROW(Teilnehmer)+DX68,COLUMN(Teilnehmer)+DY68)","v":"$D$43"},{"$f":"ADDRESS(ROW(Teilnehmer)+DY68,COLUMN(Teilnehmer)+DX68)","v":"$P$31"},7,"Spieler 14","-",{"$f":"DE68","v":"Spieler 02"},null,7,"Spieler 13","-",{"$f":"DS68","v":"Spieler 01"}]
[null,null,null,null,null,null,null,null,null,null,null,null,null,null,null,null,null,null,null,null,null,null,null,null,null,null,null,null,null,null,null,null,null,null,null,null,null,null,null,null,null,null,null,null,null,null,null,null,null,null,null,null,null,null,null,null,null,null,null,null,null,null,null,null,null,null,null,null,null,null,null,null,null,null,null,null,null,null,null,null,null,null,null,null,null,null,null,null,null,null,null,null,null,null,null,null,null,null,null,null,null,null,null,null,null,8,"Spieler 01","-","Spieler 15",null,null,11,8,1,15,"","","$R$31","$D$45",8,"Spieler 17","-","Spieler 14",null,null,12,8,17,14,"","","$Q$47","$T$44",8,{"$f":"DE69","v":"Spieler 15"},"-",{"$f":"DC69","v":"Spieler 01"},null,8,{"$f":"DS69","v":"Spieler 14"},"-",{"$f":"DQ69","v":"Spieler 17"}]
[null,null,null,null,null,null,null,null,null,null,null,null,null,null,null,null,null,null,null,null,null,null,null,null,null,null,null,null,null,null,null,null,null,null,null,null,null,null,null,null,null,null,null,null,null,null,null,null,null,null,null,null,null,null,null,null,null,null,null,null,null,null,null,null,null,null,null,null,null,null,null,null,null,null,null,null,null,null,null,null,null,null,null,null,null,null,null,null,null,null,null,null,null,null,null,null,null,null,null,null,null,null,null,null,null,9,"Spieler 16","-","Spieler 17",null,null,11,9,16,17,"","","$T$46","$S$47",9,"Spieler 15","-","Spieler 16",null,null,12,9,15,16,"","","$S$45","$R$46",9,"Spieler 16","-",{"$f":"DE70","v":"Spieler 17"},null,9,"Spieler 15","-",{"$f":"DS70","v":"Spieler 16"}]
[]
[null,null,null,null,null,null,null,null,null,null,null,null,null,null,null,null,null,null,null,null,null,null,null,null,null,null,null,null,null,null,null,null,null,null,null,null,null,null,null,null,null,null,null,null,null,null,null,null,null,null,null,null,null,null,null,null,null,null,null,null,null,null,null,null,null,null,null,null,null,null,null,null,null,null,null,null,null,null,null,null,null,null,null,null,null,null,null,null,null,null,null,null,null,null,null,null,null,null,null,null,null,null,null,null,null,null,{"$f":"DC61+2","v":13},null,null,null,null,"R","B","SpNr w","SpNr s","Res w","Res s",null,null,null,{"$f":"DQ61+2","v":14},null,null,null,null,"R","B","SpNr w","SpNr s","Res w","Res s",null,null,null,{"$f":"DC72","v":13},1,null,null,null,{"$f":"DQ72","v":14}]
[null,null,null,null,null,null,null,null,null,null,null,null,null,null,null,null,null,null,null,null,null,null,null,null,null,null,null,null,null,null,null,null,null,null,null,null,null,null,null,null,null,null,null,null,null,null,null,null,null,null,null,null,null,null,null,null,null,null,null,null,null,null,null,null,null,null,null,null,null,null,null,null,null,null,null,null,null,null,null,null,null,null,null,null,null,null,null,null,null,null,null,null,null,null,null,null,null,null,null,null,null,null,null,null,null,{"$f":"IF(OR(INDEX($CW$31:$CW$48,DJ73),INDEX($CW$31:$CW$48,DK73)),0,1)","v":1},{"$f":"INDEX($CX$31:$CX$48,MATCH($DJ73,TeilnNr,0))","v":"Spieler 06"},"-",{"$f":"INDEX($CX$31:$CX$48,MATCH($DK73,TeilnNr,0))","v":"Spieler 18"},null,null,{"$f":"DC72","v":13},1,{"$f":"IF(AND(DI73=1,MOD(DH73,2)=0),MAX(TeilnNr),IF(MOD(DI73,2)=0,IF(MAX(TeilnNr)/2-DI73+1-(DH73-MAX(TeilnNr)/2-1)>=1,MAX(TeilnNr)/2-DI73+1-(DH73-MAX(TeilnNr)/2-1),MAX(TeilnNr)/2-DI73+1-(DH73-MAX(TeilnNr)/2-1)+MAX(TeilnNr)-1),IF(DI73-(DH73-1)>=1,DI73-(DH73-1),DI73-(DH73-1)+MAX(TeilnNr)-1)))","v":6},{"$f":"IF(AND(DI73=1,MOD(DH73,2)<>0),MAX(TeilnNr),IF(MOD(DI73,2)<>0,IF(MAX(TeilnNr)/2-DI73+1-(DH73-MAX(TeilnNr)/2-1)>=1,MAX(TeilnNr)/2-DI73+1-(DH73-MAX(TeilnNr)/2-1),MAX(TeilnNr)/2-DI73+1-(DH73-MAX(TeilnNr)/2-1)+MAX(TeilnNr)-1),IF(DI73-(DH73-1)>=1,DI73-(DH73-1),DI73-(DH73-1)+MAX(TeilnNr)-1)))","v":18},{"$f":"IF(LEFT(DG73,1)=\"V\",\"\",LEFT(DG73,1))","v":""},{"$f":"IF(RIGHT(DG73,1)=\"V\",\"\",RIGHT(DG73,1))","v":""},{"$f":"ADDRESS(ROW(Teilnehmer)+DJ73,COLUMN(Teilnehmer)+DK73)","v":"$U$36"},{"$f":"ADDRESS(ROW(Teilnehmer)+DK73,COLUMN(Teilnehmer)+DJ73)","v":"$I$48"},{"$f":"IF(OR(INDEX($CW$31:$CW$48,DX73),INDEX($CW$31:$CW$48,DY73)),0,1)","v":1},{"$f":"INDEX($CX$31:$CX$48,MATCH($DX73,TeilnNr,0))","v":"Spieler 18"},"-",{"$f":"INDEX($CX$31:$CX$48,MATCH($DY73,TeilnNr,0))","v":"Spieler 05"},null,null,{"$f":"DQ72","v":14},1,{"$f":"IF(AND(DW73=1,MOD(DV73,2)=0),MAX(TeilnNr),IF(MOD(DW73,2)=0,IF(MAX(TeilnNr)/2-DW73+1-(DV73-MAX(TeilnNr)/2-1)>=1,MAX(TeilnNr)/2-DW73+1-(DV73-MAX(TeilnNr)/2-1),MAX(TeilnNr)/2-DW73+1-(DV73-MAX(TeilnNr)/2-1)+MAX(TeilnNr)-1),IF(DW73-(DV73-1)>=1,DW73-(DV73-1),DW73-(DV73-1)+MAX(TeilnNr)-1)))","v":18},{"$f":"IF(AND(DW73=1,MOD(DV73,2)<>0),MAX(TeilnNr),IF(MOD(DW73,2)<>0,IF(MAX(TeilnNr)/2-DW73+1-(DV73-MAX(TeilnNr)/2-1)>=1,MAX(TeilnNr)/2-DW73+1-(DV73-MAX(TeilnNr)/2-1),MAX(TeilnNr)/2-DW73+1-(DV73-MAX(TeilnNr)/2-1)+MAX(TeilnNr)-1),IF(DW73-(DV73-1)>=1,DW73-(DV73-1),DW73-(DV73-1)+MAX(TeilnNr)-1)))","v":5},{"$f":"IF(LEFT(DU73,1)=\"V\",\"\",LEFT(DU73,1))","v":""},{"$f":"IF(RIGHT(DU73,1)=\"V\",\"\",RIGHT(DU73,1))","v":""},{"$f":"ADDRESS(ROW(Teilnehmer)+DX73,COLUMN(Teilnehmer)+DY73)","v":"$H$48"},{"$f":"ADDRESS(ROW(Teilnehmer)+DY73,COLUMN(Teilnehmer)+DX73)","v":"$U$35"},{"$f":"DB73","v":1},"Spieler 06","-",{"$f":"DE73","v":"Spieler 18"},null,{"$f":"DP73","v":1},{"$f":"DS73","v":"Spieler 05"},"-",{"$f":"DQ73","v":"Spieler 18"}]
[null,null,null,null,null,null,null,null,null,null,null,null,null,null,null,null,null,null,null,null,null,null,null,null,null,null,null,null,null,null,null,null,null,null,null,null,null,null,null,null,null,null,null,null,null,null,null,null,null,null,null,null,null,null,null,null,null,null,null,null,null,null,null,null,null,null,null,null,null,null,null,null,null,null,null,null,null,null,null,null,null,null,null,null,null,null,null,null,null,null,null,null,null,null,null,null,null,null,null,null,null,null,null,null,null,{"$f":"DB73+1","v":2},"Spieler 05","-","Spieler 07",null,null,{"$f":"DH73","v":13},{"$f":"DI73+1","v":2},5,7,"","","$J$35","$H$37",{"$f":"DP73+1","v":2},"Spieler 04","-","Spieler 06",null,null,{"$f":"DV73","v":14},{"$f":"DW73+1","v":2},4,6,"","","$I$34","$G$36",{"$f":"DB74","v":2},{"$f":"DE74","v":"Spieler 07"},"-",{"$f":"DC74","v":"Spieler 05"},null,2,"Spieler 06","-","Spieler 04"]
[null,null,null,null,null,null,null,null,null,null,null,null,null,null,null,null,null,null,null,null,null,null,null,null,null,null,null,null,null,null,null,null,null,null,null,null,null,null,null,null,null,null,null,null,null,null,null,null,null,null,null,null,null,null,null,null,null,null,null,null,null,null,null,null,null,null,null,null,null,null,null,null,null,null,null,null,null,null,null,null,null,null,null,null,null,null,null,null,null,null,null,null,null,null,null,null,null,null,null,null,null,null,null,null,null,{"$f":"DB74+1","v":3},"Spieler 08","-","Spieler 04",null,null,{"$f":"DH74","v":13},{"$f":"DI74+1","v":3},8,4,"","","$G$38","$K$34",{"$f":"DP74+1","v":3},"Spieler 07","-","Spieler 03",null,null,{"$f":"DV74","v":14},{"$f":"DW74+1","v":3},7,3,"","","$F$37","$J$33",3,"Spieler 08","-",{"$f":"DE75","v":"Spieler 04"},null,3,"Spieler 07","-",{"$f":"DS75","v":"Spieler 03"}]
[null,null,null,null,null,null,null,null,null,null,null,null,null,null,null,null,null,null,null,null,null,null,null,null,null,null,null,null,null,null,null,null,null,null,null,null,null,null,null,null,null,null,null,null,null,null,null,null,null,null,null,null,null,null,null,null,null,null,null,null,null,null,null,null,null,null,null,null,null,null,null,null,null,null,null,null,null,null,null,null,null,null,null,null,null,null,null,null,null,null,null,null,null,null,null,null,null,null,null,null,null,null,null,null,null,4,"Spieler 03","-","Spieler 09",null,null,{"$f":"DH75","v":13},4,3,9,"","","$L$33","$F$39",4,"Spieler 02","-","Spieler 08",null,null,{"$f":"DV75","v":14},4,2,8,"","","$K$32","$E$38",4,{"$f":"DE76","v":"Spieler 09"},"-",{"$f":"DC76","v":"Spieler 03"},null,4,{"$f":"DS76","v":"Spieler 08"},"-",{"$f":"DQ76","v":"Spieler 02"}]
[null,null,null,null,null,null,null,null,null,null,null,null,null,null,null,null,null,null,null,null,null,null,null,null,null,null,null,null,null,null,null,null,null,null,null,null,null,null,null,null,null,null,null,null,null,null,null,null,null,null,null,null,null,null,null,null,null,null,null,null,null,null,null,null,null,null,null,null,null,null,null,null,null,null,null,null,null,null,null,null,null,null,null,null,null,null,null,null,null,null,null,null,null,null,null,null,null,null,null,null,null,null,null,null,null,5,"Spieler 10","-","Spieler 02",null,null,{"$f":"DH76","v":13},5,10,2,"","","$E$40","$M$32",5,"Spieler 09","-","Spieler 01",null,null,14,5,9,1,"","","$D$39","$L$31",5,"Spieler 10","-",{"$f":"DE77","v":"Spieler 02"},null,5,"Spieler 09","-",{"$f":"DS77","v":"Spieler 01"}]
[null,null,null,null,null,null,null,null,null,null,null,null,null,null,null,null,null,null,null,null,null,null,null,null,null,null,null,null,null,null,null,null,null,null,null,null,null,null,null,null,null,null,null,null,null,null,null,null,null,null,null,null,null,null,null,null,null,null,null,null,null,null,null,null,null,null,null,null,null,null,null,null,null,null,null,null,null,null,null,null,null,null,null,null,null,null,null,null,null,null,null,null,null,null,null,null,null,null,null,null,null,null,null,null,null,6,"Spieler 01","-","Spieler 11",null,null,{"$f":"DH77","v":13},6,1,11,"","","$N$31","$D$41",6,"Spieler 17","-","Spieler 10",null,null,14,6,17,10,"","","$M$47","$T$40",6,{"$f":"DE78","v":"Spieler 11"},"-",{"$f":"DC78","v":"Spieler 01"},null,6,{"$f":"DS78","v":"Spieler 10"},"-",{"$f":"DQ78","v":"Spieler 17"}]
[null,null,null,null,null,null,null,null,null,null,null,null,null,null,null,null,null,null,null,null,null,null,null,null,null,null,null,null,null,null,null,null,null,null,null,null,null,null,null,null,null,null,null,null,null,null,null,null,null,null,null,null,null,null,null,null,null,null,null,null,null,null,null,null,null,null,null,null,null,null,null,null,null,null,null,null,null,null,null,null,null,null,null,null,null,null,null,null,null,null,null,null,null,null,null,null,null,null,null,null,null,null,null,null,null,7,"Spieler 12","-","Spieler 17",null,null,{"$f":"DH78","v":13},7,12,17,"","","$T$42","$O$47",7,"Spieler 11","-","Spieler 16",null,null,14,7,11,16,"","","$S$41","$N$46",7,"Spieler 12","-",{"$f":"DE79","v":"Spieler 17"},null,7,"Spieler 11","-",{"$f":"DS79","v":"Spieler 16"}]
[null,null,null,null,null,null,null,null,null,null,null,null,null,null,null,null,null,null,null,null,null,null,null,null,null,null,null,null,null,null,null,null,null,null,null,null,null,null,null,null,null,null,null,null,null,null,null,null,null,null,null,null,null,null,null,null,null,null,null,null,null,null,null,null,null,null,null,null,null,null,null,null,null,null,null,null,null,null,null,null,null,null,null,null,null,null,null,null,null,null,null,null,null,null,null,null,null,null,null,null,null,null,null,null,null,8,"Spieler 16","-","Spieler 13",null,null,13,8,16,13,"","","$P$46","$S$43",8,"Spieler 15","-","Spieler 12",null,null,14,8,15,12,"","","$O$45","$R$42",8,{"$f":"DE80","v":"Spieler 13"},"-",{"$f":"DC80","v":"Spieler 16"},null,8,{"$f":"DS80","v":"Spieler 12"},"-",{"$f":"DQ80","v":"Spieler 15"}]
[null,null,null,null,null,null,null,null,null,null,null,null,null,null,null,null,null,null,null,null,null,null,null,null,null,null,null,null,null,null,null,null,null,null,null,null,null,null,null,null,null,null,null,null,null,null,null,null,null,null,null,null,null,null,null,null,null,null,null,null,null,null,null,null,null,null,null,null,null,null,null,null,null,null,null,null,null,null,null,null,null,null,null,null,null,null,null,null,null,null,null,null,null,null,null,null,null,null,null,null,null,null,null,null,null,9,"Spieler 14","-","Spieler 15",null,null,13,9,14,15,"","","$R$44","$Q$45",9,"Spieler 13","-","Spieler 14",null,null,14,9,13,14,"","","$Q$43","$P$44",9,"Spieler 14","-",{"$f":"DE81","v":"Spieler 15"},null,9,"Spieler 13","-",{"$f":"DS81","v":"Spieler 14"}]
[]
[null,null,null,null,null,null,null,null,null,null,null,null,null,null,null,null,null,null,null,null,null,null,null,null,null,null,null,null,null,null,null,null,null,null,null,null,null,null,null,null,null,null,null,null,null,null,null,null,null,null,null,null,null,null,null,null,null,null,null,null,null,null,null,null,null,null,null,null,null,null,null,null,null,null,null,null,null,null,null,null,null,null,null,null,null,null,null,null,null,null,null,null,null,null,null,null,null,null,null,null,null,null,null,null,null,null,{"$f":"DC72+2","v":15},null,null,null,null,"R","B","SpNr w","SpNr s","Res w","Res s",null,null,null,{"$f":"DQ72+2","v":16},null,null,null,null,"R","B","SpNr w","SpNr s","Res w","Res s",null,null,null,{"$f":"DC83","v":15},1,null,null,null,{"$f":"DQ83","v":16}]
[null,null,null,null,null,null,null,null,null,null,null,null,null,null,null,null,null,null,null,null,null,null,null,null,null,null,null,null,null,null,null,null,null,null,null,null,null,null,null,null,null,null,null,null,null,null,null,null,null,null,null,null,null,null,null,null,null,null,null,null,null,null,null,null,null,null,null,null,null,null,null,null,null,null,null,null,null,null,null,null,null,null,null,null,null,null,null,null,null,null,null,null,null,null,null,null,null,null,null,null,null,null,null,null,null,{"$f":"IF(OR(INDEX($CW$31:$CW$48,DJ84),INDEX($CW$31:$CW$48,DK84)),0,1)","v":1},{"$f":"INDEX($CX$31:$CX$48,MATCH($DJ84,TeilnNr,0))","v":"Spieler 04"},"-",{"$f":"INDEX($CX$31:$CX$48,MATCH($DK84,TeilnNr,0))","v":"Spieler 18"},null,null,{"$f":"DC83","v":15},1,{"$f":"IF(AND(DI84=1,MOD(DH84,2)=0),MAX(TeilnNr),IF(MOD(DI84,2)=0,IF(MAX(TeilnNr)/2-DI84+1-(DH84-MAX(TeilnNr)/2-1)>=1,MAX(TeilnNr)/2-DI84+1-(DH84-MAX(TeilnNr)/2-1),MAX(TeilnNr)/2-DI84+1-(DH84-MAX(TeilnNr)/2-1)+MAX(TeilnNr)-1),IF(DI84-(DH84-1)>=1,DI84-(DH84-1),DI84-(DH84-1)+MAX(TeilnNr)-1)))","v":4},{"$f":"IF(AND(DI84=1,MOD(DH84,2)<>0),MAX(TeilnNr),IF(MOD(DI84,2)<>0,IF(MAX(TeilnNr)/2-DI84+1-(DH84-MAX(TeilnNr)/2-1)>=1,MAX(TeilnNr)/2-DI84+1-(DH84-MAX(TeilnNr)/2-1),MAX(TeilnNr)/2-DI84+1-(DH84-MAX(TeilnNr)/2-1)+MAX(TeilnNr)-1),IF(DI84-(DH84-1)>=1,DI84-(DH84-1),DI84-(DH84-1)+MAX(TeilnNr)-1)))","v":18},{"$f":"IF(LEFT(DG84,1)=\"V\",\"\",LEFT(DG84,1))","v":""},{"$f":"IF(RIGHT(DG84,1)=\"V\",\"\",RIGHT(DG84,1))","v":""},{"$f":"ADDRESS(ROW(Teilnehmer)+DJ84,COLUMN(Teilnehmer)+DK84)","v":"$U$34"},{"$f":"ADDRESS(ROW(Teilnehmer)+DK84,COLUMN(Teilnehmer)+DJ84)","v":"$G$48"},{"$f":"IF(OR(INDEX($CW$31:$CW$48,DX84),INDEX($CW$31:$CW$48,DY84)),0,1)","v":1},{"$f":"INDEX($CX$31:$CX$48,MATCH($DX84,TeilnNr,0))","v":"Spieler 18"},"-",{"$f":"INDEX($CX$31:$CX$48,MATCH($DY84,TeilnNr,0))","v":"Spieler 03"},null,null,{"$f":"DQ83","v":16},1,{"$f":"IF(AND(DW84=1,MOD(DV84,2)=0),MAX(TeilnNr),IF(MOD(DW84,2)=0,IF(MAX(TeilnNr)/2-DW84+1-(DV84-MAX(TeilnNr)/2-1)>=1,MAX(TeilnNr)/2-DW84+1-(DV84-MAX(TeilnNr)/2-1),MAX(TeilnNr)/2-DW84+1-(DV84-MAX(TeilnNr)/2-1)+MAX(TeilnNr)-1),IF(DW84-(DV84-1)>=1,DW84-(DV84-1),DW84-(DV84-1)+MAX(TeilnNr)-1)))","v":18},{"$f":"IF(AND(DW84=1,MOD(DV84,2)<>0),MAX(TeilnNr),IF(MOD(DW84,2)<>0,IF(MAX(TeilnNr)/2-DW84+1-(DV84-MAX(TeilnNr)/2-1)>=1,MAX(TeilnNr)/2-DW84+1-(DV84-MAX(TeilnNr)/2-1),MAX(TeilnNr)/2-DW84+1-(DV84-MAX(TeilnNr)/2-1)+MAX(TeilnNr)-1),IF(DW84-(DV84-1)>=1,DW84-(DV84-1),DW84-(DV84-1)+MAX(TeilnNr)-1)))","v":3},{"$f":"IF(LEFT(DU84,1)=\"V\",\"\",LEFT(DU84,1))","v":""},{"$f":"IF(RIGHT(DU84,1)=\"V\",\"\",RIGHT(DU84,1))","v":""},{"$f":"ADDRESS(ROW(Teilnehmer)+DX84,COLUMN(Teilnehmer)+DY84)","v":"$F$48"},{"$f":"ADDRESS(ROW(Teilnehmer)+DY84,COLUMN(Teilnehmer)+DX84)","v":"$U$33"},{"$f":"DB84","v":1},"Spieler 04","-",{"$f":"DE84","v":"Spieler 18"},null,{"$f":"DP84","v":1},{"$f":"DS84","v":"Spieler 03"},"-",{"$f":"DQ84","v":"Spieler 18"}]
[null,null,null,null,null,null,null,null,null,null,null,null,null,null,null,null,null,null,null,null,null,null,null,null,null,null,null,null,null,null,null,null,null,null,null,null,null,null,null,null,null,null,null,null,null,null,null,null,null,null,null,null,null,null,null,null,null,null,null,null,null,null,null,null,null,null,null,null,null,null,null,null,null,null,null,null,null,null,null,null,null,null,null,null,null,null,null,null,null,null,null,null,null,null,null,null,null,null,null,null,null,null,null,null,null,{"$f":"DB84+1","v":2},"Spieler 03","-","Spieler 05",null,null,{"$f":"DH84","v":15},{"$f":"DI84+1","v":2},3,5,"","","$H$33","$F$35",{"$f":"DP84+1","v":2},"Spieler 02","-","Spieler 04",null,null,{"$f":"DV84","v":16},{"$f":"DW84+1","v":2},2,4,"","","$G$32","$E$34",{"$f":"DB85","v":2},{"$f":"DE85","v":"Spieler 05"},"-",{"$f":"DC85","v":"Spieler 03"},null,2,"Spieler 04","-","Spieler 02"]
[null,null,null,null,null,null,null,null,null,null,null,null,null,null,null,null,null,null,null,null,null,null,null,null,null,null,null,null,null,null,null,null,null,null,null,null,null,null,null,null,null,null,null,null,null,null,null,null,null,null,null,null,null,null,null,null,null,null,null,null,null,null,null,null,null,null,null,null,null,null,null,null,null,null,null,null,null,null,null,null,null,null,null,null,null,null,null,null,null,null,null,null,null,null,null,null,null,null,null,null,null,null,null,null,null,{"$f":"DB85+1","v":3},"Spieler 06","-","Spieler 02",null,null,{"$f":"DH85","v":15},{"$f":"DI85+1","v":3},6,2,"","","$E$36","$I$32",{"$f":"DP85+1","v":3},"Spieler 05","-","Spieler 01",null,null,{"$f":"DV85","v":16},{"$f":"DW85+1","v":3},5,1,"","","$D$35","$H$31",3,"Spieler 06","-",{"$f":"DE86","v":"Spieler 02"},null,3,"Spieler 05","-",{"$f":"DS86","v":"Spieler 01"}]
[null,null,null,null,null,null,null,null,null,null,null,null,null,null,null,null,null,null,null,null,null,null,null,null,null,null,null,null,null,null,null,null,null,null,null,null,null,null,null,null,null,null,null,null,null,null,null,null,null,null,null,null,null,null,null,null,null,null,null,null,null,null,null,null,null,null,null,null,null,null,null,null,null,null,null,null,null,null,null,null,null,null,null,null,null,null,null,null,null,null,null,null,null,null,null,null,null,null,null,null,null,null,null,null,null,4,"Spieler 01","-","Spieler 07",null,null,{"$f":"DH86","v":15},4,1,7,"","","$J$31","$D$37",4,"Spieler 17","-","Spieler 06",null,null,{"$f":"DV86","v":16},4,17,6,"","","$I$47","$T$36",4,{"$f":"DE87","v":"Spieler 07"},"-",{"$f":"DC87","v":"Spieler 01"},null,4,{"$f":"DS87","v":"Spieler 06"},"-",{"$f":"DQ87","v":"Spieler 17"}]
[null,null,null,null,null,null,null,null,null,null,null,null,null,null,null,null,null,null,null,null,null,null,null,null,null,null,null,null,null,null,null,null,null,null,null,null,null,null,null,null,null,null,null,null,null,null,null,null,null,null,null,null,null,null,null,null,null,null,null,null,null,null,null,null,null,null,null,null,null,null,null,null,null,null,null,null,null,null,null,null,null,null,null,null,null,null,null,null,null,null,null,null,null,null,null,null,null,null,null,null,null,null,null,null,null,5,"Spieler 08","-","Spieler 17",null,null,{"$f":"DH87","v":15},5,8,17,"","","$T$38","$K$47",5,"Spieler 07","-","Spieler 16",null,null,16,5,7,16,"","","$S$37","$J$46",5,"Spieler 08","-",{"$f":"DE88","v":"Spieler 17"},null,5,"Spieler 07","-",{"$f":"DS88","v":"Spieler 16"}]
[null,null,null,null,null,null,null,null,null,null,null,null,null,null,null,null,null,null,null,null,null,null,null,null,null,null,null,null,null,null,null,null,null,null,null,null,null,null,null,null,null,null,null,null,null,null,null,null,null,null,null,null,null,null,null,null,null,null,null,null,null,null,null,null,null,null,null,null,null,null,null,null,null,null,null,null,null,null,null,null,null,null,null,null,null,null,null,null,null,null,null,null,null,null,null,null,null,null,null,null,null,null,null,null,null,6,"Spieler 16","-","Spieler 09",null,null,{"$f":"DH88","v":15},6,16,9,"","","$L$46","$S$39",6,"Spieler 15","-","Spieler 08",null,null,16,6,15,8,"","","$K$45","$R$38",6,{"$f":"DE89","v":"Spieler 09"},"-",{"$f":"DC89","v":"Spieler 16"},null,6,{"$f":"DS89","v":"Spieler 08"},"-",{"$f":"DQ89","v":"Spieler 15"}]
[null,null,null,null,null,null,null,null,null,null,null,null,null,null,null,null,null,null,null,null,null,null,null,null,null,null,null,null,null,null,null,null,null,null,null,null,null,null,null,null,null,null,null,null,null,null,null,null,null,null,null,null,null,null,null,null,null,null,null,null,null,null,null,null,null,null,null,null,null,null,null,null,null,null,null,null,null,null,null,null,null,null,null,null,null,null,null,null,null,null,null,null,null,null,null,null,null,null,null,null,null,null,null,null,null,7,"Spieler 10","-","Spieler 15",null,null,{"$f":"DH89","v":15},7,10,15,"","","$R$40","$M$45",7,"Spieler 09","-","Spieler 14",null,null,16,7,9,14,"","","$Q$39","$L$44",7,"Spieler 10","-",{"$f":"DE90","v":"Spieler 15"},null,7,"Spieler 09","-",{"$f":"DS90","v":"Spieler 14"}]
[null,null,null,null,null,null,null,null,null,null,null,null,null,null,null,null,null,null,null,null,null,null,null,null,null,null,null,null,null,null,null,null,null,null,null,null,null,null,null,null,null,null,null,null,null,null,null,null,null,null,null,null,null,null,null,null,null,null,null,null,null,null,null,null,null,null,null,null,null,null,null,null,null,null,null,null,null,null,null,null,null,null,null,null,null,null,null,null,null,null,null,null,null,null,null,null,null,null,null,null,null,null,null,null,null,8,"Spieler 14","-","Spieler 11",null,null,15,8,14,11,"","","$N$44","$Q$41",8,"Spieler 13","-","Spieler 10",null,null,16,8,13,10,"","","$M$43","$P$40",8,{"$f":"DE91","v":"Spieler 11"},"-",{"$f":"DC91","v":"Spieler 14"},null,8,{"$f":"DS91","v":"Spieler 10"},"-",{"$f":"DQ91","v":"Spieler 13"}]
[null,null,null,null,null,null,null,null,null,null,null,null,null,null,null,null,null,null,null,null,null,null,null,null,null,null,null,null,null,null,null,null,null,null,null,null,null,null,null,null,null,null,null,null,null,null,null,null,null,null,null,null,null,null,null,null,null,null,null,null,null,null,null,null,null,null,null,null,null,null,null,null,null,null,null,null,null,null,null,null,null,null,null,null,null,null,null,null,null,null,null,null,null,null,null,null,null,null,null,null,null,null,null,null,null,9,"Spieler 12","-","Spieler 13",null,null,15,9,12,13,"","","$P$42","$O$43",9,"Spieler 11","-","Spieler 12",null,null,16,9,11,12,"","","$O$41","$N$42",9,"Spieler 12","-",{"$f":"DE92","v":"Spieler 13"},null,9,"Spieler 11","-",{"$f":"DS92","v":"Spieler 12"}]
[]
[null,null,null,null,null,null,null,null,null,null,null,null,null,null,null,null,null,null,null,null,null,null,null,null,null,null,null,null,null,null,null,null,null,null,null,null,null,null,null,null,null,null,null,null,null,null,null,null,null,null,null,null,null,null,null,null,null,null,null,null,null,null,null,null,null,null,null,null,null,null,null,null,null,null,null,null,null,null,null,null,null,null,null,null,null,null,null,null,null,null,null,null,null,null,null,null,null,null,null,null,null,null,null,null,null,null,{"$f":"DC83+2","v":17},null,null,null,null,"R","B","SpNr w","SpNr s","Res w","Res s",null,null,null,null,null,null,null,null,null,null,null,null,null,null,null,null,null,{"$f":"DC94","v":17},1]
[null,null,null,null,null,null,null,null,null,null,null,null,null,null,null,null,null,null,null,null,null,null,null,null,null,null,null,null,null,null,null,null,null,null,null,null,null,null,null,null,null,null,null,null,null,null,null,null,null,null,null,null,null,null,null,null,null,null,null,null,null,null,null,null,null,null,null,null,null,null,null,null,null,null,null,null,null,null,null,null,null,null,null,null,null,null,null,null,null,null,null,null,null,null,null,null,null,null,null,null,null,null,null,null,null,{"$f":"IF(OR(INDEX($CW$31:$CW$48,DJ95),INDEX($CW$31:$CW$48,DK95)),0,1)","v":1},{"$f":"INDEX($CX$31:$CX$48,MATCH($DJ95,TeilnNr,0))","v":"Spieler 02"},"-",{"$f":"INDEX($CX$31:$CX$48,MATCH($DK95,TeilnNr,0))","v":"Spieler 18"},null,null,{"$f":"DC94","v":17},1,{"$f":"IF(AND(DI95=1,MOD(DH95,2)=0),MAX(TeilnNr),IF(MOD(DI95,2)=0,IF(MAX(TeilnNr)/2-DI95+1-(DH95-MAX(TeilnNr)/2-1)>=1,MAX(TeilnNr)/2-DI95+1-(DH95-MAX(TeilnNr)/2-1),MAX(TeilnNr)/2-DI95+1-(DH95-MAX(TeilnNr)/2-1)+MAX(TeilnNr)-1),IF(DI95-(DH95-1)>=1,DI95-(DH95-1),DI95-(DH95-1)+MAX(TeilnNr)-1)))","v":2},{"$f":"IF(AND(DI95=1,MOD(DH95,2)<>0),MAX(TeilnNr),IF(MOD(DI95,2)<>0,IF(MAX(TeilnNr)/2-DI95+1-(DH95-MAX(TeilnNr)/2-1)>=1,MAX(TeilnNr)/2-DI95+1-(DH95-MAX(TeilnNr)/2-1),MAX(TeilnNr)/2-DI95+1-(DH95-MAX(TeilnNr)/2-1)+MAX(TeilnNr)-1),IF(DI95-(DH95-1)>=1,DI95-(DH95-1),DI95-(DH95-1)+MAX(TeilnNr)-1)))","v":18},{"$f":"IF(LEFT(DG95,1)=\"V\",\"\",LEFT(DG95,1))","v":""},{"$f":"IF(RIGHT(DG95,1)=\"V\",\"\",RIGHT(DG95,1))","v":""},{"$f":"ADDRESS(ROW(Teilnehmer)+DJ95,COLUMN(Teilnehmer)+DK95)","v":"$U$32"},{"$f":"ADDRESS(ROW(Teilnehmer)+DK95,COLUMN(Teilnehmer)+DJ95)","v":"$E$48"},null,null,null,null,null,null,null,null,null,null,null,null,null,null,{"$f":"DB95","v":1},"Spieler 02","-",{"$f":"DE95","v":"Spieler 18"}]
[null,null,null,null,null,null,null,null,null,null,null,null,null,null,null,null,null,null,null,null,null,null,null,null,null,null,null,null,null,null,null,null,null,null,null,null,null,null,null,null,null,null,null,null,null,null,null,null,null,null,null,null,null,null,null,null,null,null,null,null,null,null,null,null,null,null,null,null,null,null,null,null,null,null,null,null,null,null,null,null,null,null,null,null,null,null,null,null,null,null,null,null,null,null,null,null,null,null,null,null,null,null,null,null,null,{"$f":"DB95+1","v":2},"Spieler 01","-","Spieler 03",null,null,{"$f":"DH95","v":17},{"$f":"DI95+1","v":2},1,3,"","","$F$31","$D$33",null,null,null,null,null,null,null,null,null,null,null,null,null,null,{"$f":"DB96","v":2},{"$f":"DE96","v":"Spieler 03"},"-",{"$f":"DC96","v":"Spieler 01"}]
[null,null,null,null,null,null,null,null,null,null,null,null,null,null,null,null,null,null,null,null,null,null,null,null,null,null,null,null,null,null,null,null,null,null,null,null,null,null,null,null,null,null,null,null,null,null,null,null,null,null,null,null,null,null,null,null,null,null,null,null,null,null,null,null,null,null,null,null,null,null,null,null,null,null,null,null,null,null,null,null,null,null,null,null,null,null,null,null,null,null,null,null,null,null,null,null,null,null,null,null,null,null,null,null,null,{"$f":"DB96+1","v":3},"Spieler 04","-","Spieler 17",null,null,{"$f":"DH96","v":17},{"$f":"DI96+1","v":3},4,17,"","","$T$34","$G$47",null,null,null,null,null,null,null,null,null,null,null,null,null,null,3,"Spieler 04","-",{"$f":"DE97","v":"Spieler 17"}]
[null,null,null,null,null,null,null,null,null,null,null,null,null,null,null,null,null,null,null,null,null,null,null,null,null,null,null,null,null,null,null,null,null,null,null,null,null,null,null,null,null,null,null,null,null,null,null,null,null,null,null,null,null,null,null,null,null,null,null,null,null,null,null,null,null,null,null,null,null,null,null,null,null,null,null,null,null,null,null,null,null,null,null,null,null,null,null,null,null,null,null,null,null,null,null,null,null,null,null,null,null,null,null,null,null,4,"Spieler 16","-","Spieler 05",null,null,{"$f":"DH97","v":17},4,16,5,"","","$H$46","$S$35",null,null,null,null,null,null,null,null,null,null,null,null,null,null,4,{"$f":"DE98","v":"Spieler 05"},"-",{"$f":"DC98","v":"Spieler 16"}]
[null,null,null,null,null,null,null,null,null,null,null,null,null,null,null,null,null,null,null,null,null,null,null,null,null,null,null,null,null,null,null,null,null,null,null,null,null,null,null,null,null,null,null,null,null,null,null,null,null,null,null,null,null,null,null,null,null,null,null,null,null,null,null,null,null,null,null,null,null,null,null,null,null,null,null,null,null,null,null,null,null,null,null,null,null,null,null,null,null,null,null,null,null,null,null,null,null,null,null,null,null,null,null,null,null,5,"Spieler 06","-","Spieler 15",null,null,{"$f":"DH98","v":17},5,6,15,"","","$R$36","$I$45",null,null,null,null,null,null,null,null,null,null,null,null,null,null,5,"Spieler 06","-",{"$f":"DE99","v":"Spieler 15"}]
[null,null,null,null,null,null,null,null,null,null,null,null,null,null,null,null,null,null,null,null,null,null,null,null,null,null,null,null,null,null,null,null,null,null,null,null,null,null,null,null,null,null,null,null,null,null,null,null,null,null,null,null,null,null,null,null,null,null,null,null,null,null,null,null,null,null,null,null,null,null,null,null,null,null,null,null,null,null,null,null,null,null,null,null,null,null,null,null,null,null,null,null,null,null,null,null,null,null,null,null,null,null,null,null,null,6,"Spieler 14","-","Spieler 07",null,null,{"$f":"DH99","v":17},6,14,7,"","","$J$44","$Q$37",null,null,null,null,null,null,null,null,null,null,null,null,null,null,6,{"$f":"DE100","v":"Spieler 07"},"-",{"$f":"DC100","v":"Spieler 14"}]
[null,null,null,null,null,null,null,null,null,null,null,null,null,null,null,null,null,null,null,null,null,null,null,null,null,null,null,null,null,null,null,null,null,null,null,null,null,null,null,null,null,null,null,null,null,null,null,null,null,null,null,null,null,null,null,null,null,null,null,null,null,null,null,null,null,null,null,null,null,null,null,null,null,null,null,null,null,null,null,null,null,null,null,null,null,null,null,null,null,null,null,null,null,null,null,null,null,null,null,null,null,null,null,null,null,7,"Spieler 08","-","Spieler 13",null,null,{"$f":"DH100","v":17},7,8,13,"","","$P$38","$K$43",null,null,null,null,null,null,null,null,null,null,null,null,null,null,7,"Spieler 08","-",{"$f":"DE101","v":"Spieler 13"}]
[null,null,null,null,null,null,null,null,null,null,null,null,null,null,null,null,null,null,null,null,null,null,null,null,null,null,null,null,null,null,null,null,null,null,null,null,null,null,null,null,null,null,null,null,null,null,null,null,null,null,null,null,null,null,null,null,null,null,null,null,null,null,null,null,null,null,null,null,null,null,null,null,null,null,null,null,null,null,null,null,null,null,null,null,null,null,null,null,null,null,null,null,null,null,null,null,null,null,null,null,null,null,null,null,null,8,"Spieler 12","-","Spieler 09",null,null,17,8,12,9,"","","$L$42","$O$39",null,null,null,null,null,null,null,null,null,null,null,null,null,null,8,{"$f":"DE102","v":"Spieler 09"},"-",{"$f":"DC102","v":"Spieler 12"}]
[null,null,null,null,null,null,null,null,null,null,null,null,null,null,null,null,null,null,null,null,null,null,null,null,null,null,null,null,null,null,null,null,null,null,null,null,null,null,null,null,null,null,null,null,null,null,null,null,null,null,null,null,null,null,null,null,null,null,null,null,null,null,null,null,null,null,null,null,null,null,null,null,null,null,null,null,null,null,null,null,null,null,null,null,null,null,null,null,null,null,null,null,null,null,null,null,null,null,null,null,null,null,null,null,null,9,"Spieler 10","-","Spieler 11",null,null,17,9,10,11,"","","$N$40","$M$41",null,null,null,null,null,null,null,null,null,null,null,null,null,null,9,"Spieler 10","-",{"$f":"DE103","v":"Spieler 11"}]

{"sheet":"16","index":5,"n_rows":84,"n_cols":136,"rows_kept":84,"cut":false,"hidden":false,"merged":[[45,102,45,104],[45,116,45,118],[0,1,0,25],[1,116,1,118],[3,102,3,118],[5,102,5,104],[5,116,5,118],[15,102,15,104],[15,116,15,118],[25,102,25,104],[25,116,25,118],[26,23,26,24],[35,102,35,104],[35,116,35,118],[55,102,55,104],[55,116,55,118],[65,102,65,104],[65,116,65,118],[75,102,75,104]]}
[null,"Turniername",null,null,null,null,null,null,null,null,null,null,null,null,null,null,null,null,null,null,null,null,null,null,null,null,null,null,null,null,null,null,null,null,null,null,null,null,null,null,null,null,null,null,null,null,null,1,"1) Punkte 2) So-Be 3) Manuelle Feinwertung ",null,null,null,null,null,null,null,null,null,null,null,null,null,null,null,null,null,null,null,null,null,null,null,null,null,null,null,null,null,null,null,null,null,null,"Wiederholung Kriterien:",null,null,null,null,null,null,null,null,null,null,null,null,null,null,null,null,{"$f":"\"Paarungsliste und Resultate \"&IF(Turnier=\"\",\"\",Turnier)","v":"Paarungsliste und Resultate Turniername"},null,null,null,null,null,null,null,null,null,null,null,null,null,null,null,null,null,null,null,null,null,null,null,null,null,null,null,"Paarungsliste Darstellung Rutschsystem",null,null,null,null,null,{"$f":"IF(Datum=\"\",\"\",\"Datum:\")","v":""}]
[null,null,null,null,null,null,null,null,null,null,null,null,null,null,null,null,null,null,null,null,null,null,null,null,null,null,null,null,null,null,null,null,null,null,null,null,null,null,null,null,null,null,null,null,"a","b","P",2,"1) Punkte 2) So-Be 3) direkte Begegnung 4) Manuelle Feinwertung ",null,null,null,null,null,null,null,null,null,null,null,null,null,null,null,null,null,null,null,null,null,null,null,null,null,null,null,null,null,null,null,null,null,1,{"$f":"AW1","v":"1) Punkte 2) So-Be 3) Manuelle Feinwertung "},null,null,null,null,null,null,null,null,null,null,null,null,null,null,null,null,{"$f":"IF(Turnier=\"\",\"\",\"Turniername:\")","v":"Turniername:"},null,{"$f":"IF(Turnier=\"\",\"\",Turnier)","v":"Turniername"},null,null,null,null,null,null,null,null,null,null,null,null,"Datum:",null,null,null,null,null,null,null,null,null,null,null,null,{"$f":"IF(Turnier=\"\",\"\",\"Turniername:\")","v":"Turniername:"},null,{"$f":"IF(Turnier=\"\",\"\",Turnier)&IF(Datum=\"\",\"\",\", \"&TEXT(Datum,\"TT.MM.JJJJ\"))","v":"Turniername"}]
[null,null,null,null,null,null,null,null,null,null,null,null,null,null,null,null,null,null,null,null,null,null,null,null,null,null,null,null,null,null,null,null,null,null,null,null,null,null,null,null,null,null,null,null,"1","0",1,3,"1) Punkte 2) Anz. Partien 3) So-Be 4) Manuelle Feinwertung "]
[null,"Rangliste",null,null,null,null,null,null,null,null,null,null,null,null,null,null,null,null,null,null,null,null,null,null,null,null,null,null,null,null,null,null,null,null,null,null,null,null,null,null,null,null,null,null,"0","1",0,4,"1) Punkte 2) Anz. Partien 3) So-Be 4) direkte Begegnung 5) Manuelle Feinwertung ",null,null,null,null,null,null,null,null,null,null,null,null,null,null,null,null,null,null,null,null,null,null,null,null,null,null,null,null,null,null,null,null,null,2,{"$f":"AW2","v":"1) Punkte 2) So-Be 3) direkte Begegnung 4) Manuelle Feinwertung "},null,null,null,null,null,null,null,null,null,null,null,null,null,null,null,null,"Turnierleitung:",null,null,null,null,null,null,null,null,null,null,null,null,null,null,null,null,null,null,null,null,null,null,null,null,null,null,null,{"$f":"IF(Turnierleitung=\"\",\"\",\"Turnierleitung:\")","v":""},null,{"$f":"IF(Turnierleitung=\"\",\"\",Turnierleitung)","v":""}]
[null,null,null,null,null,null,null,null,null,null,null,null,null,null,null,null,null,null,null,null,null,null,null,null,null,null,null,null,null,null,null,null,null,null,null,null,null,null,null,null,null,null,null,null,"½","½",0.5,5,"1) Punkte 2) Anz. Partien 3) So-Be 4) direkte Begegnung 5) Anz.Schwarzpartien 6) Manuelle Feinwertung ",null,null,null,null,null,null,null,null,null,null,null,null,null,null,null,null,null,null,null,null,null,null,null,null,null,null,null,null,null,null,null,null,null,3,"1) Punkte 2) Anz. Partien 3) So-Be 4) Manuelle Feinwertung "]
[null,"Rang","Teilnehmer",1,2,3,4,5,6,7,8,9,10,11,12,13,14,15,16,"Punkte","Spiele","So-Be",{"$f":"IF(W28=\"\",\"FWm\",W28)","v":"FW+"},1,"½",0,"Nr",null,null,null,null,null,null,null,null,null,null,null,null,null,null,null,null,null,"+","-",1,6,"1) Punkte 2) Anz. Partien 3) So-Be 4) Anz.Schwarzpartien 5) direkte Begegnung 6) Manuelle Feinwertung ",null,null,null,null,null,null,null,null,null,null,null,null,null,null,null,null,null,null,null,null,null,null,null,null,null,null,null,null,null,null,null,null,null,4,"1) Punkte 2) Anz. Partien 3) So-Be 4) direkte Begegnung 5) Manuelle Feinwertung ",null,null,null,null,null,null,null,null,null,null,null,null,null,null,null,null,1,null,null,null,null,"R","B","SpNr w","SpNr s","Res w","Res s","AdrTTw","AdrTTs",null,{"$f":"CW6+1","v":2},null,null,null,null,"R","B","SpNr w","SpNr s","Res w","Res s","AdrTTw","AdrTTs",null,{"$f":"CW6","v":1},1,null,null,null,{"$f":"DK6","v":2}]
[null,{"$f":"IF(INDEX($CQ$29:$CQ$44,MATCH(B29,$CU$29:$CU$44,0)),\"--\",IF(INDEX($CP$29:$CP$44,MATCH(B29,$CU$29:$CU$44,0))<ROW()-ROW($B$6),\"\",INDEX($CP$29:$CP$44,MATCH(B29,$CU$29:$CU$44,0))))","v":1},{"$f":"IF(INDEX($C$29:$C$44,MATCH(B29,$CU$29:$CU$44,0))=0,\"Spieler \"&TEXT(AA7,\"00\"),INDEX($C$29:$C$44,MATCH(B29,$CU$29:$CU$44,0)))","v":"Spieler 01"},{"$f":"IF(INDEX($B$28:$S$44,MATCH($AA7,$B$28:$B$44,0),MATCH(INDEX($B$29:$B$44,MATCH(OFFSET($AA$6,D$6,0),$B$29:$B$44,0)),$B$28:$S$28,0))=\"\",\"\",INDEX($B$28:$S$44,MATCH($AA7,$B$28:$B$44,0),MATCH(INDEX($B$29:$B$44,MATCH(OFFSET($AA$6,D$6,0),$B$29:$B$44,0)),$B$28:$S$28,0)))","v":""},"","","","","","","","","","","","","","","",{"$f":"INDEX($AR$29:$AR$44,MATCH(AA7,$B$29:$B$44,0))","v":0},{"$f":"INDEX($U$29:$U$44,MATCH(AA7,$B$29:$B$44,0))","v":0},{"$f":"INDEX($V$29:$V$44,MATCH(AA7,$B$29:$B$44,0))","v":0},{"$f":"INDEX($W$29:$W$44,MATCH(AA7,$B$29:$B$44,0))","v":0},{"$f":"COUNTIF($D7:$S7,1)+COUNTIF($D7:$S7,\"+\")","v":0},{"$f":"COUNTIF($D7:$S7,\"½\")","v":0},{"$f":"COUNTIF($D7:$S7,0)+COUNTIF($D7:$S7,\"-\")","v":0},{"$f":"INDEX($B$29:$B$44,MATCH(B29,$CU$29:$CU$44,0))","v":1},null,null,null,null,null,null,null,null,null,null,null,null,null,null,null,null,null,"-","+",0,7,"1) Punkte 2) Anz. Partien 3) direkte Begegnung 4) So-Be 5) Anz.Schwarzpartien 6) Manuelle Feinwertung ",null,null,null,null,null,null,null,null,null,null,null,null,null,null,null,null,null,null,null,null,null,null,null,null,null,null,null,null,null,null,null,null,null,5,"1) Punkte 2) Anz. Partien 3) So-Be 4) direkte Begegnung 5) Anz.Schwarzpartien 6) Manuelle Feinwertung ",null,null,null,null,null,null,null,null,null,null,null,null,null,null,null,{"$f":"IF(OR(INDEX($CQ$29:$CQ$44,DD7),INDEX($CQ$29:$CQ$44,DE7)),0,1)","v":1},{"$f":"INDEX($CR$29:$CR$44,MATCH($DD7,TeilnNr,0))","v":"Spieler 01"},"-",{"$f":"INDEX($CR$29:$CR$44,MATCH($DE7,TeilnNr,0))","v":"Spieler 16"},null,null,{"$f":"CW6","v":1},1,{"$f":"IF(AND(DC7=1,MOD(DB7,2)=0),MAX(TeilnNr),IF(MOD(DC7,2)=0,IF(MAX(TeilnNr)/2-DC7+1-(DB7-MAX(TeilnNr)/2-1)>=1,MAX(TeilnNr)/2-DC7+1-(DB7-MAX(TeilnNr)/2-1),MAX(TeilnNr)/2-DC7+1-(DB7-MAX(TeilnNr)/2-1)+MAX(TeilnNr)-1),IF(DC7-(DB7-1)>=1,DC7-(DB7-1),DC7-(DB7-1)+MAX(TeilnNr)-1)))","v":1},{"$f":"IF(AND(DC7=1,MOD(DB7,2)<>0),MAX(TeilnNr),IF(MOD(DC7,2)<>0,IF(MAX(TeilnNr)/2-DC7+1-(DB7-MAX(TeilnNr)/2-1)>=1,MAX(TeilnNr)/2-DC7+1-(DB7-MAX(TeilnNr)/2-1),MAX(TeilnNr)/2-DC7+1-(DB7-MAX(TeilnNr)/2-1)+MAX(TeilnNr)-1),IF(DC7-(DB7-1)>=1,DC7-(DB7-1),DC7-(DB7-1)+MAX(TeilnNr)-1)))","v":16},{"$f":"IF(LEFT(DA7,1)=\"V\",\"\",LEFT(DA7,1))","v":""},{"$f":"IF(RIGHT(DA7,1)=\"V\",\"\",RIGHT(DA7,1))","v":""},{"$f":"ADDRESS(ROW(Teilnehmer)+DD7,COLUMN(Teilnehmer)+DE7)","v":"$S$29"},{"$f":"ADDRESS(ROW(Teilnehmer)+DE7,COLUMN(Teilnehmer)+DD7)","v":"$D$44"},{"$f":"IF(OR(INDEX($CQ$29:$CQ$44,DR7),INDEX($CQ$29:$CQ$44,DS7)),0,1)","v":1},{"$f":"INDEX($CR$29:$CR$44,MATCH($DR7,TeilnNr,0))","v":"Spieler 16"},"-",{"$f":"INDEX($CR$29:$CR$44,MATCH($DS7,TeilnNr,0))","v":"Spieler 15"},null,null,{"$f":"DK6","v":2},1,{"$f":"IF(AND(DQ7=1,MOD(DP7,2)=0),MAX(TeilnNr),IF(MOD(DQ7,2)=0,IF(MAX(TeilnNr)/2-DQ7+1-(DP7-MAX(TeilnNr)/2-1)>=1,MAX(TeilnNr)/2-DQ7+1-(DP7-MAX(TeilnNr)/2-1),MAX(TeilnNr)/2-DQ7+1-(DP7-MAX(TeilnNr)/2-1)+MAX(TeilnNr)-1),IF(DQ7-(DP7-1)>=1,DQ7-(DP7-1),DQ7-(DP7-1)+MAX(TeilnNr)-1)))","v":16},{"$f":"IF(AND(DQ7=1,MOD(DP7,2)<>0),MAX(TeilnNr),IF(MOD(DQ7,2)<>0,IF(MAX(TeilnNr)/2-DQ7+1-(DP7-MAX(TeilnNr)/2-1)>=1,MAX(TeilnNr)/2-DQ7+1-(DP7-MAX(TeilnNr)/2-1),MAX(TeilnNr)/2-DQ7+1-(DP7-MAX(TeilnNr)/2-1)+MAX(TeilnNr)-1),IF(DQ7-(DP7-1)>=1,DQ7-(DP7-1),DQ7-(DP7-1)+MAX(TeilnNr)-1)))","v":15},{"$f":"IF(LEFT(DO7,1)=\"V\",\"\",LEFT(DO7,1))","v":""},{"$f":"IF(RIGHT(DO7,1)=\"V\",\"\",RIGHT(DO7,1))","v":""},{"$f":"ADDRESS(ROW(Teilnehmer)+DR7,COLUMN(Teilnehmer)+DS7)","v":"$R$44"},{"$f":"ADDRESS(ROW(Teilnehmer)+DS7,COLUMN(Teilnehmer)+DR7)","v":"$S$43"},{"$f":"CV7","v":1},{"$f":"CW7","v":"Spieler 01"},"-",{"$f":"CY7","v":"Spieler 16"},null,{"$f":"DJ7","v":1},{"$f":"DM7","v":"Spieler 15"},"-",{"$f":"DK7","v":"Spieler 16"}]
[null,"","Spieler 02","","","","","","","","","","","","","","","","",0,0,0,0,0,0,0,2,null,null,null,null,null,null,null,null,null,null,null,null,null,null,null,null,null,null,null,null,8,"1) Punkte 2) Anz. Partien 3) direkte Begegnung 4) Anz.Schwarzpartien 5) So-Be 6) Manuelle Feinwertung ",null,null,null,null,null,null,null,null,null,null,null,null,null,null,null,null,null,null,null,null,null,null,null,null,null,null,null,null,null,null,null,null,null,6,"1) Punkte 2) Anz. Partien 3) So-Be 4) Anz.Schwarzpartien 5) direkte Begegnung 6) Manuelle Feinwertung ",null,null,null,null,null,null,null,null,null,null,null,null,null,null,null,{"$f":"CV7+1","v":2},"Spieler 15","-","Spieler 02",null,null,{"$f":"DB7","v":1},{"$f":"DC7+1","v":2},15,2,"","","$E$43","$R$30",{"$f":"DJ7+1","v":2},"Spieler 14","-","Spieler 01",null,null,{"$f":"DP7","v":2},{"$f":"DQ7+1","v":2},14,1,"","","$D$42","$Q$29",{"$f":"CV8","v":2},{"$f":"CY8","v":"Spieler 02"},"-",{"$f":"CW8","v":"Spieler 15"},null,{"$f":"DJ8","v":2},{"$f":"DM8","v":"Spieler 01"},"-",{"$f":"DK8","v":"Spieler 14"}]
[null,"","Spieler 03","","","","","","","","","","","","","","","","",0,0,0,0,0,0,0,3,null,null,null,null,null,null,null,null,null,null,null,null,null,null,null,null,null,null,null,null,9,"1) Punkte 2) Anz. Partien 3) Anz.Schwarzpartien 4) So-Be 5) direkte Begegnung 6) Manuelle Feinwertung ",null,null,null,null,null,null,null,null,null,null,null,null,null,null,null,null,null,null,null,null,null,null,null,null,null,null,null,null,null,null,null,null,null,7,"1) Punkte 2) Anz. Partien 3) direkte Begegnung 4) So-Be 5) Anz.Schwarzpartien 6) Manuelle Feinwertung ",null,null,null,null,null,null,null,null,null,null,null,null,null,null,null,{"$f":"CV8+1","v":3},"Spieler 03","-","Spieler 14",null,null,{"$f":"DB8","v":1},{"$f":"DC8+1","v":3},3,14,"","","$Q$31","$F$42",{"$f":"DJ8+1","v":3},"Spieler 02","-","Spieler 13",null,null,{"$f":"DP8","v":2},{"$f":"DQ8+1","v":3},2,13,"","","$P$30","$E$41",{"$f":"CV9","v":3},{"$f":"CW9","v":"Spieler 03"},"-",{"$f":"CY9","v":"Spieler 14"},null,{"$f":"DJ9","v":3},{"$f":"DK9","v":"Spieler 02"},"-",{"$f":"DM9","v":"Spieler 13"}]
[null,"","Spieler 04","","","","","","","","","","","","","","","","",0,0,0,0,0,0,0,4,null,null,null,null,null,null,null,null,null,null,null,null,null,null,null,null,null,null,null,4,10,"1) Punkte 2) Anz. Partien 3) Anz.Schwarzpartien 4) direkte Begegnung 5) So-Be 6) Manuelle Feinwertung ",null,null,null,null,null,null,null,null,null,null,null,null,null,null,null,null,null,null,null,null,null,null,null,null,null,null,null,null,null,null,null,null,null,8,"1) Punkte 2) Anz. Partien 3) direkte Begegnung 4) Anz.Schwarzpartien 5) So-Be 6) Manuelle Feinwertung ",null,null,null,null,null,null,null,null,null,null,null,null,null,null,null,4,"Spieler 13","-","Spieler 04",null,null,{"$f":"DB9","v":1},4,13,4,"","","$G$41","$P$32",4,"Spieler 12","-","Spieler 03",null,null,{"$f":"DP9","v":2},4,12,3,"","","$F$40","$O$31",{"$f":"CV10","v":4},{"$f":"CY10","v":"Spieler 04"},"-",{"$f":"CW10","v":"Spieler 13"},null,{"$f":"DJ10","v":4},{"$f":"DM10","v":"Spieler 03"},"-",{"$f":"DK10","v":"Spieler 12"}]
[null,"","Spieler 05","","","","","","","","","","","","","","","","",0,0,0,0,0,0,0,5,null,null,null,null,null,null,null,null,null,null,null,null,null,null,null,null,null,null,null,null,null,null,null,null,null,null,null,null,null,null,null,null,null,null,null,null,null,null,null,null,null,null,null,null,null,null,null,null,null,null,null,null,null,null,null,9,"1) Punkte 2) Anz. Partien 3) Anz.Schwarzpartien 4) So-Be 5) direkte Begegnung 6) Manuelle Feinwertung ",null,null,null,null,null,null,null,null,null,null,null,null,null,null,null,5,"Spieler 05","-","Spieler 12",null,null,1,5,5,12,"","","$O$33","$H$40",5,"Spieler 04","-","Spieler 11",null,null,2,5,4,11,"","","$N$32","$G$39",5,"Spieler 05","-",{"$f":"CY11","v":"Spieler 12"},null,5,"Spieler 04","-",{"$f":"DM11","v":"Spieler 11"}]
[null,"","Spieler 06","","","","","","","","","","","","","","","","",0,0,0,0,0,0,0,6,null,null,null,null,null,null,null,null,null,null,null,null,null,null,null,null,null,null,null,null,null,null,null,null,null,null,null,null,null,null,null,null,null,null,null,null,null,null,null,null,null,null,null,null,null,null,null,null,null,null,null,null,null,null,null,10,"1) Punkte 2) Anz. Partien 3) Anz.Schwarzpartien 4) direkte Begegnung 5) So-Be 6) Manuelle Feinwertung ",null,null,null,null,null,null,null,null,null,null,null,null,null,null,null,6,"Spieler 11","-","Spieler 06",null,null,1,6,11,6,"","","$I$39","$N$34",6,"Spieler 10","-","Spieler 05",null,null,2,6,10,5,"","","$H$38","$M$33",6,{"$f":"CY12","v":"Spieler 06"},"-",{"$f":"CW12","v":"Spieler 11"},null,6,{"$f":"DM12","v":"Spieler 05"},"-",{"$f":"DK12","v":"Spieler 10"}]
[null,"","Spieler 07","","","","","","","","","","","","","","","","",0,0,0,0,0,0,0,7,null,null,null,null,null,null,null,null,null,null,null,null,null,null,null,null,null,null,null,null,null,null,null,null,null,null,null,null,null,null,null,null,null,null,null,null,null,null,null,null,null,null,null,null,null,null,null,null,null,null,null,null,null,null,null,null,null,null,null,null,null,null,null,null,null,null,null,null,null,null,null,null,7,"Spieler 07","-","Spieler 10",null,null,1,7,7,10,"","",{"$f":"ADDRESS(ROW(Teilnehmer)+DD13,COLUMN(Teilnehmer)+DE13)","v":"$M$35"},{"$f":"ADDRESS(ROW(Teilnehmer)+DE13,COLUMN(Teilnehmer)+DD13)","v":"$J$38"},7,"Spieler 06","-","Spieler 09",null,null,2,7,6,9,"","",{"$f":"ADDRESS(ROW(Teilnehmer)+DR13,COLUMN(Teilnehmer)+DS13)","v":"$L$34"},{"$f":"ADDRESS(ROW(Teilnehmer)+DS13,COLUMN(Teilnehmer)+DR13)","v":"$I$37"},7,"Spieler 07","-",{"$f":"CY13","v":"Spieler 10"},null,7,"Spieler 06","-",{"$f":"DM13","v":"Spieler 09"}]
[null,"","Spieler 08","","","","","","","","","","","","","","","","",0,0,0,0,0,0,0,8,null,null,null,null,null,null,null,null,null,null,null,null,null,null,null,null,null,null,null,null,null,null,null,null,null,null,null,null,null,null,null,null,null,null,null,null,null,null,null,null,null,null,null,null,null,null,null,null,null,null,null,null,null,null,null,null,null,null,null,null,null,null,null,null,null,null,null,null,null,null,null,null,8,"Spieler 09","-","Spieler 08",null,null,1,8,9,8,"","","$K$37","$L$36",8,"Spieler 08","-","Spieler 07",null,null,2,8,8,7,"","","$J$36","$K$35",8,{"$f":"CY14","v":"Spieler 08"},"-",{"$f":"CW14","v":"Spieler 09"},null,8,{"$f":"DM14","v":"Spieler 07"},"-",{"$f":"DK14","v":"Spieler 08"}]
[null,"","Spieler 09","","","","","","","","","","","","","","","","",0,0,0,0,0,0,0,9]
[null,"","Spieler 10","","","","","","","","","","","","","","","","",0,0,0,0,0,0,0,10,null,null,null,null,null,null,null,null,null,null,null,null,null,null,null,null,null,null,null,null,null,null,null,null,null,null,null,null,null,null,null,null,null,null,null,null,null,null,null,null,null,null,null,null,null,null,null,null,null,null,null,null,null,null,null,null,null,null,null,null,null,null,null,null,null,null,null,null,null,null,null,null,null,{"$f":"CW6+2","v":3},null,null,null,null,"R","B","SpNr w","SpNr s","Res w","Res s",null,null,null,{"$f":"DK6+2","v":4},null,null,null,null,"R","B","SpNr w","SpNr s","Res w","Res s",null,null,null,{"$f":"CW16","v":3},1,null,null,null,{"$f":"DK16","v":4}]
[null,"","Spieler 11",{"$f":"IF(INDEX($B$28:$S$44,MATCH($AA17,$B$28:$B$44,0),MATCH(INDEX($B$29:$B$44,MATCH(OFFSET($AA$6,D$6,0),$B$29:$B$44,0)),$B$28:$S$28,0))=\"\",\"\",INDEX($B$28:$S$44,MATCH($AA17,$B$28:$B$44,0),MATCH(INDEX($B$29:$B$44,MATCH(OFFSET($AA$6,D$6,0),$B$29:$B$44,0)),$B$28:$S$28,0)))","v":""},"","","","","","","","","","","","","","","",0,0,0,0,0,0,0,11,null,null,null,null,null,null,null,null,null,null,null,null,null,null,null,null,null,null,null,null,null,null,null,null,null,null,null,null,null,null,null,null,null,null,null,null,null,null,null,null,null,null,null,null,null,null,null,null,null,null,null,null,null,null,null,null,null,null,null,null,null,null,null,null,null,null,null,null,null,null,null,null,{"$f":"IF(OR(INDEX($CQ$29:$CQ$44,DD17),INDEX($CQ$29:$CQ$44,DE17)),0,1)","v":1},{"$f":"INDEX($CR$29:$CR$44,MATCH($DD17,TeilnNr,0))","v":"Spieler 14"},"-",{"$f":"INDEX($CR$29:$CR$44,MATCH($DE17,TeilnNr,0))","v":"Spieler 16"},null,null,{"$f":"CW16","v":3},1,{"$f":"IF(AND(DC17=1,MOD(DB17,2)=0),MAX(TeilnNr),IF(MOD(DC17,2)=0,IF(MAX(TeilnNr)/2-DC17+1-(DB17-MAX(TeilnNr)/2-1)>=1,MAX(TeilnNr)/2-DC17+1-(DB17-MAX(TeilnNr)/2-1),MAX(TeilnNr)/2-DC17+1-(DB17-MAX(TeilnNr)/2-1)+MAX(TeilnNr)-1),IF(DC17-(DB17-1)>=1,DC17-(DB17-1),DC17-(DB17-1)+MAX(TeilnNr)-1)))","v":14},{"$f":"IF(AND(DC17=1,MOD(DB17,2)<>0),MAX(TeilnNr),IF(MOD(DC17,2)<>0,IF(MAX(TeilnNr)/2-DC17+1-(DB17-MAX(TeilnNr)/2-1)>=1,MAX(TeilnNr)/2-DC17+1-(DB17-MAX(TeilnNr)/2-1),MAX(TeilnNr)/2-DC17+1-(DB17-MAX(TeilnNr)/2-1)+MAX(TeilnNr)-1),IF(DC17-(DB17-1)>=1,DC17-(DB17-1),DC17-(DB17-1)+MAX(TeilnNr)-1)))","v":16},{"$f":"IF(LEFT(DA17,1)=\"V\",\"\",LEFT(DA17,1))","v":""},{"$f":"IF(RIGHT(DA17,1)=\"V\",\"\",RIGHT(DA17,1))","v":""},{"$f":"ADDRESS(ROW(Teilnehmer)+DD17,COLUMN(Teilnehmer)+DE17)","v":"$S$42"},{"$f":"ADDRESS(ROW(Teilnehmer)+DE17,COLUMN(Teilnehmer)+DD17)","v":"$Q$44"},{"$f":"IF(OR(INDEX($CQ$29:$CQ$44,DR17),INDEX($CQ$29:$CQ$44,DS17)),0,1)","v":1},{"$f":"INDEX($CR$29:$CR$44,MATCH($DR17,TeilnNr,0))","v":"Spieler 16"},"-",{"$f":"INDEX($CR$29:$CR$44,MATCH($DS17,TeilnNr,0))","v":"Spieler 13"},null,null,{"$f":"DK16","v":4},1,{"$f":"IF(AND(DQ17=1,MOD(DP17,2)=0),MAX(TeilnNr),IF(MOD(DQ17,2)=0,IF(MAX(TeilnNr)/2-DQ17+1-(DP17-MAX(TeilnNr)/2-1)>=1,MAX(TeilnNr)/2-DQ17+1-(DP17-MAX(TeilnNr)/2-1),MAX(TeilnNr)/2-DQ17+1-(DP17-MAX(TeilnNr)/2-1)+MAX(TeilnNr)-1),IF(DQ17-(DP17-1)>=1,DQ17-(DP17-1),DQ17-(DP17-1)+MAX(TeilnNr)-1)))","v":16},{"$f":"IF(AND(DQ17=1,MOD(DP17,2)<>0),MAX(TeilnNr),IF(MOD(DQ17,2)<>0,IF(MAX(TeilnNr)/2-DQ17+1-(DP17-MAX(TeilnNr)/2-1)>=1,MAX(TeilnNr)/2-DQ17+1-(DP17-MAX(TeilnNr)/2-1),MAX(TeilnNr)/2-DQ17+1-(DP17-MAX(TeilnNr)/2-1)+MAX(TeilnNr)-1),IF(DQ17-(DP17-1)>=1,DQ17-(DP17-1),DQ17-(DP17-1)+MAX(TeilnNr)-1)))","v":13},{"$f":"IF(LEFT(DO17,1)=\"V\",\"\",LEFT(DO17,1))","v":""},{"$f":"IF(RIGHT(DO17,1)=\"V\",\"\",RIGHT(DO17,1))","v":""},{"$f":"ADDRESS(ROW(Teilnehmer)+DR17,COLUMN(Teilnehmer)+DS17)","v":"$P$44"},{"$f":"ADDRESS(ROW(Teilnehmer)+DS17,COLUMN(Teilnehmer)+DR17)","v":"$S$41"},{"$f":"CV17","v":1},"Spieler 14","-",{"$f":"CY17","v":"Spieler 16"},null,{"$f":"DJ17","v":1},{"$f":"DM17","v":"Spieler 13"},"-",{"$f":"DK17","v":"Spieler 16"}]
[null,"","Spieler 12","","","","","","","","","","","","","","","","",0,0,0,0,0,0,0,12,null,null,null,null,null,null,null,null,null,null,null,null,null,null,null,null,null,null,null,null,null,null,null,null,null,null,null,null,null,null,null,null,null,null,null,null,null,null,null,null,null,null,null,null,null,null,null,null,null,null,null,null,null,null,null,null,null,null,null,null,null,null,null,null,null,null,null,null,null,null,null,null,{"$f":"CV17+1","v":2},"Spieler 13","-","Spieler 15",null,null,{"$f":"DB17","v":3},{"$f":"DC17+1","v":2},13,15,"","","$R$41","$P$43",{"$f":"DJ17+1","v":2},"Spieler 12","-","Spieler 14",null,null,{"$f":"DP17","v":4},{"$f":"DQ17+1","v":2},12,14,"","","$Q$40","$O$42",{"$f":"CV18","v":2},{"$f":"CY18","v":"Spieler 15"},"-",{"$f":"CW18","v":"Spieler 13"},null,2,"Spieler 14","-","Spieler 12"]
[null,"","Spieler 13","","","","","","","","","","","","","","","","",0,0,0,0,0,0,0,13,null,null,null,null,null,null,null,null,null,null,null,null,null,null,null,null,null,null,null,null,null,null,null,null,null,null,null,null,null,null,null,null,null,null,null,null,null,null,null,null,null,null,null,null,null,null,null,null,null,null,null,null,null,null,null,null,null,null,null,null,null,null,null,null,null,null,null,null,null,null,null,null,{"$f":"CV18+1","v":3},"Spieler 01","-","Spieler 12",null,null,{"$f":"DB18","v":3},{"$f":"DC18+1","v":3},1,12,"","","$O$29","$D$40",{"$f":"DJ18+1","v":3},"Spieler 15","-","Spieler 11",null,null,{"$f":"DP18","v":4},{"$f":"DQ18+1","v":3},15,11,"","","$N$43","$R$39",3,"Spieler 01","-",{"$f":"CY19","v":"Spieler 12"},null,3,"Spieler 15","-",{"$f":"DM19","v":"Spieler 11"}]
[null,"","Spieler 14","","","","","","","","","","","","","","","","",0,0,0,0,0,0,0,14,null,null,null,null,null,null,null,null,null,null,null,null,null,null,null,null,null,null,null,null,null,null,null,null,null,null,null,null,null,null,null,null,null,null,null,null,null,null,null,null,null,null,null,null,null,null,null,null,null,null,null,null,null,null,null,null,null,null,null,null,null,null,null,null,null,null,null,null,null,null,null,null,4,"Spieler 11","-","Spieler 02",null,null,{"$f":"DB19","v":3},4,11,2,"","","$E$39","$N$30",4,"Spieler 10","-","Spieler 01",null,null,{"$f":"DP19","v":4},4,10,1,"","","$D$38","$M$29",4,{"$f":"CY20","v":"Spieler 02"},"-",{"$f":"CW20","v":"Spieler 11"},null,4,{"$f":"DM20","v":"Spieler 01"},"-",{"$f":"DK20","v":"Spieler 10"}]
[null,"","Spieler 15","","","","","","","","","","","","","","","","",0,0,0,0,0,0,0,15,null,null,null,null,null,null,null,null,null,null,null,null,null,null,null,null,null,null,null,null,null,null,null,null,null,null,null,null,null,null,null,null,null,null,null,null,null,null,null,null,null,null,null,null,null,null,null,null,null,null,null,null,null,null,null,null,null,null,null,null,null,null,null,null,null,null,null,null,null,null,null,null,5,"Spieler 03","-","Spieler 10",null,null,3,5,3,10,"","","$M$31","$F$38",5,"Spieler 02","-","Spieler 09",null,null,4,5,2,9,"","","$L$30","$E$37",5,"Spieler 03","-",{"$f":"CY21","v":"Spieler 10"},null,5,"Spieler 02","-",{"$f":"DM21","v":"Spieler 09"}]
[null,"","Spieler 16","","","","","","","","","","","","","","","","",0,0,0,0,0,0,0,16,null,null,null,null,null,null,null,null,null,null,null,null,null,null,null,null,null,null,null,null,null,null,null,null,null,null,null,null,null,null,null,null,null,null,null,null,null,null,null,null,null,null,null,null,null,null,null,null,null,null,null,null,null,null,null,null,null,null,null,null,null,null,null,null,null,null,null,null,null,null,null,null,6,"Spieler 09","-","Spieler 04",null,null,3,6,9,4,"","","$G$37","$L$32",6,"Spieler 08","-","Spieler 03",null,null,4,6,8,3,"","","$F$36","$K$31",6,{"$f":"CY22","v":"Spieler 04"},"-",{"$f":"CW22","v":"Spieler 09"},null,6,{"$f":"DM22","v":"Spieler 03"},"-",{"$f":"DK22","v":"Spieler 08"}]
[null,"Wertungskriterien:",null,null,null,null,null,null,null,null,null,null,null,null,null,null,null,null,null,null,null,null,null,null,null,null,null,null,null,null,null,null,null,null,null,null,null,null,null,null,null,null,null,null,null,null,null,null,null,null,null,null,null,null,null,null,null,null,null,null,null,null,null,null,null,null,null,null,null,null,null,null,null,null,null,null,null,null,null,null,null,null,null,null,null,null,null,null,null,null,null,null,null,null,null,null,null,null,null,7,"Spieler 05","-","Spieler 08",null,null,3,7,5,8,"","",{"$f":"ADDRESS(ROW(Teilnehmer)+DD23,COLUMN(Teilnehmer)+DE23)","v":"$K$33"},{"$f":"ADDRESS(ROW(Teilnehmer)+DE23,COLUMN(Teilnehmer)+DD23)","v":"$H$36"},7,"Spieler 04","-","Spieler 07",null,null,4,7,4,7,"","",{"$f":"ADDRESS(ROW(Teilnehmer)+DR23,COLUMN(Teilnehmer)+DS23)","v":"$J$32"},{"$f":"ADDRESS(ROW(Teilnehmer)+DS23,COLUMN(Teilnehmer)+DR23)","v":"$G$35"},7,"Spieler 05","-",{"$f":"CY23","v":"Spieler 08"},null,7,"Spieler 04","-",{"$f":"DM23","v":"Spieler 07"}]
[null,{"$f":"INDEX(Wertungskriterien,WertungskriterienA)","v":"1) Punkte 2) Anz. Partien 3) So-Be 4) direkte Begegnung 5) Manuelle Feinwertung "},null,null,null,null,null,null,null,null,null,null,null,null,null,null,null,null,null,null,null,null,null,null,null,null,null,null,null,null,null,null,null,null,null,null,null,null,null,null,null,null,null,null,null,null,null,null,null,null,null,null,null,null,null,null,null,null,null,null,null,null,null,null,null,null,null,null,null,null,null,null,null,null,null,null,null,null,null,null,null,null,null,null,null,null,null,null,null,null,null,null,null,null,null,null,null,null,null,8,"Spieler 07","-","Spieler 06",null,null,3,8,7,6,"","","$I$35","$J$34",8,"Spieler 06","-","Spieler 05",null,null,4,8,6,5,"","","$H$34","$I$33",8,{"$f":"CY24","v":"Spieler 06"},"-",{"$f":"CW24","v":"Spieler 07"},null,8,{"$f":"DM24","v":"Spieler 05"},"-",{"$f":"DK24","v":"Spieler 06"}]
[]
[null,"+",null,null,null,null,null,null,null,null,null,null,null,null,null,null,null,null,null,null,null,null,{"$f":"IF(EinAusblenden=\"-\",\"\",IF(FWPlusMinus=\"+\",\"é\",\"ê\"))","v":"é"},null,null,null,null,null,null,null,null,null,null,null,null,null,null,null,null,null,null,null,null,null,null,null,null,null,null,null,null,null,null,null,null,null,null,null,null,null,null,null,null,null,null,null,null,null,null,null,null,null,null,null,null,null,null,null,null,null,null,null,null,null,null,null,null,null,null,null,null,null,null,null,null,null,null,null,null,null,{"$f":"CW16+2","v":5},null,null,null,null,"R","B","SpNr w","SpNr s","Res w","Res s",null,null,null,{"$f":"DK16+2","v":6},null,null,null,null,"R","B","SpNr w","SpNr s","Res w","Res s",null,null,null,{"$f":"CW26","v":5},1,null,null,null,{"$f":"DK26","v":6}]
[null,"Turniertabelle",null,null,null,null,null,null,null,null,null,null,null,null,null,null,null,null,null,null,null,"manuelle Feinwertung: ","+","Partien",null,null,null,"Punkte",null,null,null,null,null,null,null,null,null,null,null,null,null,null,null,null,null,"Sonneborn-Berger-Berechnung",null,null,null,null,null,null,null,null,null,null,null,null,null,null,null,null,null,{"$f":"MAX(BL29:BL44)","v":0},null,null,null,null,{"$f":"FWPlusMinus=\"+\"","v":true},"Summierung Wertungskriterien vor direkter Begegnung",null,null,null,null,null,null,null,null,null,null,null,null,"Summierung Wertungskriterien nach direkter Begegnung",null,null,null,null,null,null,null,null,null,null,null,null,null,null,null,null,{"$f":"IF(OR(INDEX($CQ$29:$CQ$44,DD27),INDEX($CQ$29:$CQ$44,DE27)),0,1)","v":1},{"$f":"INDEX($CR$29:$CR$44,MATCH($DD27,TeilnNr,0))","v":"Spieler 12"},"-",{"$f":"INDEX($CR$29:$CR$44,MATCH($DE27,TeilnNr,0))","v":"Spieler 16"},null,null,{"$f":"CW26","v":5},1,{"$f":"IF(AND(DC27=1,MOD(DB27,2)=0),MAX(TeilnNr),IF(MOD(DC27,2)=0,IF(MAX(TeilnNr)/2-DC27+1-(DB27-MAX(TeilnNr)/2-1)>=1,MAX(TeilnNr)/2-DC27+1-(DB27-MAX(TeilnNr)/2-1),MAX(TeilnNr)/2-DC27+1-(DB27-MAX(TeilnNr)/2-1)+MAX(TeilnNr)-1),IF(DC27-(DB27-1)>=1,DC27-(DB27-1),DC27-(DB27-1)+MAX(TeilnNr)-1)))","v":12},{"$f":"IF(AND(DC27=1,MOD(DB27,2)<>0),MAX(TeilnNr),IF(MOD(DC27,2)<>0,IF(MAX(TeilnNr)/2-DC27+1-(DB27-MAX(TeilnNr)/2-1)>=1,MAX(TeilnNr)/2-DC27+1-(DB27-MAX(TeilnNr)/2-1),MAX(TeilnNr)/2-DC27+1-(DB27-MAX(TeilnNr)/2-1)+MAX(TeilnNr)-1),IF(DC27-(DB27-1)>=1,DC27-(DB27-1),DC27-(DB27-1)+MAX(TeilnNr)-1)))","v":16},{"$f":"IF(LEFT(DA27,1)=\"V\",\"\",LEFT(DA27,1))","v":""},{"$f":"IF(RIGHT(DA27,1)=\"V\",\"\",RIGHT(DA27,1))","v":""},{"$f":"ADDRESS(ROW(Teilnehmer)+DD27,COLUMN(Teilnehmer)+DE27)","v":"$S$40"},{"$f":"ADDRESS(ROW(Teilnehmer)+DE27,COLUMN(Teilnehmer)+DD27)","v":"$O$44"},{"$f":"IF(OR(INDEX($CQ$29:$CQ$44,DR27),INDEX($CQ$29:$CQ$44,DS27)),0,1)","v":1},{"$f":"INDEX($CR$29:$CR$44,MATCH($DR27,TeilnNr,0))","v":"Spieler 16"},"-",{"$f":"INDEX($CR$29:$CR$44,MATCH($DS27,TeilnNr,0))","v":"Spieler 11"},null,null,{"$f":"DK26","v":6},1,{"$f":"IF(AND(DQ27=1,MOD(DP27,2)=0),MAX(TeilnNr),IF(MOD(DQ27,2)=0,IF(MAX(TeilnNr)/2-DQ27+1-(DP27-MAX(TeilnNr)/2-1)>=1,MAX(TeilnNr)/2-DQ27+1-(DP27-MAX(TeilnNr)/2-1),MAX(TeilnNr)/2-DQ27+1-(DP27-MAX(TeilnNr)/2-1)+MAX(TeilnNr)-1),IF(DQ27-(DP27-1)>=1,DQ27-(DP27-1),DQ27-(DP27-1)+MAX(TeilnNr)-1)))","v":16},{"$f":"IF(AND(DQ27=1,MOD(DP27,2)<>0),MAX(TeilnNr),IF(MOD(DQ27,2)<>0,IF(MAX(TeilnNr)/2-DQ27+1-(DP27-MAX(TeilnNr)/2-1)>=1,MAX(TeilnNr)/2-DQ27+1-(DP27-MAX(TeilnNr)/2-1),MAX(TeilnNr)/2-DQ27+1-(DP27-MAX(TeilnNr)/2-1)+MAX(TeilnNr)-1),IF(DQ27-(DP27-1)>=1,DQ27-(DP27-1),DQ27-(DP27-1)+MAX(TeilnNr)-1)))","v":11},{"$f":"IF(LEFT(DO27,1)=\"V\",\"\",LEFT(DO27,1))","v":""},{"$f":"IF(RIGHT(DO27,1)=\"V\",\"\",RIGHT(DO27,1))","v":""},{"$f":"ADDRESS(ROW(Teilnehmer)+DR27,COLUMN(Teilnehmer)+DS27)","v":"$N$44"},{"$f":"ADDRESS(ROW(Teilnehmer)+DS27,COLUMN(Teilnehmer)+DR27)","v":"$S$39"},{"$f":"CV27","v":1},"Spieler 12","-",{"$f":"CY27","v":"Spieler 16"},null,{"$f":"DJ27","v":1},{"$f":"DM27","v":"Spieler 11"},"-",{"$f":"DK27","v":"Spieler 16"}]
[null,"Nr.","Teilnehmer",1,2,3,4,5,6,7,8,9,10,11,12,13,14,15,16,"Punkte","Spiele","So-Be","FW+","weiss","schw.","Rang",null,1,2,3,4,5,6,7,8,9,10,11,12,13,14,15,16,"P",null,1,2,3,4,5,6,7,8,9,10,11,12,13,14,15,16,"So-Be",null,{"$f":"IF(W28=\"\",\"FW2\",W28)","v":"FW+"},"Rang\nPunkte","Rang\nPartien","Rang\nSo-Be","Rang\nschwrz","Rang\nFW?","Wertung 1","Wertung 2","Wertung 3","Wertung 4","Wertung 5","Wertung 6","Wertung 7","Wertung 8","Wertung 9","Wertung 10","Wertung","direkte Begegnung","Rang\ndir.Begegn.","Wertung 1","Wertung 2","Wertung 3","Wertung 4","Wertung 5","Wertung 6","Wertung 7","Wertung 8","Wertung 9","Wertung 10","Wertung2","Rang","Platz-halter?","Name","Alphabet","Rang & Alphabet","Reihen-folge",{"$f":"CV27+1","v":2},"Spieler 11","-","Spieler 13",null,null,{"$f":"DB27","v":5},{"$f":"DC27+1","v":2},11,13,"","",{"$f":"ADDRESS(ROW(Teilnehmer)+DD28,COLUMN(Teilnehmer)+DE28)","v":"$P$39"},{"$f":"ADDRESS(ROW(Teilnehmer)+DE28,COLUMN(Teilnehmer)+DD28)","v":"$N$41"},{"$f":"DJ27+1","v":2},"Spieler 10","-","Spieler 12",null,null,{"$f":"DP27","v":6},{"$f":"DQ27+1","v":2},10,12,"","",{"$f":"ADDRESS(ROW(Teilnehmer)+DR28,COLUMN(Teilnehmer)+DS28)","v":"$O$38"},{"$f":"ADDRESS(ROW(Teilnehmer)+DS28,COLUMN(Teilnehmer)+DR28)","v":"$M$40"},{"$f":"CV28","v":2},{"$f":"CY28","v":"Spieler 13"},"-",{"$f":"CW28","v":"Spieler 11"},null,2,"Spieler 12","-","Spieler 10"]
[null,1,null,{"$f":"IF(ISNA(MATCH(ADDRESS(ROW(),COLUMN()),$DH:$DH,0)),\"\",INDEX($DF:$DF,MATCH(ADDRESS(ROW(),COLUMN()),$DH:$DH,0)))&IF(ISNA(MATCH(ADDRESS(ROW(),COLUMN()),$DI:$DI,0)),\"\",INDEX($DG:$DG,MATCH(ADDRESS(ROW(),COLUMN()),$DI:$DI,0)))&IF(ISNA(MATCH(ADDRESS(ROW(),COLUMN()),$DV:$DV,0)),\"\",INDEX($DT:$DT,MATCH(ADDRESS(ROW(),COLUMN()),$DV:$DV,0)))&IF(ISNA(MATCH(ADDRESS(ROW(),COLUMN()),$DW:$DW,0)),\"\",INDEX($DU:$DU,MATCH(ADDRESS(ROW(),COLUMN()),$DW:$DW,0)))","v":""},"","","","","","","","","","","","","","","",{"$f":"AR29","v":0},{"$f":"MAX($B$29:$B$44)-COUNTIF(D29:S29,\"\")","v":0},{"$f":"BJ29","v":0},null,{"$f":"IF($CQ29,0,COUNTIFS($DD:$DD,$B29,$DA:$DA,\"<>\")+COUNTIFS($DR:$DR,$B29,$DO:$DO,\"<>\"))","v":0},{"$f":"IF($CQ29,0,COUNTIFS($DE:$DE,$B29,$DA:$DA,\"<>\")+COUNTIFS($DS:$DS,$B29,$DO:$DO,\"<>\"))","v":0},{"$f":"CP29","v":1},null,{"$f":"IF(D29=\"\",0,VLOOKUP(D29,Wertung,3,FALSE))","v":0},{"$f":"IF(E29=\"\",0,VLOOKUP(E29,Wertung,3,FALSE))","v":0},{"$f":"IF(F29=\"\",0,VLOOKUP(F29,Wertung,3,FALSE))","v":0},{"$f":"IF(G29=\"\",0,VLOOKUP(G29,Wertung,3,FALSE))","v":0},{"$f":"IF(H29=\"\",0,VLOOKUP(H29,Wertung,3,FALSE))","v":0},{"$f":"IF(I29=\"\",0,VLOOKUP(I29,Wertung,3,FALSE))","v":0},{"$f":"IF(J29=\"\",0,VLOOKUP(J29,Wertung,3,FALSE))","v":0},{"$f":"IF(K29=\"\",0,VLOOKUP(K29,Wertung,3,FALSE))","v":0},{"$f":"IF(L29=\"\",0,VLOOKUP(L29,Wertung,3,FALSE))","v":0},{"$f":"IF(M29=\"\",0,VLOOKUP(M29,Wertung,3,FALSE))","v":0},{"$f":"IF(N29=\"\",0,VLOOKUP(N29,Wertung,3,FALSE))","v":0},{"$f":"IF(O29=\"\",0,VLOOKUP(O29,Wertung,3,FALSE))","v":0},{"$f":"IF(P29=\"\",0,VLOOKUP(P29,Wertung,3,FALSE))","v":0},{"$f":"IF(Q29=\"\",0,VLOOKUP(Q29,Wertung,3,FALSE))","v":0},{"$f":"IF(R29=\"\",0,VLOOKUP(R29,Wertung,3,FALSE))","v":0},{"$f":"IF(S29=\"\",0,VLOOKUP(S29,Wertung,3,FALSE))","v":0},{"$f":"SUM(AB29:AQ29)","v":0},null,{"$f":"AB29*INDEX($AR:$AR,ROW($AT$28)+AB$28)","v":0},{"$f":"AC29*INDEX($AR:$AR,ROW($AT$28)+AC$28)","v":0},{"$f":"AD29*INDEX($AR:$AR,ROW($AT$28)+AD$28)","v":0},{"$f":"AE29*INDEX($AR:$AR,ROW($AT$28)+AE$28)","v":0},{"$f":"AF29*INDEX($AR:$AR,ROW($AT$28)+AF$28)","v":0},{"$f":"AG29*INDEX($AR:$AR,ROW($AT$28)+AG$28)","v":0},{"$f":"AH29*INDEX($AR:$AR,ROW($AT$28)+AH$28)","v":0},{"$f":"AI29*INDEX($AR:$AR,ROW($AT$28)+AI$28)","v":0},{"$f":"AJ29*INDEX($AR:$AR,ROW($AT$28)+AJ$28)","v":0},{"$f":"AK29*INDEX($AR:$AR,ROW($AT$28)+AK$28)","v":0},{"$f":"AL29*INDEX($AR:$AR,ROW($AT$28)+AL$28)","v":0},{"$f":"AM29*INDEX($AR:$AR,ROW($AT$28)+AM$28)","v":0},{"$f":"AN29*INDEX($AR:$AR,ROW($AT$28)+AN$28)","v":0},{"$f":"AO29*INDEX($AR:$AR,ROW($AT$28)+AO$28)","v":0},{"$f":"AP29*INDEX($AR:$AR,ROW($AT$28)+AP$28)","v":0},{"$f":"AQ29*INDEX($AR:$AR,ROW($AT$28)+AQ$28)","v":0},{"$f":"SUM(AT29:BI29)","v":0},null,{"$f":"W29","v":0},{"$f":"RANK($AR29,$AR$29:$AR$44,0)","v":1},{"$f":"RANK($U29,$U$29:$U$44,1)","v":1},{"$f":"RANK($BJ29,$BJ$29:$BJ$44,0)","v":1},{"$f":"RANK($Y29,$Y$29:$Y$44,0)","v":1},{"$f":"RANK($BL29,$BL$29:$BL$44,IF($BQ$27,0,1))","v":1},{"$f":"VALUE(CONCATENATE(IF($CQ29,\"1\",\"0\"),TEXT($BM29,\"00\"),TEXT($BO29,\"00\"),TEXT($BQ29,\"00\")))","v":10101},{"$f":"VALUE(CONCATENATE(IF($CQ29,\"1\",\"0\"),TEXT($BM29,\"00\"),TEXT($BO29,\"00\")))","v":101},{"$f":"VALUE(CONCATENATE(IF($CQ29,\"1\",\"0\"),TEXT($BM29,\"00\"),TEXT($BN29,\"00\"),TEXT($BO29,\"00\"),TEXT($BQ29,\"00\")))","v":1010101},{"$f":"VALUE(CONCATENATE(IF($CQ29,\"1\",\"0\"),TEXT($BM29,\"00\"),TEXT($BN29,\"00\"),TEXT($BO29,\"00\")))","v":10101},{"$f":"VALUE(CONCATENATE(IF($CQ29,\"1\",\"0\"),TEXT($BM29,\"00\"),TEXT($BN29,\"00\"),TEXT($BO29,\"00\")))","v":10101},{"$f":"VALUE(CONCATENATE(IF($CQ29,\"1\",\"0\"),TEXT($BM29,\"00\"),TEXT($BN29,\"00\"),TEXT($BO29,\"00\"),TEXT($BP29,\"00\")))","v":1010101},{"$f":"VALUE(CONCATENATE(IF($CQ29,\"1\",\"0\"),TEXT($BM29,\"00\"),TEXT($BN29,\"00\")))","v":101},{"$f":"VALUE(CONCATENATE(IF($CQ29,\"1\",\"0\"),TEXT($BM29,\"00\"),TEXT($BN29,\"00\")))","v":101},{"$f":"VALUE(CONCATENATE(IF($CQ29,\"1\",\"0\"),TEXT($BM29,\"00\"),TEXT($BN29,\"00\"),TEXT($BP29,\"00\"),TEXT($BO29,\"00\")))","v":1010101},{"$f":"VALUE(CONCATENATE(IF($CQ29,\"1\",\"0\"),TEXT($BM29,\"00\"),TEXT($BN29,\"00\"),TEXT($BP29,\"00\")))","v":10101},{"$f":"INDEX($BR29:$CA29,1,WertungskriterienA)","v":10101},{"$f":"SUM((TRANSPOSE($CB$29:$CB$44)=CB29)*$AB29:$AQ29)","v":0},{"$f":"RANK($CC29,$CC$29:$CC$44,0)","v":1},{"$f":"$CB29","v":10101},{"$f":"VALUE(CONCATENATE($CB29,TEXT($CD29,\"00\"),TEXT($BQ29,\"00\")))","v":101010101},{"$f":"$CB29","v":10101},{"$f":"VALUE(CONCATENATE($CB29,TEXT($CD29,\"00\"),TEXT($BQ29,\"00\")))","v":101010101},{"$f":"VALUE(CONCATENATE($CB29,TEXT($CD29,\"00\"),TEXT($BP29,\"00\"),TEXT($BQ29,\"00\")))","v":10101010101},{"$f":"VALUE(CONCATENATE($CB29,TEXT($CD29,\"00\"),TEXT($BQ29,\"00\")))","v":101010101},{"$f":"VALUE(CONCATENATE($CB29,TEXT($CD29,\"00\"),TEXT($BO29,\"00\"),TEXT($BP29,\"00\"),TEXT($BQ29,\"00\")))","v":1010101010101},{"$f":"VALUE(CONCATENATE($CB29,TEXT($CD29,\"00\"),TEXT($BP29,\"00\"),TEXT($BO29,\"00\"),TEXT($BQ29,\"00\")))","v":1010101010101},{"$f":"VALUE(CONCATENATE($CB29,TEXT($CD29,\"00\"),TEXT($BQ29,\"00\")))","v":101010101},{"$f":"VALUE(CONCATENATE($CB29,TEXT($CD29,\"00\"),TEXT($BO29,\"00\"),TEXT($BQ29,\"00\")))","v":10101010101},{"$f":"INDEX(CE29:CN29,1,WertungskriterienA)","v":101010101},{"$f":"RANK(CO29,$CO$29:$CO$44,1)","v":1},{"$f":"IF($C29=\"\",FALSE,AND(LEN($C29)=1,OR(CODE($C29)<65,CODE($C29)>122,AND(CODE($C29)>90,CODE($C29)<97)),NOT(AND(CODE($C29)>48,CODE($C29)<58))))","v":false},{"$f":"IF(CQ29,$C29,IF($C29=\"\",\"Spieler \"&TEXT($B29,\"00\"),$C29))","v":"Spieler 01"},{"$f":"IF(CQ29,MAX(TeilnNr),0)+SUMPRODUCT((CR29>$CR$29:$CR$44)*1)","v":0},{"$f":"CP29+CS29/1000+B29/1000000","v":1.0000009999999999},{"$f":"RANK(CT29,$CT$29:$CT$44,1)","v":1},{"$f":"CV28+1","v":3},"Spieler 14","-","Spieler 10",null,null,{"$f":"DB28","v":5},{"$f":"DC28+1","v":3},{"$f":"IF(AND(DC29=1,MOD(DB29,2)=0),MAX(TeilnNr),IF(MOD(DC29,2)=0,IF(MAX(TeilnNr)/2-DC29+1-(DB29-MAX(TeilnNr)/2-1)>=1,MAX(TeilnNr)/2-DC29+1-(DB29-MAX(TeilnNr)/2-1),MAX(TeilnNr)/2-DC29+1-(DB29-MAX(TeilnNr)/2-1)+MAX(TeilnNr)-1),IF(DC29-(DB29-1)>=1,DC29-(DB29-1),DC29-(DB29-1)+MAX(TeilnNr)-1)))","v":14},{"$f":"IF(AND(DC29=1,MOD(DB29,2)<>0),MAX(TeilnNr),IF(MOD(DC29,2)<>0,IF(MAX(TeilnNr)/2-DC29+1-(DB29-MAX(TeilnNr)/2-1)>=1,MAX(TeilnNr)/2-DC29+1-(DB29-MAX(TeilnNr)/2-1),MAX(TeilnNr)/2-DC29+1-(DB29-MAX(TeilnNr)/2-1)+MAX(TeilnNr)-1),IF(DC29-(DB29-1)>=1,DC29-(DB29-1),DC29-(DB29-1)+MAX(TeilnNr)-1)))","v":10},"","",{"$f":"ADDRESS(ROW(Teilnehmer)+DD29,COLUMN(Teilnehmer)+DE29)","v":"$M$42"},{"$f":"ADDRESS(ROW(Teilnehmer)+DE29,COLUMN(Teilnehmer)+DD29)","v":"$Q$38"},{"$f":"DJ28+1","v":3},"Spieler 13","-","Spieler 09",null,null,{"$f":"DP28","v":6},{"$f":"DQ28+1","v":3},{"$f":"IF(AND(DQ29=1,MOD(DP29,2)=0),MAX(TeilnNr),IF(MOD(DQ29,2)=0,IF(MAX(TeilnNr)/2-DQ29+1-(DP29-MAX(TeilnNr)/2-1)>=1,MAX(TeilnNr)/2-DQ29+1-(DP29-MAX(TeilnNr)/2-1),MAX(TeilnNr)/2-DQ29+1-(DP29-MAX(TeilnNr)/2-1)+MAX(TeilnNr)-1),IF(DQ29-(DP29-1)>=1,DQ29-(DP29-1),DQ29-(DP29-1)+MAX(TeilnNr)-1)))","v":13},{"$f":"IF(AND(DQ29=1,MOD(DP29,2)<>0),MAX(TeilnNr),IF(MOD(DQ29,2)<>0,IF(MAX(TeilnNr)/2-DQ29+1-(DP29-MAX(TeilnNr)/2-1)>=1,MAX(TeilnNr)/2-DQ29+1-(DP29-MAX(TeilnNr)/2-1),MAX(TeilnNr)/2-DQ29+1-(DP29-MAX(TeilnNr)/2-1)+MAX(TeilnNr)-1),IF(DQ29-(DP29-1)>=1,DQ29-(DP29-1),DQ29-(DP29-1)+MAX(TeilnNr)-1)))","v":9},"","",{"$f":"ADDRESS(ROW(Teilnehmer)+DR29,COLUMN(Teilnehmer)+DS29)","v":"$L$41"},{"$f":"ADDRESS(ROW(Teilnehmer)+DS29,COLUMN(Teilnehmer)+DR29)","v":"$P$37"},3,"Spieler 14","-",{"$f":"CY29","v":"Spieler 10"},null,3,"Spieler 13","-",{"$f":"DM29","v":"Spieler 09"}]
[null,2,null,"","","","","","","","","","","","","","","","",{"$f":"AR30","v":0},0,0,null,0,0,1,null,0,0,0,0,0,0,0,0,0,0,0,0,0,0,0,0,0,null,0,0,0,0,0,0,0,0,0,0,0,0,0,0,0,0,0,null,0,1,1,1,1,1,{"$f":"VALUE(CONCATENATE(IF($CQ30,\"1\",\"0\"),TEXT($BM30,\"00\"),TEXT($BO30,\"00\"),TEXT($BQ30,\"00\")))","v":10101},{"$f":"VALUE(CONCATENATE(IF($CQ30,\"1\",\"0\"),TEXT($BM30,\"00\"),TEXT($BO30,\"00\")))","v":101},{"$f":"VALUE(CONCATENATE(IF($CQ30,\"1\",\"0\"),TEXT($BM30,\"00\"),TEXT($BN30,\"00\"),TEXT($BO30,\"00\"),TEXT($BQ30,\"00\")))","v":1010101},{"$f":"VALUE(CONCATENATE(IF($CQ30,\"1\",\"0\"),TEXT($BM30,\"00\"),TEXT($BN30,\"00\"),TEXT($BO30,\"00\")))","v":10101},10101,{"$f":"VALUE(CONCATENATE(IF($CQ30,\"1\",\"0\"),TEXT($BM30,\"00\"),TEXT($BN30,\"00\"),TEXT($BO30,\"00\"),TEXT($BP30,\"00\")))","v":1010101},{"$f":"VALUE(CONCATENATE(IF($CQ30,\"1\",\"0\"),TEXT($BM30,\"00\"),TEXT($BN30,\"00\")))","v":101},101,{"$f":"VALUE(CONCATENATE(IF($CQ30,\"1\",\"0\"),TEXT($BM30,\"00\"),TEXT($BN30,\"00\"),TEXT($BP30,\"00\"),TEXT($BO30,\"00\")))","v":1010101},{"$f":"VALUE(CONCATENATE(IF($CQ30,\"1\",\"0\"),TEXT($BM30,\"00\"),TEXT($BN30,\"00\"),TEXT($BP30,\"00\")))","v":10101},{"$f":"INDEX($BR30:$CA30,1,WertungskriterienA)","v":10101},{"$f":"SUM((TRANSPOSE($CB$29:$CB$44)=CB30)*$AB30:$AQ30)","v":0},1,{"$f":"$CB30","v":10101},{"$f":"VALUE(CONCATENATE($CB30,TEXT($CD30,\"00\"),TEXT($BQ30,\"00\")))","v":101010101},{"$f":"$CB30","v":10101},{"$f":"VALUE(CONCATENATE($CB30,TEXT($CD30,\"00\"),TEXT($BQ30,\"00\")))","v":101010101},{"$f":"VALUE(CONCATENATE($CB30,TEXT($CD30,\"00\"),TEXT($BP30,\"00\"),TEXT($BQ30,\"00\")))","v":10101010101},{"$f":"VALUE(CONCATENATE($CB30,TEXT($CD30,\"00\"),TEXT($BQ30,\"00\")))","v":101010101},{"$f":"VALUE(CONCATENATE($CB30,TEXT($CD30,\"00\"),TEXT($BO30,\"00\"),TEXT($BP30,\"00\"),TEXT($BQ30,\"00\")))","v":1010101010101},{"$f":"VALUE(CONCATENATE($CB30,TEXT($CD30,\"00\"),TEXT($BP30,\"00\"),TEXT($BO30,\"00\"),TEXT($BQ30,\"00\")))","v":1010101010101},{"$f":"VALUE(CONCATENATE($CB30,TEXT($CD30,\"00\"),TEXT($BQ30,\"00\")))","v":101010101},{"$f":"VALUE(CONCATENATE($CB30,TEXT($CD30,\"00\"),TEXT($BO30,\"00\"),TEXT($BQ30,\"00\")))","v":10101010101},{"$f":"INDEX(CE30:CN30,1,WertungskriterienA)","v":101010101},1,{"$f":"IF($C30=\"\",FALSE,AND(LEN($C30)=1,OR(CODE($C30)<65,CODE($C30)>122,AND(CODE($C30)>90,CODE($C30)<97)),NOT(AND(CODE($C30)>48,CODE($C30)<58))))","v":false},"Spieler 02",1,1.0010019999999999,2,4,"Spieler 09","-","Spieler 15",null,null,{"$f":"DB29","v":5},4,{"$f":"IF(AND(DC30=1,MOD(DB30,2)=0),MAX(TeilnNr),IF(MOD(DC30,2)=0,IF(MAX(TeilnNr)/2-DC30+1-(DB30-MAX(TeilnNr)/2-1)>=1,MAX(TeilnNr)/2-DC30+1-(DB30-MAX(TeilnNr)/2-1),MAX(TeilnNr)/2-DC30+1-(DB30-MAX(TeilnNr)/2-1)+MAX(TeilnNr)-1),IF(DC30-(DB30-1)>=1,DC30-(DB30-1),DC30-(DB30-1)+MAX(TeilnNr)-1)))","v":9},{"$f":"IF(AND(DC30=1,MOD(DB30,2)<>0),MAX(TeilnNr),IF(MOD(DC30,2)<>0,IF(MAX(TeilnNr)/2-DC30+1-(DB30-MAX(TeilnNr)/2-1)>=1,MAX(TeilnNr)/2-DC30+1-(DB30-MAX(TeilnNr)/2-1),MAX(TeilnNr)/2-DC30+1-(DB30-MAX(TeilnNr)/2-1)+MAX(TeilnNr)-1),IF(DC30-(DB30-1)>=1,DC30-(DB30-1),DC30-(DB30-1)+MAX(TeilnNr)-1)))","v":15},"","",{"$f":"ADDRESS(ROW(Teilnehmer)+DD30,COLUMN(Teilnehmer)+DE30)","v":"$R$37"},{"$f":"ADDRESS(ROW(Teilnehmer)+DE30,COLUMN(Teilnehmer)+DD30)","v":"$L$43"},4,"Spieler 08","-","Spieler 14",null,null,{"$f":"DP29","v":6},4,{"$f":"IF(AND(DQ30=1,MOD(DP30,2)=0),MAX(TeilnNr),IF(MOD(DQ30,2)=0,IF(MAX(TeilnNr)/2-DQ30+1-(DP30-MAX(TeilnNr)/2-1)>=1,MAX(TeilnNr)/2-DQ30+1-(DP30-MAX(TeilnNr)/2-1),MAX(TeilnNr)/2-DQ30+1-(DP30-MAX(TeilnNr)/2-1)+MAX(TeilnNr)-1),IF(DQ30-(DP30-1)>=1,DQ30-(DP30-1),DQ30-(DP30-1)+MAX(TeilnNr)-1)))","v":8},{"$f":"IF(AND(DQ30=1,MOD(DP30,2)<>0),MAX(TeilnNr),IF(MOD(DQ30,2)<>0,IF(MAX(TeilnNr)/2-DQ30+1-(DP30-MAX(TeilnNr)/2-1)>=1,MAX(TeilnNr)/2-DQ30+1-(DP30-MAX(TeilnNr)/2-1),MAX(TeilnNr)/2-DQ30+1-(DP30-MAX(TeilnNr)/2-1)+MAX(TeilnNr)-1),IF(DQ30-(DP30-1)>=1,DQ30-(DP30-1),DQ30-(DP30-1)+MAX(TeilnNr)-1)))","v":14},"","",{"$f":"ADDRESS(ROW(Teilnehmer)+DR30,COLUMN(Teilnehmer)+DS30)","v":"$Q$36"},{"$f":"ADDRESS(ROW(Teilnehmer)+DS30,COLUMN(Teilnehmer)+DR30)","v":"$K$42"},4,{"$f":"CY30","v":"Spieler 15"},"-",{"$f":"CW30","v":"Spieler 09"},null,4,{"$f":"DM30","v":"Spieler 14"},"-",{"$f":"DK30","v":"Spieler 08"}]
[null,3,null,"","","","","","","","","","","","","","","","",0,0,0,null,0,0,1,null,0,0,0,0,0,0,0,0,0,0,0,0,0,0,0,0,0,null,0,0,0,0,0,0,0,0,0,0,0,0,0,0,0,0,0,null,0,1,1,1,1,1,10101,101,1010101,10101,10101,1010101,101,101,1010101,10101,{"$f":"INDEX($BR31:$CA31,1,WertungskriterienA)","v":10101},{"$f":"SUM((TRANSPOSE($CB$29:$CB$44)=CB31)*$AB31:$AQ31)","v":0},1,10101,101010101,10101,101010101,10101010101,101010101,1010101010101,1010101010101,101010101,10101010101,{"$f":"INDEX(CE31:CN31,1,WertungskriterienA)","v":101010101},1,false,"Spieler 03",2,1.002003,3,5,"Spieler 01","-","Spieler 08",null,null,{"$f":"DB30","v":5},5,{"$f":"IF(AND(DC31=1,MOD(DB31,2)=0),MAX(TeilnNr),IF(MOD(DC31,2)=0,IF(MAX(TeilnNr)/2-DC31+1-(DB31-MAX(TeilnNr)/2-1)>=1,MAX(TeilnNr)/2-DC31+1-(DB31-MAX(TeilnNr)/2-1),MAX(TeilnNr)/2-DC31+1-(DB31-MAX(TeilnNr)/2-1)+MAX(TeilnNr)-1),IF(DC31-(DB31-1)>=1,DC31-(DB31-1),DC31-(DB31-1)+MAX(TeilnNr)-1)))","v":1},{"$f":"IF(AND(DC31=1,MOD(DB31,2)<>0),MAX(TeilnNr),IF(MOD(DC31,2)<>0,IF(MAX(TeilnNr)/2-DC31+1-(DB31-MAX(TeilnNr)/2-1)>=1,MAX(TeilnNr)/2-DC31+1-(DB31-MAX(TeilnNr)/2-1),MAX(TeilnNr)/2-DC31+1-(DB31-MAX(TeilnNr)/2-1)+MAX(TeilnNr)-1),IF(DC31-(DB31-1)>=1,DC31-(DB31-1),DC31-(DB31-1)+MAX(TeilnNr)-1)))","v":8},"","",{"$f":"ADDRESS(ROW(Teilnehmer)+DD31,COLUMN(Teilnehmer)+DE31)","v":"$K$29"},{"$f":"ADDRESS(ROW(Teilnehmer)+DE31,COLUMN(Teilnehmer)+DD31)","v":"$D$36"},5,"Spieler 15","-","Spieler 07",null,null,6,5,{"$f":"IF(AND(DQ31=1,MOD(DP31,2)=0),MAX(TeilnNr),IF(MOD(DQ31,2)=0,IF(MAX(TeilnNr)/2-DQ31+1-(DP31-MAX(TeilnNr)/2-1)>=1,MAX(TeilnNr)/2-DQ31+1-(DP31-MAX(TeilnNr)/2-1),MAX(TeilnNr)/2-DQ31+1-(DP31-MAX(TeilnNr)/2-1)+MAX(TeilnNr)-1),IF(DQ31-(DP31-1)>=1,DQ31-(DP31-1),DQ31-(DP31-1)+MAX(TeilnNr)-1)))","v":15},{"$f":"IF(AND(DQ31=1,MOD(DP31,2)<>0),MAX(TeilnNr),IF(MOD(DQ31,2)<>0,IF(MAX(TeilnNr)/2-DQ31+1-(DP31-MAX(TeilnNr)/2-1)>=1,MAX(TeilnNr)/2-DQ31+1-(DP31-MAX(TeilnNr)/2-1),MAX(TeilnNr)/2-DQ31+1-(DP31-MAX(TeilnNr)/2-1)+MAX(TeilnNr)-1),IF(DQ31-(DP31-1)>=1,DQ31-(DP31-1),DQ31-(DP31-1)+MAX(TeilnNr)-1)))","v":7},"","",{"$f":"ADDRESS(ROW(Teilnehmer)+DR31,COLUMN(Teilnehmer)+DS31)","v":"$J$43"},{"$f":"ADDRESS(ROW(Teilnehmer)+DS31,COLUMN(Teilnehmer)+DR31)","v":"$R$35"},5,"Spieler 01","-",{"$f":"CY31","v":"Spieler 08"},null,5,"Spieler 15","-",{"$f":"DM31","v":"Spieler 07"}]
[null,4,null,"","","","","","","","","","","","","","","","",0,0,0,null,0,0,1,null,0,0,0,0,0,0,0,0,0,0,0,0,0,0,0,0,0,null,0,0,0,0,0,0,0,0,0,0,0,0,0,0,0,0,0,null,0,1,1,1,1,1,10101,101,1010101,10101,10101,1010101,101,101,1010101,10101,{"$f":"INDEX($BR32:$CA32,1,WertungskriterienA)","v":10101},{"$f":"SUM((TRANSPOSE($CB$29:$CB$44)=CB32)*$AB32:$AQ32)","v":0},1,10101,101010101,10101,101010101,10101010101,101010101,1010101010101,1010101010101,101010101,10101010101,{"$f":"INDEX(CE32:CN32,1,WertungskriterienA)","v":101010101},1,false,"Spieler 04",3,1.0030039999999998,4,6,"Spieler 07","-","Spieler 02",null,null,{"$f":"DB31","v":5},6,{"$f":"IF(AND(DC32=1,MOD(DB32,2)=0),MAX(TeilnNr),IF(MOD(DC32,2)=0,IF(MAX(TeilnNr)/2-DC32+1-(DB32-MAX(TeilnNr)/2-1)>=1,MAX(TeilnNr)/2-DC32+1-(DB32-MAX(TeilnNr)/2-1),MAX(TeilnNr)/2-DC32+1-(DB32-MAX(TeilnNr)/2-1)+MAX(TeilnNr)-1),IF(DC32-(DB32-1)>=1,DC32-(DB32-1),DC32-(DB32-1)+MAX(TeilnNr)-1)))","v":7},{"$f":"IF(AND(DC32=1,MOD(DB32,2)<>0),MAX(TeilnNr),IF(MOD(DC32,2)<>0,IF(MAX(TeilnNr)/2-DC32+1-(DB32-MAX(TeilnNr)/2-1)>=1,MAX(TeilnNr)/2-DC32+1-(DB32-MAX(TeilnNr)/2-1),MAX(TeilnNr)/2-DC32+1-(DB32-MAX(TeilnNr)/2-1)+MAX(TeilnNr)-1),IF(DC32-(DB32-1)>=1,DC32-(DB32-1),DC32-(DB32-1)+MAX(TeilnNr)-1)))","v":2},"","",{"$f":"ADDRESS(ROW(Teilnehmer)+DD32,COLUMN(Teilnehmer)+DE32)","v":"$E$35"},{"$f":"ADDRESS(ROW(Teilnehmer)+DE32,COLUMN(Teilnehmer)+DD32)","v":"$J$30"},6,"Spieler 06","-","Spieler 01",null,null,6,6,{"$f":"IF(AND(DQ32=1,MOD(DP32,2)=0),MAX(TeilnNr),IF(MOD(DQ32,2)=0,IF(MAX(TeilnNr)/2-DQ32+1-(DP32-MAX(TeilnNr)/2-1)>=1,MAX(TeilnNr)/2-DQ32+1-(DP32-MAX(TeilnNr)/2-1),MAX(TeilnNr)/2-DQ32+1-(DP32-MAX(TeilnNr)/2-1)+MAX(TeilnNr)-1),IF(DQ32-(DP32-1)>=1,DQ32-(DP32-1),DQ32-(DP32-1)+MAX(TeilnNr)-1)))","v":6},{"$f":"IF(AND(DQ32=1,MOD(DP32,2)<>0),MAX(TeilnNr),IF(MOD(DQ32,2)<>0,IF(MAX(TeilnNr)/2-DQ32+1-(DP32-MAX(TeilnNr)/2-1)>=1,MAX(TeilnNr)/2-DQ32+1-(DP32-MAX(TeilnNr)/2-1),MAX(TeilnNr)/2-DQ32+1-(DP32-MAX(TeilnNr)/2-1)+MAX(TeilnNr)-1),IF(DQ32-(DP32-1)>=1,DQ32-(DP32-1),DQ32-(DP32-1)+MAX(TeilnNr)-1)))","v":1},"","",{"$f":"ADDRESS(ROW(Teilnehmer)+DR32,COLUMN(Teilnehmer)+DS32)","v":"$D$34"},{"$f":"ADDRESS(ROW(Teilnehmer)+DS32,COLUMN(Teilnehmer)+DR32)","v":"$I$29"},6,{"$f":"CY32","v":"Spieler 02"},"-",{"$f":"CW32","v":"Spieler 07"},null,6,{"$f":"DM32","v":"Spieler 01"},"-",{"$f":"DK32","v":"Spieler 06"}]
[null,5,null,"","","","","","","","","","","","","","","","",0,0,0,null,0,0,1,null,0,0,0,0,0,0,0,0,0,0,0,0,0,0,0,0,0,null,0,0,0,0,0,0,0,0,0,0,0,0,0,0,0,0,0,null,0,1,1,1,1,1,10101,101,1010101,10101,10101,1010101,101,101,1010101,10101,{"$f":"INDEX($BR33:$CA33,1,WertungskriterienA)","v":10101},{"$f":"SUM((TRANSPOSE($CB$29:$CB$44)=CB33)*$AB33:$AQ33)","v":0},1,10101,101010101,10101,101010101,10101010101,101010101,1010101010101,1010101010101,101010101,10101010101,{"$f":"INDEX(CE33:CN33,1,WertungskriterienA)","v":101010101},1,false,"Spieler 05",4,1.004005,5,7,"Spieler 03","-","Spieler 06",null,null,{"$f":"DB32","v":5},7,{"$f":"IF(AND(DC33=1,MOD(DB33,2)=0),MAX(TeilnNr),IF(MOD(DC33,2)=0,IF(MAX(TeilnNr)/2-DC33+1-(DB33-MAX(TeilnNr)/2-1)>=1,MAX(TeilnNr)/2-DC33+1-(DB33-MAX(TeilnNr)/2-1),MAX(TeilnNr)/2-DC33+1-(DB33-MAX(TeilnNr)/2-1)+MAX(TeilnNr)-1),IF(DC33-(DB33-1)>=1,DC33-(DB33-1),DC33-(DB33-1)+MAX(TeilnNr)-1)))","v":3},{"$f":"IF(AND(DC33=1,MOD(DB33,2)<>0),MAX(TeilnNr),IF(MOD(DC33,2)<>0,IF(MAX(TeilnNr)/2-DC33+1-(DB33-MAX(TeilnNr)/2-1)>=1,MAX(TeilnNr)/2-DC33+1-(DB33-MAX(TeilnNr)/2-1),MAX(TeilnNr)/2-DC33+1-(DB33-MAX(TeilnNr)/2-1)+MAX(TeilnNr)-1),IF(DC33-(DB33-1)>=1,DC33-(DB33-1),DC33-(DB33-1)+MAX(TeilnNr)-1)))","v":6},"","",{"$f":"ADDRESS(ROW(Teilnehmer)+DD33,COLUMN(Teilnehmer)+DE33)","v":"$I$31"},{"$f":"ADDRESS(ROW(Teilnehmer)+DE33,COLUMN(Teilnehmer)+DD33)","v":"$F$34"},7,"Spieler 02","-","Spieler 05",null,null,6,7,{"$f":"IF(AND(DQ33=1,MOD(DP33,2)=0),MAX(TeilnNr),IF(MOD(DQ33,2)=0,IF(MAX(TeilnNr)/2-DQ33+1-(DP33-MAX(TeilnNr)/2-1)>=1,MAX(TeilnNr)/2-DQ33+1-(DP33-MAX(TeilnNr)/2-1),MAX(TeilnNr)/2-DQ33+1-(DP33-MAX(TeilnNr)/2-1)+MAX(TeilnNr)-1),IF(DQ33-(DP33-1)>=1,DQ33-(DP33-1),DQ33-(DP33-1)+MAX(TeilnNr)-1)))","v":2},{"$f":"IF(AND(DQ33=1,MOD(DP33,2)<>0),MAX(TeilnNr),IF(MOD(DQ33,2)<>0,IF(MAX(TeilnNr)/2-DQ33+1-(DP33-MAX(TeilnNr)/2-1)>=1,MAX(TeilnNr)/2-DQ33+1-(DP33-MAX(TeilnNr)/2-1),MAX(TeilnNr)/2-DQ33+1-(DP33-MAX(TeilnNr)/2-1)+MAX(TeilnNr)-1),IF(DQ33-(DP33-1)>=1,DQ33-(DP33-1),DQ33-(DP33-1)+MAX(TeilnNr)-1)))","v":5},"","",{"$f":"ADDRESS(ROW(Teilnehmer)+DR33,COLUMN(Teilnehmer)+DS33)","v":"$H$30"},{"$f":"ADDRESS(ROW(Teilnehmer)+DS33,COLUMN(Teilnehmer)+DR33)","v":"$E$33"},7,"Spieler 03","-",{"$f":"CY33","v":"Spieler 06"},null,7,"Spieler 02","-",{"$f":"DM33","v":"Spieler 05"}]
[null,6,null,"","","","","","","","","","","","","","","","",0,0,0,null,0,0,1,null,0,0,0,0,0,0,0,0,0,0,0,0,0,0,0,0,0,null,0,0,0,0,0,0,0,0,0,0,0,0,0,0,0,0,0,null,0,1,1,1,1,1,10101,101,1010101,10101,10101,1010101,101,101,1010101,10101,{"$f":"INDEX($BR34:$CA34,1,WertungskriterienA)","v":10101},{"$f":"SUM((TRANSPOSE($CB$29:$CB$44)=CB34)*$AB34:$AQ34)","v":0},1,10101,101010101,10101,101010101,10101010101,101010101,1010101010101,1010101010101,101010101,10101010101,{"$f":"INDEX(CE34:CN34,1,WertungskriterienA)","v":101010101},1,false,"Spieler 06",5,1.0050059999999998,6,8,"Spieler 05","-","Spieler 04",null,null,5,8,{"$f":"IF(AND(DC34=1,MOD(DB34,2)=0),MAX(TeilnNr),IF(MOD(DC34,2)=0,IF(MAX(TeilnNr)/2-DC34+1-(DB34-MAX(TeilnNr)/2-1)>=1,MAX(TeilnNr)/2-DC34+1-(DB34-MAX(TeilnNr)/2-1),MAX(TeilnNr)/2-DC34+1-(DB34-MAX(TeilnNr)/2-1)+MAX(TeilnNr)-1),IF(DC34-(DB34-1)>=1,DC34-(DB34-1),DC34-(DB34-1)+MAX(TeilnNr)-1)))","v":5},{"$f":"IF(AND(DC34=1,MOD(DB34,2)<>0),MAX(TeilnNr),IF(MOD(DC34,2)<>0,IF(MAX(TeilnNr)/2-DC34+1-(DB34-MAX(TeilnNr)/2-1)>=1,MAX(TeilnNr)/2-DC34+1-(DB34-MAX(TeilnNr)/2-1),MAX(TeilnNr)/2-DC34+1-(DB34-MAX(TeilnNr)/2-1)+MAX(TeilnNr)-1),IF(DC34-(DB34-1)>=1,DC34-(DB34-1),DC34-(DB34-1)+MAX(TeilnNr)-1)))","v":4},"","",{"$f":"ADDRESS(ROW(Teilnehmer)+DD34,COLUMN(Teilnehmer)+DE34)","v":"$G$33"},{"$f":"ADDRESS(ROW(Teilnehmer)+DE34,COLUMN(Teilnehmer)+DD34)","v":"$H$32"},8,"Spieler 04","-","Spieler 03",null,null,6,8,{"$f":"IF(AND(DQ34=1,MOD(DP34,2)=0),MAX(TeilnNr),IF(MOD(DQ34,2)=0,IF(MAX(TeilnNr)/2-DQ34+1-(DP34-MAX(TeilnNr)/2-1)>=1,MAX(TeilnNr)/2-DQ34+1-(DP34-MAX(TeilnNr)/2-1),MAX(TeilnNr)/2-DQ34+1-(DP34-MAX(TeilnNr)/2-1)+MAX(TeilnNr)-1),IF(DQ34-(DP34-1)>=1,DQ34-(DP34-1),DQ34-(DP34-1)+MAX(TeilnNr)-1)))","v":4},{"$f":"IF(AND(DQ34=1,MOD(DP34,2)<>0),MAX(TeilnNr),IF(MOD(DQ34,2)<>0,IF(MAX(TeilnNr)/2-DQ34+1-(DP34-MAX(TeilnNr)/2-1)>=1,MAX(TeilnNr)/2-DQ34+1-(DP34-MAX(TeilnNr)/2-1),MAX(TeilnNr)/2-DQ34+1-(DP34-MAX(TeilnNr)/2-1)+MAX(TeilnNr)-1),IF(DQ34-(DP34-1)>=1,DQ34-(DP34-1),DQ34-(DP34-1)+MAX(TeilnNr)-1)))","v":3},"","",{"$f":"ADDRESS(ROW(Teilnehmer)+DR34,COLUMN(Teilnehmer)+DS34)","v":"$F$32"},{"$f":"ADDRESS(ROW(Teilnehmer)+DS34,COLUMN(Teilnehmer)+DR34)","v":"$G$31"},8,{"$f":"CY34","v":"Spieler 04"},"-",{"$f":"CW34","v":"Spieler 05"},null,8,{"$f":"DM34","v":"Spieler 03"},"-",{"$f":"DK34","v":"Spieler 04"}]
[null,7,null,"","","","","","","","","","","","","","","","",0,0,0,null,0,0,1,null,0,0,0,0,0,0,0,0,0,0,0,0,0,0,0,0,0,null,0,0,0,0,0,0,0,0,0,0,0,0,0,0,0,0,0,null,0,1,1,1,1,1,10101,101,1010101,10101,10101,1010101,101,101,1010101,10101,{"$f":"INDEX($BR35:$CA35,1,WertungskriterienA)","v":10101},{"$f":"SUM((TRANSPOSE($CB$29:$CB$44)=CB35)*$AB35:$AQ35)","v":0},1,10101,101010101,10101,101010101,10101010101,101010101,1010101010101,1010101010101,101010101,10101010101,{"$f":"INDEX(CE35:CN35,1,WertungskriterienA)","v":101010101},1,false,"Spieler 07",6,1.0060070000000001,7]
[null,8,null,"","","","","","","","","","","","","","","","",0,0,0,null,0,0,1,null,0,0,0,0,0,0,0,0,0,0,0,0,0,0,0,0,0,null,0,0,0,0,0,0,0,0,0,0,0,0,0,0,0,0,0,null,0,1,1,1,1,1,10101,101,1010101,10101,10101,1010101,101,101,1010101,10101,{"$f":"INDEX($BR36:$CA36,1,WertungskriterienA)","v":10101},{"$f":"SUM((TRANSPOSE($CB$29:$CB$44)=CB36)*$AB36:$AQ36)","v":0},1,10101,101010101,10101,101010101,10101010101,101010101,1010101010101,1010101010101,101010101,10101010101,{"$f":"INDEX(CE36:CN36,1,WertungskriterienA)","v":101010101},1,false,"Spieler 08",7,1.0070079999999999,8,null,{"$f":"CW26+2","v":7},null,null,null,null,"R","B","SpNr w","SpNr s","Res w","Res s",null,null,null,{"$f":"DK26+2","v":8},null,null,null,null,"R","B","SpNr w","SpNr s","Res w","Res s",null,null,null,{"$f":"CW36","v":7},1,null,null,null,{"$f":"DK36","v":8}]
[null,9,null,"","","","","","","","","","","","","","","","",0,0,0,null,0,0,1,null,0,0,0,0,0,0,0,0,0,0,0,0,0,0,0,0,0,null,0,0,0,0,0,0,0,0,0,0,0,0,0,0,0,0,0,null,0,1,1,1,1,1,10101,101,1010101,10101,10101,1010101,101,101,1010101,10101,{"$f":"INDEX($BR37:$CA37,1,WertungskriterienA)","v":10101},{"$f":"SUM((TRANSPOSE($CB$29:$CB$44)=CB37)*$AB37:$AQ37)","v":0},1,10101,101010101,10101,101010101,10101010101,101010101,1010101010101,1010101010101,101010101,10101010101,{"$f":"INDEX(CE37:CN37,1,WertungskriterienA)","v":101010101},1,false,"Spieler 09",8,1.0080089999999999,9,{"$f":"IF(OR(INDEX($CQ$29:$CQ$44,DD37),INDEX($CQ$29:$CQ$44,DE37)),0,1)","v":1},{"$f":"INDEX($CR$29:$CR$44,MATCH($DD37,TeilnNr,0))","v":"Spieler 10"},"-",{"$f":"INDEX($CR$29:$CR$44,MATCH($DE37,TeilnNr,0))","v":"Spieler 16"},null,null,{"$f":"CW36","v":7},1,{"$f":"IF(AND(DC37=1,MOD(DB37,2)=0),MAX(TeilnNr),IF(MOD(DC37,2)=0,IF(MAX(TeilnNr)/2-DC37+1-(DB37-MAX(TeilnNr)/2-1)>=1,MAX(TeilnNr)/2-DC37+1-(DB37-MAX(TeilnNr)/2-1),MAX(TeilnNr)/2-DC37+1-(DB37-MAX(TeilnNr)/2-1)+MAX(TeilnNr)-1),IF(DC37-(DB37-1)>=1,DC37-(DB37-1),DC37-(DB37-1)+MAX(TeilnNr)-1)))","v":10},{"$f":"IF(AND(DC37=1,MOD(DB37,2)<>0),MAX(TeilnNr),IF(MOD(DC37,2)<>0,IF(MAX(TeilnNr)/2-DC37+1-(DB37-MAX(TeilnNr)/2-1)>=1,MAX(TeilnNr)/2-DC37+1-(DB37-MAX(TeilnNr)/2-1),MAX(TeilnNr)/2-DC37+1-(DB37-MAX(TeilnNr)/2-1)+MAX(TeilnNr)-1),IF(DC37-(DB37-1)>=1,DC37-(DB37-1),DC37-(DB37-1)+MAX(TeilnNr)-1)))","v":16},{"$f":"IF(LEFT(DA37,1)=\"V\",\"\",LEFT(DA37,1))","v":""},{"$f":"IF(RIGHT(DA37,1)=\"V\",\"\",RIGHT(DA37,1))","v":""},{"$f":"ADDRESS(ROW(Teilnehmer)+DD37,COLUMN(Teilnehmer)+DE37)","v":"$S$38"},{"$f":"ADDRESS(ROW(Teilnehmer)+DE37,COLUMN(Teilnehmer)+DD37)","v":"$M$44"},{"$f":"IF(OR(INDEX($CQ$29:$CQ$44,DR37),INDEX($CQ$29:$CQ$44,DS37)),0,1)","v":1},{"$f":"INDEX($CR$29:$CR$44,MATCH($DR37,TeilnNr,0))","v":"Spieler 16"},"-",{"$f":"INDEX($CR$29:$CR$44,MATCH($DS37,TeilnNr,0))","v":"Spieler 09"},null,null,{"$f":"DK36","v":8},1,{"$f":"IF(AND(DQ37=1,MOD(DP37,2)=0),MAX(TeilnNr),IF(MOD(DQ37,2)=0,IF(MAX(TeilnNr)/2-DQ37+1-(DP37-MAX(TeilnNr)/2-1)>=1,MAX(TeilnNr)/2-DQ37+1-(DP37-MAX(TeilnNr)/2-1),MAX(TeilnNr)/2-DQ37+1-(DP37-MAX(TeilnNr)/2-1)+MAX(TeilnNr)-1),IF(DQ37-(DP37-1)>=1,DQ37-(DP37-1),DQ37-(DP37-1)+MAX(TeilnNr)-1)))","v":16},{"$f":"IF(AND(DQ37=1,MOD(DP37,2)<>0),MAX(TeilnNr),IF(MOD(DQ37,2)<>0,IF(MAX(TeilnNr)/2-DQ37+1-(DP37-MAX(TeilnNr)/2-1)>=1,MAX(TeilnNr)/2-DQ37+1-(DP37-MAX(TeilnNr)/2-1),MAX(TeilnNr)/2-DQ37+1-(DP37-MAX(TeilnNr)/2-1)+MAX(TeilnNr)-1),IF(DQ37-(DP37-1)>=1,DQ37-(DP37-1),DQ37-(DP37-1)+MAX(TeilnNr)-1)))","v":9},{"$f":"IF(LEFT(DO37,1)=\"V\",\"\",LEFT(DO37,1))","v":""},{"$f":"IF(RIGHT(DO37,1)=\"V\",\"\",RIGHT(DO37,1))","v":""},{"$f":"ADDRESS(ROW(Teilnehmer)+DR37,COLUMN(Teilnehmer)+DS37)","v":"$L$44"},{"$f":"ADDRESS(ROW(Teilnehmer)+DS37,COLUMN(Teilnehmer)+DR37)","v":"$S$37"},{"$f":"CV37","v":1},"Spieler 10","-",{"$f":"CY37","v":"Spieler 16"},null,{"$f":"DJ37","v":1},{"$f":"DM37","v":"Spieler 09"},"-",{"$f":"DK37","v":"Spieler 16"}]
[null,10,null,"","","","","","","","","","","","","","","","",0,0,0,null,0,0,1,null,0,0,0,0,0,0,0,0,0,0,0,0,0,0,0,0,0,null,0,0,0,0,0,0,0,0,0,0,0,0,0,0,0,0,0,null,0,1,1,1,1,1,10101,101,1010101,10101,10101,1010101,101,101,1010101,10101,{"$f":"INDEX($BR38:$CA38,1,WertungskriterienA)","v":10101},{"$f":"SUM((TRANSPOSE($CB$29:$CB$44)=CB38)*$AB38:$AQ38)","v":0},1,10101,101010101,10101,101010101,10101010101,101010101,1010101010101,1010101010101,101010101,10101010101,{"$f":"INDEX(CE38:CN38,1,WertungskriterienA)","v":101010101},1,false,"Spieler 10",9,1.00901,10,{"$f":"CV37+1","v":2},"Spieler 09","-","Spieler 11",null,null,{"$f":"DB37","v":7},{"$f":"DC37+1","v":2},{"$f":"IF(AND(DC38=1,MOD(DB38,2)=0),MAX(TeilnNr),IF(MOD(DC38,2)=0,IF(MAX(TeilnNr)/2-DC38+1-(DB38-MAX(TeilnNr)/2-1)>=1,MAX(TeilnNr)/2-DC38+1-(DB38-MAX(TeilnNr)/2-1),MAX(TeilnNr)/2-DC38+1-(DB38-MAX(TeilnNr)/2-1)+MAX(TeilnNr)-1),IF(DC38-(DB38-1)>=1,DC38-(DB38-1),DC38-(DB38-1)+MAX(TeilnNr)-1)))","v":9},{"$f":"IF(AND(DC38=1,MOD(DB38,2)<>0),MAX(TeilnNr),IF(MOD(DC38,2)<>0,IF(MAX(TeilnNr)/2-DC38+1-(DB38-MAX(TeilnNr)/2-1)>=1,MAX(TeilnNr)/2-DC38+1-(DB38-MAX(TeilnNr)/2-1),MAX(TeilnNr)/2-DC38+1-(DB38-MAX(TeilnNr)/2-1)+MAX(TeilnNr)-1),IF(DC38-(DB38-1)>=1,DC38-(DB38-1),DC38-(DB38-1)+MAX(TeilnNr)-1)))","v":11},"","",{"$f":"ADDRESS(ROW(Teilnehmer)+DD38,COLUMN(Teilnehmer)+DE38)","v":"$N$37"},{"$f":"ADDRESS(ROW(Teilnehmer)+DE38,COLUMN(Teilnehmer)+DD38)","v":"$L$39"},{"$f":"DJ37+1","v":2},"Spieler 08","-","Spieler 10",null,null,{"$f":"DP37","v":8},{"$f":"DQ37+1","v":2},{"$f":"IF(AND(DQ38=1,MOD(DP38,2)=0),MAX(TeilnNr),IF(MOD(DQ38,2)=0,IF(MAX(TeilnNr)/2-DQ38+1-(DP38-MAX(TeilnNr)/2-1)>=1,MAX(TeilnNr)/2-DQ38+1-(DP38-MAX(TeilnNr)/2-1),MAX(TeilnNr)/2-DQ38+1-(DP38-MAX(TeilnNr)/2-1)+MAX(TeilnNr)-1),IF(DQ38-(DP38-1)>=1,DQ38-(DP38-1),DQ38-(DP38-1)+MAX(TeilnNr)-1)))","v":8},{"$f":"IF(AND(DQ38=1,MOD(DP38,2)<>0),MAX(TeilnNr),IF(MOD(DQ38,2)<>0,IF(MAX(TeilnNr)/2-DQ38+1-(DP38-MAX(TeilnNr)/2-1)>=1,MAX(TeilnNr)/2-DQ38+1-(DP38-MAX(TeilnNr)/2-1),MAX(TeilnNr)/2-DQ38+1-(DP38-MAX(TeilnNr)/2-1)+MAX(TeilnNr)-1),IF(DQ38-(DP38-1)>=1,DQ38-(DP38-1),DQ38-(DP38-1)+MAX(TeilnNr)-1)))","v":10},"","",{"$f":"ADDRESS(ROW(Teilnehmer)+DR38,COLUMN(Teilnehmer)+DS38)","v":"$M$36"},{"$f":"ADDRESS(ROW(Teilnehmer)+DS38,COLUMN(Teilnehmer)+DR38)","v":"$K$38"},{"$f":"CV38","v":2},{"$f":"CY38","v":"Spieler 11"},"-",{"$f":"CW38","v":"Spieler 09"},null,2,"Spieler 10","-","Spieler 08"]
[null,11,null,{"$f":"IF(ISNA(MATCH(ADDRESS(ROW(),COLUMN()),$DH:$DH,0)),\"\",INDEX($DF:$DF,MATCH(ADDRESS(ROW(),COLUMN()),$DH:$DH,0)))&IF(ISNA(MATCH(ADDRESS(ROW(),COLUMN()),$DI:$DI,0)),\"\",INDEX($DG:$DG,MATCH(ADDRESS(ROW(),COLUMN()),$DI:$DI,0)))&IF(ISNA(MATCH(ADDRESS(ROW(),COLUMN()),$DV:$DV,0)),\"\",INDEX($DT:$DT,MATCH(ADDRESS(ROW(),COLUMN()),$DV:$DV,0)))&IF(ISNA(MATCH(ADDRESS(ROW(),COLUMN()),$DW:$DW,0)),\"\",INDEX($DU:$DU,MATCH(ADDRESS(ROW(),COLUMN()),$DW:$DW,0)))","v":""},"","","","","","","","","","","","","","","",0,0,0,null,0,0,1,null,0,0,0,0,0,0,0,0,0,0,0,0,0,0,0,0,0,null,0,0,0,0,0,0,0,0,0,0,0,0,0,0,0,0,0,null,0,1,1,1,1,1,10101,101,1010101,10101,10101,1010101,101,101,1010101,10101,{"$f":"INDEX($BR39:$CA39,1,WertungskriterienA)","v":10101},{"$f":"SUM((TRANSPOSE($CB$29:$CB$44)=CB39)*$AB39:$AQ39)","v":0},1,10101,101010101,10101,101010101,10101010101,101010101,1010101010101,1010101010101,101010101,10101010101,{"$f":"INDEX(CE39:CN39,1,WertungskriterienA)","v":101010101},1,false,"Spieler 11",10,1.010011,11,{"$f":"CV38+1","v":3},"Spieler 12","-","Spieler 08",null,null,{"$f":"DB38","v":7},{"$f":"DC38+1","v":3},{"$f":"IF(AND(DC39=1,MOD(DB39,2)=0),MAX(TeilnNr),IF(MOD(DC39,2)=0,IF(MAX(TeilnNr)/2-DC39+1-(DB39-MAX(TeilnNr)/2-1)>=1,MAX(TeilnNr)/2-DC39+1-(DB39-MAX(TeilnNr)/2-1),MAX(TeilnNr)/2-DC39+1-(DB39-MAX(TeilnNr)/2-1)+MAX(TeilnNr)-1),IF(DC39-(DB39-1)>=1,DC39-(DB39-1),DC39-(DB39-1)+MAX(TeilnNr)-1)))","v":12},{"$f":"IF(AND(DC39=1,MOD(DB39,2)<>0),MAX(TeilnNr),IF(MOD(DC39,2)<>0,IF(MAX(TeilnNr)/2-DC39+1-(DB39-MAX(TeilnNr)/2-1)>=1,MAX(TeilnNr)/2-DC39+1-(DB39-MAX(TeilnNr)/2-1),MAX(TeilnNr)/2-DC39+1-(DB39-MAX(TeilnNr)/2-1)+MAX(TeilnNr)-1),IF(DC39-(DB39-1)>=1,DC39-(DB39-1),DC39-(DB39-1)+MAX(TeilnNr)-1)))","v":8},"","",{"$f":"ADDRESS(ROW(Teilnehmer)+DD39,COLUMN(Teilnehmer)+DE39)","v":"$K$40"},{"$f":"ADDRESS(ROW(Teilnehmer)+DE39,COLUMN(Teilnehmer)+DD39)","v":"$O$36"},{"$f":"DJ38+1","v":3},"Spieler 11","-","Spieler 07",null,null,{"$f":"DP38","v":8},{"$f":"DQ38+1","v":3},{"$f":"IF(AND(DQ39=1,MOD(DP39,2)=0),MAX(TeilnNr),IF(MOD(DQ39,2)=0,IF(MAX(TeilnNr)/2-DQ39+1-(DP39-MAX(TeilnNr)/2-1)>=1,MAX(TeilnNr)/2-DQ39+1-(DP39-MAX(TeilnNr)/2-1),MAX(TeilnNr)/2-DQ39+1-(DP39-MAX(TeilnNr)/2-1)+MAX(TeilnNr)-1),IF(DQ39-(DP39-1)>=1,DQ39-(DP39-1),DQ39-(DP39-1)+MAX(TeilnNr)-1)))","v":11},{"$f":"IF(AND(DQ39=1,MOD(DP39,2)<>0),MAX(TeilnNr),IF(MOD(DQ39,2)<>0,IF(MAX(TeilnNr)/2-DQ39+1-(DP39-MAX(TeilnNr)/2-1)>=1,MAX(TeilnNr)/2-DQ39+1-(DP39-MAX(TeilnNr)/2-1),MAX(TeilnNr)/2-DQ39+1-(DP39-MAX(TeilnNr)/2-1)+MAX(TeilnNr)-1),IF(DQ39-(DP39-1)>=1,DQ39-(DP39-1),DQ39-(DP39-1)+MAX(TeilnNr)-1)))","v":7},"","",{"$f":"ADDRESS(ROW(Teilnehmer)+DR39,COLUMN(Teilnehmer)+DS39)","v":"$J$39"},{"$f":"ADDRESS(ROW(Teilnehmer)+DS39,COLUMN(Teilnehmer)+DR39)","v":"$N$35"},3,"Spieler 12","-",{"$f":"CY39","v":"Spieler 08"},null,3,"Spieler 11","-",{"$f":"DM39","v":"Spieler 07"}]
[null,12,null,"","","","","","","","","","","","","","","","",0,0,0,null,0,0,1,null,0,0,0,0,0,0,0,0,0,0,0,0,0,0,0,0,0,null,0,0,0,0,0,0,0,0,0,0,0,0,0,0,0,0,0,null,0,1,1,1,1,1,10101,101,1010101,10101,10101,1010101,101,101,1010101,10101,{"$f":"INDEX($BR40:$CA40,1,WertungskriterienA)","v":10101},{"$f":"SUM((TRANSPOSE($CB$29:$CB$44)=CB40)*$AB40:$AQ40)","v":0},1,10101,101010101,10101,101010101,10101010101,101010101,1010101010101,1010101010101,101010101,10101010101,{"$f":"INDEX(CE40:CN40,1,WertungskriterienA)","v":101010101},1,false,"Spieler 12",11,1.0110119999999998,12,4,"Spieler 07","-","Spieler 13",null,null,{"$f":"DB39","v":7},4,{"$f":"IF(AND(DC40=1,MOD(DB40,2)=0),MAX(TeilnNr),IF(MOD(DC40,2)=0,IF(MAX(TeilnNr)/2-DC40+1-(DB40-MAX(TeilnNr)/2-1)>=1,MAX(TeilnNr)/2-DC40+1-(DB40-MAX(TeilnNr)/2-1),MAX(TeilnNr)/2-DC40+1-(DB40-MAX(TeilnNr)/2-1)+MAX(TeilnNr)-1),IF(DC40-(DB40-1)>=1,DC40-(DB40-1),DC40-(DB40-1)+MAX(TeilnNr)-1)))","v":7},{"$f":"IF(AND(DC40=1,MOD(DB40,2)<>0),MAX(TeilnNr),IF(MOD(DC40,2)<>0,IF(MAX(TeilnNr)/2-DC40+1-(DB40-MAX(TeilnNr)/2-1)>=1,MAX(TeilnNr)/2-DC40+1-(DB40-MAX(TeilnNr)/2-1),MAX(TeilnNr)/2-DC40+1-(DB40-MAX(TeilnNr)/2-1)+MAX(TeilnNr)-1),IF(DC40-(DB40-1)>=1,DC40-(DB40-1),DC40-(DB40-1)+MAX(TeilnNr)-1)))","v":13},"","",{"$f":"ADDRESS(ROW(Teilnehmer)+DD40,COLUMN(Teilnehmer)+DE40)","v":"$P$35"},{"$f":"ADDRESS(ROW(Teilnehmer)+DE40,COLUMN(Teilnehmer)+DD40)","v":"$J$41"},4,"Spieler 06","-","Spieler 12",null,null,{"$f":"DP39","v":8},4,{"$f":"IF(AND(DQ40=1,MOD(DP40,2)=0),MAX(TeilnNr),IF(MOD(DQ40,2)=0,IF(MAX(TeilnNr)/2-DQ40+1-(DP40-MAX(TeilnNr)/2-1)>=1,MAX(TeilnNr)/2-DQ40+1-(DP40-MAX(TeilnNr)/2-1),MAX(TeilnNr)/2-DQ40+1-(DP40-MAX(TeilnNr)/2-1)+MAX(TeilnNr)-1),IF(DQ40-(DP40-1)>=1,DQ40-(DP40-1),DQ40-(DP40-1)+MAX(TeilnNr)-1)))","v":6},{"$f":"IF(AND(DQ40=1,MOD(DP40,2)<>0),MAX(TeilnNr),IF(MOD(DQ40,2)<>0,IF(MAX(TeilnNr)/2-DQ40+1-(DP40-MAX(TeilnNr)/2-1)>=1,MAX(TeilnNr)/2-DQ40+1-(DP40-MAX(TeilnNr)/2-1),MAX(TeilnNr)/2-DQ40+1-(DP40-MAX(TeilnNr)/2-1)+MAX(TeilnNr)-1),IF(DQ40-(DP40-1)>=1,DQ40-(DP40-1),DQ40-(DP40-1)+MAX(TeilnNr)-1)))","v":12},"","",{"$f":"ADDRESS(ROW(Teilnehmer)+DR40,COLUMN(Teilnehmer)+DS40)","v":"$O$34"},{"$f":"ADDRESS(ROW(Teilnehmer)+DS40,COLUMN(Teilnehmer)+DR40)","v":"$I$40"},4,{"$f":"CY40","v":"Spieler 13"},"-",{"$f":"CW40","v":"Spieler 07"},null,4,{"$f":"DM40","v":"Spieler 12"},"-",{"$f":"DK40","v":"Spieler 06"}]
[null,13,null,"","","","","","","","","","","","","","","","",0,0,0,null,0,0,1,null,0,0,0,0,0,0,0,0,0,0,0,0,0,0,0,0,0,null,0,0,0,0,0,0,0,0,0,0,0,0,0,0,0,0,0,null,0,1,1,1,1,1,10101,101,1010101,10101,10101,1010101,101,101,1010101,10101,{"$f":"INDEX($BR41:$CA41,1,WertungskriterienA)","v":10101},{"$f":"SUM((TRANSPOSE($CB$29:$CB$44)=CB41)*$AB41:$AQ41)","v":0},1,10101,101010101,10101,101010101,10101010101,101010101,1010101010101,1010101010101,101010101,10101010101,{"$f":"INDEX(CE41:CN41,1,WertungskriterienA)","v":101010101},1,false,"Spieler 13",12,1.0120130000000001,13,5,"Spieler 14","-","Spieler 06",null,null,{"$f":"DB40","v":7},5,{"$f":"IF(AND(DC41=1,MOD(DB41,2)=0),MAX(TeilnNr),IF(MOD(DC41,2)=0,IF(MAX(TeilnNr)/2-DC41+1-(DB41-MAX(TeilnNr)/2-1)>=1,MAX(TeilnNr)/2-DC41+1-(DB41-MAX(TeilnNr)/2-1),MAX(TeilnNr)/2-DC41+1-(DB41-MAX(TeilnNr)/2-1)+MAX(TeilnNr)-1),IF(DC41-(DB41-1)>=1,DC41-(DB41-1),DC41-(DB41-1)+MAX(TeilnNr)-1)))","v":14},{"$f":"IF(AND(DC41=1,MOD(DB41,2)<>0),MAX(TeilnNr),IF(MOD(DC41,2)<>0,IF(MAX(TeilnNr)/2-DC41+1-(DB41-MAX(TeilnNr)/2-1)>=1,MAX(TeilnNr)/2-DC41+1-(DB41-MAX(TeilnNr)/2-1),MAX(TeilnNr)/2-DC41+1-(DB41-MAX(TeilnNr)/2-1)+MAX(TeilnNr)-1),IF(DC41-(DB41-1)>=1,DC41-(DB41-1),DC41-(DB41-1)+MAX(TeilnNr)-1)))","v":6},"","",{"$f":"ADDRESS(ROW(Teilnehmer)+DD41,COLUMN(Teilnehmer)+DE41)","v":"$I$42"},{"$f":"ADDRESS(ROW(Teilnehmer)+DE41,COLUMN(Teilnehmer)+DD41)","v":"$Q$34"},5,"Spieler 13","-","Spieler 05",null,null,8,5,{"$f":"IF(AND(DQ41=1,MOD(DP41,2)=0),MAX(TeilnNr),IF(MOD(DQ41,2)=0,IF(MAX(TeilnNr)/2-DQ41+1-(DP41-MAX(TeilnNr)/2-1)>=1,MAX(TeilnNr)/2-DQ41+1-(DP41-MAX(TeilnNr)/2-1),MAX(TeilnNr)/2-DQ41+1-(DP41-MAX(TeilnNr)/2-1)+MAX(TeilnNr)-1),IF(DQ41-(DP41-1)>=1,DQ41-(DP41-1),DQ41-(DP41-1)+MAX(TeilnNr)-1)))","v":13},{"$f":"IF(AND(DQ41=1,MOD(DP41,2)<>0),MAX(TeilnNr),IF(MOD(DQ41,2)<>0,IF(MAX(TeilnNr)/2-DQ41+1-(DP41-MAX(TeilnNr)/2-1)>=1,MAX(TeilnNr)/2-DQ41+1-(DP41-MAX(TeilnNr)/2-1),MAX(TeilnNr)/2-DQ41+1-(DP41-MAX(TeilnNr)/2-1)+MAX(TeilnNr)-1),IF(DQ41-(DP41-1)>=1,DQ41-(DP41-1),DQ41-(DP41-1)+MAX(TeilnNr)-1)))","v":5},"","",{"$f":"ADDRESS(ROW(Teilnehmer)+DR41,COLUMN(Teilnehmer)+DS41)","v":"$H$41"},{"$f":"ADDRESS(ROW(Teilnehmer)+DS41,COLUMN(Teilnehmer)+DR41)","v":"$P$33"},5,"Spieler 14","-",{"$f":"CY41","v":"Spieler 06"},null,5,"Spieler 13","-",{"$f":"DM41","v":"Spieler 05"}]
[null,14,null,"","","","","","","","","","","","","","","","",0,0,0,null,0,0,1,null,0,0,0,0,0,0,0,0,0,0,0,0,0,0,0,0,0,null,0,0,0,0,0,0,0,0,0,0,0,0,0,0,0,0,0,null,0,1,1,1,1,1,10101,101,1010101,10101,10101,1010101,101,101,1010101,10101,{"$f":"INDEX($BR42:$CA42,1,WertungskriterienA)","v":10101},{"$f":"SUM((TRANSPOSE($CB$29:$CB$44)=CB42)*$AB42:$AQ42)","v":0},1,10101,101010101,10101,101010101,10101010101,101010101,1010101010101,1010101010101,101010101,10101010101,{"$f":"INDEX(CE42:CN42,1,WertungskriterienA)","v":101010101},1,false,"Spieler 14",13,1.0130139999999999,14,6,"Spieler 05","-","Spieler 15",null,null,{"$f":"DB41","v":7},6,{"$f":"IF(AND(DC42=1,MOD(DB42,2)=0),MAX(TeilnNr),IF(MOD(DC42,2)=0,IF(MAX(TeilnNr)/2-DC42+1-(DB42-MAX(TeilnNr)/2-1)>=1,MAX(TeilnNr)/2-DC42+1-(DB42-MAX(TeilnNr)/2-1),MAX(TeilnNr)/2-DC42+1-(DB42-MAX(TeilnNr)/2-1)+MAX(TeilnNr)-1),IF(DC42-(DB42-1)>=1,DC42-(DB42-1),DC42-(DB42-1)+MAX(TeilnNr)-1)))","v":5},{"$f":"IF(AND(DC42=1,MOD(DB42,2)<>0),MAX(TeilnNr),IF(MOD(DC42,2)<>0,IF(MAX(TeilnNr)/2-DC42+1-(DB42-MAX(TeilnNr)/2-1)>=1,MAX(TeilnNr)/2-DC42+1-(DB42-MAX(TeilnNr)/2-1),MAX(TeilnNr)/2-DC42+1-(DB42-MAX(TeilnNr)/2-1)+MAX(TeilnNr)-1),IF(DC42-(DB42-1)>=1,DC42-(DB42-1),DC42-(DB42-1)+MAX(TeilnNr)-1)))","v":15},"","",{"$f":"ADDRESS(ROW(Teilnehmer)+DD42,COLUMN(Teilnehmer)+DE42)","v":"$R$33"},{"$f":"ADDRESS(ROW(Teilnehmer)+DE42,COLUMN(Teilnehmer)+DD42)","v":"$H$43"},6,"Spieler 04","-","Spieler 14",null,null,8,6,{"$f":"IF(AND(DQ42=1,MOD(DP42,2)=0),MAX(TeilnNr),IF(MOD(DQ42,2)=0,IF(MAX(TeilnNr)/2-DQ42+1-(DP42-MAX(TeilnNr)/2-1)>=1,MAX(TeilnNr)/2-DQ42+1-(DP42-MAX(TeilnNr)/2-1),MAX(TeilnNr)/2-DQ42+1-(DP42-MAX(TeilnNr)/2-1)+MAX(TeilnNr)-1),IF(DQ42-(DP42-1)>=1,DQ42-(DP42-1),DQ42-(DP42-1)+MAX(TeilnNr)-1)))","v":4},{"$f":"IF(AND(DQ42=1,MOD(DP42,2)<>0),MAX(TeilnNr),IF(MOD(DQ42,2)<>0,IF(MAX(TeilnNr)/2-DQ42+1-(DP42-MAX(TeilnNr)/2-1)>=1,MAX(TeilnNr)/2-DQ42+1-(DP42-MAX(TeilnNr)/2-1),MAX(TeilnNr)/2-DQ42+1-(DP42-MAX(TeilnNr)/2-1)+MAX(TeilnNr)-1),IF(DQ42-(DP42-1)>=1,DQ42-(DP42-1),DQ42-(DP42-1)+MAX(TeilnNr)-1)))","v":14},"","",{"$f":"ADDRESS(ROW(Teilnehmer)+DR42,COLUMN(Teilnehmer)+DS42)","v":"$Q$32"},{"$f":"ADDRESS(ROW(Teilnehmer)+DS42,COLUMN(Teilnehmer)+DR42)","v":"$G$42"},6,{"$f":"CY42","v":"Spieler 15"},"-",{"$f":"CW42","v":"Spieler 05"},null,6,{"$f":"DM42","v":"Spieler 14"},"-",{"$f":"DK42","v":"Spieler 04"}]
[null,15,null,"","","","","","","","","","","","","","","","",0,0,0,null,0,0,1,null,0,0,0,0,0,0,0,0,0,0,0,0,0,0,0,0,0,null,0,0,0,0,0,0,0,0,0,0,0,0,0,0,0,0,0,null,0,1,1,1,1,1,10101,101,1010101,10101,10101,1010101,101,101,1010101,10101,{"$f":"INDEX($BR43:$CA43,1,WertungskriterienA)","v":10101},{"$f":"SUM((TRANSPOSE($CB$29:$CB$44)=CB43)*$AB43:$AQ43)","v":0},1,10101,101010101,10101,101010101,10101010101,101010101,1010101010101,1010101010101,101010101,10101010101,{"$f":"INDEX(CE43:CN43,1,WertungskriterienA)","v":101010101},1,false,"Spieler 15",14,1.0140150000000001,15,7,"Spieler 01","-","Spieler 04",null,null,{"$f":"DB42","v":7},7,{"$f":"IF(AND(DC43=1,MOD(DB43,2)=0),MAX(TeilnNr),IF(MOD(DC43,2)=0,IF(MAX(TeilnNr)/2-DC43+1-(DB43-MAX(TeilnNr)/2-1)>=1,MAX(TeilnNr)/2-DC43+1-(DB43-MAX(TeilnNr)/2-1),MAX(TeilnNr)/2-DC43+1-(DB43-MAX(TeilnNr)/2-1)+MAX(TeilnNr)-1),IF(DC43-(DB43-1)>=1,DC43-(DB43-1),DC43-(DB43-1)+MAX(TeilnNr)-1)))","v":1},{"$f":"IF(AND(DC43=1,MOD(DB43,2)<>0),MAX(TeilnNr),IF(MOD(DC43,2)<>0,IF(MAX(TeilnNr)/2-DC43+1-(DB43-MAX(TeilnNr)/2-1)>=1,MAX(TeilnNr)/2-DC43+1-(DB43-MAX(TeilnNr)/2-1),MAX(TeilnNr)/2-DC43+1-(DB43-MAX(TeilnNr)/2-1)+MAX(TeilnNr)-1),IF(DC43-(DB43-1)>=1,DC43-(DB43-1),DC43-(DB43-1)+MAX(TeilnNr)-1)))","v":4},"","",{"$f":"ADDRESS(ROW(Teilnehmer)+DD43,COLUMN(Teilnehmer)+DE43)","v":"$G$29"},{"$f":"ADDRESS(ROW(Teilnehmer)+DE43,COLUMN(Teilnehmer)+DD43)","v":"$D$32"},7,"Spieler 15","-","Spieler 03",null,null,8,7,{"$f":"IF(AND(DQ43=1,MOD(DP43,2)=0),MAX(TeilnNr),IF(MOD(DQ43,2)=0,IF(MAX(TeilnNr)/2-DQ43+1-(DP43-MAX(TeilnNr)/2-1)>=1,MAX(TeilnNr)/2-DQ43+1-(DP43-MAX(TeilnNr)/2-1),MAX(TeilnNr)/2-DQ43+1-(DP43-MAX(TeilnNr)/2-1)+MAX(TeilnNr)-1),IF(DQ43-(DP43-1)>=1,DQ43-(DP43-1),DQ43-(DP43-1)+MAX(TeilnNr)-1)))","v":15},{"$f":"IF(AND(DQ43=1,MOD(DP43,2)<>0),MAX(TeilnNr),IF(MOD(DQ43,2)<>0,IF(MAX(TeilnNr)/2-DQ43+1-(DP43-MAX(TeilnNr)/2-1)>=1,MAX(TeilnNr)/2-DQ43+1-(DP43-MAX(TeilnNr)/2-1),MAX(TeilnNr)/2-DQ43+1-(DP43-MAX(TeilnNr)/2-1)+MAX(TeilnNr)-1),IF(DQ43-(DP43-1)>=1,DQ43-(DP43-1),DQ43-(DP43-1)+MAX(TeilnNr)-1)))","v":3},"","",{"$f":"ADDRESS(ROW(Teilnehmer)+DR43,COLUMN(Teilnehmer)+DS43)","v":"$F$43"},{"$f":"ADDRESS(ROW(Teilnehmer)+DS43,COLUMN(Teilnehmer)+DR43)","v":"$R$31"},7,"Spieler 01","-",{"$f":"CY43","v":"Spieler 04"},null,7,"Spieler 15","-",{"$f":"DM43","v":"Spieler 03"}]
[null,16,null,"","","","","","","","","","","","","","","","",0,0,0,null,0,0,1,null,0,0,0,0,0,0,0,0,0,0,0,0,0,0,0,0,0,null,0,0,0,0,0,0,0,0,0,0,0,0,0,0,0,0,0,null,0,1,1,1,1,1,10101,101,1010101,10101,10101,1010101,101,101,1010101,10101,{"$f":"INDEX($BR44:$CA44,1,WertungskriterienA)","v":10101},{"$f":"SUM((TRANSPOSE($CB$29:$CB$44)=CB44)*$AB44:$AQ44)","v":0},1,10101,101010101,10101,101010101,10101010101,101010101,1010101010101,1010101010101,101010101,10101010101,{"$f":"INDEX(CE44:CN44,1,WertungskriterienA)","v":101010101},1,false,"Spieler 16",15,1.0150159999999999,16,8,"Spieler 03","-","Spieler 02",null,null,7,8,{"$f":"IF(AND(DC44=1,MOD(DB44,2)=0),MAX(TeilnNr),IF(MOD(DC44,2)=0,IF(MAX(TeilnNr)/2-DC44+1-(DB44-MAX(TeilnNr)/2-1)>=1,MAX(TeilnNr)/2-DC44+1-(DB44-MAX(TeilnNr)/2-1),MAX(TeilnNr)/2-DC44+1-(DB44-MAX(TeilnNr)/2-1)+MAX(TeilnNr)-1),IF(DC44-(DB44-1)>=1,DC44-(DB44-1),DC44-(DB44-1)+MAX(TeilnNr)-1)))","v":3},{"$f":"IF(AND(DC44=1,MOD(DB44,2)<>0),MAX(TeilnNr),IF(MOD(DC44,2)<>0,IF(MAX(TeilnNr)/2-DC44+1-(DB44-MAX(TeilnNr)/2-1)>=1,MAX(TeilnNr)/2-DC44+1-(DB44-MAX(TeilnNr)/2-1),MAX(TeilnNr)/2-DC44+1-(DB44-MAX(TeilnNr)/2-1)+MAX(TeilnNr)-1),IF(DC44-(DB44-1)>=1,DC44-(DB44-1),DC44-(DB44-1)+MAX(TeilnNr)-1)))","v":2},"","",{"$f":"ADDRESS(ROW(Teilnehmer)+DD44,COLUMN(Teilnehmer)+DE44)","v":"$E$31"},{"$f":"ADDRESS(ROW(Teilnehmer)+DE44,COLUMN(Teilnehmer)+DD44)","v":"$F$30"},8,"Spieler 02","-","Spieler 01",null,null,8,8,{"$f":"IF(AND(DQ44=1,MOD(DP44,2)=0),MAX(TeilnNr),IF(MOD(DQ44,2)=0,IF(MAX(TeilnNr)/2-DQ44+1-(DP44-MAX(TeilnNr)/2-1)>=1,MAX(TeilnNr)/2-DQ44+1-(DP44-MAX(TeilnNr)/2-1),MAX(TeilnNr)/2-DQ44+1-(DP44-MAX(TeilnNr)/2-1)+MAX(TeilnNr)-1),IF(DQ44-(DP44-1)>=1,DQ44-(DP44-1),DQ44-(DP44-1)+MAX(TeilnNr)-1)))","v":2},{"$f":"IF(AND(DQ44=1,MOD(DP44,2)<>0),MAX(TeilnNr),IF(MOD(DQ44,2)<>0,IF(MAX(TeilnNr)/2-DQ44+1-(DP44-MAX(TeilnNr)/2-1)>=1,MAX(TeilnNr)/2-DQ44+1-(DP44-MAX(TeilnNr)/2-1),MAX(TeilnNr)/2-DQ44+1-(DP44-MAX(TeilnNr)/2-1)+MAX(TeilnNr)-1),IF(DQ44-(DP44-1)>=1,DQ44-(DP44-1),DQ44-(DP44-1)+MAX(TeilnNr)-1)))","v":1},"","",{"$f":"ADDRESS(ROW(Teilnehmer)+DR44,COLUMN(Teilnehmer)+DS44)","v":"$D$30"},{"$f":"ADDRESS(ROW(Teilnehmer)+DS44,COLUMN(Teilnehmer)+DR44)","v":"$E$29"},8,{"$f":"CY44","v":"Spieler 02"},"-",{"$f":"CW44","v":"Spieler 03"},null,8,{"$f":"DM44","v":"Spieler 01"},"-",{"$f":"DK44","v":"Spieler 02"}]
[null,null,{"$f":"\"-> bei nur \"&MAX(TeilnNr)-1&\" Spielern an Pos. \"&MAX(TeilnNr)&\" einen Stern (*) eintragen\"","v":"-> bei nur 15 Spielern an Pos. 16 einen Stern (*) eintragen"},null,null,null,null,null,null,null,null,null,null,null,null,null,null,null,null,null,{"$f":"SUM(U29:U44)","v":0},null,null,{"$f":"SUM(X29:X44)","v":0},{"$f":"SUM(Y29:Y44)","v":0}]
[null,null,null,null,null,null,null,null,null,null,null,null,null,null,null,null,null,null,null,null,null,null,null,null,null,null,null,null,null,null,null,null,null,null,null,null,null,null,null,null,null,null,null,null,null,null,null,null,null,null,null,null,null,null,null,null,null,null,null,null,null,null,null,null,null,null,null,null,null,null,null,null,null,null,null,null,null,null,null,null,null,null,null,null,null,null,null,null,null,null,null,null,null,null,null,null,null,null,null,null,{"$f":"CW36+2","v":9},null,null,null,null,"R","B","SpNr w","SpNr s","Res w","Res s",null,null,null,{"$f":"DK36+2","v":10},null,null,null,null,"R","B","SpNr w","SpNr s","Res w","Res s",null,null,null,{"$f":"CW46","v":9},1,null,null,null,{"$f":"DK46","v":10}]
[null,null,null,null,null,null,null,null,null,null,null,null,null,null,null,null,null,null,null,null,null,null,null,null,null,null,null,null,null,null,null,null,null,null,null,null,null,null,null,null,null,null,null,null,null,null,null,null,null,null,null,null,null,null,null,null,null,null,null,null,null,null,null,null,null,null,null,null,null,null,null,null,null,null,null,null,null,null,null,null,null,null,null,null,null,null,null,null,null,null,null,null,null,null,null,null,null,null,null,{"$f":"IF(OR(INDEX($CQ$29:$CQ$44,DD47),INDEX($CQ$29:$CQ$44,DE47)),0,1)","v":1},{"$f":"INDEX($CR$29:$CR$44,MATCH($DD47,TeilnNr,0))","v":"Spieler 08"},"-",{"$f":"INDEX($CR$29:$CR$44,MATCH($DE47,TeilnNr,0))","v":"Spieler 16"},null,null,{"$f":"CW46","v":9},1,{"$f":"IF(AND(DC47=1,MOD(DB47,2)=0),MAX(TeilnNr),IF(MOD(DC47,2)=0,IF(MAX(TeilnNr)/2-DC47+1-(DB47-MAX(TeilnNr)/2-1)>=1,MAX(TeilnNr)/2-DC47+1-(DB47-MAX(TeilnNr)/2-1),MAX(TeilnNr)/2-DC47+1-(DB47-MAX(TeilnNr)/2-1)+MAX(TeilnNr)-1),IF(DC47-(DB47-1)>=1,DC47-(DB47-1),DC47-(DB47-1)+MAX(TeilnNr)-1)))","v":8},{"$f":"IF(AND(DC47=1,MOD(DB47,2)<>0),MAX(TeilnNr),IF(MOD(DC47,2)<>0,IF(MAX(TeilnNr)/2-DC47+1-(DB47-MAX(TeilnNr)/2-1)>=1,MAX(TeilnNr)/2-DC47+1-(DB47-MAX(TeilnNr)/2-1),MAX(TeilnNr)/2-DC47+1-(DB47-MAX(TeilnNr)/2-1)+MAX(TeilnNr)-1),IF(DC47-(DB47-1)>=1,DC47-(DB47-1),DC47-(DB47-1)+MAX(TeilnNr)-1)))","v":16},{"$f":"IF(LEFT(DA47,1)=\"V\",\"\",LEFT(DA47,1))","v":""},{"$f":"IF(RIGHT(DA47,1)=\"V\",\"\",RIGHT(DA47,1))","v":""},{"$f":"ADDRESS(ROW(Teilnehmer)+DD47,COLUMN(Teilnehmer)+DE47)","v":"$S$36"},{"$f":"ADDRESS(ROW(Teilnehmer)+DE47,COLUMN(Teilnehmer)+DD47)","v":"$K$44"},{"$f":"IF(OR(INDEX($CQ$29:$CQ$44,DR47),INDEX($CQ$29:$CQ$44,DS47)),0,1)","v":1},{"$f":"INDEX($CR$29:$CR$44,MATCH($DR47,TeilnNr,0))","v":"Spieler 16"},"-",{"$f":"INDEX($CR$29:$CR$44,MATCH($DS47,TeilnNr,0))","v":"Spieler 07"},null,null,{"$f":"DK46","v":10},1,{"$f":"IF(AND(DQ47=1,MOD(DP47,2)=0),MAX(TeilnNr),IF(MOD(DQ47,2)=0,IF(MAX(TeilnNr)/2-DQ47+1-(DP47-MAX(TeilnNr)/2-1)>=1,MAX(TeilnNr)/2-DQ47+1-(DP47-MAX(TeilnNr)/2-1),MAX(TeilnNr)/2-DQ47+1-(DP47-MAX(TeilnNr)/2-1)+MAX(TeilnNr)-1),IF(DQ47-(DP47-1)>=1,DQ47-(DP47-1),DQ47-(DP47-1)+MAX(TeilnNr)-1)))","v":16},{"$f":"IF(AND(DQ47=1,MOD(DP47,2)<>0),MAX(TeilnNr),IF(MOD(DQ47,2)<>0,IF(MAX(TeilnNr)/2-DQ47+1-(DP47-MAX(TeilnNr)/2-1)>=1,MAX(TeilnNr)/2-DQ47+1-(DP47-MAX(TeilnNr)/2-1),MAX(TeilnNr)/2-DQ47+1-(DP47-MAX(TeilnNr)/2-1)+MAX(TeilnNr)-1),IF(DQ47-(DP47-1)>=1,DQ47-(DP47-1),DQ47-(DP47-1)+MAX(TeilnNr)-1)))","v":7},{"$f":"IF(LEFT(DO47,1)=\"V\",\"\",LEFT(DO47,1))","v":""},{"$f":"IF(RIGHT(DO47,1)=\"V\",\"\",RIGHT(DO47,1))","v":""},{"$f":"ADDRESS(ROW(Teilnehmer)+DR47,COLUMN(Teilnehmer)+DS47)","v":"$J$44"},{"$f":"ADDRESS(ROW(Teilnehmer)+DS47,COLUMN(Teilnehmer)+DR47)","v":"$S$35"},{"$f":"CV47","v":1},"Spieler 08","-",{"$f":"CY47","v":"Spieler 16"},null,{"$f":"DJ47","v":1},{"$f":"DM47","v":"Spieler 07"},"-",{"$f":"DK47","v":"Spieler 16"}]
[null,null,null,null,null,null,null,null,null,null,null,null,null,null,null,null,null,null,null,null,null,null,null,null,null,null,null,null,null,null,null,null,null,null,null,null,null,null,null,null,null,null,null,null,null,null,null,null,null,null,null,null,null,null,null,null,null,null,null,null,null,null,null,null,null,null,null,null,null,null,null,null,null,null,null,null,null,null,null,null,null,null,null,null,null,null,null,null,null,null,null,null,null,null,null,null,null,null,null,{"$f":"CV47+1","v":2},"Spieler 07","-","Spieler 09",null,null,{"$f":"DB47","v":9},{"$f":"DC47+1","v":2},7,9,"","","$L$35","$J$37",{"$f":"DJ47+1","v":2},"Spieler 06","-","Spieler 08",null,null,{"$f":"DP47","v":10},{"$f":"DQ47+1","v":2},6,8,"","","$K$34","$I$36",{"$f":"CV48","v":2},{"$f":"CY48","v":"Spieler 09"},"-",{"$f":"CW48","v":"Spieler 07"},null,2,"Spieler 08","-","Spieler 06"]
[null,null,null,null,null,null,null,null,null,null,null,null,null,null,null,null,null,null,null,null,null,null,null,null,null,null,null,null,null,null,null,null,null,null,null,null,null,null,null,null,null,null,null,null,null,null,null,null,null,null,null,null,null,null,null,null,null,null,null,null,null,null,null,null,null,null,null,null,null,null,null,null,null,null,null,null,null,null,null,null,null,null,null,null,null,null,null,null,null,null,null,null,null,null,null,null,null,null,null,{"$f":"CV48+1","v":3},"Spieler 10","-","Spieler 06",null,null,{"$f":"DB48","v":9},{"$f":"DC48+1","v":3},10,6,"","","$I$38","$M$34",{"$f":"DJ48+1","v":3},"Spieler 09","-","Spieler 05",null,null,{"$f":"DP48","v":10},{"$f":"DQ48+1","v":3},9,5,"","","$H$37","$L$33",3,"Spieler 10","-",{"$f":"CY49","v":"Spieler 06"},null,3,"Spieler 09","-",{"$f":"DM49","v":"Spieler 05"}]
[null,null,null,null,null,null,null,null,null,null,null,null,null,null,null,null,null,null,null,null,null,null,null,null,null,null,null,null,null,null,null,null,null,null,null,null,null,null,null,null,null,null,null,null,null,null,null,null,null,null,null,null,null,null,null,null,null,null,null,null,null,null,null,null,null,null,null,null,null,null,null,null,null,null,null,null,null,null,null,null,null,null,null,null,null,null,null,null,null,null,null,null,null,null,null,null,null,null,null,4,"Spieler 05","-","Spieler 11",null,null,{"$f":"DB49","v":9},4,5,11,"","","$N$33","$H$39",4,"Spieler 04","-","Spieler 10",null,null,{"$f":"DP49","v":10},4,4,10,"","","$M$32","$G$38",4,{"$f":"CY50","v":"Spieler 11"},"-",{"$f":"CW50","v":"Spieler 05"},null,4,{"$f":"DM50","v":"Spieler 10"},"-",{"$f":"DK50","v":"Spieler 04"}]
[null,null,null,null,null,null,null,null,null,null,null,null,null,null,null,null,null,null,null,null,null,null,null,null,null,null,null,null,null,null,null,null,null,null,null,null,null,null,null,null,null,null,null,null,null,null,null,null,null,null,null,null,null,null,null,null,null,null,null,null,null,null,null,null,null,null,null,null,null,null,null,null,null,null,null,null,null,null,null,null,null,null,null,null,null,null,null,null,null,null,null,null,null,null,null,null,null,null,null,5,"Spieler 12","-","Spieler 04",null,null,{"$f":"DB50","v":9},5,12,4,"","","$G$40","$O$32",5,"Spieler 11","-","Spieler 03",null,null,10,5,11,3,"","","$F$39","$N$31",5,"Spieler 12","-",{"$f":"CY51","v":"Spieler 04"},null,5,"Spieler 11","-",{"$f":"DM51","v":"Spieler 03"}]
[null,null,null,null,null,null,null,null,null,null,null,null,null,null,null,null,null,null,null,null,null,null,null,null,null,null,null,null,null,null,null,null,null,null,null,null,null,null,null,null,null,null,null,null,null,null,null,null,null,null,null,null,null,null,null,null,null,null,null,null,null,null,null,null,null,null,null,null,null,null,null,null,null,null,null,null,null,null,null,null,null,null,null,null,null,null,null,null,null,null,null,null,null,null,null,null,null,null,null,6,"Spieler 03","-","Spieler 13",null,null,{"$f":"DB51","v":9},6,3,13,"","","$P$31","$F$41",6,"Spieler 02","-","Spieler 12",null,null,10,6,2,12,"","","$O$30","$E$40",6,{"$f":"CY52","v":"Spieler 13"},"-",{"$f":"CW52","v":"Spieler 03"},null,6,{"$f":"DM52","v":"Spieler 12"},"-",{"$f":"DK52","v":"Spieler 02"}]
[null,null,null,null,null,null,null,null,null,null,null,null,null,null,null,null,null,null,null,null,null,null,null,null,null,null,null,null,null,null,null,null,null,null,null,null,null,null,null,null,null,null,null,null,null,null,null,null,null,null,null,null,null,null,null,null,null,null,null,null,null,null,null,null,null,null,null,null,null,null,null,null,null,null,null,null,null,null,null,null,null,null,null,null,null,null,null,null,null,null,null,null,null,null,null,null,null,null,null,7,"Spieler 14","-","Spieler 02",null,null,{"$f":"DB52","v":9},7,14,2,"","",{"$f":"ADDRESS(ROW(Teilnehmer)+DD53,COLUMN(Teilnehmer)+DE53)","v":"$E$42"},{"$f":"ADDRESS(ROW(Teilnehmer)+DE53,COLUMN(Teilnehmer)+DD53)","v":"$Q$30"},7,"Spieler 13","-","Spieler 01",null,null,10,7,13,1,"","",{"$f":"ADDRESS(ROW(Teilnehmer)+DR53,COLUMN(Teilnehmer)+DS53)","v":"$D$41"},{"$f":"ADDRESS(ROW(Teilnehmer)+DS53,COLUMN(Teilnehmer)+DR53)","v":"$P$29"},7,"Spieler 14","-",{"$f":"CY53","v":"Spieler 02"},null,7,"Spieler 13","-",{"$f":"DM53","v":"Spieler 01"}]
[null,null,null,null,null,null,null,null,null,null,null,null,null,null,null,null,null,null,null,null,null,null,null,null,null,null,null,null,null,null,null,null,null,null,null,null,null,null,null,null,null,null,null,null,null,null,null,null,null,null,null,null,null,null,null,null,null,null,null,null,null,null,null,null,null,null,null,null,null,null,null,null,null,null,null,null,null,null,null,null,null,null,null,null,null,null,null,null,null,null,null,null,null,null,null,null,null,null,null,8,"Spieler 01","-","Spieler 15",null,null,9,8,1,15,"","","$R$29","$D$43",8,"Spieler 15","-","Spieler 14",null,null,10,8,15,14,"","","$Q$43","$R$42",8,{"$f":"CY54","v":"Spieler 15"},"-",{"$f":"CW54","v":"Spieler 01"},null,8,{"$f":"DM54","v":"Spieler 14"},"-",{"$f":"DK54","v":"Spieler 15"}]
[]
[null,null,null,null,null,null,null,null,null,null,null,null,null,null,null,null,null,null,null,null,null,null,null,null,null,null,null,null,null,null,null,null,null,null,null,null,null,null,null,null,null,null,null,null,null,null,null,null,null,null,null,null,null,null,null,null,null,null,null,null,null,null,null,null,null,null,null,null,null,null,null,null,null,null,null,null,null,null,null,null,null,null,null,null,null,null,null,null,null,null,null,null,null,null,null,null,null,null,null,null,{"$f":"CW46+2","v":11},null,null,null,null,"R","B","SpNr w","SpNr s","Res w","Res s",null,null,null,{"$f":"DK46+2","v":12},null,null,null,null,"R","B","SpNr w","SpNr s","Res w","Res s",null,null,null,{"$f":"CW56","v":11},1,null,null,null,{"$f":"DK56","v":12}]
[null,null,null,null,null,null,null,null,null,null,null,null,null,null,null,null,null,null,null,null,null,null,null,null,null,null,null,null,null,null,null,null,null,null,null,null,null,null,null,null,null,null,null,null,null,null,null,null,null,null,null,null,null,null,null,null,null,null,null,null,null,null,null,null,null,null,null,null,null,null,null,null,null,null,null,null,null,null,null,null,null,null,null,null,null,null,null,null,null,null,null,null,null,null,null,null,null,null,null,{"$f":"IF(OR(INDEX($CQ$29:$CQ$44,DD57),INDEX($CQ$29:$CQ$44,DE57)),0,1)","v":1},{"$f":"INDEX($CR$29:$CR$44,MATCH($DD57,TeilnNr,0))","v":"Spieler 06"},"-",{"$f":"INDEX($CR$29:$CR$44,MATCH($DE57,TeilnNr,0))","v":"Spieler 16"},null,null,{"$f":"CW56","v":11},1,{"$f":"IF(AND(DC57=1,MOD(DB57,2)=0),MAX(TeilnNr),IF(MOD(DC57,2)=0,IF(MAX(TeilnNr)/2-DC57+1-(DB57-MAX(TeilnNr)/2-1)>=1,MAX(TeilnNr)/2-DC57+1-(DB57-MAX(TeilnNr)/2-1),MAX(TeilnNr)/2-DC57+1-(DB57-MAX(TeilnNr)/2-1)+MAX(TeilnNr)-1),IF(DC57-(DB57-1)>=1,DC57-(DB57-1),DC57-(DB57-1)+MAX(TeilnNr)-1)))","v":6},{"$f":"IF(AND(DC57=1,MOD(DB57,2)<>0),MAX(TeilnNr),IF(MOD(DC57,2)<>0,IF(MAX(TeilnNr)/2-DC57+1-(DB57-MAX(TeilnNr)/2-1)>=1,MAX(TeilnNr)/2-DC57+1-(DB57-MAX(TeilnNr)/2-1),MAX(TeilnNr)/2-DC57+1-(DB57-MAX(TeilnNr)/2-1)+MAX(TeilnNr)-1),IF(DC57-(DB57-1)>=1,DC57-(DB57-1),DC57-(DB57-1)+MAX(TeilnNr)-1)))","v":16},{"$f":"IF(LEFT(DA57,1)=\"V\",\"\",LEFT(DA57,1))","v":""},{"$f":"IF(RIGHT(DA57,1)=\"V\",\"\",RIGHT(DA57,1))","v":""},{"$f":"ADDRESS(ROW(Teilnehmer)+DD57,COLUMN(Teilnehmer)+DE57)","v":"$S$34"},{"$f":"ADDRESS(ROW(Teilnehmer)+DE57,COLUMN(Teilnehmer)+DD57)","v":"$I$44"},{"$f":"IF(OR(INDEX($CQ$29:$CQ$44,DR57),INDEX($CQ$29:$CQ$44,DS57)),0,1)","v":1},{"$f":"INDEX($CR$29:$CR$44,MATCH($DR57,TeilnNr,0))","v":"Spieler 16"},"-",{"$f":"INDEX($CR$29:$CR$44,MATCH($DS57,TeilnNr,0))","v":"Spieler 05"},null,null,{"$f":"DK56","v":12},1,{"$f":"IF(AND(DQ57=1,MOD(DP57,2)=0),MAX(TeilnNr),IF(MOD(DQ57,2)=0,IF(MAX(TeilnNr)/2-DQ57+1-(DP57-MAX(TeilnNr)/2-1)>=1,MAX(TeilnNr)/2-DQ57+1-(DP57-MAX(TeilnNr)/2-1),MAX(TeilnNr)/2-DQ57+1-(DP57-MAX(TeilnNr)/2-1)+MAX(TeilnNr)-1),IF(DQ57-(DP57-1)>=1,DQ57-(DP57-1),DQ57-(DP57-1)+MAX(TeilnNr)-1)))","v":16},{"$f":"IF(AND(DQ57=1,MOD(DP57,2)<>0),MAX(TeilnNr),IF(MOD(DQ57,2)<>0,IF(MAX(TeilnNr)/2-DQ57+1-(DP57-MAX(TeilnNr)/2-1)>=1,MAX(TeilnNr)/2-DQ57+1-(DP57-MAX(TeilnNr)/2-1),MAX(TeilnNr)/2-DQ57+1-(DP57-MAX(TeilnNr)/2-1)+MAX(TeilnNr)-1),IF(DQ57-(DP57-1)>=1,DQ57-(DP57-1),DQ57-(DP57-1)+MAX(TeilnNr)-1)))","v":5},{"$f":"IF(LEFT(DO57,1)=\"V\",\"\",LEFT(DO57,1))","v":""},{"$f":"IF(RIGHT(DO57,1)=\"V\",\"\",RIGHT(DO57,1))","v":""},{"$f":"ADDRESS(ROW(Teilnehmer)+DR57,COLUMN(Teilnehmer)+DS57)","v":"$H$44"},{"$f":"ADDRESS(ROW(Teilnehmer)+DS57,COLUMN(Teilnehmer)+DR57)","v":"$S$33"},{"$f":"CV57","v":1},"Spieler 06","-",{"$f":"CY57","v":"Spieler 16"},null,{"$f":"DJ57","v":1},{"$f":"DM57","v":"Spieler 05"},"-",{"$f":"DK57","v":"Spieler 16"}]
[null,null,null,null,null,null,null,null,null,null,null,null,null,null,null,null,null,null,null,null,null,null,null,null,null,null,null,null,null,null,null,null,null,null,null,null,null,null,null,null,null,null,null,null,null,null,null,null,null,null,null,null,null,null,null,null,null,null,null,null,null,null,null,null,null,null,null,null,null,null,null,null,null,null,null,null,null,null,null,null,null,null,null,null,null,null,null,null,null,null,null,null,null,null,null,null,null,null,null,{"$f":"CV57+1","v":2},"Spieler 05","-","Spieler 07",null,null,{"$f":"DB57","v":11},{"$f":"DC57+1","v":2},5,7,"","","$J$33","$H$35",{"$f":"DJ57+1","v":2},"Spieler 04","-","Spieler 06",null,null,{"$f":"DP57","v":12},{"$f":"DQ57+1","v":2},4,6,"","","$I$32","$G$34",{"$f":"CV58","v":2},{"$f":"CY58","v":"Spieler 07"},"-",{"$f":"CW58","v":"Spieler 05"},null,2,"Spieler 06","-","Spieler 04"]
[null,null,null,null,null,null,null,null,null,null,null,null,null,null,null,null,null,null,null,null,null,null,null,null,null,null,null,null,null,null,null,null,null,null,null,null,null,null,null,null,null,null,null,null,null,null,null,null,null,null,null,null,null,null,null,null,null,null,null,null,null,null,null,null,null,null,null,null,null,null,null,null,null,null,null,null,null,null,null,null,null,null,null,null,null,null,null,null,null,null,null,null,null,null,null,null,null,null,null,{"$f":"CV58+1","v":3},"Spieler 08","-","Spieler 04",null,null,{"$f":"DB58","v":11},{"$f":"DC58+1","v":3},8,4,"","","$G$36","$K$32",{"$f":"DJ58+1","v":3},"Spieler 07","-","Spieler 03",null,null,{"$f":"DP58","v":12},{"$f":"DQ58+1","v":3},7,3,"","","$F$35","$J$31",3,"Spieler 08","-",{"$f":"CY59","v":"Spieler 04"},null,3,"Spieler 07","-",{"$f":"DM59","v":"Spieler 03"}]
[null,null,null,null,null,null,null,null,null,null,null,null,null,null,null,null,null,null,null,null,null,null,null,null,null,null,null,null,null,null,null,null,null,null,null,null,null,null,null,null,null,null,null,null,null,null,null,null,null,null,null,null,null,null,null,null,null,null,null,null,null,null,null,null,null,null,null,null,null,null,null,null,null,null,null,null,null,null,null,null,null,null,null,null,null,null,null,null,null,null,null,null,null,null,null,null,null,null,null,4,"Spieler 03","-","Spieler 09",null,null,{"$f":"DB59","v":11},4,3,9,"","","$L$31","$F$37",4,"Spieler 02","-","Spieler 08",null,null,{"$f":"DP59","v":12},4,2,8,"","","$K$30","$E$36",4,{"$f":"CY60","v":"Spieler 09"},"-",{"$f":"CW60","v":"Spieler 03"},null,4,{"$f":"DM60","v":"Spieler 08"},"-",{"$f":"DK60","v":"Spieler 02"}]
[null,null,null,null,null,null,null,null,null,null,null,null,null,null,null,null,null,null,null,null,null,null,null,null,null,null,null,null,null,null,null,null,null,null,null,null,null,null,null,null,null,null,null,null,null,null,null,null,null,null,null,null,null,null,null,null,null,null,null,null,null,null,null,null,null,null,null,null,null,null,null,null,null,null,null,null,null,null,null,null,null,null,null,null,null,null,null,null,null,null,null,null,null,null,null,null,null,null,null,5,"Spieler 10","-","Spieler 02",null,null,{"$f":"DB60","v":11},5,10,2,"","","$E$38","$M$30",5,"Spieler 09","-","Spieler 01",null,null,12,5,9,1,"","","$D$37","$L$29",5,"Spieler 10","-",{"$f":"CY61","v":"Spieler 02"},null,5,"Spieler 09","-",{"$f":"DM61","v":"Spieler 01"}]
[null,null,null,null,null,null,null,null,null,null,null,null,null,null,null,null,null,null,null,null,null,null,null,null,null,null,null,null,null,null,null,null,null,null,null,null,null,null,null,null,null,null,null,null,null,null,null,null,null,null,null,null,null,null,null,null,null,null,null,null,null,null,null,null,null,null,null,null,null,null,null,null,null,null,null,null,null,null,null,null,null,null,null,null,null,null,null,null,null,null,null,null,null,null,null,null,null,null,null,6,"Spieler 01","-","Spieler 11",null,null,{"$f":"DB61","v":11},6,1,11,"","","$N$29","$D$39",6,"Spieler 15","-","Spieler 10",null,null,12,6,15,10,"","","$M$43","$R$38",6,{"$f":"CY62","v":"Spieler 11"},"-",{"$f":"CW62","v":"Spieler 01"},null,6,{"$f":"DM62","v":"Spieler 10"},"-",{"$f":"DK62","v":"Spieler 15"}]
[null,null,null,null,null,null,null,null,null,null,null,null,null,null,null,null,null,null,null,null,null,null,null,null,null,null,null,null,null,null,null,null,null,null,null,null,null,null,null,null,null,null,null,null,null,null,null,null,null,null,null,null,null,null,null,null,null,null,null,null,null,null,null,null,null,null,null,null,null,null,null,null,null,null,null,null,null,null,null,null,null,null,null,null,null,null,null,null,null,null,null,null,null,null,null,null,null,null,null,7,"Spieler 12","-","Spieler 15",null,null,{"$f":"DB62","v":11},7,12,15,"","",{"$f":"ADDRESS(ROW(Teilnehmer)+DD63,COLUMN(Teilnehmer)+DE63)","v":"$R$40"},{"$f":"ADDRESS(ROW(Teilnehmer)+DE63,COLUMN(Teilnehmer)+DD63)","v":"$O$43"},7,"Spieler 11","-","Spieler 14",null,null,12,7,11,14,"","",{"$f":"ADDRESS(ROW(Teilnehmer)+DR63,COLUMN(Teilnehmer)+DS63)","v":"$Q$39"},{"$f":"ADDRESS(ROW(Teilnehmer)+DS63,COLUMN(Teilnehmer)+DR63)","v":"$N$42"},7,"Spieler 12","-",{"$f":"CY63","v":"Spieler 15"},null,7,"Spieler 11","-",{"$f":"DM63","v":"Spieler 14"}]
[null,null,null,null,null,null,null,null,null,null,null,null,null,null,null,null,null,null,null,null,null,null,null,null,null,null,null,null,null,null,null,null,null,null,null,null,null,null,null,null,null,null,null,null,null,null,null,null,null,null,null,null,null,null,null,null,null,null,null,null,null,null,null,null,null,null,null,null,null,null,null,null,null,null,null,null,null,null,null,null,null,null,null,null,null,null,null,null,null,null,null,null,null,null,null,null,null,null,null,8,"Spieler 14","-","Spieler 13",null,null,11,8,14,13,"","","$P$42","$Q$41",8,"Spieler 13","-","Spieler 12",null,null,12,8,13,12,"","","$O$41","$P$40",8,{"$f":"CY64","v":"Spieler 13"},"-",{"$f":"CW64","v":"Spieler 14"},null,8,{"$f":"DM64","v":"Spieler 12"},"-",{"$f":"DK64","v":"Spieler 13"}]
[]
[null,null,null,null,null,null,null,null,null,null,null,null,null,null,null,null,null,null,null,null,null,null,null,null,null,null,null,null,null,null,null,null,null,null,null,null,null,null,null,null,null,null,null,null,null,null,null,null,null,null,null,null,null,null,null,null,null,null,null,null,null,null,null,null,null,null,null,null,null,null,null,null,null,null,null,null,null,null,null,null,null,null,null,null,null,null,null,null,null,null,null,null,null,null,null,null,null,null,null,null,{"$f":"CW56+2","v":13},null,null,null,null,"R","B","SpNr w","SpNr s","Res w","Res s",null,null,null,{"$f":"DK56+2","v":14},null,null,null,null,"R","B","SpNr w","SpNr s","Res w","Res s",null,null,null,{"$f":"CW66","v":13},1,null,null,null,{"$f":"DK66","v":14}]
[null,null,null,null,null,null,null,null,null,null,null,null,null,null,null,null,null,null,null,null,null,null,null,null,null,null,null,null,null,null,null,null,null,null,null,null,null,null,null,null,null,null,null,null,null,null,null,null,null,null,null,null,null,null,null,null,null,null,null,null,null,null,null,null,null,null,null,null,null,null,null,null,null,null,null,null,null,null,null,null,null,null,null,null,null,null,null,null,null,null,null,null,null,null,null,null,null,null,null,{"$f":"IF(OR(INDEX($CQ$29:$CQ$44,DD67),INDEX($CQ$29:$CQ$44,DE67)),0,1)","v":1},{"$f":"INDEX($CR$29:$CR$44,MATCH($DD67,TeilnNr,0))","v":"Spieler 04"},"-",{"$f":"INDEX($CR$29:$CR$44,MATCH($DE67,TeilnNr,0))","v":"Spieler 16"},null,null,{"$f":"CW66","v":13},1,{"$f":"IF(AND(DC67=1,MOD(DB67,2)=0),MAX(TeilnNr),IF(MOD(DC67,2)=0,IF(MAX(TeilnNr)/2-DC67+1-(DB67-MAX(TeilnNr)/2-1)>=1,MAX(TeilnNr)/2-DC67+1-(DB67-MAX(TeilnNr)/2-1),MAX(TeilnNr)/2-DC67+1-(DB67-MAX(TeilnNr)/2-1)+MAX(TeilnNr)-1),IF(DC67-(DB67-1)>=1,DC67-(DB67-1),DC67-(DB67-1)+MAX(TeilnNr)-1)))","v":4},{"$f":"IF(AND(DC67=1,MOD(DB67,2)<>0),MAX(TeilnNr),IF(MOD(DC67,2)<>0,IF(MAX(TeilnNr)/2-DC67+1-(DB67-MAX(TeilnNr)/2-1)>=1,MAX(TeilnNr)/2-DC67+1-(DB67-MAX(TeilnNr)/2-1),MAX(TeilnNr)/2-DC67+1-(DB67-MAX(TeilnNr)/2-1)+MAX(TeilnNr)-1),IF(DC67-(DB67-1)>=1,DC67-(DB67-1),DC67-(DB67-1)+MAX(TeilnNr)-1)))","v":16},{"$f":"IF(LEFT(DA67,1)=\"V\",\"\",LEFT(DA67,1))","v":""},{"$f":"IF(RIGHT(DA67,1)=\"V\",\"\",RIGHT(DA67,1))","v":""},{"$f":"ADDRESS(ROW(Teilnehmer)+DD67,COLUMN(Teilnehmer)+DE67)","v":"$S$32"},{"$f":"ADDRESS(ROW(Teilnehmer)+DE67,COLUMN(Teilnehmer)+DD67)","v":"$G$44"},{"$f":"IF(OR(INDEX($CQ$29:$CQ$44,DR67),INDEX($CQ$29:$CQ$44,DS67)),0,1)","v":1},{"$f":"INDEX($CR$29:$CR$44,MATCH($DR67,TeilnNr,0))","v":"Spieler 16"},"-",{"$f":"INDEX($CR$29:$CR$44,MATCH($DS67,TeilnNr,0))","v":"Spieler 03"},null,null,{"$f":"DK66","v":14},1,{"$f":"IF(AND(DQ67=1,MOD(DP67,2)=0),MAX(TeilnNr),IF(MOD(DQ67,2)=0,IF(MAX(TeilnNr)/2-DQ67+1-(DP67-MAX(TeilnNr)/2-1)>=1,MAX(TeilnNr)/2-DQ67+1-(DP67-MAX(TeilnNr)/2-1),MAX(TeilnNr)/2-DQ67+1-(DP67-MAX(TeilnNr)/2-1)+MAX(TeilnNr)-1),IF(DQ67-(DP67-1)>=1,DQ67-(DP67-1),DQ67-(DP67-1)+MAX(TeilnNr)-1)))","v":16},{"$f":"IF(AND(DQ67=1,MOD(DP67,2)<>0),MAX(TeilnNr),IF(MOD(DQ67,2)<>0,IF(MAX(TeilnNr)/2-DQ67+1-(DP67-MAX(TeilnNr)/2-1)>=1,MAX(TeilnNr)/2-DQ67+1-(DP67-MAX(TeilnNr)/2-1),MAX(TeilnNr)/2-DQ67+1-(DP67-MAX(TeilnNr)/2-1)+MAX(TeilnNr)-1),IF(DQ67-(DP67-1)>=1,DQ67-(DP67-1),DQ67-(DP67-1)+MAX(TeilnNr)-1)))","v":3},{"$f":"IF(LEFT(DO67,1)=\"V\",\"\",LEFT(DO67,1))","v":""},{"$f":"IF(RIGHT(DO67,1)=\"V\",\"\",RIGHT(DO67,1))","v":""},{"$f":"ADDRESS(ROW(Teilnehmer)+DR67,COLUMN(Teilnehmer)+DS67)","v":"$F$44"},{"$f":"ADDRESS(ROW(Teilnehmer)+DS67,COLUMN(Teilnehmer)+DR67)","v":"$S$31"},{"$f":"CV67","v":1},"Spieler 04","-",{"$f":"CY67","v":"Spieler 16"},null,{"$f":"DJ67","v":1},{"$f":"DM67","v":"Spieler 03"},"-",{"$f":"DK67","v":"Spieler 16"}]
[null,null,null,null,null,null,null,null,null,null,null,null,null,null,null,null,null,null,null,null,null,null,null,null,null,null,null,null,null,null,null,null,null,null,null,null,null,null,null,null,null,null,null,null,null,null,null,null,null,null,null,null,null,null,null,null,null,null,null,null,null,null,null,null,null,null,null,null,null,null,null,null,null,null,null,null,null,null,null,null,null,null,null,null,null,null,null,null,null,null,null,null,null,null,null,null,null,null,null,{"$f":"CV67+1","v":2},"Spieler 03","-","Spieler 05",null,null,{"$f":"DB67","v":13},{"$f":"DC67+1","v":2},3,5,"","","$H$31","$F$33",{"$f":"DJ67+1","v":2},"Spieler 02","-","Spieler 04",null,null,{"$f":"DP67","v":14},{"$f":"DQ67+1","v":2},2,4,"","","$G$30","$E$32",{"$f":"CV68","v":2},{"$f":"CY68","v":"Spieler 05"},"-",{"$f":"CW68","v":"Spieler 03"},null,2,"Spieler 04","-","Spieler 02"]
[null,null,null,null,null,null,null,null,null,null,null,null,null,null,null,null,null,null,null,null,null,null,null,null,null,null,null,null,null,null,null,null,null,null,null,null,null,null,null,null,null,null,null,null,null,null,null,null,null,null,null,null,null,null,null,null,null,null,null,null,null,null,null,null,null,null,null,null,null,null,null,null,null,null,null,null,null,null,null,null,null,null,null,null,null,null,null,null,null,null,null,null,null,null,null,null,null,null,null,{"$f":"CV68+1","v":3},"Spieler 06","-","Spieler 02",null,null,{"$f":"DB68","v":13},{"$f":"DC68+1","v":3},6,2,"","","$E$34","$I$30",{"$f":"DJ68+1","v":3},"Spieler 05","-","Spieler 01",null,null,{"$f":"DP68","v":14},{"$f":"DQ68+1","v":3},5,1,"","","$D$33","$H$29",3,"Spieler 06","-",{"$f":"CY69","v":"Spieler 02"},null,3,"Spieler 05","-",{"$f":"DM69","v":"Spieler 01"}]
[null,null,null,null,null,null,null,null,null,null,null,null,null,null,null,null,null,null,null,null,null,null,null,null,null,null,null,null,null,null,null,null,null,null,null,null,null,null,null,null,null,null,null,null,null,null,null,null,null,null,null,null,null,null,null,null,null,null,null,null,null,null,null,null,null,null,null,null,null,null,null,null,null,null,null,null,null,null,null,null,null,null,null,null,null,null,null,null,null,null,null,null,null,null,null,null,null,null,null,4,"Spieler 01","-","Spieler 07",null,null,{"$f":"DB69","v":13},4,1,7,"","","$J$29","$D$35",4,"Spieler 15","-","Spieler 06",null,null,{"$f":"DP69","v":14},4,15,6,"","","$I$43","$R$34",4,{"$f":"CY70","v":"Spieler 07"},"-",{"$f":"CW70","v":"Spieler 01"},null,4,{"$f":"DM70","v":"Spieler 06"},"-",{"$f":"DK70","v":"Spieler 15"}]
[null,null,null,null,null,null,null,null,null,null,null,null,null,null,null,null,null,null,null,null,null,null,null,null,null,null,null,null,null,null,null,null,null,null,null,null,null,null,null,null,null,null,null,null,null,null,null,null,null,null,null,null,null,null,null,null,null,null,null,null,null,null,null,null,null,null,null,null,null,null,null,null,null,null,null,null,null,null,null,null,null,null,null,null,null,null,null,null,null,null,null,null,null,null,null,null,null,null,null,5,"Spieler 08","-","Spieler 15",null,null,{"$f":"DB70","v":13},5,8,15,"","","$R$36","$K$43",5,"Spieler 07","-","Spieler 14",null,null,14,5,7,14,"","","$Q$35","$J$42",5,"Spieler 08","-",{"$f":"CY71","v":"Spieler 15"},null,5,"Spieler 07","-",{"$f":"DM71","v":"Spieler 14"}]
[null,null,null,null,null,null,null,null,null,null,null,null,null,null,null,null,null,null,null,null,null,null,null,null,null,null,null,null,null,null,null,null,null,null,null,null,null,null,null,null,null,null,null,null,null,null,null,null,null,null,null,null,null,null,null,null,null,null,null,null,null,null,null,null,null,null,null,null,null,null,null,null,null,null,null,null,null,null,null,null,null,null,null,null,null,null,null,null,null,null,null,null,null,null,null,null,null,null,null,6,"Spieler 14","-","Spieler 09",null,null,{"$f":"DB71","v":13},6,14,9,"","","$L$42","$Q$37",6,"Spieler 13","-","Spieler 08",null,null,14,6,13,8,"","","$K$41","$P$36",6,{"$f":"CY72","v":"Spieler 09"},"-",{"$f":"CW72","v":"Spieler 14"},null,6,{"$f":"DM72","v":"Spieler 08"},"-",{"$f":"DK72","v":"Spieler 13"}]
[null,null,null,null,null,null,null,null,null,null,null,null,null,null,null,null,null,null,null,null,null,null,null,null,null,null,null,null,null,null,null,null,null,null,null,null,null,null,null,null,null,null,null,null,null,null,null,null,null,null,null,null,null,null,null,null,null,null,null,null,null,null,null,null,null,null,null,null,null,null,null,null,null,null,null,null,null,null,null,null,null,null,null,null,null,null,null,null,null,null,null,null,null,null,null,null,null,null,null,7,"Spieler 10","-","Spieler 13",null,null,{"$f":"DB72","v":13},7,10,13,"","","$P$38","$M$41",7,"Spieler 09","-","Spieler 12",null,null,14,7,9,12,"","","$O$37","$L$40",7,"Spieler 10","-",{"$f":"CY73","v":"Spieler 13"},null,7,"Spieler 09","-",{"$f":"DM73","v":"Spieler 12"}]
[null,null,null,null,null,null,null,null,null,null,null,null,null,null,null,null,null,null,null,null,null,null,null,null,null,null,null,null,null,null,null,null,null,null,null,null,null,null,null,null,null,null,null,null,null,null,null,null,null,null,null,null,null,null,null,null,null,null,null,null,null,null,null,null,null,null,null,null,null,null,null,null,null,null,null,null,null,null,null,null,null,null,null,null,null,null,null,null,null,null,null,null,null,null,null,null,null,null,null,8,"Spieler 12","-","Spieler 11",null,null,13,8,12,11,"","","$N$40","$O$39",8,"Spieler 11","-","Spieler 10",null,null,14,8,11,10,"","","$M$39","$N$38",8,{"$f":"CY74","v":"Spieler 11"},"-",{"$f":"CW74","v":"Spieler 12"},null,8,{"$f":"DM74","v":"Spieler 10"},"-",{"$f":"DK74","v":"Spieler 11"}]
[]
[null,null,null,null,null,null,null,null,null,null,null,null,null,null,null,null,null,null,null,null,null,null,null,null,null,null,null,null,null,null,null,null,null,null,null,null,null,null,null,null,null,null,null,null,null,null,null,null,null,null,null,null,null,null,null,null,null,null,null,null,null,null,null,null,null,null,null,null,null,null,null,null,null,null,null,null,null,null,null,null,null,null,null,null,null,null,null,null,null,null,null,null,null,null,null,null,null,null,null,null,{"$f":"CW66+2","v":15},null,null,null,null,"R","B","SpNr w","SpNr s","Res w","Res s",null,null,null,null,null,null,null,null,null,null,null,null,null,null,null,null,null,{"$f":"CW76","v":15},1]
[null,null,null,null,null,null,null,null,null,null,null,null,null,null,null,null,null,null,null,null,null,null,null,null,null,null,null,null,null,null,null,null,null,null,null,null,null,null,null,null,null,null,null,null,null,null,null,null,null,null,null,null,null,null,null,null,null,null,null,null,null,null,null,null,null,null,null,null,null,null,null,null,null,null,null,null,null,null,null,null,null,null,null,null,null,null,null,null,null,null,null,null,null,null,null,null,null,null,null,{"$f":"IF(OR(INDEX($CQ$29:$CQ$44,DD77),INDEX($CQ$29:$CQ$44,DE77)),0,1)","v":1},{"$f":"INDEX($CR$29:$CR$44,MATCH($DD77,TeilnNr,0))","v":"Spieler 02"},"-",{"$f":"INDEX($CR$29:$CR$44,MATCH($DE77,TeilnNr,0))","v":"Spieler 16"},null,null,{"$f":"CW76","v":15},1,{"$f":"IF(AND(DC77=1,MOD(DB77,2)=0),MAX(TeilnNr),IF(MOD(DC77,2)=0,IF(MAX(TeilnNr)/2-DC77+1-(DB77-MAX(TeilnNr)/2-1)>=1,MAX(TeilnNr)/2-DC77+1-(DB77-MAX(TeilnNr)/2-1),MAX(TeilnNr)/2-DC77+1-(DB77-MAX(TeilnNr)/2-1)+MAX(TeilnNr)-1),IF(DC77-(DB77-1)>=1,DC77-(DB77-1),DC77-(DB77-1)+MAX(TeilnNr)-1)))","v":2},{"$f":"IF(AND(DC77=1,MOD(DB77,2)<>0),MAX(TeilnNr),IF(MOD(DC77,2)<>0,IF(MAX(TeilnNr)/2-DC77+1-(DB77-MAX(TeilnNr)/2-1)>=1,MAX(TeilnNr)/2-DC77+1-(DB77-MAX(TeilnNr)/2-1),MAX(TeilnNr)/2-DC77+1-(DB77-MAX(TeilnNr)/2-1)+MAX(TeilnNr)-1),IF(DC77-(DB77-1)>=1,DC77-(DB77-1),DC77-(DB77-1)+MAX(TeilnNr)-1)))","v":16},{"$f":"IF(LEFT(DA77,1)=\"V\",\"\",LEFT(DA77,1))","v":""},{"$f":"IF(RIGHT(DA77,1)=\"V\",\"\",RIGHT(DA77,1))","v":""},{"$f":"ADDRESS(ROW(Teilnehmer)+DD77,COLUMN(Teilnehmer)+DE77)","v":"$S$30"},{"$f":"ADDRESS(ROW(Teilnehmer)+DE77,COLUMN(Teilnehmer)+DD77)","v":"$E$44"},null,null,null,null,null,null,null,null,null,null,null,null,null,null,{"$f":"CV77","v":1},"Spieler 02","-",{"$f":"CY77","v":"Spieler 16"}]
[null,null,null,null,null,null,null,null,null,null,null,null,null,null,null,null,null,null,null,null,null,null,null,null,null,null,null,null,null,null,null,null,null,null,null,null,null,null,null,null,null,null,null,null,null,null,null,null,null,null,null,null,null,null,null,null,null,null,null,null,null,null,null,null,null,null,null,null,null,null,null,null,null,null,null,null,null,null,null,null,null,null,null,null,null,null,null,null,null,null,null,null,null,null,null,null,null,null,null,{"$f":"CV77+1","v":2},"Spieler 01","-","Spieler 03",null,null,{"$f":"DB77","v":15},{"$f":"DC77+1","v":2},1,3,"","","$F$29","$D$31",null,null,null,null,null,null,null,null,null,null,null,null,null,null,{"$f":"CV78","v":2},{"$f":"CY78","v":"Spieler 03"},"-",{"$f":"CW78","v":"Spieler 01"}]
[null,null,null,null,null,null,null,null,null,null,null,null,null,null,null,null,null,null,null,null,null,null,null,null,null,null,null,null,null,null,null,null,null,null,null,null,null,null,null,null,null,null,null,null,null,null,null,null,null,null,null,null,null,null,null,null,null,null,null,null,null,null,null,null,null,null,null,null,null,null,null,null,null,null,null,null,null,null,null,null,null,null,null,null,null,null,null,null,null,null,null,null,null,null,null,null,null,null,null,{"$f":"CV78+1","v":3},"Spieler 04","-","Spieler 15",null,null,{"$f":"DB78","v":15},{"$f":"DC78+1","v":3},4,15,"","","$R$32","$G$43",null,null,null,null,null,null,null,null,null,null,null,null,null,null,3,"Spieler 04","-",{"$f":"CY79","v":"Spieler 15"}]
[null,null,null,null,null,null,null,null,null,null,null,null,null,null,null,null,null,null,null,null,null,null,null,null,null,null,null,null,null,null,null,null,null,null,null,null,null,null,null,null,null,null,null,null,null,null,null,null,null,null,null,null,null,null,null,null,null,null,null,null,null,null,null,null,null,null,null,null,null,null,null,null,null,null,null,null,null,null,null,null,null,null,null,null,null,null,null,null,null,null,null,null,null,null,null,null,null,null,null,4,"Spieler 14","-","Spieler 05",null,null,{"$f":"DB79","v":15},4,14,5,"","","$H$42","$Q$33",null,null,null,null,null,null,null,null,null,null,null,null,null,null,4,{"$f":"CY80","v":"Spieler 05"},"-",{"$f":"CW80","v":"Spieler 14"}]
[null,null,null,null,null,null,null,null,null,null,null,null,null,null,null,null,null,null,null,null,null,null,null,null,null,null,null,null,null,null,null,null,null,null,null,null,null,null,null,null,null,null,null,null,null,null,null,null,null,null,null,null,null,null,null,null,null,null,null,null,null,null,null,null,null,null,null,null,null,null,null,null,null,null,null,null,null,null,null,null,null,null,null,null,null,null,null,null,null,null,null,null,null,null,null,null,null,null,null,5,"Spieler 06","-","Spieler 13",null,null,{"$f":"DB80","v":15},5,6,13,"","","$P$34","$I$41",null,null,null,null,null,null,null,null,null,null,null,null,null,null,5,"Spieler 06","-",{"$f":"CY81","v":"Spieler 13"}]
[null,null,null,null,null,null,null,null,null,null,null,null,null,null,null,null,null,null,null,null,null,null,null,null,null,null,null,null,null,null,null,null,null,null,null,null,null,null,null,null,null,null,null,null,null,null,null,null,null,null,null,null,null,null,null,null,null,null,null,null,null,null,null,null,null,null,null,null,null,null,null,null,null,null,null,null,null,null,null,null,null,null,null,null,null,null,null,null,null,null,null,null,null,null,null,null,null,null,null,6,"Spieler 12","-","Spieler 07",null,null,{"$f":"DB81","v":15},6,12,7,"","","$J$40","$O$35",null,null,null,null,null,null,null,null,null,null,null,null,null,null,6,{"$f":"CY82","v":"Spieler 07"},"-",{"$f":"CW82","v":"Spieler 12"}]
[null,null,null,null,null,null,null,null,null,null,null,null,null,null,null,null,null,null,null,null,null,null,null,null,null,null,null,null,null,null,null,null,null,null,null,null,null,null,null,null,null,null,null,null,null,null,null,null,null,null,null,null,null,null,null,null,null,null,null,null,null,null,null,null,null,null,null,null,null,null,null,null,null,null,null,null,null,null,null,null,null,null,null,null,null,null,null,null,null,null,null,null,null,null,null,null,null,null,null,7,"Spieler 08","-","Spieler 11",null,null,{"$f":"DB82","v":15},7,8,11,"","","$N$36","$K$39",null,null,null,null,null,null,null,null,null,null,null,null,null,null,7,"Spieler 08","-",{"$f":"CY83","v":"Spieler 11"}]
[null,null,null,null,null,null,null,null,null,null,null,null,null,null,null,null,null,null,null,null,null,null,null,null,null,null,null,null,null,null,null,null,null,null,null,null,null,null,null,null,null,null,null,null,null,null,null,null,null,null,null,null,null,null,null,null,null,null,null,null,null,null,null,null,null,null,null,null,null,null,null,null,null,null,null,null,null,null,null,null,null,null,null,null,null,null,null,null,null,null,null,null,null,null,null,null,null,null,null,8,"Spieler 10","-","Spieler 09",null,null,15,8,10,9,"","","$L$38","$M$37",null,null,null,null,null,null,null,null,null,null,null,null,null,null,8,{"$f":"CY84","v":"Spieler 09"},"-",{"$f":"CW84","v":"Spieler 10"}]

{"sheet":"14","index":6,"n_rows":67,"n_cols":130,"rows_kept":67,"cut":false,"hidden":false,"merged":[[14,96,14,98],[14,110,14,112],[0,1,0,23],[1,110,1,112],[3,96,3,112],[5,96,5,98],[5,110,5,112],[24,21,24,22],[32,96,32,98],[32,110,32,112],[41,96,41,98],[41,110,41,112],[50,96,50,98],[50,110,50,112],[59,96,59,98],[23,96,23,98],[23,110,23,112]]}
[null,"Turniername",null,null,null,null,null,null,null,null,null,null,null,null,null,null,null,null,null,null,null,null,null,null,null,null,null,null,null,null,null,null,null,null,null,null,null,null,null,null,null,null,null,1,"1) Punkte 2) So-Be 3) Manuelle Feinwertung ",null,null,null,null,null,null,null,null,null,null,null,null,null,null,null,null,null,null,null,null,null,null,null,null,null,null,null,null,null,null,null,null,"Wiederholung Kriterien:",null,null,null,null,null,null,null,null,null,null,null,null,null,null,null,null,{"$f":"\"Paarungsliste und Resultate \"&IF(Turnier=\"\",\"\",Turnier)","v":"Paarungsliste und Resultate Turniername"},null,null,null,null,null,null,null,null,null,null,null,null,null,null,null,null,null,null,null,null,null,null,null,null,null,null,null,"Paarungsliste Darstellung Rutschsystem",null,null,null,null,null,{"$f":"IF(Datum=\"\",\"\",\"Datum:\")","v":""}]
[null,null,null,null,null,null,null,null,null,null,null,null,null,null,null,null,null,null,null,null,null,null,null,null,null,null,null,null,null,null,null,null,null,null,null,null,null,null,null,null,"a","b","P",2,"1) Punkte 2) So-Be 3) direkte Begegnung 4) Manuelle Feinwertung ",null,null,null,null,null,null,null,null,null,null,null,null,null,null,null,null,null,null,null,null,null,null,null,null,null,null,null,null,null,null,null,1,{"$f":"AS1","v":"1) Punkte 2) So-Be 3) Manuelle Feinwertung "},null,null,null,null,null,null,null,null,null,null,null,null,null,null,null,null,{"$f":"IF(Turnier=\"\",\"\",\"Turniername:\")","v":"Turniername:"},null,{"$f":"IF(Turnier=\"\",\"\",Turnier)","v":"Turniername"},null,null,null,null,null,null,null,null,null,null,null,null,"Datum:",null,null,null,null,null,null,null,null,null,null,null,null,{"$f":"IF(Turnier=\"\",\"\",\"Turniername:\")","v":"Turniername:"},null,{"$f":"IF(Turnier=\"\",\"\",Turnier)&IF(Datum=\"\",\"\",\", \"&TEXT(Datum,\"TT.MM.JJJJ\"))","v":"Turniername"}]
[null,null,null,null,null,null,null,null,null,null,null,null,null,null,null,null,null,null,null,null,null,null,null,null,null,null,null,null,null,null,null,null,null,null,null,null,null,null,null,null,"1","0",1,3,"1) Punkte 2) Anz. Partien 3) So-Be 4) Manuelle Feinwertung "]
[null,"Rangliste",null,null,null,null,null,null,null,null,null,null,null,null,null,null,null,null,null,null,null,null,null,null,null,null,null,null,null,null,null,null,null,null,null,null,null,null,null,null,"0","1",0,4,"1) Punkte 2) Anz. Partien 3) So-Be 4) direkte Begegnung 5) Manuelle Feinwertung ",null,null,null,null,null,null,null,null,null,null,null,null,null,null,null,null,null,null,null,null,null,null,null,null,null,null,null,null,null,null,null,2,{"$f":"AS2","v":"1) Punkte 2) So-Be 3) direkte Begegnung 4) Manuelle Feinwertung "},null,null,null,null,null,null,null,null,null,null,null,null,null,null,null,null,"Turnierleitung:",null,null,null,null,null,null,null,null,null,null,null,null,null,null,null,null,null,null,null,null,null,null,null,null,null,null,null,{"$f":"IF(Turnierleitung=\"\",\"\",\"Turnierleitung:\")","v":""},null,{"$f":"IF(Turnierleitung=\"\",\"\",Turnierleitung)","v":""}]
[null,null,null,null,null,null,null,null,null,null,null,null,null,null,null,null,null,null,null,null,null,null,null,null,null,null,null,null,null,null,null,null,null,null,null,null,null,null,null,null,"½","½",0.5,5,"1) Punkte 2) Anz. Partien 3) So-Be 4) direkte Begegnung 5) Anz.Schwarzpartien 6) Manuelle Feinwertung ",null,null,null,null,null,null,null,null,null,null,null,null,null,null,null,null,null,null,null,null,null,null,null,null,null,null,null,null,null,null,null,3,"1) Punkte 2) Anz. Partien 3) So-Be 4) Manuelle Feinwertung "]
[null,"Rang","Teilnehmer",1,2,3,4,5,6,7,8,9,10,11,12,13,14,"Punkte","Spiele","So-Be",{"$f":"IF(U26=\"\",\"FWm\",U26)","v":"FW+"},1,"½",0,"Nr",null,null,null,null,null,null,null,null,null,null,null,null,null,null,null,"+","-",1,6,"1) Punkte 2) Anz. Partien 3) So-Be 4) Anz.Schwarzpartien 5) direkte Begegnung 6) Manuelle Feinwertung ",null,null,null,null,null,null,null,null,null,null,null,null,null,null,null,null,null,null,null,null,null,null,null,null,null,null,null,null,null,null,null,4,"1) Punkte 2) Anz. Partien 3) So-Be 4) direkte Begegnung 5) Manuelle Feinwertung ",null,null,null,null,null,null,null,null,null,null,null,null,null,null,null,null,1,null,null,null,null,"R","B","SpNr w","SpNr s","Res w","Res s","AdrTTw","AdrTTs",null,{"$f":"CQ6+1","v":2},null,null,null,null,"R","B","SpNr w","SpNr s","Res w","Res s","AdrTTw","AdrTTs",null,{"$f":"CQ6","v":1},1,null,null,null,{"$f":"DE6","v":2}]
[null,{"$f":"IF(INDEX($CK$27:$CK$40,MATCH(B27,$CO$27:$CO$40,0)),\"--\",IF(INDEX($CJ$27:$CJ$40,MATCH(B27,$CO$27:$CO$40,0))<ROW()-ROW($B$6),\"\",INDEX($CJ$27:$CJ$40,MATCH(B27,$CO$27:$CO$40,0))))","v":1},{"$f":"IF(INDEX($C$27:$C$40,MATCH(B27,$CO$27:$CO$40,0))=0,\"Spieler \"&TEXT(Y7,\"00\"),INDEX($C$27:$C$40,MATCH(B27,$CO$27:$CO$40,0)))","v":"Spieler 01"},{"$f":"IF(INDEX($B$26:$Q$40,MATCH($Y7,$B$26:$B$40,0),MATCH(INDEX($B$27:$B$40,MATCH(OFFSET($Y$6,D$6,0),$B$27:$B$40,0)),$B$26:$Q$26,0))=\"\",\"\",INDEX($B$26:$Q$40,MATCH($Y7,$B$26:$B$40,0),MATCH(INDEX($B$27:$B$40,MATCH(OFFSET($Y$6,D$6,0),$B$27:$B$40,0)),$B$26:$Q$26,0)))","v":""},"","","","","","","","","","","","","",{"$f":"INDEX($AN$27:$AN$40,MATCH(Y7,$B$27:$B$40,0))","v":0},{"$f":"INDEX($S$27:$S$40,MATCH(Y7,$B$27:$B$40,0))","v":0},{"$f":"INDEX($T$27:$T$40,MATCH(Y7,$B$27:$B$40,0))","v":0},{"$f":"INDEX($U$27:$U$40,MATCH(Y7,$B$27:$B$40,0))","v":0},{"$f":"COUNTIF($D7:$Q7,1)+COUNTIF($D7:$Q7,\"+\")","v":0},{"$f":"COUNTIF($D7:$Q7,\"½\")","v":0},{"$f":"COUNTIF($D7:$Q7,0)+COUNTIF($D7:$Q7,\"-\")","v":0},{"$f":"INDEX($B$27:$B$40,MATCH(B27,$CO$27:$CO$40,0))","v":1},null,null,null,null,null,null,null,null,null,null,null,null,null,null,null,"-","+",0,7,"1) Punkte 2) Anz. Partien 3) direkte Begegnung 4) So-Be 5) Anz.Schwarzpartien 6) Manuelle Feinwertung ",null,null,null,null,null,null,null,null,null,null,null,null,null,null,null,null,null,null,null,null,null,null,null,null,null,null,null,null,null,null,null,5,"1) Punkte 2) Anz. Partien 3) So-Be 4) direkte Begegnung 5) Anz.Schwarzpartien 6) Manuelle Feinwertung ",null,null,null,null,null,null,null,null,null,null,null,null,null,null,null,{"$f":"IF(OR(INDEX($CK$27:$CK$40,CX7),INDEX($CK$27:$CK$40,CY7)),0,1)","v":1},{"$f":"INDEX($CL$27:$CL$40,MATCH($CX7,TeilnNr,0))","v":"Spieler 01"},"-",{"$f":"INDEX($CL$27:$CL$40,MATCH($CY7,TeilnNr,0))","v":"Spieler 14"},null,null,{"$f":"CQ6","v":1},1,{"$f":"IF(AND(CW7=1,MOD(CV7,2)=0),MAX(TeilnNr),IF(MOD(CW7,2)=0,IF(MAX(TeilnNr)/2-CW7+1-(CV7-MAX(TeilnNr)/2-1)>=1,MAX(TeilnNr)/2-CW7+1-(CV7-MAX(TeilnNr)/2-1),MAX(TeilnNr)/2-CW7+1-(CV7-MAX(TeilnNr)/2-1)+MAX(TeilnNr)-1),IF(CW7-(CV7-1)>=1,CW7-(CV7-1),CW7-(CV7-1)+MAX(TeilnNr)-1)))","v":1},{"$f":"IF(AND(CW7=1,MOD(CV7,2)<>0),MAX(TeilnNr),IF(MOD(CW7,2)<>0,IF(MAX(TeilnNr)/2-CW7+1-(CV7-MAX(TeilnNr)/2-1)>=1,MAX(TeilnNr)/2-CW7+1-(CV7-MAX(TeilnNr)/2-1),MAX(TeilnNr)/2-CW7+1-(CV7-MAX(TeilnNr)/2-1)+MAX(TeilnNr)-1),IF(CW7-(CV7-1)>=1,CW7-(CV7-1),CW7-(CV7-1)+MAX(TeilnNr)-1)))","v":14},{"$f":"IF(LEFT(CU7,1)=\"V\",\"\",LEFT(CU7,1))","v":""},{"$f":"IF(RIGHT(CU7,1)=\"V\",\"\",RIGHT(CU7,1))","v":""},{"$f":"ADDRESS(ROW(Teilnehmer)+CX7,COLUMN(Teilnehmer)+CY7)","v":"$Q$27"},{"$f":"ADDRESS(ROW(Teilnehmer)+CY7,COLUMN(Teilnehmer)+CX7)","v":"$D$40"},{"$f":"IF(OR(INDEX($CK$27:$CK$40,DL7),INDEX($CK$27:$CK$40,DM7)),0,1)","v":1},{"$f":"INDEX($CL$27:$CL$40,MATCH($DL7,TeilnNr,0))","v":"Spieler 14"},"-",{"$f":"INDEX($CL$27:$CL$40,MATCH($DM7,TeilnNr,0))","v":"Spieler 13"},null,null,{"$f":"DE6","v":2},1,{"$f":"IF(AND(DK7=1,MOD(DJ7,2)=0),MAX(TeilnNr),IF(MOD(DK7,2)=0,IF(MAX(TeilnNr)/2-DK7+1-(DJ7-MAX(TeilnNr)/2-1)>=1,MAX(TeilnNr)/2-DK7+1-(DJ7-MAX(TeilnNr)/2-1),MAX(TeilnNr)/2-DK7+1-(DJ7-MAX(TeilnNr)/2-1)+MAX(TeilnNr)-1),IF(DK7-(DJ7-1)>=1,DK7-(DJ7-1),DK7-(DJ7-1)+MAX(TeilnNr)-1)))","v":14},{"$f":"IF(AND(DK7=1,MOD(DJ7,2)<>0),MAX(TeilnNr),IF(MOD(DK7,2)<>0,IF(MAX(TeilnNr)/2-DK7+1-(DJ7-MAX(TeilnNr)/2-1)>=1,MAX(TeilnNr)/2-DK7+1-(DJ7-MAX(TeilnNr)/2-1),MAX(TeilnNr)/2-DK7+1-(DJ7-MAX(TeilnNr)/2-1)+MAX(TeilnNr)-1),IF(DK7-(DJ7-1)>=1,DK7-(DJ7-1),DK7-(DJ7-1)+MAX(TeilnNr)-1)))","v":13},{"$f":"IF(LEFT(DI7,1)=\"V\",\"\",LEFT(DI7,1))","v":""},{"$f":"IF(RIGHT(DI7,1)=\"V\",\"\",RIGHT(DI7,1))","v":""},{"$f":"ADDRESS(ROW(Teilnehmer)+DL7,COLUMN(Teilnehmer)+DM7)","v":"$P$40"},{"$f":"ADDRESS(ROW(Teilnehmer)+DM7,COLUMN(Teilnehmer)+DL7)","v":"$Q$39"},{"$f":"CP7","v":1},{"$f":"CQ7","v":"Spieler 01"},"-",{"$f":"CS7","v":"Spieler 14"},null,{"$f":"DD7","v":1},{"$f":"DG7","v":"Spieler 13"},"-",{"$f":"DE7","v":"Spieler 14"}]
[null,"","Spieler 02","","","","","","","","","","","","","","",0,0,0,0,0,0,0,2,null,null,null,null,null,null,null,null,null,null,null,null,null,null,null,null,null,null,8,"1) Punkte 2) Anz. Partien 3) direkte Begegnung 4) Anz.Schwarzpartien 5) So-Be 6) Manuelle Feinwertung ",null,null,null,null,null,null,null,null,null,null,null,null,null,null,null,null,null,null,null,null,null,null,null,null,null,null,null,null,null,null,null,6,"1) Punkte 2) Anz. Partien 3) So-Be 4) Anz.Schwarzpartien 5) direkte Begegnung 6) Manuelle Feinwertung ",null,null,null,null,null,null,null,null,null,null,null,null,null,null,null,{"$f":"CP7+1","v":2},"Spieler 13","-","Spieler 02",null,null,{"$f":"CV7","v":1},{"$f":"CW7+1","v":2},13,2,"","","$E$39","$P$28",{"$f":"DD7+1","v":2},"Spieler 12","-","Spieler 01",null,null,{"$f":"DJ7","v":2},{"$f":"DK7+1","v":2},12,1,"","","$D$38","$O$27",{"$f":"CP8","v":2},{"$f":"CS8","v":"Spieler 02"},"-",{"$f":"CQ8","v":"Spieler 13"},null,{"$f":"DD8","v":2},{"$f":"DG8","v":"Spieler 01"},"-",{"$f":"DE8","v":"Spieler 12"}]
[null,"","Spieler 03","","","","","","","","","","","","","","",0,0,0,0,0,0,0,3,null,null,null,null,null,null,null,null,null,null,null,null,null,null,null,null,null,null,9,"1) Punkte 2) Anz. Partien 3) Anz.Schwarzpartien 4) So-Be 5) direkte Begegnung 6) Manuelle Feinwertung ",null,null,null,null,null,null,null,null,null,null,null,null,null,null,null,null,null,null,null,null,null,null,null,null,null,null,null,null,null,null,null,7,"1) Punkte 2) Anz. Partien 3) direkte Begegnung 4) So-Be 5) Anz.Schwarzpartien 6) Manuelle Feinwertung ",null,null,null,null,null,null,null,null,null,null,null,null,null,null,null,{"$f":"CP8+1","v":3},"Spieler 03","-","Spieler 12",null,null,{"$f":"CV8","v":1},{"$f":"CW8+1","v":3},3,12,"","","$O$29","$F$38",{"$f":"DD8+1","v":3},"Spieler 02","-","Spieler 11",null,null,{"$f":"DJ8","v":2},{"$f":"DK8+1","v":3},2,11,"","","$N$28","$E$37",{"$f":"CP9","v":3},{"$f":"CQ9","v":"Spieler 03"},"-",{"$f":"CS9","v":"Spieler 12"},null,{"$f":"DD9","v":3},{"$f":"DE9","v":"Spieler 02"},"-",{"$f":"DG9","v":"Spieler 11"}]
[null,"","Spieler 04","","","","","","","","","","","","","","",0,0,0,0,0,0,0,4,null,null,null,null,null,null,null,null,null,null,null,null,null,null,null,null,null,4,10,"1) Punkte 2) Anz. Partien 3) Anz.Schwarzpartien 4) direkte Begegnung 5) So-Be 6) Manuelle Feinwertung ",null,null,null,null,null,null,null,null,null,null,null,null,null,null,null,null,null,null,null,null,null,null,null,null,null,null,null,null,null,null,null,8,"1) Punkte 2) Anz. Partien 3) direkte Begegnung 4) Anz.Schwarzpartien 5) So-Be 6) Manuelle Feinwertung ",null,null,null,null,null,null,null,null,null,null,null,null,null,null,null,4,"Spieler 11","-","Spieler 04",null,null,{"$f":"CV9","v":1},4,11,4,"","","$G$37","$N$30",4,"Spieler 10","-","Spieler 03",null,null,{"$f":"DJ9","v":2},4,10,3,"","","$F$36","$M$29",{"$f":"CP10","v":4},{"$f":"CS10","v":"Spieler 04"},"-",{"$f":"CQ10","v":"Spieler 11"},null,{"$f":"DD10","v":4},{"$f":"DG10","v":"Spieler 03"},"-",{"$f":"DE10","v":"Spieler 10"}]
[null,"","Spieler 05","","","","","","","","","","","","","","",0,0,0,0,0,0,0,5,null,null,null,null,null,null,null,null,null,null,null,null,null,null,null,null,null,null,null,null,null,null,null,null,null,null,null,null,null,null,null,null,null,null,null,null,null,null,null,null,null,null,null,null,null,null,null,null,null,null,null,9,"1) Punkte 2) Anz. Partien 3) Anz.Schwarzpartien 4) So-Be 5) direkte Begegnung 6) Manuelle Feinwertung ",null,null,null,null,null,null,null,null,null,null,null,null,null,null,null,5,"Spieler 05","-","Spieler 10",null,null,1,5,5,10,"","","$M$31","$H$36",5,"Spieler 04","-","Spieler 09",null,null,2,5,4,9,"","","$L$30","$G$35",5,"Spieler 05","-",{"$f":"CS11","v":"Spieler 10"},null,5,"Spieler 04","-",{"$f":"DG11","v":"Spieler 09"}]
[null,"","Spieler 06","","","","","","","","","","","","","","",0,0,0,0,0,0,0,6,null,null,null,null,null,null,null,null,null,null,null,null,null,null,null,null,null,null,null,null,null,null,null,null,null,null,null,null,null,null,null,null,null,null,null,null,null,null,null,null,null,null,null,null,null,null,null,null,null,null,null,10,"1) Punkte 2) Anz. Partien 3) Anz.Schwarzpartien 4) direkte Begegnung 5) So-Be 6) Manuelle Feinwertung ",null,null,null,null,null,null,null,null,null,null,null,null,null,null,null,6,"Spieler 09","-","Spieler 06",null,null,1,6,9,6,"","","$I$35","$L$32",6,"Spieler 08","-","Spieler 05",null,null,2,6,8,5,"","","$H$34","$K$31",6,{"$f":"CS12","v":"Spieler 06"},"-",{"$f":"CQ12","v":"Spieler 09"},null,6,{"$f":"DG12","v":"Spieler 05"},"-",{"$f":"DE12","v":"Spieler 08"}]
[null,"","Spieler 07","","","","","","","","","","","","","","",0,0,0,0,0,0,0,7,null,null,null,null,null,null,null,null,null,null,null,null,null,null,null,null,null,null,null,null,null,null,null,null,null,null,null,null,null,null,null,null,null,null,null,null,null,null,null,null,null,null,null,null,null,null,null,null,null,null,null,null,null,null,null,null,null,null,null,null,null,null,null,null,null,null,null,null,7,"Spieler 07","-","Spieler 08",null,null,1,7,7,8,"","",{"$f":"ADDRESS(ROW(Teilnehmer)+CX13,COLUMN(Teilnehmer)+CY13)","v":"$K$33"},{"$f":"ADDRESS(ROW(Teilnehmer)+CY13,COLUMN(Teilnehmer)+CX13)","v":"$J$34"},7,"Spieler 06","-","Spieler 07",null,null,2,7,6,7,"","",{"$f":"ADDRESS(ROW(Teilnehmer)+DL13,COLUMN(Teilnehmer)+DM13)","v":"$J$32"},{"$f":"ADDRESS(ROW(Teilnehmer)+DM13,COLUMN(Teilnehmer)+DL13)","v":"$I$33"},7,"Spieler 07","-",{"$f":"CS13","v":"Spieler 08"},null,7,"Spieler 06","-",{"$f":"DG13","v":"Spieler 07"}]
[null,"","Spieler 08","","","","","","","","","","","","","","",0,0,0,0,0,0,0,8]
[null,"","Spieler 09","","","","","","","","","","","","","","",0,0,0,0,0,0,0,9,null,null,null,null,null,null,null,null,null,null,null,null,null,null,null,null,null,null,null,null,null,null,null,null,null,null,null,null,null,null,null,null,null,null,null,null,null,null,null,null,null,null,null,null,null,null,null,null,null,null,null,null,null,null,null,null,null,null,null,null,null,null,null,null,null,null,null,null,null,{"$f":"CQ6+2","v":3},null,null,null,null,"R","B","SpNr w","SpNr s","Res w","Res s",null,null,null,{"$f":"DE6+2","v":4},null,null,null,null,"R","B","SpNr w","SpNr s","Res w","Res s",null,null,null,{"$f":"CQ15","v":3},1,null,null,null,{"$f":"DE15","v":4}]
[null,"","Spieler 10","","","","","","","","","","","","","","",0,0,0,0,0,0,0,10,null,null,null,null,null,null,null,null,null,null,null,null,null,null,null,null,null,null,null,null,null,null,null,null,null,null,null,null,null,null,null,null,null,null,null,null,null,null,null,null,null,null,null,null,null,null,null,null,null,null,null,null,null,null,null,null,null,null,null,null,null,null,null,null,null,null,null,null,{"$f":"IF(OR(INDEX($CK$27:$CK$40,CX16),INDEX($CK$27:$CK$40,CY16)),0,1)","v":1},{"$f":"INDEX($CL$27:$CL$40,MATCH($CX16,TeilnNr,0))","v":"Spieler 12"},"-",{"$f":"INDEX($CL$27:$CL$40,MATCH($CY16,TeilnNr,0))","v":"Spieler 14"},null,null,{"$f":"CQ15","v":3},1,{"$f":"IF(AND(CW16=1,MOD(CV16,2)=0),MAX(TeilnNr),IF(MOD(CW16,2)=0,IF(MAX(TeilnNr)/2-CW16+1-(CV16-MAX(TeilnNr)/2-1)>=1,MAX(TeilnNr)/2-CW16+1-(CV16-MAX(TeilnNr)/2-1),MAX(TeilnNr)/2-CW16+1-(CV16-MAX(TeilnNr)/2-1)+MAX(TeilnNr)-1),IF(CW16-(CV16-1)>=1,CW16-(CV16-1),CW16-(CV16-1)+MAX(TeilnNr)-1)))","v":12},{"$f":"IF(AND(CW16=1,MOD(CV16,2)<>0),MAX(TeilnNr),IF(MOD(CW16,2)<>0,IF(MAX(TeilnNr)/2-CW16+1-(CV16-MAX(TeilnNr)/2-1)>=1,MAX(TeilnNr)/2-CW16+1-(CV16-MAX(TeilnNr)/2-1),MAX(TeilnNr)/2-CW16+1-(CV16-MAX(TeilnNr)/2-1)+MAX(TeilnNr)-1),IF(CW16-(CV16-1)>=1,CW16-(CV16-1),CW16-(CV16-1)+MAX(TeilnNr)-1)))","v":14},{"$f":"IF(LEFT(CU16,1)=\"V\",\"\",LEFT(CU16,1))","v":""},{"$f":"IF(RIGHT(CU16,1)=\"V\",\"\",RIGHT(CU16,1))","v":""},{"$f":"ADDRESS(ROW(Teilnehmer)+CX16,COLUMN(Teilnehmer)+CY16)","v":"$Q$38"},{"$f":"ADDRESS(ROW(Teilnehmer)+CY16,COLUMN(Teilnehmer)+CX16)","v":"$O$40"},{"$f":"IF(OR(INDEX($CK$27:$CK$40,DL16),INDEX($CK$27:$CK$40,DM16)),0,1)","v":1},{"$f":"INDEX($CL$27:$CL$40,MATCH($DL16,TeilnNr,0))","v":"Spieler 14"},"-",{"$f":"INDEX($CL$27:$CL$40,MATCH($DM16,TeilnNr,0))","v":"Spieler 11"},null,null,{"$f":"DE15","v":4},1,{"$f":"IF(AND(DK16=1,MOD(DJ16,2)=0),MAX(TeilnNr),IF(MOD(DK16,2)=0,IF(MAX(TeilnNr)/2-DK16+1-(DJ16-MAX(TeilnNr)/2-1)>=1,MAX(TeilnNr)/2-DK16+1-(DJ16-MAX(TeilnNr)/2-1),MAX(TeilnNr)/2-DK16+1-(DJ16-MAX(TeilnNr)/2-1)+MAX(TeilnNr)-1),IF(DK16-(DJ16-1)>=1,DK16-(DJ16-1),DK16-(DJ16-1)+MAX(TeilnNr)-1)))","v":14},{"$f":"IF(AND(DK16=1,MOD(DJ16,2)<>0),MAX(TeilnNr),IF(MOD(DK16,2)<>0,IF(MAX(TeilnNr)/2-DK16+1-(DJ16-MAX(TeilnNr)/2-1)>=1,MAX(TeilnNr)/2-DK16+1-(DJ16-MAX(TeilnNr)/2-1),MAX(TeilnNr)/2-DK16+1-(DJ16-MAX(TeilnNr)/2-1)+MAX(TeilnNr)-1),IF(DK16-(DJ16-1)>=1,DK16-(DJ16-1),DK16-(DJ16-1)+MAX(TeilnNr)-1)))","v":11},{"$f":"IF(LEFT(DI16,1)=\"V\",\"\",LEFT(DI16,1))","v":""},{"$f":"IF(RIGHT(DI16,1)=\"V\",\"\",RIGHT(DI16,1))","v":""},{"$f":"ADDRESS(ROW(Teilnehmer)+DL16,COLUMN(Teilnehmer)+DM16)","v":"$N$40"},{"$f":"ADDRESS(ROW(Teilnehmer)+DM16,COLUMN(Teilnehmer)+DL16)","v":"$Q$37"},{"$f":"CP16","v":1},"Spieler 12","-",{"$f":"CS16","v":"Spieler 14"},null,{"$f":"DD16","v":1},{"$f":"DG16","v":"Spieler 11"},"-",{"$f":"DE16","v":"Spieler 14"}]
[null,"","Spieler 11","","","","","","","","","","","","","","",0,0,0,0,0,0,0,11,null,null,null,null,null,null,null,null,null,null,null,null,null,null,null,null,null,null,null,null,null,null,null,null,null,null,null,null,null,null,null,null,null,null,null,null,null,null,null,null,null,null,null,null,null,null,null,null,null,null,null,null,null,null,null,null,null,null,null,null,null,null,null,null,null,null,null,null,{"$f":"CP16+1","v":2},"Spieler 11","-","Spieler 13",null,null,{"$f":"CV16","v":3},{"$f":"CW16+1","v":2},11,13,"","","$P$37","$N$39",{"$f":"DD16+1","v":2},"Spieler 10","-","Spieler 12",null,null,{"$f":"DJ16","v":4},{"$f":"DK16+1","v":2},10,12,"","","$O$36","$M$38",{"$f":"CP17","v":2},{"$f":"CS17","v":"Spieler 13"},"-",{"$f":"CQ17","v":"Spieler 11"},null,2,"Spieler 12","-","Spieler 10"]
[null,"","Spieler 12","","","","","","","","","","","","","","",0,0,0,0,0,0,0,12,null,null,null,null,null,null,null,null,null,null,null,null,null,null,null,null,null,null,null,null,null,null,null,null,null,null,null,null,null,null,null,null,null,null,null,null,null,null,null,null,null,null,null,null,null,null,null,null,null,null,null,null,null,null,null,null,null,null,null,null,null,null,null,null,null,null,null,null,{"$f":"CP17+1","v":3},"Spieler 01","-","Spieler 10",null,null,{"$f":"CV17","v":3},{"$f":"CW17+1","v":3},1,10,"","","$M$27","$D$36",{"$f":"DD17+1","v":3},"Spieler 13","-","Spieler 09",null,null,{"$f":"DJ17","v":4},{"$f":"DK17+1","v":3},13,9,"","","$L$39","$P$35",3,"Spieler 01","-",{"$f":"CS18","v":"Spieler 10"},null,3,"Spieler 13","-",{"$f":"DG18","v":"Spieler 09"}]
[null,"","Spieler 13","","","","","","","","","","","","","","",0,0,0,0,0,0,0,13,null,null,null,null,null,null,null,null,null,null,null,null,null,null,null,null,null,null,null,null,null,null,null,null,null,null,null,null,null,null,null,null,null,null,null,null,null,null,null,null,null,null,null,null,null,null,null,null,null,null,null,null,null,null,null,null,null,null,null,null,null,null,null,null,null,null,null,null,4,"Spieler 09","-","Spieler 02",null,null,{"$f":"CV18","v":3},4,9,2,"","","$E$35","$L$28",4,"Spieler 08","-","Spieler 01",null,null,{"$f":"DJ18","v":4},4,8,1,"","","$D$34","$K$27",4,{"$f":"CS19","v":"Spieler 02"},"-",{"$f":"CQ19","v":"Spieler 09"},null,4,{"$f":"DG19","v":"Spieler 01"},"-",{"$f":"DE19","v":"Spieler 08"}]
[null,"","Spieler 14","","","","","","","","","","","","","","",0,0,0,0,0,0,0,14,null,null,null,null,null,null,null,null,null,null,null,null,null,null,null,null,null,null,null,null,null,null,null,null,null,null,null,null,null,null,null,null,null,null,null,null,null,null,null,null,null,null,null,null,null,null,null,null,null,null,null,null,null,null,null,null,null,null,null,null,null,null,null,null,null,null,null,null,5,"Spieler 03","-","Spieler 08",null,null,3,5,3,8,"","","$K$29","$F$34",5,"Spieler 02","-","Spieler 07",null,null,4,5,2,7,"","","$J$28","$E$33",5,"Spieler 03","-",{"$f":"CS20","v":"Spieler 08"},null,5,"Spieler 02","-",{"$f":"DG20","v":"Spieler 07"}]
[null,"Wertungskriterien:",null,null,null,null,null,null,null,null,null,null,null,null,null,null,null,null,null,null,null,null,null,null,null,null,null,null,null,null,null,null,null,null,null,null,null,null,null,null,null,null,null,null,null,null,null,null,null,null,null,null,null,null,null,null,null,null,null,null,null,null,null,null,null,null,null,null,null,null,null,null,null,null,null,null,null,null,null,null,null,null,null,null,null,null,null,null,null,null,null,null,null,6,"Spieler 07","-","Spieler 04",null,null,3,6,7,4,"","","$G$33","$J$30",6,"Spieler 06","-","Spieler 03",null,null,4,6,6,3,"","","$F$32","$I$29",6,{"$f":"CS21","v":"Spieler 04"},"-",{"$f":"CQ21","v":"Spieler 07"},null,6,{"$f":"DG21","v":"Spieler 03"},"-",{"$f":"DE21","v":"Spieler 06"}]
[null,{"$f":"INDEX(Wertungskriterien,WertungskriterienA)","v":"1) Punkte 2) Anz. Partien 3) So-Be 4) direkte Begegnung 5) Manuelle Feinwertung "},null,null,null,null,null,null,null,null,null,null,null,null,null,null,null,null,null,null,null,null,null,null,null,null,null,null,null,null,null,null,null,null,null,null,null,null,null,null,null,null,null,null,null,null,null,null,null,null,null,null,null,null,null,null,null,null,null,null,null,null,null,null,null,null,null,null,null,null,null,null,null,null,null,null,null,null,null,null,null,null,null,null,null,null,null,null,null,null,null,null,null,7,"Spieler 05","-","Spieler 06",null,null,3,7,5,6,"","",{"$f":"ADDRESS(ROW(Teilnehmer)+CX22,COLUMN(Teilnehmer)+CY22)","v":"$I$31"},{"$f":"ADDRESS(ROW(Teilnehmer)+CY22,COLUMN(Teilnehmer)+CX22)","v":"$H$32"},7,"Spieler 04","-","Spieler 05",null,null,4,7,4,5,"","",{"$f":"ADDRESS(ROW(Teilnehmer)+DL22,COLUMN(Teilnehmer)+DM22)","v":"$H$30"},{"$f":"ADDRESS(ROW(Teilnehmer)+DM22,COLUMN(Teilnehmer)+DL22)","v":"$G$31"},7,"Spieler 05","-",{"$f":"CS22","v":"Spieler 06"},null,7,"Spieler 04","-",{"$f":"DG22","v":"Spieler 05"}]
[]
[null,"+",null,null,null,null,null,null,null,null,null,null,null,null,null,null,null,null,null,null,{"$f":"IF(EinAusblenden=\"-\",\"\",IF(FWPlusMinus=\"+\",\"é\",\"ê\"))","v":"é"},null,null,null,null,null,null,null,null,null,null,null,null,null,null,null,null,null,null,null,null,null,null,null,null,null,null,null,null,null,null,null,null,null,null,null,null,null,null,null,null,null,null,null,null,null,null,null,null,null,null,null,null,null,null,null,null,null,null,null,null,null,null,null,null,null,null,null,null,null,null,null,null,null,{"$f":"CQ15+2","v":5},null,null,null,null,"R","B","SpNr w","SpNr s","Res w","Res s",null,null,null,{"$f":"DE15+2","v":6},null,null,null,null,"R","B","SpNr w","SpNr s","Res w","Res s",null,null,null,{"$f":"CQ24","v":5},1,null,null,null,{"$f":"DE24","v":6}]
[null,"Turniertabelle",null,null,null,null,null,null,null,null,null,null,null,null,null,null,null,null,null,"manuelle Feinwertung: ","+","Partien",null,null,null,"Punkte",null,null,null,null,null,null,null,null,null,null,null,null,null,null,null,"Sonneborn-Berger-Berechnung",null,null,null,null,null,null,null,null,null,null,null,null,null,null,null,{"$f":"MAX(BF27:BF40)","v":0},null,null,null,null,{"$f":"FWPlusMinus=\"+\"","v":true},"Summierung Wertungskriterien vor direkter Begegnung",null,null,null,null,null,null,null,null,null,null,null,null,"Summierung Wertungskriterien nach direkter Begegnung",null,null,null,null,null,null,null,null,null,null,null,null,null,null,null,null,{"$f":"IF(OR(INDEX($CK$27:$CK$40,CX25),INDEX($CK$27:$CK$40,CY25)),0,1)","v":1},{"$f":"INDEX($CL$27:$CL$40,MATCH($CX25,TeilnNr,0))","v":"Spieler 10"},"-",{"$f":"INDEX($CL$27:$CL$40,MATCH($CY25,TeilnNr,0))","v":"Spieler 14"},null,null,{"$f":"CQ24","v":5},1,{"$f":"IF(AND(CW25=1,MOD(CV25,2)=0),MAX(TeilnNr),IF(MOD(CW25,2)=0,IF(MAX(TeilnNr)/2-CW25+1-(CV25-MAX(TeilnNr)/2-1)>=1,MAX(TeilnNr)/2-CW25+1-(CV25-MAX(TeilnNr)/2-1),MAX(TeilnNr)/2-CW25+1-(CV25-MAX(TeilnNr)/2-1)+MAX(TeilnNr)-1),IF(CW25-(CV25-1)>=1,CW25-(CV25-1),CW25-(CV25-1)+MAX(TeilnNr)-1)))","v":10},{"$f":"IF(AND(CW25=1,MOD(CV25,2)<>0),MAX(TeilnNr),IF(MOD(CW25,2)<>0,IF(MAX(TeilnNr)/2-CW25+1-(CV25-MAX(TeilnNr)/2-1)>=1,MAX(TeilnNr)/2-CW25+1-(CV25-MAX(TeilnNr)/2-1),MAX(TeilnNr)/2-CW25+1-(CV25-MAX(TeilnNr)/2-1)+MAX(TeilnNr)-1),IF(CW25-(CV25-1)>=1,CW25-(CV25-1),CW25-(CV25-1)+MAX(TeilnNr)-1)))","v":14},{"$f":"IF(LEFT(CU25,1)=\"V\",\"\",LEFT(CU25,1))","v":""},{"$f":"IF(RIGHT(CU25,1)=\"V\",\"\",RIGHT(CU25,1))","v":""},{"$f":"ADDRESS(ROW(Teilnehmer)+CX25,COLUMN(Teilnehmer)+CY25)","v":"$Q$36"},{"$f":"ADDRESS(ROW(Teilnehmer)+CY25,COLUMN(Teilnehmer)+CX25)","v":"$M$40"},{"$f":"IF(OR(INDEX($CK$27:$CK$40,DL25),INDEX($CK$27:$CK$40,DM25)),0,1)","v":1},{"$f":"INDEX($CL$27:$CL$40,MATCH($DL25,TeilnNr,0))","v":"Spieler 14"},"-",{"$f":"INDEX($CL$27:$CL$40,MATCH($DM25,TeilnNr,0))","v":"Spieler 09"},null,null,{"$f":"DE24","v":6},1,{"$f":"IF(AND(DK25=1,MOD(DJ25,2)=0),MAX(TeilnNr),IF(MOD(DK25,2)=0,IF(MAX(TeilnNr)/2-DK25+1-(DJ25-MAX(TeilnNr)/2-1)>=1,MAX(TeilnNr)/2-DK25+1-(DJ25-MAX(TeilnNr)/2-1),MAX(TeilnNr)/2-DK25+1-(DJ25-MAX(TeilnNr)/2-1)+MAX(TeilnNr)-1),IF(DK25-(DJ25-1)>=1,DK25-(DJ25-1),DK25-(DJ25-1)+MAX(TeilnNr)-1)))","v":14},{"$f":"IF(AND(DK25=1,MOD(DJ25,2)<>0),MAX(TeilnNr),IF(MOD(DK25,2)<>0,IF(MAX(TeilnNr)/2-DK25+1-(DJ25-MAX(TeilnNr)/2-1)>=1,MAX(TeilnNr)/2-DK25+1-(DJ25-MAX(TeilnNr)/2-1),MAX(TeilnNr)/2-DK25+1-(DJ25-MAX(TeilnNr)/2-1)+MAX(TeilnNr)-1),IF(DK25-(DJ25-1)>=1,DK25-(DJ25-1),DK25-(DJ25-1)+MAX(TeilnNr)-1)))","v":9},{"$f":"IF(LEFT(DI25,1)=\"V\",\"\",LEFT(DI25,1))","v":""},{"$f":"IF(RIGHT(DI25,1)=\"V\",\"\",RIGHT(DI25,1))","v":""},{"$f":"ADDRESS(ROW(Teilnehmer)+DL25,COLUMN(Teilnehmer)+DM25)","v":"$L$40"},{"$f":"ADDRESS(ROW(Teilnehmer)+DM25,COLUMN(Teilnehmer)+DL25)","v":"$Q$35"},{"$f":"CP25","v":1},"Spieler 10","-",{"$f":"CS25","v":"Spieler 14"},null,{"$f":"DD25","v":1},{"$f":"DG25","v":"Spieler 09"},"-",{"$f":"DE25","v":"Spieler 14"}]
[null,"Nr.","Teilnehmer",1,2,3,4,5,6,7,8,9,10,11,12,13,14,"Punkte","Spiele","So-Be","FW+","weiss","schw.","Rang",null,1,2,3,4,5,6,7,8,9,10,11,12,13,14,"P",null,1,2,3,4,5,6,7,8,9,10,11,12,13,14,"So-Be",null,{"$f":"IF(U26=\"\",\"FW2\",U26)","v":"FW+"},"Rang\nPunkte","Rang\nPartien","Rang\nSo-Be","Rang\nschwrz","Rang\nFW?","Wertung 1","Wertung 2","Wertung 3","Wertung 4","Wertung 5","Wertung 6","Wertung 7","Wertung 8","Wertung 9","Wertung 10","Wertung","direkte Begegnung","Rang\ndir.Begegn.","Wertung 1","Wertung 2","Wertung 3","Wertung 4","Wertung 5","Wertung 6","Wertung 7","Wertung 8","Wertung 9","Wertung 10","Wertung2","Rang","Platz-halter?","Name","Alphabet","Rang & Alphabet","Reihen-folge",{"$f":"CP25+1","v":2},"Spieler 09","-","Spieler 11",null,null,{"$f":"CV25","v":5},{"$f":"CW25+1","v":2},9,11,"","",{"$f":"ADDRESS(ROW(Teilnehmer)+CX26,COLUMN(Teilnehmer)+CY26)","v":"$N$35"},{"$f":"ADDRESS(ROW(Teilnehmer)+CY26,COLUMN(Teilnehmer)+CX26)","v":"$L$37"},{"$f":"DD25+1","v":2},"Spieler 08","-","Spieler 10",null,null,{"$f":"DJ25","v":6},{"$f":"DK25+1","v":2},8,10,"","",{"$f":"ADDRESS(ROW(Teilnehmer)+DL26,COLUMN(Teilnehmer)+DM26)","v":"$M$34"},{"$f":"ADDRESS(ROW(Teilnehmer)+DM26,COLUMN(Teilnehmer)+DL26)","v":"$K$36"},{"$f":"CP26","v":2},{"$f":"CS26","v":"Spieler 11"},"-",{"$f":"CQ26","v":"Spieler 09"},null,2,"Spieler 10","-","Spieler 08"]
[null,1,null,{"$f":"IF(ISNA(MATCH(ADDRESS(ROW(),COLUMN()),$DB:$DB,0)),\"\",INDEX($CZ:$CZ,MATCH(ADDRESS(ROW(),COLUMN()),$DB:$DB,0)))&IF(ISNA(MATCH(ADDRESS(ROW(),COLUMN()),$DC:$DC,0)),\"\",INDEX($DA:$DA,MATCH(ADDRESS(ROW(),COLUMN()),$DC:$DC,0)))&IF(ISNA(MATCH(ADDRESS(ROW(),COLUMN()),$DP:$DP,0)),\"\",INDEX($DN:$DN,MATCH(ADDRESS(ROW(),COLUMN()),$DP:$DP,0)))&IF(ISNA(MATCH(ADDRESS(ROW(),COLUMN()),$DQ:$DQ,0)),\"\",INDEX($DO:$DO,MATCH(ADDRESS(ROW(),COLUMN()),$DQ:$DQ,0)))","v":""},"","","","","","","","","","","","","",{"$f":"AN27","v":0},{"$f":"MAX($B$27:$B$40)-COUNTIF(D27:Q27,\"\")","v":0},{"$f":"BD27","v":0},null,{"$f":"IF($CK27,0,COUNTIFS($CX:$CX,$B27,$CU:$CU,\"<>\")+COUNTIFS($DL:$DL,$B27,$DI:$DI,\"<>\"))","v":0},{"$f":"IF($CK27,0,COUNTIFS($CY:$CY,$B27,$CU:$CU,\"<>\")+COUNTIFS($DM:$DM,$B27,$DI:$DI,\"<>\"))","v":0},{"$f":"CJ27","v":1},null,{"$f":"IF(D27=\"\",0,VLOOKUP(D27,Wertung,3,FALSE))","v":0},{"$f":"IF(E27=\"\",0,VLOOKUP(E27,Wertung,3,FALSE))","v":0},{"$f":"IF(F27=\"\",0,VLOOKUP(F27,Wertung,3,FALSE))","v":0},{"$f":"IF(G27=\"\",0,VLOOKUP(G27,Wertung,3,FALSE))","v":0},{"$f":"IF(H27=\"\",0,VLOOKUP(H27,Wertung,3,FALSE))","v":0},{"$f":"IF(I27=\"\",0,VLOOKUP(I27,Wertung,3,FALSE))","v":0},{"$f":"IF(J27=\"\",0,VLOOKUP(J27,Wertung,3,FALSE))","v":0},{"$f":"IF(K27=\"\",0,VLOOKUP(K27,Wertung,3,FALSE))","v":0},{"$f":"IF(L27=\"\",0,VLOOKUP(L27,Wertung,3,FALSE))","v":0},{"$f":"IF(M27=\"\",0,VLOOKUP(M27,Wertung,3,FALSE))","v":0},{"$f":"IF(N27=\"\",0,VLOOKUP(N27,Wertung,3,FALSE))","v":0},{"$f":"IF(O27=\"\",0,VLOOKUP(O27,Wertung,3,FALSE))","v":0},{"$f":"IF(P27=\"\",0,VLOOKUP(P27,Wertung,3,FALSE))","v":0},{"$f":"IF(Q27=\"\",0,VLOOKUP(Q27,Wertung,3,FALSE))","v":0},{"$f":"SUM(Z27:AM27)","v":0},null,{"$f":"Z27*INDEX($AN:$AN,ROW($AP$26)+Z$26)","v":0},{"$f":"AA27*INDEX($AN:$AN,ROW($AP$26)+AA$26)","v":0},{"$f":"AB27*INDEX($AN:$AN,ROW($AP$26)+AB$26)","v":0},{"$f":"AC27*INDEX($AN:$AN,ROW($AP$26)+AC$26)","v":0},{"$f":"AD27*INDEX($AN:$AN,ROW($AP$26)+AD$26)","v":0},{"$f":"AE27*INDEX($AN:$AN,ROW($AP$26)+AE$26)","v":0},{"$f":"AF27*INDEX($AN:$AN,ROW($AP$26)+AF$26)","v":0},{"$f":"AG27*INDEX($AN:$AN,ROW($AP$26)+AG$26)","v":0},{"$f":"AH27*INDEX($AN:$AN,ROW($AP$26)+AH$26)","v":0},{"$f":"AI27*INDEX($AN:$AN,ROW($AP$26)+AI$26)","v":0},{"$f":"AJ27*INDEX($AN:$AN,ROW($AP$26)+AJ$26)","v":0},{"$f":"AK27*INDEX($AN:$AN,ROW($AP$26)+AK$26)","v":0},{"$f":"AL27*INDEX($AN:$AN,ROW($AP$26)+AL$26)","v":0},{"$f":"AM27*INDEX($AN:$AN,ROW($AP$26)+AM$26)","v":0},{"$f":"SUM(AP27:BC27)","v":0},null,{"$f":"U27","v":0},{"$f":"RANK($AN27,$AN$27:$AN$40,0)","v":1},{"$f":"RANK($S27,$S$27:$S$40,1)","v":1},{"$f":"RANK($BD27,$BD$27:$BD$40,0)","v":1},{"$f":"RANK($W27,$W$27:$W$40,0)","v":1},{"$f":"RANK($BF27,$BF$27:$BF$40,IF($BK$25,0,1))","v":1},{"$f":"VALUE(CONCATENATE(IF($CK27,\"1\",\"0\"),TEXT($BG27,\"00\"),TEXT($BI27,\"00\"),TEXT($BK27,\"00\")))","v":10101},{"$f":"VALUE(CONCATENATE(IF($CK27,\"1\",\"0\"),TEXT($BG27,\"00\"),TEXT($BI27,\"00\")))","v":101},{"$f":"VALUE(CONCATENATE(IF($CK27,\"1\",\"0\"),TEXT($BG27,\"00\"),TEXT($BH27,\"00\"),TEXT($BI27,\"00\"),TEXT($BK27,\"00\")))","v":1010101},{"$f":"VALUE(CONCATENATE(IF($CK27,\"1\",\"0\"),TEXT($BG27,\"00\"),TEXT($BH27,\"00\"),TEXT($BI27,\"00\")))","v":10101},{"$f":"VALUE(CONCATENATE(IF($CK27,\"1\",\"0\"),TEXT($BG27,\"00\"),TEXT($BH27,\"00\"),TEXT($BI27,\"00\")))","v":10101},{"$f":"VALUE(CONCATENATE(IF($CK27,\"1\",\"0\"),TEXT($BG27,\"00\"),TEXT($BH27,\"00\"),TEXT($BI27,\"00\"),TEXT($BJ27,\"00\")))","v":1010101},{"$f":"VALUE(CONCATENATE(IF($CK27,\"1\",\"0\"),TEXT($BG27,\"00\"),TEXT($BH27,\"00\")))","v":101},{"$f":"VALUE(CONCATENATE(IF($CK27,\"1\",\"0\"),TEXT($BG27,\"00\"),TEXT($BH27,\"00\")))","v":101},{"$f":"VALUE(CONCATENATE(IF($CK27,\"1\",\"0\"),TEXT($BG27,\"00\"),TEXT($BH27,\"00\"),TEXT($BJ27,\"00\"),TEXT($BI27,\"00\")))","v":1010101},{"$f":"VALUE(CONCATENATE(IF($CK27,\"1\",\"0\"),TEXT($BG27,\"00\"),TEXT($BH27,\"00\"),TEXT($BJ27,\"00\")))","v":10101},{"$f":"INDEX($BL27:$BU27,1,WertungskriterienA)","v":10101},{"$f":"SUM((TRANSPOSE($BV$27:$BV$40)=BV27)*$Z27:$AM27)","v":0},{"$f":"RANK($BW27,$BW$27:$BW$40,0)","v":1},{"$f":"$BV27","v":10101},{"$f":"VALUE(CONCATENATE($BV27,TEXT($BX27,\"00\"),TEXT($BK27,\"00\")))","v":101010101},{"$f":"$BV27","v":10101},{"$f":"VALUE(CONCATENATE($BV27,TEXT($BX27,\"00\"),TEXT($BK27,\"00\")))","v":101010101},{"$f":"VALUE(CONCATENATE($BV27,TEXT($BX27,\"00\"),TEXT($BJ27,\"00\"),TEXT($BK27,\"00\")))","v":10101010101},{"$f":"VALUE(CONCATENATE($BV27,TEXT($BX27,\"00\"),TEXT($BK27,\"00\")))","v":101010101},{"$f":"VALUE(CONCATENATE($BV27,TEXT($BX27,\"00\"),TEXT($BI27,\"00\"),TEXT($BJ27,\"00\"),TEXT($BK27,\"00\")))","v":1010101010101},{"$f":"VALUE(CONCATENATE($BV27,TEXT($BX27,\"00\"),TEXT($BJ27,\"00\"),TEXT($BI27,\"00\"),TEXT($BK27,\"00\")))","v":1010101010101},{"$f":"VALUE(CONCATENATE($BV27,TEXT($BX27,\"00\"),TEXT($BK27,\"00\")))","v":101010101},{"$f":"VALUE(CONCATENATE($BV27,TEXT($BX27,\"00\"),TEXT($BI27,\"00\"),TEXT($BK27,\"00\")))","v":10101010101},{"$f":"INDEX(BY27:CH27,1,WertungskriterienA)","v":101010101},{"$f":"RANK(CI27,$CI$27:$CI$40,1)","v":1},{"$f":"IF($C27=\"\",FALSE,AND(LEN($C27)=1,OR(CODE($C27)<65,CODE($C27)>122,AND(CODE($C27)>90,CODE($C27)<97)),NOT(AND(CODE($C27)>48,CODE($C27)<58))))","v":false},{"$f":"IF(CK27,$C27,IF($C27=\"\",\"Spieler \"&TEXT($B27,\"00\"),$C27))","v":"Spieler 01"},{"$f":"IF(CK27,MAX(TeilnNr),0)+SUMPRODUCT((CL27>$CL$27:$CL$40)*1)","v":0},{"$f":"CJ27+CM27/1000+B27/1000000","v":1.0000009999999999},{"$f":"RANK(CN27,$CN$27:$CN$40,1)","v":1},{"$f":"CP26+1","v":3},"Spieler 12","-","Spieler 08",null,null,{"$f":"CV26","v":5},{"$f":"CW26+1","v":3},{"$f":"IF(AND(CW27=1,MOD(CV27,2)=0),MAX(TeilnNr),IF(MOD(CW27,2)=0,IF(MAX(TeilnNr)/2-CW27+1-(CV27-MAX(TeilnNr)/2-1)>=1,MAX(TeilnNr)/2-CW27+1-(CV27-MAX(TeilnNr)/2-1),MAX(TeilnNr)/2-CW27+1-(CV27-MAX(TeilnNr)/2-1)+MAX(TeilnNr)-1),IF(CW27-(CV27-1)>=1,CW27-(CV27-1),CW27-(CV27-1)+MAX(TeilnNr)-1)))","v":12},{"$f":"IF(AND(CW27=1,MOD(CV27,2)<>0),MAX(TeilnNr),IF(MOD(CW27,2)<>0,IF(MAX(TeilnNr)/2-CW27+1-(CV27-MAX(TeilnNr)/2-1)>=1,MAX(TeilnNr)/2-CW27+1-(CV27-MAX(TeilnNr)/2-1),MAX(TeilnNr)/2-CW27+1-(CV27-MAX(TeilnNr)/2-1)+MAX(TeilnNr)-1),IF(CW27-(CV27-1)>=1,CW27-(CV27-1),CW27-(CV27-1)+MAX(TeilnNr)-1)))","v":8},"","",{"$f":"ADDRESS(ROW(Teilnehmer)+CX27,COLUMN(Teilnehmer)+CY27)","v":"$K$38"},{"$f":"ADDRESS(ROW(Teilnehmer)+CY27,COLUMN(Teilnehmer)+CX27)","v":"$O$34"},{"$f":"DD26+1","v":3},"Spieler 11","-","Spieler 07",null,null,{"$f":"DJ26","v":6},{"$f":"DK26+1","v":3},{"$f":"IF(AND(DK27=1,MOD(DJ27,2)=0),MAX(TeilnNr),IF(MOD(DK27,2)=0,IF(MAX(TeilnNr)/2-DK27+1-(DJ27-MAX(TeilnNr)/2-1)>=1,MAX(TeilnNr)/2-DK27+1-(DJ27-MAX(TeilnNr)/2-1),MAX(TeilnNr)/2-DK27+1-(DJ27-MAX(TeilnNr)/2-1)+MAX(TeilnNr)-1),IF(DK27-(DJ27-1)>=1,DK27-(DJ27-1),DK27-(DJ27-1)+MAX(TeilnNr)-1)))","v":11},{"$f":"IF(AND(DK27=1,MOD(DJ27,2)<>0),MAX(TeilnNr),IF(MOD(DK27,2)<>0,IF(MAX(TeilnNr)/2-DK27+1-(DJ27-MAX(TeilnNr)/2-1)>=1,MAX(TeilnNr)/2-DK27+1-(DJ27-MAX(TeilnNr)/2-1),MAX(TeilnNr)/2-DK27+1-(DJ27-MAX(TeilnNr)/2-1)+MAX(TeilnNr)-1),IF(DK27-(DJ27-1)>=1,DK27-(DJ27-1),DK27-(DJ27-1)+MAX(TeilnNr)-1)))","v":7},"","",{"$f":"ADDRESS(ROW(Teilnehmer)+DL27,COLUMN(Teilnehmer)+DM27)","v":"$J$37"},{"$f":"ADDRESS(ROW(Teilnehmer)+DM27,COLUMN(Teilnehmer)+DL27)","v":"$N$33"},3,"Spieler 12","-",{"$f":"CS27","v":"Spieler 08"},null,3,"Spieler 11","-",{"$f":"DG27","v":"Spieler 07"}]
[null,2,null,"","","","","","","","","","","","","","",{"$f":"AN28","v":0},0,0,null,0,0,1,null,0,0,0,0,0,0,0,0,0,0,0,0,0,0,0,null,0,0,0,0,0,0,0,0,0,0,0,0,0,0,0,null,0,1,1,1,1,1,{"$f":"VALUE(CONCATENATE(IF($CK28,\"1\",\"0\"),TEXT($BG28,\"00\"),TEXT($BI28,\"00\"),TEXT($BK28,\"00\")))","v":10101},{"$f":"VALUE(CONCATENATE(IF($CK28,\"1\",\"0\"),TEXT($BG28,\"00\"),TEXT($BI28,\"00\")))","v":101},{"$f":"VALUE(CONCATENATE(IF($CK28,\"1\",\"0\"),TEXT($BG28,\"00\"),TEXT($BH28,\"00\"),TEXT($BI28,\"00\"),TEXT($BK28,\"00\")))","v":1010101},{"$f":"VALUE(CONCATENATE(IF($CK28,\"1\",\"0\"),TEXT($BG28,\"00\"),TEXT($BH28,\"00\"),TEXT($BI28,\"00\")))","v":10101},10101,{"$f":"VALUE(CONCATENATE(IF($CK28,\"1\",\"0\"),TEXT($BG28,\"00\"),TEXT($BH28,\"00\"),TEXT($BI28,\"00\"),TEXT($BJ28,\"00\")))","v":1010101},{"$f":"VALUE(CONCATENATE(IF($CK28,\"1\",\"0\"),TEXT($BG28,\"00\"),TEXT($BH28,\"00\")))","v":101},101,{"$f":"VALUE(CONCATENATE(IF($CK28,\"1\",\"0\"),TEXT($BG28,\"00\"),TEXT($BH28,\"00\"),TEXT($BJ28,\"00\"),TEXT($BI28,\"00\")))","v":1010101},{"$f":"VALUE(CONCATENATE(IF($CK28,\"1\",\"0\"),TEXT($BG28,\"00\"),TEXT($BH28,\"00\"),TEXT($BJ28,\"00\")))","v":10101},{"$f":"INDEX($BL28:$BU28,1,WertungskriterienA)","v":10101},{"$f":"SUM((TRANSPOSE($BV$27:$BV$40)=BV28)*$Z28:$AM28)","v":0},1,{"$f":"$BV28","v":10101},{"$f":"VALUE(CONCATENATE($BV28,TEXT($BX28,\"00\"),TEXT($BK28,\"00\")))","v":101010101},{"$f":"$BV28","v":10101},{"$f":"VALUE(CONCATENATE($BV28,TEXT($BX28,\"00\"),TEXT($BK28,\"00\")))","v":101010101},{"$f":"VALUE(CONCATENATE($BV28,TEXT($BX28,\"00\"),TEXT($BJ28,\"00\"),TEXT($BK28,\"00\")))","v":10101010101},{"$f":"VALUE(CONCATENATE($BV28,TEXT($BX28,\"00\"),TEXT($BK28,\"00\")))","v":101010101},{"$f":"VALUE(CONCATENATE($BV28,TEXT($BX28,\"00\"),TEXT($BI28,\"00\"),TEXT($BJ28,\"00\"),TEXT($BK28,\"00\")))","v":1010101010101},{"$f":"VALUE(CONCATENATE($BV28,TEXT($BX28,\"00\"),TEXT($BJ28,\"00\"),TEXT($BI28,\"00\"),TEXT($BK28,\"00\")))","v":1010101010101},{"$f":"VALUE(CONCATENATE($BV28,TEXT($BX28,\"00\"),TEXT($BK28,\"00\")))","v":101010101},{"$f":"VALUE(CONCATENATE($BV28,TEXT($BX28,\"00\"),TEXT($BI28,\"00\"),TEXT($BK28,\"00\")))","v":10101010101},{"$f":"INDEX(BY28:CH28,1,WertungskriterienA)","v":101010101},1,{"$f":"IF($C28=\"\",FALSE,AND(LEN($C28)=1,OR(CODE($C28)<65,CODE($C28)>122,AND(CODE($C28)>90,CODE($C28)<97)),NOT(AND(CODE($C28)>48,CODE($C28)<58))))","v":false},"Spieler 02",1,1.0010019999999999,2,4,"Spieler 07","-","Spieler 13",null,null,{"$f":"CV27","v":5},4,{"$f":"IF(AND(CW28=1,MOD(CV28,2)=0),MAX(TeilnNr),IF(MOD(CW28,2)=0,IF(MAX(TeilnNr)/2-CW28+1-(CV28-MAX(TeilnNr)/2-1)>=1,MAX(TeilnNr)/2-CW28+1-(CV28-MAX(TeilnNr)/2-1),MAX(TeilnNr)/2-CW28+1-(CV28-MAX(TeilnNr)/2-1)+MAX(TeilnNr)-1),IF(CW28-(CV28-1)>=1,CW28-(CV28-1),CW28-(CV28-1)+MAX(TeilnNr)-1)))","v":7},{"$f":"IF(AND(CW28=1,MOD(CV28,2)<>0),MAX(TeilnNr),IF(MOD(CW28,2)<>0,IF(MAX(TeilnNr)/2-CW28+1-(CV28-MAX(TeilnNr)/2-1)>=1,MAX(TeilnNr)/2-CW28+1-(CV28-MAX(TeilnNr)/2-1),MAX(TeilnNr)/2-CW28+1-(CV28-MAX(TeilnNr)/2-1)+MAX(TeilnNr)-1),IF(CW28-(CV28-1)>=1,CW28-(CV28-1),CW28-(CV28-1)+MAX(TeilnNr)-1)))","v":13},"","",{"$f":"ADDRESS(ROW(Teilnehmer)+CX28,COLUMN(Teilnehmer)+CY28)","v":"$P$33"},{"$f":"ADDRESS(ROW(Teilnehmer)+CY28,COLUMN(Teilnehmer)+CX28)","v":"$J$39"},4,"Spieler 06","-","Spieler 12",null,null,{"$f":"DJ27","v":6},4,{"$f":"IF(AND(DK28=1,MOD(DJ28,2)=0),MAX(TeilnNr),IF(MOD(DK28,2)=0,IF(MAX(TeilnNr)/2-DK28+1-(DJ28-MAX(TeilnNr)/2-1)>=1,MAX(TeilnNr)/2-DK28+1-(DJ28-MAX(TeilnNr)/2-1),MAX(TeilnNr)/2-DK28+1-(DJ28-MAX(TeilnNr)/2-1)+MAX(TeilnNr)-1),IF(DK28-(DJ28-1)>=1,DK28-(DJ28-1),DK28-(DJ28-1)+MAX(TeilnNr)-1)))","v":6},{"$f":"IF(AND(DK28=1,MOD(DJ28,2)<>0),MAX(TeilnNr),IF(MOD(DK28,2)<>0,IF(MAX(TeilnNr)/2-DK28+1-(DJ28-MAX(TeilnNr)/2-1)>=1,MAX(TeilnNr)/2-DK28+1-(DJ28-MAX(TeilnNr)/2-1),MAX(TeilnNr)/2-DK28+1-(DJ28-MAX(TeilnNr)/2-1)+MAX(TeilnNr)-1),IF(DK28-(DJ28-1)>=1,DK28-(DJ28-1),DK28-(DJ28-1)+MAX(TeilnNr)-1)))","v":12},"","",{"$f":"ADDRESS(ROW(Teilnehmer)+DL28,COLUMN(Teilnehmer)+DM28)","v":"$O$32"},{"$f":"ADDRESS(ROW(Teilnehmer)+DM28,COLUMN(Teilnehmer)+DL28)","v":"$I$38"},4,{"$f":"CS28","v":"Spieler 13"},"-",{"$f":"CQ28","v":"Spieler 07"},null,4,{"$f":"DG28","v":"Spieler 12"},"-",{"$f":"DE28","v":"Spieler 06"}]
[null,3,null,"","","","","","","","","","","","","","",0,0,0,null,0,0,1,null,0,0,0,0,0,0,0,0,0,0,0,0,0,0,0,null,0,0,0,0,0,0,0,0,0,0,0,0,0,0,0,null,0,1,1,1,1,1,10101,101,1010101,10101,10101,1010101,101,101,1010101,10101,{"$f":"INDEX($BL29:$BU29,1,WertungskriterienA)","v":10101},{"$f":"SUM((TRANSPOSE($BV$27:$BV$40)=BV29)*$Z29:$AM29)","v":0},1,10101,101010101,10101,101010101,10101010101,101010101,1010101010101,1010101010101,101010101,10101010101,{"$f":"INDEX(BY29:CH29,1,WertungskriterienA)","v":101010101},1,false,"Spieler 03",2,1.002003,3,5,"Spieler 01","-","Spieler 06",null,null,{"$f":"CV28","v":5},5,{"$f":"IF(AND(CW29=1,MOD(CV29,2)=0),MAX(TeilnNr),IF(MOD(CW29,2)=0,IF(MAX(TeilnNr)/2-CW29+1-(CV29-MAX(TeilnNr)/2-1)>=1,MAX(TeilnNr)/2-CW29+1-(CV29-MAX(TeilnNr)/2-1),MAX(TeilnNr)/2-CW29+1-(CV29-MAX(TeilnNr)/2-1)+MAX(TeilnNr)-1),IF(CW29-(CV29-1)>=1,CW29-(CV29-1),CW29-(CV29-1)+MAX(TeilnNr)-1)))","v":1},{"$f":"IF(AND(CW29=1,MOD(CV29,2)<>0),MAX(TeilnNr),IF(MOD(CW29,2)<>0,IF(MAX(TeilnNr)/2-CW29+1-(CV29-MAX(TeilnNr)/2-1)>=1,MAX(TeilnNr)/2-CW29+1-(CV29-MAX(TeilnNr)/2-1),MAX(TeilnNr)/2-CW29+1-(CV29-MAX(TeilnNr)/2-1)+MAX(TeilnNr)-1),IF(CW29-(CV29-1)>=1,CW29-(CV29-1),CW29-(CV29-1)+MAX(TeilnNr)-1)))","v":6},"","",{"$f":"ADDRESS(ROW(Teilnehmer)+CX29,COLUMN(Teilnehmer)+CY29)","v":"$I$27"},{"$f":"ADDRESS(ROW(Teilnehmer)+CY29,COLUMN(Teilnehmer)+CX29)","v":"$D$32"},5,"Spieler 13","-","Spieler 05",null,null,6,5,{"$f":"IF(AND(DK29=1,MOD(DJ29,2)=0),MAX(TeilnNr),IF(MOD(DK29,2)=0,IF(MAX(TeilnNr)/2-DK29+1-(DJ29-MAX(TeilnNr)/2-1)>=1,MAX(TeilnNr)/2-DK29+1-(DJ29-MAX(TeilnNr)/2-1),MAX(TeilnNr)/2-DK29+1-(DJ29-MAX(TeilnNr)/2-1)+MAX(TeilnNr)-1),IF(DK29-(DJ29-1)>=1,DK29-(DJ29-1),DK29-(DJ29-1)+MAX(TeilnNr)-1)))","v":13},{"$f":"IF(AND(DK29=1,MOD(DJ29,2)<>0),MAX(TeilnNr),IF(MOD(DK29,2)<>0,IF(MAX(TeilnNr)/2-DK29+1-(DJ29-MAX(TeilnNr)/2-1)>=1,MAX(TeilnNr)/2-DK29+1-(DJ29-MAX(TeilnNr)/2-1),MAX(TeilnNr)/2-DK29+1-(DJ29-MAX(TeilnNr)/2-1)+MAX(TeilnNr)-1),IF(DK29-(DJ29-1)>=1,DK29-(DJ29-1),DK29-(DJ29-1)+MAX(TeilnNr)-1)))","v":5},"","",{"$f":"ADDRESS(ROW(Teilnehmer)+DL29,COLUMN(Teilnehmer)+DM29)","v":"$H$39"},{"$f":"ADDRESS(ROW(Teilnehmer)+DM29,COLUMN(Teilnehmer)+DL29)","v":"$P$31"},5,"Spieler 01","-",{"$f":"CS29","v":"Spieler 06"},null,5,"Spieler 13","-",{"$f":"DG29","v":"Spieler 05"}]
[null,4,null,"","","","","","","","","","","","","","",0,0,0,null,0,0,1,null,0,0,0,0,0,0,0,0,0,0,0,0,0,0,0,null,0,0,0,0,0,0,0,0,0,0,0,0,0,0,0,null,0,1,1,1,1,1,10101,101,1010101,10101,10101,1010101,101,101,1010101,10101,{"$f":"INDEX($BL30:$BU30,1,WertungskriterienA)","v":10101},{"$f":"SUM((TRANSPOSE($BV$27:$BV$40)=BV30)*$Z30:$AM30)","v":0},1,10101,101010101,10101,101010101,10101010101,101010101,1010101010101,1010101010101,101010101,10101010101,{"$f":"INDEX(BY30:CH30,1,WertungskriterienA)","v":101010101},1,false,"Spieler 04",3,1.0030039999999998,4,6,"Spieler 05","-","Spieler 02",null,null,{"$f":"CV29","v":5},6,{"$f":"IF(AND(CW30=1,MOD(CV30,2)=0),MAX(TeilnNr),IF(MOD(CW30,2)=0,IF(MAX(TeilnNr)/2-CW30+1-(CV30-MAX(TeilnNr)/2-1)>=1,MAX(TeilnNr)/2-CW30+1-(CV30-MAX(TeilnNr)/2-1),MAX(TeilnNr)/2-CW30+1-(CV30-MAX(TeilnNr)/2-1)+MAX(TeilnNr)-1),IF(CW30-(CV30-1)>=1,CW30-(CV30-1),CW30-(CV30-1)+MAX(TeilnNr)-1)))","v":5},{"$f":"IF(AND(CW30=1,MOD(CV30,2)<>0),MAX(TeilnNr),IF(MOD(CW30,2)<>0,IF(MAX(TeilnNr)/2-CW30+1-(CV30-MAX(TeilnNr)/2-1)>=1,MAX(TeilnNr)/2-CW30+1-(CV30-MAX(TeilnNr)/2-1),MAX(TeilnNr)/2-CW30+1-(CV30-MAX(TeilnNr)/2-1)+MAX(TeilnNr)-1),IF(CW30-(CV30-1)>=1,CW30-(CV30-1),CW30-(CV30-1)+MAX(TeilnNr)-1)))","v":2},"","",{"$f":"ADDRESS(ROW(Teilnehmer)+CX30,COLUMN(Teilnehmer)+CY30)","v":"$E$31"},{"$f":"ADDRESS(ROW(Teilnehmer)+CY30,COLUMN(Teilnehmer)+CX30)","v":"$H$28"},6,"Spieler 04","-","Spieler 01",null,null,6,6,{"$f":"IF(AND(DK30=1,MOD(DJ30,2)=0),MAX(TeilnNr),IF(MOD(DK30,2)=0,IF(MAX(TeilnNr)/2-DK30+1-(DJ30-MAX(TeilnNr)/2-1)>=1,MAX(TeilnNr)/2-DK30+1-(DJ30-MAX(TeilnNr)/2-1),MAX(TeilnNr)/2-DK30+1-(DJ30-MAX(TeilnNr)/2-1)+MAX(TeilnNr)-1),IF(DK30-(DJ30-1)>=1,DK30-(DJ30-1),DK30-(DJ30-1)+MAX(TeilnNr)-1)))","v":4},{"$f":"IF(AND(DK30=1,MOD(DJ30,2)<>0),MAX(TeilnNr),IF(MOD(DK30,2)<>0,IF(MAX(TeilnNr)/2-DK30+1-(DJ30-MAX(TeilnNr)/2-1)>=1,MAX(TeilnNr)/2-DK30+1-(DJ30-MAX(TeilnNr)/2-1),MAX(TeilnNr)/2-DK30+1-(DJ30-MAX(TeilnNr)/2-1)+MAX(TeilnNr)-1),IF(DK30-(DJ30-1)>=1,DK30-(DJ30-1),DK30-(DJ30-1)+MAX(TeilnNr)-1)))","v":1},"","",{"$f":"ADDRESS(ROW(Teilnehmer)+DL30,COLUMN(Teilnehmer)+DM30)","v":"$D$30"},{"$f":"ADDRESS(ROW(Teilnehmer)+DM30,COLUMN(Teilnehmer)+DL30)","v":"$G$27"},6,{"$f":"CS30","v":"Spieler 02"},"-",{"$f":"CQ30","v":"Spieler 05"},null,6,{"$f":"DG30","v":"Spieler 01"},"-",{"$f":"DE30","v":"Spieler 04"}]
[null,5,null,"","","","","","","","","","","","","","",0,0,0,null,0,0,1,null,0,0,0,0,0,0,0,0,0,0,0,0,0,0,0,null,0,0,0,0,0,0,0,0,0,0,0,0,0,0,0,null,0,1,1,1,1,1,10101,101,1010101,10101,10101,1010101,101,101,1010101,10101,{"$f":"INDEX($BL31:$BU31,1,WertungskriterienA)","v":10101},{"$f":"SUM((TRANSPOSE($BV$27:$BV$40)=BV31)*$Z31:$AM31)","v":0},1,10101,101010101,10101,101010101,10101010101,101010101,1010101010101,1010101010101,101010101,10101010101,{"$f":"INDEX(BY31:CH31,1,WertungskriterienA)","v":101010101},1,false,"Spieler 05",4,1.004005,5,7,"Spieler 03","-","Spieler 04",null,null,{"$f":"CV30","v":5},7,{"$f":"IF(AND(CW31=1,MOD(CV31,2)=0),MAX(TeilnNr),IF(MOD(CW31,2)=0,IF(MAX(TeilnNr)/2-CW31+1-(CV31-MAX(TeilnNr)/2-1)>=1,MAX(TeilnNr)/2-CW31+1-(CV31-MAX(TeilnNr)/2-1),MAX(TeilnNr)/2-CW31+1-(CV31-MAX(TeilnNr)/2-1)+MAX(TeilnNr)-1),IF(CW31-(CV31-1)>=1,CW31-(CV31-1),CW31-(CV31-1)+MAX(TeilnNr)-1)))","v":3},{"$f":"IF(AND(CW31=1,MOD(CV31,2)<>0),MAX(TeilnNr),IF(MOD(CW31,2)<>0,IF(MAX(TeilnNr)/2-CW31+1-(CV31-MAX(TeilnNr)/2-1)>=1,MAX(TeilnNr)/2-CW31+1-(CV31-MAX(TeilnNr)/2-1),MAX(TeilnNr)/2-CW31+1-(CV31-MAX(TeilnNr)/2-1)+MAX(TeilnNr)-1),IF(CW31-(CV31-1)>=1,CW31-(CV31-1),CW31-(CV31-1)+MAX(TeilnNr)-1)))","v":4},"","",{"$f":"ADDRESS(ROW(Teilnehmer)+CX31,COLUMN(Teilnehmer)+CY31)","v":"$G$29"},{"$f":"ADDRESS(ROW(Teilnehmer)+CY31,COLUMN(Teilnehmer)+CX31)","v":"$F$30"},7,"Spieler 02","-","Spieler 03",null,null,6,7,{"$f":"IF(AND(DK31=1,MOD(DJ31,2)=0),MAX(TeilnNr),IF(MOD(DK31,2)=0,IF(MAX(TeilnNr)/2-DK31+1-(DJ31-MAX(TeilnNr)/2-1)>=1,MAX(TeilnNr)/2-DK31+1-(DJ31-MAX(TeilnNr)/2-1),MAX(TeilnNr)/2-DK31+1-(DJ31-MAX(TeilnNr)/2-1)+MAX(TeilnNr)-1),IF(DK31-(DJ31-1)>=1,DK31-(DJ31-1),DK31-(DJ31-1)+MAX(TeilnNr)-1)))","v":2},{"$f":"IF(AND(DK31=1,MOD(DJ31,2)<>0),MAX(TeilnNr),IF(MOD(DK31,2)<>0,IF(MAX(TeilnNr)/2-DK31+1-(DJ31-MAX(TeilnNr)/2-1)>=1,MAX(TeilnNr)/2-DK31+1-(DJ31-MAX(TeilnNr)/2-1),MAX(TeilnNr)/2-DK31+1-(DJ31-MAX(TeilnNr)/2-1)+MAX(TeilnNr)-1),IF(DK31-(DJ31-1)>=1,DK31-(DJ31-1),DK31-(DJ31-1)+MAX(TeilnNr)-1)))","v":3},"","",{"$f":"ADDRESS(ROW(Teilnehmer)+DL31,COLUMN(Teilnehmer)+DM31)","v":"$F$28"},{"$f":"ADDRESS(ROW(Teilnehmer)+DM31,COLUMN(Teilnehmer)+DL31)","v":"$E$29"},7,"Spieler 03","-",{"$f":"CS31","v":"Spieler 04"},null,7,"Spieler 02","-",{"$f":"DG31","v":"Spieler 03"}]
[null,6,null,"","","","","","","","","","","","","","",0,0,0,null,0,0,1,null,0,0,0,0,0,0,0,0,0,0,0,0,0,0,0,null,0,0,0,0,0,0,0,0,0,0,0,0,0,0,0,null,0,1,1,1,1,1,10101,101,1010101,10101,10101,1010101,101,101,1010101,10101,{"$f":"INDEX($BL32:$BU32,1,WertungskriterienA)","v":10101},{"$f":"SUM((TRANSPOSE($BV$27:$BV$40)=BV32)*$Z32:$AM32)","v":0},1,10101,101010101,10101,101010101,10101010101,101010101,1010101010101,1010101010101,101010101,10101010101,{"$f":"INDEX(BY32:CH32,1,WertungskriterienA)","v":101010101},1,false,"Spieler 06",5,1.0050059999999998,6]
[null,7,null,"","","","","","","","","","","","","","",0,0,0,null,0,0,1,null,0,0,0,0,0,0,0,0,0,0,0,0,0,0,0,null,0,0,0,0,0,0,0,0,0,0,0,0,0,0,0,null,0,1,1,1,1,1,10101,101,1010101,10101,10101,1010101,101,101,1010101,10101,{"$f":"INDEX($BL33:$BU33,1,WertungskriterienA)","v":10101},{"$f":"SUM((TRANSPOSE($BV$27:$BV$40)=BV33)*$Z33:$AM33)","v":0},1,10101,101010101,10101,101010101,10101010101,101010101,1010101010101,1010101010101,101010101,10101010101,{"$f":"INDEX(BY33:CH33,1,WertungskriterienA)","v":101010101},1,false,"Spieler 07",6,1.0060070000000001,7,null,{"$f":"CQ24+2","v":7},null,null,null,null,"R","B","SpNr w","SpNr s","Res w","Res s",null,null,null,{"$f":"DE24+2","v":8},null,null,null,null,"R","B","SpNr w","SpNr s","Res w","Res s",null,null,null,{"$f":"CQ33","v":7},1,null,null,null,{"$f":"DE33","v":8}]
[null,8,null,"","","","","","","","","","","","","","",0,0,0,null,0,0,1,null,0,0,0,0,0,0,0,0,0,0,0,0,0,0,0,null,0,0,0,0,0,0,0,0,0,0,0,0,0,0,0,null,0,1,1,1,1,1,10101,101,1010101,10101,10101,1010101,101,101,1010101,10101,{"$f":"INDEX($BL34:$BU34,1,WertungskriterienA)","v":10101},{"$f":"SUM((TRANSPOSE($BV$27:$BV$40)=BV34)*$Z34:$AM34)","v":0},1,10101,101010101,10101,101010101,10101010101,101010101,1010101010101,1010101010101,101010101,10101010101,{"$f":"INDEX(BY34:CH34,1,WertungskriterienA)","v":101010101},1,false,"Spieler 08",7,1.0070079999999999,8,{"$f":"IF(OR(INDEX($CK$27:$CK$40,CX34),INDEX($CK$27:$CK$40,CY34)),0,1)","v":1},{"$f":"INDEX($CL$27:$CL$40,MATCH($CX34,TeilnNr,0))","v":"Spieler 08"},"-",{"$f":"INDEX($CL$27:$CL$40,MATCH($CY34,TeilnNr,0))","v":"Spieler 14"},null,null,{"$f":"CQ33","v":7},1,{"$f":"IF(AND(CW34=1,MOD(CV34,2)=0),MAX(TeilnNr),IF(MOD(CW34,2)=0,IF(MAX(TeilnNr)/2-CW34+1-(CV34-MAX(TeilnNr)/2-1)>=1,MAX(TeilnNr)/2-CW34+1-(CV34-MAX(TeilnNr)/2-1),MAX(TeilnNr)/2-CW34+1-(CV34-MAX(TeilnNr)/2-1)+MAX(TeilnNr)-1),IF(CW34-(CV34-1)>=1,CW34-(CV34-1),CW34-(CV34-1)+MAX(TeilnNr)-1)))","v":8},{"$f":"IF(AND(CW34=1,MOD(CV34,2)<>0),MAX(TeilnNr),IF(MOD(CW34,2)<>0,IF(MAX(TeilnNr)/2-CW34+1-(CV34-MAX(TeilnNr)/2-1)>=1,MAX(TeilnNr)/2-CW34+1-(CV34-MAX(TeilnNr)/2-1),MAX(TeilnNr)/2-CW34+1-(CV34-MAX(TeilnNr)/2-1)+MAX(TeilnNr)-1),IF(CW34-(CV34-1)>=1,CW34-(CV34-1),CW34-(CV34-1)+MAX(TeilnNr)-1)))","v":14},{"$f":"IF(LEFT(CU34,1)=\"V\",\"\",LEFT(CU34,1))","v":""},{"$f":"IF(RIGHT(CU34,1)=\"V\",\"\",RIGHT(CU34,1))","v":""},{"$f":"ADDRESS(ROW(Teilnehmer)+CX34,COLUMN(Teilnehmer)+CY34)","v":"$Q$34"},{"$f":"ADDRESS(ROW(Teilnehmer)+CY34,COLUMN(Teilnehmer)+CX34)","v":"$K$40"},{"$f":"IF(OR(INDEX($CK$27:$CK$40,DL34),INDEX($CK$27:$CK$40,DM34)),0,1)","v":1},{"$f":"INDEX($CL$27:$CL$40,MATCH($DL34,TeilnNr,0))","v":"Spieler 14"},"-",{"$f":"INDEX($CL$27:$CL$40,MATCH($DM34,TeilnNr,0))","v":"Spieler 07"},null,null,{"$f":"DE33","v":8},1,{"$f":"IF(AND(DK34=1,MOD(DJ34,2)=0),MAX(TeilnNr),IF(MOD(DK34,2)=0,IF(MAX(TeilnNr)/2-DK34+1-(DJ34-MAX(TeilnNr)/2-1)>=1,MAX(TeilnNr)/2-DK34+1-(DJ34-MAX(TeilnNr)/2-1),MAX(TeilnNr)/2-DK34+1-(DJ34-MAX(TeilnNr)/2-1)+MAX(TeilnNr)-1),IF(DK34-(DJ34-1)>=1,DK34-(DJ34-1),DK34-(DJ34-1)+MAX(TeilnNr)-1)))","v":14},{"$f":"IF(AND(DK34=1,MOD(DJ34,2)<>0),MAX(TeilnNr),IF(MOD(DK34,2)<>0,IF(MAX(TeilnNr)/2-DK34+1-(DJ34-MAX(TeilnNr)/2-1)>=1,MAX(TeilnNr)/2-DK34+1-(DJ34-MAX(TeilnNr)/2-1),MAX(TeilnNr)/2-DK34+1-(DJ34-MAX(TeilnNr)/2-1)+MAX(TeilnNr)-1),IF(DK34-(DJ34-1)>=1,DK34-(DJ34-1),DK34-(DJ34-1)+MAX(TeilnNr)-1)))","v":7},{"$f":"IF(LEFT(DI34,1)=\"V\",\"\",LEFT(DI34,1))","v":""},{"$f":"IF(RIGHT(DI34,1)=\"V\",\"\",RIGHT(DI34,1))","v":""},{"$f":"ADDRESS(ROW(Teilnehmer)+DL34,COLUMN(Teilnehmer)+DM34)","v":"$J$40"},{"$f":"ADDRESS(ROW(Teilnehmer)+DM34,COLUMN(Teilnehmer)+DL34)","v":"$Q$33"},{"$f":"CP34","v":1},"Spieler 08","-",{"$f":"CS34","v":"Spieler 14"},null,{"$f":"DD34","v":1},{"$f":"DG34","v":"Spieler 07"},"-",{"$f":"DE34","v":"Spieler 14"}]
[null,9,null,"","","","","","","","","","","","","","",0,0,0,null,0,0,1,null,0,0,0,0,0,0,0,0,0,0,0,0,0,0,0,null,0,0,0,0,0,0,0,0,0,0,0,0,0,0,0,null,0,1,1,1,1,1,10101,101,1010101,10101,10101,1010101,101,101,1010101,10101,{"$f":"INDEX($BL35:$BU35,1,WertungskriterienA)","v":10101},{"$f":"SUM((TRANSPOSE($BV$27:$BV$40)=BV35)*$Z35:$AM35)","v":0},1,10101,101010101,10101,101010101,10101010101,101010101,1010101010101,1010101010101,101010101,10101010101,{"$f":"INDEX(BY35:CH35,1,WertungskriterienA)","v":101010101},1,false,"Spieler 09",8,1.0080089999999999,9,{"$f":"CP34+1","v":2},"Spieler 07","-","Spieler 09",null,null,{"$f":"CV34","v":7},{"$f":"CW34+1","v":2},{"$f":"IF(AND(CW35=1,MOD(CV35,2)=0),MAX(TeilnNr),IF(MOD(CW35,2)=0,IF(MAX(TeilnNr)/2-CW35+1-(CV35-MAX(TeilnNr)/2-1)>=1,MAX(TeilnNr)/2-CW35+1-(CV35-MAX(TeilnNr)/2-1),MAX(TeilnNr)/2-CW35+1-(CV35-MAX(TeilnNr)/2-1)+MAX(TeilnNr)-1),IF(CW35-(CV35-1)>=1,CW35-(CV35-1),CW35-(CV35-1)+MAX(TeilnNr)-1)))","v":7},{"$f":"IF(AND(CW35=1,MOD(CV35,2)<>0),MAX(TeilnNr),IF(MOD(CW35,2)<>0,IF(MAX(TeilnNr)/2-CW35+1-(CV35-MAX(TeilnNr)/2-1)>=1,MAX(TeilnNr)/2-CW35+1-(CV35-MAX(TeilnNr)/2-1),MAX(TeilnNr)/2-CW35+1-(CV35-MAX(TeilnNr)/2-1)+MAX(TeilnNr)-1),IF(CW35-(CV35-1)>=1,CW35-(CV35-1),CW35-(CV35-1)+MAX(TeilnNr)-1)))","v":9},"","",{"$f":"ADDRESS(ROW(Teilnehmer)+CX35,COLUMN(Teilnehmer)+CY35)","v":"$L$33"},{"$f":"ADDRESS(ROW(Teilnehmer)+CY35,COLUMN(Teilnehmer)+CX35)","v":"$J$35"},{"$f":"DD34+1","v":2},"Spieler 06","-","Spieler 08",null,null,{"$f":"DJ34","v":8},{"$f":"DK34+1","v":2},{"$f":"IF(AND(DK35=1,MOD(DJ35,2)=0),MAX(TeilnNr),IF(MOD(DK35,2)=0,IF(MAX(TeilnNr)/2-DK35+1-(DJ35-MAX(TeilnNr)/2-1)>=1,MAX(TeilnNr)/2-DK35+1-(DJ35-MAX(TeilnNr)/2-1),MAX(TeilnNr)/2-DK35+1-(DJ35-MAX(TeilnNr)/2-1)+MAX(TeilnNr)-1),IF(DK35-(DJ35-1)>=1,DK35-(DJ35-1),DK35-(DJ35-1)+MAX(TeilnNr)-1)))","v":6},{"$f":"IF(AND(DK35=1,MOD(DJ35,2)<>0),MAX(TeilnNr),IF(MOD(DK35,2)<>0,IF(MAX(TeilnNr)/2-DK35+1-(DJ35-MAX(TeilnNr)/2-1)>=1,MAX(TeilnNr)/2-DK35+1-(DJ35-MAX(TeilnNr)/2-1),MAX(TeilnNr)/2-DK35+1-(DJ35-MAX(TeilnNr)/2-1)+MAX(TeilnNr)-1),IF(DK35-(DJ35-1)>=1,DK35-(DJ35-1),DK35-(DJ35-1)+MAX(TeilnNr)-1)))","v":8},"","",{"$f":"ADDRESS(ROW(Teilnehmer)+DL35,COLUMN(Teilnehmer)+DM35)","v":"$K$32"},{"$f":"ADDRESS(ROW(Teilnehmer)+DM35,COLUMN(Teilnehmer)+DL35)","v":"$I$34"},{"$f":"CP35","v":2},{"$f":"CS35","v":"Spieler 09"},"-",{"$f":"CQ35","v":"Spieler 07"},null,2,"Spieler 08","-","Spieler 06"]
[null,10,null,"","","","","","","","","","","","","","",0,0,0,null,0,0,1,null,0,0,0,0,0,0,0,0,0,0,0,0,0,0,0,null,0,0,0,0,0,0,0,0,0,0,0,0,0,0,0,null,0,1,1,1,1,1,10101,101,1010101,10101,10101,1010101,101,101,1010101,10101,{"$f":"INDEX($BL36:$BU36,1,WertungskriterienA)","v":10101},{"$f":"SUM((TRANSPOSE($BV$27:$BV$40)=BV36)*$Z36:$AM36)","v":0},1,10101,101010101,10101,101010101,10101010101,101010101,1010101010101,1010101010101,101010101,10101010101,{"$f":"INDEX(BY36:CH36,1,WertungskriterienA)","v":101010101},1,false,"Spieler 10",9,1.00901,10,{"$f":"CP35+1","v":3},"Spieler 10","-","Spieler 06",null,null,{"$f":"CV35","v":7},{"$f":"CW35+1","v":3},{"$f":"IF(AND(CW36=1,MOD(CV36,2)=0),MAX(TeilnNr),IF(MOD(CW36,2)=0,IF(MAX(TeilnNr)/2-CW36+1-(CV36-MAX(TeilnNr)/2-1)>=1,MAX(TeilnNr)/2-CW36+1-(CV36-MAX(TeilnNr)/2-1),MAX(TeilnNr)/2-CW36+1-(CV36-MAX(TeilnNr)/2-1)+MAX(TeilnNr)-1),IF(CW36-(CV36-1)>=1,CW36-(CV36-1),CW36-(CV36-1)+MAX(TeilnNr)-1)))","v":10},{"$f":"IF(AND(CW36=1,MOD(CV36,2)<>0),MAX(TeilnNr),IF(MOD(CW36,2)<>0,IF(MAX(TeilnNr)/2-CW36+1-(CV36-MAX(TeilnNr)/2-1)>=1,MAX(TeilnNr)/2-CW36+1-(CV36-MAX(TeilnNr)/2-1),MAX(TeilnNr)/2-CW36+1-(CV36-MAX(TeilnNr)/2-1)+MAX(TeilnNr)-1),IF(CW36-(CV36-1)>=1,CW36-(CV36-1),CW36-(CV36-1)+MAX(TeilnNr)-1)))","v":6},"","",{"$f":"ADDRESS(ROW(Teilnehmer)+CX36,COLUMN(Teilnehmer)+CY36)","v":"$I$36"},{"$f":"ADDRESS(ROW(Teilnehmer)+CY36,COLUMN(Teilnehmer)+CX36)","v":"$M$32"},{"$f":"DD35+1","v":3},"Spieler 09","-","Spieler 05",null,null,{"$f":"DJ35","v":8},{"$f":"DK35+1","v":3},{"$f":"IF(AND(DK36=1,MOD(DJ36,2)=0),MAX(TeilnNr),IF(MOD(DK36,2)=0,IF(MAX(TeilnNr)/2-DK36+1-(DJ36-MAX(TeilnNr)/2-1)>=1,MAX(TeilnNr)/2-DK36+1-(DJ36-MAX(TeilnNr)/2-1),MAX(TeilnNr)/2-DK36+1-(DJ36-MAX(TeilnNr)/2-1)+MAX(TeilnNr)-1),IF(DK36-(DJ36-1)>=1,DK36-(DJ36-1),DK36-(DJ36-1)+MAX(TeilnNr)-1)))","v":9},{"$f":"IF(AND(DK36=1,MOD(DJ36,2)<>0),MAX(TeilnNr),IF(MOD(DK36,2)<>0,IF(MAX(TeilnNr)/2-DK36+1-(DJ36-MAX(TeilnNr)/2-1)>=1,MAX(TeilnNr)/2-DK36+1-(DJ36-MAX(TeilnNr)/2-1),MAX(TeilnNr)/2-DK36+1-(DJ36-MAX(TeilnNr)/2-1)+MAX(TeilnNr)-1),IF(DK36-(DJ36-1)>=1,DK36-(DJ36-1),DK36-(DJ36-1)+MAX(TeilnNr)-1)))","v":5},"","",{"$f":"ADDRESS(ROW(Teilnehmer)+DL36,COLUMN(Teilnehmer)+DM36)","v":"$H$35"},{"$f":"ADDRESS(ROW(Teilnehmer)+DM36,COLUMN(Teilnehmer)+DL36)","v":"$L$31"},3,"Spieler 10","-",{"$f":"CS36","v":"Spieler 06"},null,3,"Spieler 09","-",{"$f":"DG36","v":"Spieler 05"}]
[null,11,null,"","","","","","","","","","","","","","",0,0,0,null,0,0,1,null,0,0,0,0,0,0,0,0,0,0,0,0,0,0,0,null,0,0,0,0,0,0,0,0,0,0,0,0,0,0,0,null,0,1,1,1,1,1,10101,101,1010101,10101,10101,1010101,101,101,1010101,10101,{"$f":"INDEX($BL37:$BU37,1,WertungskriterienA)","v":10101},{"$f":"SUM((TRANSPOSE($BV$27:$BV$40)=BV37)*$Z37:$AM37)","v":0},1,10101,101010101,10101,101010101,10101010101,101010101,1010101010101,1010101010101,101010101,10101010101,{"$f":"INDEX(BY37:CH37,1,WertungskriterienA)","v":101010101},1,false,"Spieler 11",10,1.010011,11,4,"Spieler 05","-","Spieler 11",null,null,{"$f":"CV36","v":7},4,{"$f":"IF(AND(CW37=1,MOD(CV37,2)=0),MAX(TeilnNr),IF(MOD(CW37,2)=0,IF(MAX(TeilnNr)/2-CW37+1-(CV37-MAX(TeilnNr)/2-1)>=1,MAX(TeilnNr)/2-CW37+1-(CV37-MAX(TeilnNr)/2-1),MAX(TeilnNr)/2-CW37+1-(CV37-MAX(TeilnNr)/2-1)+MAX(TeilnNr)-1),IF(CW37-(CV37-1)>=1,CW37-(CV37-1),CW37-(CV37-1)+MAX(TeilnNr)-1)))","v":5},{"$f":"IF(AND(CW37=1,MOD(CV37,2)<>0),MAX(TeilnNr),IF(MOD(CW37,2)<>0,IF(MAX(TeilnNr)/2-CW37+1-(CV37-MAX(TeilnNr)/2-1)>=1,MAX(TeilnNr)/2-CW37+1-(CV37-MAX(TeilnNr)/2-1),MAX(TeilnNr)/2-CW37+1-(CV37-MAX(TeilnNr)/2-1)+MAX(TeilnNr)-1),IF(CW37-(CV37-1)>=1,CW37-(CV37-1),CW37-(CV37-1)+MAX(TeilnNr)-1)))","v":11},"","",{"$f":"ADDRESS(ROW(Teilnehmer)+CX37,COLUMN(Teilnehmer)+CY37)","v":"$N$31"},{"$f":"ADDRESS(ROW(Teilnehmer)+CY37,COLUMN(Teilnehmer)+CX37)","v":"$H$37"},4,"Spieler 04","-","Spieler 10",null,null,{"$f":"DJ36","v":8},4,{"$f":"IF(AND(DK37=1,MOD(DJ37,2)=0),MAX(TeilnNr),IF(MOD(DK37,2)=0,IF(MAX(TeilnNr)/2-DK37+1-(DJ37-MAX(TeilnNr)/2-1)>=1,MAX(TeilnNr)/2-DK37+1-(DJ37-MAX(TeilnNr)/2-1),MAX(TeilnNr)/2-DK37+1-(DJ37-MAX(TeilnNr)/2-1)+MAX(TeilnNr)-1),IF(DK37-(DJ37-1)>=1,DK37-(DJ37-1),DK37-(DJ37-1)+MAX(TeilnNr)-1)))","v":4},{"$f":"IF(AND(DK37=1,MOD(DJ37,2)<>0),MAX(TeilnNr),IF(MOD(DK37,2)<>0,IF(MAX(TeilnNr)/2-DK37+1-(DJ37-MAX(TeilnNr)/2-1)>=1,MAX(TeilnNr)/2-DK37+1-(DJ37-MAX(TeilnNr)/2-1),MAX(TeilnNr)/2-DK37+1-(DJ37-MAX(TeilnNr)/2-1)+MAX(TeilnNr)-1),IF(DK37-(DJ37-1)>=1,DK37-(DJ37-1),DK37-(DJ37-1)+MAX(TeilnNr)-1)))","v":10},"","",{"$f":"ADDRESS(ROW(Teilnehmer)+DL37,COLUMN(Teilnehmer)+DM37)","v":"$M$30"},{"$f":"ADDRESS(ROW(Teilnehmer)+DM37,COLUMN(Teilnehmer)+DL37)","v":"$G$36"},4,{"$f":"CS37","v":"Spieler 11"},"-",{"$f":"CQ37","v":"Spieler 05"},null,4,{"$f":"DG37","v":"Spieler 10"},"-",{"$f":"DE37","v":"Spieler 04"}]
[null,12,null,"","","","","","","","","","","","","","",0,0,0,null,0,0,1,null,0,0,0,0,0,0,0,0,0,0,0,0,0,0,0,null,0,0,0,0,0,0,0,0,0,0,0,0,0,0,0,null,0,1,1,1,1,1,10101,101,1010101,10101,10101,1010101,101,101,1010101,10101,{"$f":"INDEX($BL38:$BU38,1,WertungskriterienA)","v":10101},{"$f":"SUM((TRANSPOSE($BV$27:$BV$40)=BV38)*$Z38:$AM38)","v":0},1,10101,101010101,10101,101010101,10101010101,101010101,1010101010101,1010101010101,101010101,10101010101,{"$f":"INDEX(BY38:CH38,1,WertungskriterienA)","v":101010101},1,false,"Spieler 12",11,1.0110119999999998,12,5,"Spieler 12","-","Spieler 04",null,null,{"$f":"CV37","v":7},5,{"$f":"IF(AND(CW38=1,MOD(CV38,2)=0),MAX(TeilnNr),IF(MOD(CW38,2)=0,IF(MAX(TeilnNr)/2-CW38+1-(CV38-MAX(TeilnNr)/2-1)>=1,MAX(TeilnNr)/2-CW38+1-(CV38-MAX(TeilnNr)/2-1),MAX(TeilnNr)/2-CW38+1-(CV38-MAX(TeilnNr)/2-1)+MAX(TeilnNr)-1),IF(CW38-(CV38-1)>=1,CW38-(CV38-1),CW38-(CV38-1)+MAX(TeilnNr)-1)))","v":12},{"$f":"IF(AND(CW38=1,MOD(CV38,2)<>0),MAX(TeilnNr),IF(MOD(CW38,2)<>0,IF(MAX(TeilnNr)/2-CW38+1-(CV38-MAX(TeilnNr)/2-1)>=1,MAX(TeilnNr)/2-CW38+1-(CV38-MAX(TeilnNr)/2-1),MAX(TeilnNr)/2-CW38+1-(CV38-MAX(TeilnNr)/2-1)+MAX(TeilnNr)-1),IF(CW38-(CV38-1)>=1,CW38-(CV38-1),CW38-(CV38-1)+MAX(TeilnNr)-1)))","v":4},"","",{"$f":"ADDRESS(ROW(Teilnehmer)+CX38,COLUMN(Teilnehmer)+CY38)","v":"$G$38"},{"$f":"ADDRESS(ROW(Teilnehmer)+CY38,COLUMN(Teilnehmer)+CX38)","v":"$O$30"},5,"Spieler 11","-","Spieler 03",null,null,8,5,{"$f":"IF(AND(DK38=1,MOD(DJ38,2)=0),MAX(TeilnNr),IF(MOD(DK38,2)=0,IF(MAX(TeilnNr)/2-DK38+1-(DJ38-MAX(TeilnNr)/2-1)>=1,MAX(TeilnNr)/2-DK38+1-(DJ38-MAX(TeilnNr)/2-1),MAX(TeilnNr)/2-DK38+1-(DJ38-MAX(TeilnNr)/2-1)+MAX(TeilnNr)-1),IF(DK38-(DJ38-1)>=1,DK38-(DJ38-1),DK38-(DJ38-1)+MAX(TeilnNr)-1)))","v":11},{"$f":"IF(AND(DK38=1,MOD(DJ38,2)<>0),MAX(TeilnNr),IF(MOD(DK38,2)<>0,IF(MAX(TeilnNr)/2-DK38+1-(DJ38-MAX(TeilnNr)/2-1)>=1,MAX(TeilnNr)/2-DK38+1-(DJ38-MAX(TeilnNr)/2-1),MAX(TeilnNr)/2-DK38+1-(DJ38-MAX(TeilnNr)/2-1)+MAX(TeilnNr)-1),IF(DK38-(DJ38-1)>=1,DK38-(DJ38-1),DK38-(DJ38-1)+MAX(TeilnNr)-1)))","v":3},"","",{"$f":"ADDRESS(ROW(Teilnehmer)+DL38,COLUMN(Teilnehmer)+DM38)","v":"$F$37"},{"$f":"ADDRESS(ROW(Teilnehmer)+DM38,COLUMN(Teilnehmer)+DL38)","v":"$N$29"},5,"Spieler 12","-",{"$f":"CS38","v":"Spieler 04"},null,5,"Spieler 11","-",{"$f":"DG38","v":"Spieler 03"}]
[null,13,null,"","","","","","","","","","","","","","",0,0,0,null,0,0,1,null,0,0,0,0,0,0,0,0,0,0,0,0,0,0,0,null,0,0,0,0,0,0,0,0,0,0,0,0,0,0,0,null,0,1,1,1,1,1,10101,101,1010101,10101,10101,1010101,101,101,1010101,10101,{"$f":"INDEX($BL39:$BU39,1,WertungskriterienA)","v":10101},{"$f":"SUM((TRANSPOSE($BV$27:$BV$40)=BV39)*$Z39:$AM39)","v":0},1,10101,101010101,10101,101010101,10101010101,101010101,1010101010101,1010101010101,101010101,10101010101,{"$f":"INDEX(BY39:CH39,1,WertungskriterienA)","v":101010101},1,false,"Spieler 13",12,1.0120130000000001,13,6,"Spieler 03","-","Spieler 13",null,null,{"$f":"CV38","v":7},6,{"$f":"IF(AND(CW39=1,MOD(CV39,2)=0),MAX(TeilnNr),IF(MOD(CW39,2)=0,IF(MAX(TeilnNr)/2-CW39+1-(CV39-MAX(TeilnNr)/2-1)>=1,MAX(TeilnNr)/2-CW39+1-(CV39-MAX(TeilnNr)/2-1),MAX(TeilnNr)/2-CW39+1-(CV39-MAX(TeilnNr)/2-1)+MAX(TeilnNr)-1),IF(CW39-(CV39-1)>=1,CW39-(CV39-1),CW39-(CV39-1)+MAX(TeilnNr)-1)))","v":3},{"$f":"IF(AND(CW39=1,MOD(CV39,2)<>0),MAX(TeilnNr),IF(MOD(CW39,2)<>0,IF(MAX(TeilnNr)/2-CW39+1-(CV39-MAX(TeilnNr)/2-1)>=1,MAX(TeilnNr)/2-CW39+1-(CV39-MAX(TeilnNr)/2-1),MAX(TeilnNr)/2-CW39+1-(CV39-MAX(TeilnNr)/2-1)+MAX(TeilnNr)-1),IF(CW39-(CV39-1)>=1,CW39-(CV39-1),CW39-(CV39-1)+MAX(TeilnNr)-1)))","v":13},"","",{"$f":"ADDRESS(ROW(Teilnehmer)+CX39,COLUMN(Teilnehmer)+CY39)","v":"$P$29"},{"$f":"ADDRESS(ROW(Teilnehmer)+CY39,COLUMN(Teilnehmer)+CX39)","v":"$F$39"},6,"Spieler 02","-","Spieler 12",null,null,8,6,{"$f":"IF(AND(DK39=1,MOD(DJ39,2)=0),MAX(TeilnNr),IF(MOD(DK39,2)=0,IF(MAX(TeilnNr)/2-DK39+1-(DJ39-MAX(TeilnNr)/2-1)>=1,MAX(TeilnNr)/2-DK39+1-(DJ39-MAX(TeilnNr)/2-1),MAX(TeilnNr)/2-DK39+1-(DJ39-MAX(TeilnNr)/2-1)+MAX(TeilnNr)-1),IF(DK39-(DJ39-1)>=1,DK39-(DJ39-1),DK39-(DJ39-1)+MAX(TeilnNr)-1)))","v":2},{"$f":"IF(AND(DK39=1,MOD(DJ39,2)<>0),MAX(TeilnNr),IF(MOD(DK39,2)<>0,IF(MAX(TeilnNr)/2-DK39+1-(DJ39-MAX(TeilnNr)/2-1)>=1,MAX(TeilnNr)/2-DK39+1-(DJ39-MAX(TeilnNr)/2-1),MAX(TeilnNr)/2-DK39+1-(DJ39-MAX(TeilnNr)/2-1)+MAX(TeilnNr)-1),IF(DK39-(DJ39-1)>=1,DK39-(DJ39-1),DK39-(DJ39-1)+MAX(TeilnNr)-1)))","v":12},"","",{"$f":"ADDRESS(ROW(Teilnehmer)+DL39,COLUMN(Teilnehmer)+DM39)","v":"$O$28"},{"$f":"ADDRESS(ROW(Teilnehmer)+DM39,COLUMN(Teilnehmer)+DL39)","v":"$E$38"},6,{"$f":"CS39","v":"Spieler 13"},"-",{"$f":"CQ39","v":"Spieler 03"},null,6,{"$f":"DG39","v":"Spieler 12"},"-",{"$f":"DE39","v":"Spieler 02"}]
[null,14,null,"","","","","","","","","","","","","","",0,0,0,null,0,0,1,null,0,0,0,0,0,0,0,0,0,0,0,0,0,0,0,null,0,0,0,0,0,0,0,0,0,0,0,0,0,0,0,null,0,1,1,1,1,1,10101,101,1010101,10101,10101,1010101,101,101,1010101,10101,{"$f":"INDEX($BL40:$BU40,1,WertungskriterienA)","v":10101},{"$f":"SUM((TRANSPOSE($BV$27:$BV$40)=BV40)*$Z40:$AM40)","v":0},1,10101,101010101,10101,101010101,10101010101,101010101,1010101010101,1010101010101,101010101,10101010101,{"$f":"INDEX(BY40:CH40,1,WertungskriterienA)","v":101010101},1,false,"Spieler 14",13,1.0130139999999999,14,7,"Spieler 01","-","Spieler 02",null,null,{"$f":"CV39","v":7},7,{"$f":"IF(AND(CW40=1,MOD(CV40,2)=0),MAX(TeilnNr),IF(MOD(CW40,2)=0,IF(MAX(TeilnNr)/2-CW40+1-(CV40-MAX(TeilnNr)/2-1)>=1,MAX(TeilnNr)/2-CW40+1-(CV40-MAX(TeilnNr)/2-1),MAX(TeilnNr)/2-CW40+1-(CV40-MAX(TeilnNr)/2-1)+MAX(TeilnNr)-1),IF(CW40-(CV40-1)>=1,CW40-(CV40-1),CW40-(CV40-1)+MAX(TeilnNr)-1)))","v":1},{"$f":"IF(AND(CW40=1,MOD(CV40,2)<>0),MAX(TeilnNr),IF(MOD(CW40,2)<>0,IF(MAX(TeilnNr)/2-CW40+1-(CV40-MAX(TeilnNr)/2-1)>=1,MAX(TeilnNr)/2-CW40+1-(CV40-MAX(TeilnNr)/2-1),MAX(TeilnNr)/2-CW40+1-(CV40-MAX(TeilnNr)/2-1)+MAX(TeilnNr)-1),IF(CW40-(CV40-1)>=1,CW40-(CV40-1),CW40-(CV40-1)+MAX(TeilnNr)-1)))","v":2},"","",{"$f":"ADDRESS(ROW(Teilnehmer)+CX40,COLUMN(Teilnehmer)+CY40)","v":"$E$27"},{"$f":"ADDRESS(ROW(Teilnehmer)+CY40,COLUMN(Teilnehmer)+CX40)","v":"$D$28"},7,"Spieler 13","-","Spieler 01",null,null,8,7,{"$f":"IF(AND(DK40=1,MOD(DJ40,2)=0),MAX(TeilnNr),IF(MOD(DK40,2)=0,IF(MAX(TeilnNr)/2-DK40+1-(DJ40-MAX(TeilnNr)/2-1)>=1,MAX(TeilnNr)/2-DK40+1-(DJ40-MAX(TeilnNr)/2-1),MAX(TeilnNr)/2-DK40+1-(DJ40-MAX(TeilnNr)/2-1)+MAX(TeilnNr)-1),IF(DK40-(DJ40-1)>=1,DK40-(DJ40-1),DK40-(DJ40-1)+MAX(TeilnNr)-1)))","v":13},{"$f":"IF(AND(DK40=1,MOD(DJ40,2)<>0),MAX(TeilnNr),IF(MOD(DK40,2)<>0,IF(MAX(TeilnNr)/2-DK40+1-(DJ40-MAX(TeilnNr)/2-1)>=1,MAX(TeilnNr)/2-DK40+1-(DJ40-MAX(TeilnNr)/2-1),MAX(TeilnNr)/2-DK40+1-(DJ40-MAX(TeilnNr)/2-1)+MAX(TeilnNr)-1),IF(DK40-(DJ40-1)>=1,DK40-(DJ40-1),DK40-(DJ40-1)+MAX(TeilnNr)-1)))","v":1},"","",{"$f":"ADDRESS(ROW(Teilnehmer)+DL40,COLUMN(Teilnehmer)+DM40)","v":"$D$39"},{"$f":"ADDRESS(ROW(Teilnehmer)+DM40,COLUMN(Teilnehmer)+DL40)","v":"$P$27"},7,"Spieler 01","-",{"$f":"CS40","v":"Spieler 02"},null,7,"Spieler 13","-",{"$f":"DG40","v":"Spieler 01"}]
[null,null,{"$f":"\"-> bei nur \"&MAX(TeilnNr)-1&\" Spielern an Pos. \"&MAX(TeilnNr)&\" einen Stern (*) eintragen\"","v":"-> bei nur 13 Spielern an Pos. 14 einen Stern (*) eintragen"},null,null,null,null,null,null,null,null,null,null,null,null,null,null,null,{"$f":"SUM(S27:S40)","v":0},null,null,{"$f":"SUM(V27:V40)","v":0},{"$f":"SUM(W27:W40)","v":0}]
[null,null,null,null,null,null,null,null,null,null,null,null,null,null,null,null,null,null,null,null,null,null,null,null,null,null,null,null,null,null,null,null,null,null,null,null,null,null,null,null,null,null,null,null,null,null,null,null,null,null,null,null,null,null,null,null,null,null,null,null,null,null,null,null,null,null,null,null,null,null,null,null,null,null,null,null,null,null,null,null,null,null,null,null,null,null,null,null,null,null,null,null,null,null,{"$f":"CQ33+2","v":9},null,null,null,null,"R","B","SpNr w","SpNr s","Res w","Res s",null,null,null,{"$f":"DE33+2","v":10},null,null,null,null,"R","B","SpNr w","SpNr s","Res w","Res s",null,null,null,{"$f":"CQ42","v":9},1,null,null,null,{"$f":"DE42","v":10}]
[null,null,null,null,null,null,null,null,null,null,null,null,null,null,null,null,null,null,null,null,null,null,null,null,null,null,null,null,null,null,null,null,null,null,null,null,null,null,null,null,null,null,null,null,null,null,null,null,null,null,null,null,null,null,null,null,null,null,null,null,null,null,null,null,null,null,null,null,null,null,null,null,null,null,null,null,null,null,null,null,null,null,null,null,null,null,null,null,null,null,null,null,null,{"$f":"IF(OR(INDEX($CK$27:$CK$40,CX43),INDEX($CK$27:$CK$40,CY43)),0,1)","v":1},{"$f":"INDEX($CL$27:$CL$40,MATCH($CX43,TeilnNr,0))","v":"Spieler 06"},"-",{"$f":"INDEX($CL$27:$CL$40,MATCH($CY43,TeilnNr,0))","v":"Spieler 14"},null,null,{"$f":"CQ42","v":9},1,{"$f":"IF(AND(CW43=1,MOD(CV43,2)=0),MAX(TeilnNr),IF(MOD(CW43,2)=0,IF(MAX(TeilnNr)/2-CW43+1-(CV43-MAX(TeilnNr)/2-1)>=1,MAX(TeilnNr)/2-CW43+1-(CV43-MAX(TeilnNr)/2-1),MAX(TeilnNr)/2-CW43+1-(CV43-MAX(TeilnNr)/2-1)+MAX(TeilnNr)-1),IF(CW43-(CV43-1)>=1,CW43-(CV43-1),CW43-(CV43-1)+MAX(TeilnNr)-1)))","v":6},{"$f":"IF(AND(CW43=1,MOD(CV43,2)<>0),MAX(TeilnNr),IF(MOD(CW43,2)<>0,IF(MAX(TeilnNr)/2-CW43+1-(CV43-MAX(TeilnNr)/2-1)>=1,MAX(TeilnNr)/2-CW43+1-(CV43-MAX(TeilnNr)/2-1),MAX(TeilnNr)/2-CW43+1-(CV43-MAX(TeilnNr)/2-1)+MAX(TeilnNr)-1),IF(CW43-(CV43-1)>=1,CW43-(CV43-1),CW43-(CV43-1)+MAX(TeilnNr)-1)))","v":14},{"$f":"IF(LEFT(CU43,1)=\"V\",\"\",LEFT(CU43,1))","v":""},{"$f":"IF(RIGHT(CU43,1)=\"V\",\"\",RIGHT(CU43,1))","v":""},{"$f":"ADDRESS(ROW(Teilnehmer)+CX43,COLUMN(Teilnehmer)+CY43)","v":"$Q$32"},{"$f":"ADDRESS(ROW(Teilnehmer)+CY43,COLUMN(Teilnehmer)+CX43)","v":"$I$40"},{"$f":"IF(OR(INDEX($CK$27:$CK$40,DL43),INDEX($CK$27:$CK$40,DM43)),0,1)","v":1},{"$f":"INDEX($CL$27:$CL$40,MATCH($DL43,TeilnNr,0))","v":"Spieler 14"},"-",{"$f":"INDEX($CL$27:$CL$40,MATCH($DM43,TeilnNr,0))","v":"Spieler 05"},null,null,{"$f":"DE42","v":10},1,{"$f":"IF(AND(DK43=1,MOD(DJ43,2)=0),MAX(TeilnNr),IF(MOD(DK43,2)=0,IF(MAX(TeilnNr)/2-DK43+1-(DJ43-MAX(TeilnNr)/2-1)>=1,MAX(TeilnNr)/2-DK43+1-(DJ43-MAX(TeilnNr)/2-1),MAX(TeilnNr)/2-DK43+1-(DJ43-MAX(TeilnNr)/2-1)+MAX(TeilnNr)-1),IF(DK43-(DJ43-1)>=1,DK43-(DJ43-1),DK43-(DJ43-1)+MAX(TeilnNr)-1)))","v":14},{"$f":"IF(AND(DK43=1,MOD(DJ43,2)<>0),MAX(TeilnNr),IF(MOD(DK43,2)<>0,IF(MAX(TeilnNr)/2-DK43+1-(DJ43-MAX(TeilnNr)/2-1)>=1,MAX(TeilnNr)/2-DK43+1-(DJ43-MAX(TeilnNr)/2-1),MAX(TeilnNr)/2-DK43+1-(DJ43-MAX(TeilnNr)/2-1)+MAX(TeilnNr)-1),IF(DK43-(DJ43-1)>=1,DK43-(DJ43-1),DK43-(DJ43-1)+MAX(TeilnNr)-1)))","v":5},{"$f":"IF(LEFT(DI43,1)=\"V\",\"\",LEFT(DI43,1))","v":""},{"$f":"IF(RIGHT(DI43,1)=\"V\",\"\",RIGHT(DI43,1))","v":""},{"$f":"ADDRESS(ROW(Teilnehmer)+DL43,COLUMN(Teilnehmer)+DM43)","v":"$H$40"},{"$f":"ADDRESS(ROW(Teilnehmer)+DM43,COLUMN(Teilnehmer)+DL43)","v":"$Q$31"},{"$f":"CP43","v":1},"Spieler 06","-",{"$f":"CS43","v":"Spieler 14"},null,{"$f":"DD43","v":1},{"$f":"DG43","v":"Spieler 05"},"-",{"$f":"DE43","v":"Spieler 14"}]
[null,null,null,null,null,null,null,null,null,null,null,null,null,null,null,null,null,null,null,null,null,null,null,null,null,null,null,null,null,null,null,null,null,null,null,null,null,null,null,null,null,null,null,null,null,null,null,null,null,null,null,null,null,null,null,null,null,null,null,null,null,null,null,null,null,null,null,null,null,null,null,null,null,null,null,null,null,null,null,null,null,null,null,null,null,null,null,null,null,null,null,null,null,{"$f":"CP43+1","v":2},"Spieler 05","-","Spieler 07",null,null,{"$f":"CV43","v":9},{"$f":"CW43+1","v":2},5,7,"","","$J$31","$H$33",{"$f":"DD43+1","v":2},"Spieler 04","-","Spieler 06",null,null,{"$f":"DJ43","v":10},{"$f":"DK43+1","v":2},4,6,"","","$I$30","$G$32",{"$f":"CP44","v":2},{"$f":"CS44","v":"Spieler 07"},"-",{"$f":"CQ44","v":"Spieler 05"},null,2,"Spieler 06","-","Spieler 04"]
[null,null,null,null,null,null,null,null,null,null,null,null,null,null,null,null,null,null,null,null,null,null,null,null,null,null,null,null,null,null,null,null,null,null,null,null,null,null,null,null,null,null,null,null,null,null,null,null,null,null,null,null,null,null,null,null,null,null,null,null,null,null,null,null,null,null,null,null,null,null,null,null,null,null,null,null,null,null,null,null,null,null,null,null,null,null,null,null,null,null,null,null,null,{"$f":"CP44+1","v":3},"Spieler 08","-","Spieler 04",null,null,{"$f":"CV44","v":9},{"$f":"CW44+1","v":3},8,4,"","","$G$34","$K$30",{"$f":"DD44+1","v":3},"Spieler 07","-","Spieler 03",null,null,{"$f":"DJ44","v":10},{"$f":"DK44+1","v":3},7,3,"","","$F$33","$J$29",3,"Spieler 08","-",{"$f":"CS45","v":"Spieler 04"},null,3,"Spieler 07","-",{"$f":"DG45","v":"Spieler 03"}]
[null,null,null,null,null,null,null,null,null,null,null,null,null,null,null,null,null,null,null,null,null,null,null,null,null,null,null,null,null,null,null,null,null,null,null,null,null,null,null,null,null,null,null,null,null,null,null,null,null,null,null,null,null,null,null,null,null,null,null,null,null,null,null,null,null,null,null,null,null,null,null,null,null,null,null,null,null,null,null,null,null,null,null,null,null,null,null,null,null,null,null,null,null,4,"Spieler 03","-","Spieler 09",null,null,{"$f":"CV45","v":9},4,3,9,"","","$L$29","$F$35",4,"Spieler 02","-","Spieler 08",null,null,{"$f":"DJ45","v":10},4,2,8,"","","$K$28","$E$34",4,{"$f":"CS46","v":"Spieler 09"},"-",{"$f":"CQ46","v":"Spieler 03"},null,4,{"$f":"DG46","v":"Spieler 08"},"-",{"$f":"DE46","v":"Spieler 02"}]
[null,null,null,null,null,null,null,null,null,null,null,null,null,null,null,null,null,null,null,null,null,null,null,null,null,null,null,null,null,null,null,null,null,null,null,null,null,null,null,null,null,null,null,null,null,null,null,null,null,null,null,null,null,null,null,null,null,null,null,null,null,null,null,null,null,null,null,null,null,null,null,null,null,null,null,null,null,null,null,null,null,null,null,null,null,null,null,null,null,null,null,null,null,5,"Spieler 10","-","Spieler 02",null,null,{"$f":"CV46","v":9},5,10,2,"","","$E$36","$M$28",5,"Spieler 09","-","Spieler 01",null,null,10,5,9,1,"","","$D$35","$L$27",5,"Spieler 10","-",{"$f":"CS47","v":"Spieler 02"},null,5,"Spieler 09","-",{"$f":"DG47","v":"Spieler 01"}]
[null,null,null,null,null,null,null,null,null,null,null,null,null,null,null,null,null,null,null,null,null,null,null,null,null,null,null,null,null,null,null,null,null,null,null,null,null,null,null,null,null,null,null,null,null,null,null,null,null,null,null,null,null,null,null,null,null,null,null,null,null,null,null,null,null,null,null,null,null,null,null,null,null,null,null,null,null,null,null,null,null,null,null,null,null,null,null,null,null,null,null,null,null,6,"Spieler 01","-","Spieler 11",null,null,{"$f":"CV47","v":9},6,1,11,"","","$N$27","$D$37",6,"Spieler 13","-","Spieler 10",null,null,10,6,13,10,"","","$M$39","$P$36",6,{"$f":"CS48","v":"Spieler 11"},"-",{"$f":"CQ48","v":"Spieler 01"},null,6,{"$f":"DG48","v":"Spieler 10"},"-",{"$f":"DE48","v":"Spieler 13"}]
[null,null,null,null,null,null,null,null,null,null,null,null,null,null,null,null,null,null,null,null,null,null,null,null,null,null,null,null,null,null,null,null,null,null,null,null,null,null,null,null,null,null,null,null,null,null,null,null,null,null,null,null,null,null,null,null,null,null,null,null,null,null,null,null,null,null,null,null,null,null,null,null,null,null,null,null,null,null,null,null,null,null,null,null,null,null,null,null,null,null,null,null,null,7,"Spieler 12","-","Spieler 13",null,null,{"$f":"CV48","v":9},7,12,13,"","",{"$f":"ADDRESS(ROW(Teilnehmer)+CX49,COLUMN(Teilnehmer)+CY49)","v":"$P$38"},{"$f":"ADDRESS(ROW(Teilnehmer)+CY49,COLUMN(Teilnehmer)+CX49)","v":"$O$39"},7,"Spieler 11","-","Spieler 12",null,null,10,7,11,12,"","",{"$f":"ADDRESS(ROW(Teilnehmer)+DL49,COLUMN(Teilnehmer)+DM49)","v":"$O$37"},{"$f":"ADDRESS(ROW(Teilnehmer)+DM49,COLUMN(Teilnehmer)+DL49)","v":"$N$38"},7,"Spieler 12","-",{"$f":"CS49","v":"Spieler 13"},null,7,"Spieler 11","-",{"$f":"DG49","v":"Spieler 12"}]
[]
[null,null,null,null,null,null,null,null,null,null,null,null,null,null,null,null,null,null,null,null,null,null,null,null,null,null,null,null,null,null,null,null,null,null,null,null,null,null,null,null,null,null,null,null,null,null,null,null,null,null,null,null,null,null,null,null,null,null,null,null,null,null,null,null,null,null,null,null,null,null,null,null,null,null,null,null,null,null,null,null,null,null,null,null,null,null,null,null,null,null,null,null,null,null,{"$f":"CQ42+2","v":11},null,null,null,null,"R","B","SpNr w","SpNr s","Res w","Res s",null,null,null,{"$f":"DE42+2","v":12},null,null,null,null,"R","B","SpNr w","SpNr s","Res w","Res s",null,null,null,{"$f":"CQ51","v":11},1,null,null,null,{"$f":"DE51","v":12}]
[null,null,null,null,null,null,null,null,null,null,null,null,null,null,null,null,null,null,null,null,null,null,null,null,null,null,null,null,null,null,null,null,null,null,null,null,null,null,null,null,null,null,null,null,null,null,null,null,null,null,null,null,null,null,null,null,null,null,null,null,null,null,null,null,null,null,null,null,null,null,null,null,null,null,null,null,null,null,null,null,null,null,null,null,null,null,null,null,null,null,null,null,null,{"$f":"IF(OR(INDEX($CK$27:$CK$40,CX52),INDEX($CK$27:$CK$40,CY52)),0,1)","v":1},{"$f":"INDEX($CL$27:$CL$40,MATCH($CX52,TeilnNr,0))","v":"Spieler 04"},"-",{"$f":"INDEX($CL$27:$CL$40,MATCH($CY52,TeilnNr,0))","v":"Spieler 14"},null,null,{"$f":"CQ51","v":11},1,{"$f":"IF(AND(CW52=1,MOD(CV52,2)=0),MAX(TeilnNr),IF(MOD(CW52,2)=0,IF(MAX(TeilnNr)/2-CW52+1-(CV52-MAX(TeilnNr)/2-1)>=1,MAX(TeilnNr)/2-CW52+1-(CV52-MAX(TeilnNr)/2-1),MAX(TeilnNr)/2-CW52+1-(CV52-MAX(TeilnNr)/2-1)+MAX(TeilnNr)-1),IF(CW52-(CV52-1)>=1,CW52-(CV52-1),CW52-(CV52-1)+MAX(TeilnNr)-1)))","v":4},{"$f":"IF(AND(CW52=1,MOD(CV52,2)<>0),MAX(TeilnNr),IF(MOD(CW52,2)<>0,IF(MAX(TeilnNr)/2-CW52+1-(CV52-MAX(TeilnNr)/2-1)>=1,MAX(TeilnNr)/2-CW52+1-(CV52-MAX(TeilnNr)/2-1),MAX(TeilnNr)/2-CW52+1-(CV52-MAX(TeilnNr)/2-1)+MAX(TeilnNr)-1),IF(CW52-(CV52-1)>=1,CW52-(CV52-1),CW52-(CV52-1)+MAX(TeilnNr)-1)))","v":14},{"$f":"IF(LEFT(CU52,1)=\"V\",\"\",LEFT(CU52,1))","v":""},{"$f":"IF(RIGHT(CU52,1)=\"V\",\"\",RIGHT(CU52,1))","v":""},{"$f":"ADDRESS(ROW(Teilnehmer)+CX52,COLUMN(Teilnehmer)+CY52)","v":"$Q$30"},{"$f":"ADDRESS(ROW(Teilnehmer)+CY52,COLUMN(Teilnehmer)+CX52)","v":"$G$40"},{"$f":"IF(OR(INDEX($CK$27:$CK$40,DL52),INDEX($CK$27:$CK$40,DM52)),0,1)","v":1},{"$f":"INDEX($CL$27:$CL$40,MATCH($DL52,TeilnNr,0))","v":"Spieler 14"},"-",{"$f":"INDEX($CL$27:$CL$40,MATCH($DM52,TeilnNr,0))","v":"Spieler 03"},null,null,{"$f":"DE51","v":12},1,{"$f":"IF(AND(DK52=1,MOD(DJ52,2)=0),MAX(TeilnNr),IF(MOD(DK52,2)=0,IF(MAX(TeilnNr)/2-DK52+1-(DJ52-MAX(TeilnNr)/2-1)>=1,MAX(TeilnNr)/2-DK52+1-(DJ52-MAX(TeilnNr)/2-1),MAX(TeilnNr)/2-DK52+1-(DJ52-MAX(TeilnNr)/2-1)+MAX(TeilnNr)-1),IF(DK52-(DJ52-1)>=1,DK52-(DJ52-1),DK52-(DJ52-1)+MAX(TeilnNr)-1)))","v":14},{"$f":"IF(AND(DK52=1,MOD(DJ52,2)<>0),MAX(TeilnNr),IF(MOD(DK52,2)<>0,IF(MAX(TeilnNr)/2-DK52+1-(DJ52-MAX(TeilnNr)/2-1)>=1,MAX(TeilnNr)/2-DK52+1-(DJ52-MAX(TeilnNr)/2-1),MAX(TeilnNr)/2-DK52+1-(DJ52-MAX(TeilnNr)/2-1)+MAX(TeilnNr)-1),IF(DK52-(DJ52-1)>=1,DK52-(DJ52-1),DK52-(DJ52-1)+MAX(TeilnNr)-1)))","v":3},{"$f":"IF(LEFT(DI52,1)=\"V\",\"\",LEFT(DI52,1))","v":""},{"$f":"IF(RIGHT(DI52,1)=\"V\",\"\",RIGHT(DI52,1))","v":""},{"$f":"ADDRESS(ROW(Teilnehmer)+DL52,COLUMN(Teilnehmer)+DM52)","v":"$F$40"},{"$f":"ADDRESS(ROW(Teilnehmer)+DM52,COLUMN(Teilnehmer)+DL52)","v":"$Q$29"},{"$f":"CP52","v":1},"Spieler 04","-",{"$f":"CS52","v":"Spieler 14"},null,{"$f":"DD52","v":1},{"$f":"DG52","v":"Spieler 03"},"-",{"$f":"DE52","v":"Spieler 14"}]
[null,null,null,null,null,null,null,null,null,null,null,null,null,null,null,null,null,null,null,null,null,null,null,null,null,null,null,null,null,null,null,null,null,null,null,null,null,null,null,null,null,null,null,null,null,null,null,null,null,null,null,null,null,null,null,null,null,null,null,null,null,null,null,null,null,null,null,null,null,null,null,null,null,null,null,null,null,null,null,null,null,null,null,null,null,null,null,null,null,null,null,null,null,{"$f":"CP52+1","v":2},"Spieler 03","-","Spieler 05",null,null,{"$f":"CV52","v":11},{"$f":"CW52+1","v":2},3,5,"","","$H$29","$F$31",{"$f":"DD52+1","v":2},"Spieler 02","-","Spieler 04",null,null,{"$f":"DJ52","v":12},{"$f":"DK52+1","v":2},2,4,"","","$G$28","$E$30",{"$f":"CP53","v":2},{"$f":"CS53","v":"Spieler 05"},"-",{"$f":"CQ53","v":"Spieler 03"},null,2,"Spieler 04","-","Spieler 02"]
[null,null,null,null,null,null,null,null,null,null,null,null,null,null,null,null,null,null,null,null,null,null,null,null,null,null,null,null,null,null,null,null,null,null,null,null,null,null,null,null,null,null,null,null,null,null,null,null,null,null,null,null,null,null,null,null,null,null,null,null,null,null,null,null,null,null,null,null,null,null,null,null,null,null,null,null,null,null,null,null,null,null,null,null,null,null,null,null,null,null,null,null,null,{"$f":"CP53+1","v":3},"Spieler 06","-","Spieler 02",null,null,{"$f":"CV53","v":11},{"$f":"CW53+1","v":3},6,2,"","","$E$32","$I$28",{"$f":"DD53+1","v":3},"Spieler 05","-","Spieler 01",null,null,{"$f":"DJ53","v":12},{"$f":"DK53+1","v":3},5,1,"","","$D$31","$H$27",3,"Spieler 06","-",{"$f":"CS54","v":"Spieler 02"},null,3,"Spieler 05","-",{"$f":"DG54","v":"Spieler 01"}]
[null,null,null,null,null,null,null,null,null,null,null,null,null,null,null,null,null,null,null,null,null,null,null,null,null,null,null,null,null,null,null,null,null,null,null,null,null,null,null,null,null,null,null,null,null,null,null,null,null,null,null,null,null,null,null,null,null,null,null,null,null,null,null,null,null,null,null,null,null,null,null,null,null,null,null,null,null,null,null,null,null,null,null,null,null,null,null,null,null,null,null,null,null,4,"Spieler 01","-","Spieler 07",null,null,{"$f":"CV54","v":11},4,1,7,"","","$J$27","$D$33",4,"Spieler 13","-","Spieler 06",null,null,{"$f":"DJ54","v":12},4,13,6,"","","$I$39","$P$32",4,{"$f":"CS55","v":"Spieler 07"},"-",{"$f":"CQ55","v":"Spieler 01"},null,4,{"$f":"DG55","v":"Spieler 06"},"-",{"$f":"DE55","v":"Spieler 13"}]
[null,null,null,null,null,null,null,null,null,null,null,null,null,null,null,null,null,null,null,null,null,null,null,null,null,null,null,null,null,null,null,null,null,null,null,null,null,null,null,null,null,null,null,null,null,null,null,null,null,null,null,null,null,null,null,null,null,null,null,null,null,null,null,null,null,null,null,null,null,null,null,null,null,null,null,null,null,null,null,null,null,null,null,null,null,null,null,null,null,null,null,null,null,5,"Spieler 08","-","Spieler 13",null,null,{"$f":"CV55","v":11},5,8,13,"","","$P$34","$K$39",5,"Spieler 07","-","Spieler 12",null,null,12,5,7,12,"","","$O$33","$J$38",5,"Spieler 08","-",{"$f":"CS56","v":"Spieler 13"},null,5,"Spieler 07","-",{"$f":"DG56","v":"Spieler 12"}]
[null,null,null,null,null,null,null,null,null,null,null,null,null,null,null,null,null,null,null,null,null,null,null,null,null,null,null,null,null,null,null,null,null,null,null,null,null,null,null,null,null,null,null,null,null,null,null,null,null,null,null,null,null,null,null,null,null,null,null,null,null,null,null,null,null,null,null,null,null,null,null,null,null,null,null,null,null,null,null,null,null,null,null,null,null,null,null,null,null,null,null,null,null,6,"Spieler 12","-","Spieler 09",null,null,{"$f":"CV56","v":11},6,12,9,"","","$L$38","$O$35",6,"Spieler 11","-","Spieler 08",null,null,12,6,11,8,"","","$K$37","$N$34",6,{"$f":"CS57","v":"Spieler 09"},"-",{"$f":"CQ57","v":"Spieler 12"},null,6,{"$f":"DG57","v":"Spieler 08"},"-",{"$f":"DE57","v":"Spieler 11"}]
[null,null,null,null,null,null,null,null,null,null,null,null,null,null,null,null,null,null,null,null,null,null,null,null,null,null,null,null,null,null,null,null,null,null,null,null,null,null,null,null,null,null,null,null,null,null,null,null,null,null,null,null,null,null,null,null,null,null,null,null,null,null,null,null,null,null,null,null,null,null,null,null,null,null,null,null,null,null,null,null,null,null,null,null,null,null,null,null,null,null,null,null,null,7,"Spieler 10","-","Spieler 11",null,null,{"$f":"CV57","v":11},7,10,11,"","",{"$f":"ADDRESS(ROW(Teilnehmer)+CX58,COLUMN(Teilnehmer)+CY58)","v":"$N$36"},{"$f":"ADDRESS(ROW(Teilnehmer)+CY58,COLUMN(Teilnehmer)+CX58)","v":"$M$37"},7,"Spieler 09","-","Spieler 10",null,null,12,7,9,10,"","",{"$f":"ADDRESS(ROW(Teilnehmer)+DL58,COLUMN(Teilnehmer)+DM58)","v":"$M$35"},{"$f":"ADDRESS(ROW(Teilnehmer)+DM58,COLUMN(Teilnehmer)+DL58)","v":"$L$36"},7,"Spieler 10","-",{"$f":"CS58","v":"Spieler 11"},null,7,"Spieler 09","-",{"$f":"DG58","v":"Spieler 10"}]
[]
[null,null,null,null,null,null,null,null,null,null,null,null,null,null,null,null,null,null,null,null,null,null,null,null,null,null,null,null,null,null,null,null,null,null,null,null,null,null,null,null,null,null,null,null,null,null,null,null,null,null,null,null,null,null,null,null,null,null,null,null,null,null,null,null,null,null,null,null,null,null,null,null,null,null,null,null,null,null,null,null,null,null,null,null,null,null,null,null,null,null,null,null,null,null,{"$f":"CQ51+2","v":13},null,null,null,null,"R","B","SpNr w","SpNr s","Res w","Res s",null,null,null,null,null,null,null,null,null,null,null,null,null,null,null,null,null,{"$f":"CQ60","v":13},1]
[null,null,null,null,null,null,null,null,null,null,null,null,null,null,null,null,null,null,null,null,null,null,null,null,null,null,null,null,null,null,null,null,null,null,null,null,null,null,null,null,null,null,null,null,null,null,null,null,null,null,null,null,null,null,null,null,null,null,null,null,null,null,null,null,null,null,null,null,null,null,null,null,null,null,null,null,null,null,null,null,null,null,null,null,null,null,null,null,null,null,null,null,null,{"$f":"IF(OR(INDEX($CK$27:$CK$40,CX61),INDEX($CK$27:$CK$40,CY61)),0,1)","v":1},{"$f":"INDEX($CL$27:$CL$40,MATCH($CX61,TeilnNr,0))","v":"Spieler 02"},"-",{"$f":"INDEX($CL$27:$CL$40,MATCH($CY61,TeilnNr,0))","v":"Spieler 14"},null,null,{"$f":"CQ60","v":13},1,{"$f":"IF(AND(CW61=1,MOD(CV61,2)=0),MAX(TeilnNr),IF(MOD(CW61,2)=0,IF(MAX(TeilnNr)/2-CW61+1-(CV61-MAX(TeilnNr)/2-1)>=1,MAX(TeilnNr)/2-CW61+1-(CV61-MAX(TeilnNr)/2-1),MAX(TeilnNr)/2-CW61+1-(CV61-MAX(TeilnNr)/2-1)+MAX(TeilnNr)-1),IF(CW61-(CV61-1)>=1,CW61-(CV61-1),CW61-(CV61-1)+MAX(TeilnNr)-1)))","v":2},{"$f":"IF(AND(CW61=1,MOD(CV61,2)<>0),MAX(TeilnNr),IF(MOD(CW61,2)<>0,IF(MAX(TeilnNr)/2-CW61+1-(CV61-MAX(TeilnNr)/2-1)>=1,MAX(TeilnNr)/2-CW61+1-(CV61-MAX(TeilnNr)/2-1),MAX(TeilnNr)/2-CW61+1-(CV61-MAX(TeilnNr)/2-1)+MAX(TeilnNr)-1),IF(CW61-(CV61-1)>=1,CW61-(CV61-1),CW61-(CV61-1)+MAX(TeilnNr)-1)))","v":14},{"$f":"IF(LEFT(CU61,1)=\"V\",\"\",LEFT(CU61,1))","v":""},{"$f":"IF(RIGHT(CU61,1)=\"V\",\"\",RIGHT(CU61,1))","v":""},{"$f":"ADDRESS(ROW(Teilnehmer)+CX61,COLUMN(Teilnehmer)+CY61)","v":"$Q$28"},{"$f":"ADDRESS(ROW(Teilnehmer)+CY61,COLUMN(Teilnehmer)+CX61)","v":"$E$40"},null,null,null,null,null,null,null,null,null,null,null,null,null,null,{"$f":"CP61","v":1},"Spieler 02","-",{"$f":"CS61","v":"Spieler 14"}]
[null,null,null,null,null,null,null,null,null,null,null,null,null,null,null,null,null,null,null,null,null,null,null,null,null,null,null,null,null,null,null,null,null,null,null,null,null,null,null,null,null,null,null,null,null,null,null,null,null,null,null,null,null,null,null,null,null,null,null,null,null,null,null,null,null,null,null,null,null,null,null,null,null,null,null,null,null,null,null,null,null,null,null,null,null,null,null,null,null,null,null,null,null,{"$f":"CP61+1","v":2},"Spieler 01","-","Spieler 03",null,null,{"$f":"CV61","v":13},{"$f":"CW61+1","v":2},1,3,"","","$F$27","$D$29",null,null,null,null,null,null,null,null,null,null,null,null,null,null,{"$f":"CP62","v":2},{"$f":"CS62","v":"Spieler 03"},"-",{"$f":"CQ62","v":"Spieler 01"}]
[null,null,null,null,null,null,null,null,null,null,null,null,null,null,null,null,null,null,null,null,null,null,null,null,null,null,null,null,null,null,null,null,null,null,null,null,null,null,null,null,null,null,null,null,null,null,null,null,null,null,null,null,null,null,null,null,null,null,null,null,null,null,null,null,null,null,null,null,null,null,null,null,null,null,null,null,null,null,null,null,null,null,null,null,null,null,null,null,null,null,null,null,null,{"$f":"CP62+1","v":3},"Spieler 04","-","Spieler 13",null,null,{"$f":"CV62","v":13},{"$f":"CW62+1","v":3},4,13,"","","$P$30","$G$39",null,null,null,null,null,null,null,null,null,null,null,null,null,null,3,"Spieler 04","-",{"$f":"CS63","v":"Spieler 13"}]
[null,null,null,null,null,null,null,null,null,null,null,null,null,null,null,null,null,null,null,null,null,null,null,null,null,null,null,null,null,null,null,null,null,null,null,null,null,null,null,null,null,null,null,null,null,null,null,null,null,null,null,null,null,null,null,null,null,null,null,null,null,null,null,null,null,null,null,null,null,null,null,null,null,null,null,null,null,null,null,null,null,null,null,null,null,null,null,null,null,null,null,null,null,4,"Spieler 12","-","Spieler 05",null,null,{"$f":"CV63","v":13},4,12,5,"","","$H$38","$O$31",null,null,null,null,null,null,null,null,null,null,null,null,null,null,4,{"$f":"CS64","v":"Spieler 05"},"-",{"$f":"CQ64","v":"Spieler 12"}]
[null,null,null,null,null,null,null,null,null,null,null,null,null,null,null,null,null,null,null,null,null,null,null,null,null,null,null,null,null,null,null,null,null,null,null,null,null,null,null,null,null,null,null,null,null,null,null,null,null,null,null,null,null,null,null,null,null,null,null,null,null,null,null,null,null,null,null,null,null,null,null,null,null,null,null,null,null,null,null,null,null,null,null,null,null,null,null,null,null,null,null,null,null,5,"Spieler 06","-","Spieler 11",null,null,{"$f":"CV64","v":13},5,6,11,"","","$N$32","$I$37",null,null,null,null,null,null,null,null,null,null,null,null,null,null,5,"Spieler 06","-",{"$f":"CS65","v":"Spieler 11"}]
[null,null,null,null,null,null,null,null,null,null,null,null,null,null,null,null,null,null,null,null,null,null,null,null,null,null,null,null,null,null,null,null,null,null,null,null,null,null,null,null,null,null,null,null,null,null,null,null,null,null,null,null,null,null,null,null,null,null,null,null,null,null,null,null,null,null,null,null,null,null,null,null,null,null,null,null,null,null,null,null,null,null,null,null,null,null,null,null,null,null,null,null,null,6,"Spieler 10","-","Spieler 07",null,null,{"$f":"CV65","v":13},6,10,7,"","","$J$36","$M$33",null,null,null,null,null,null,null,null,null,null,null,null,null,null,6,{"$f":"CS66","v":"Spieler 07"},"-",{"$f":"CQ66","v":"Spieler 10"}]
[null,null,null,null,null,null,null,null,null,null,null,null,null,null,null,null,null,null,null,null,null,null,null,null,null,null,null,null,null,null,null,null,null,null,null,null,null,null,null,null,null,null,null,null,null,null,null,null,null,null,null,null,null,null,null,null,null,null,null,null,null,null,null,null,null,null,null,null,null,null,null,null,null,null,null,null,null,null,null,null,null,null,null,null,null,null,null,null,null,null,null,null,null,7,"Spieler 08","-","Spieler 09",null,null,{"$f":"CV66","v":13},7,8,9,"","","$L$34","$K$35",null,null,null,null,null,null,null,null,null,null,null,null,null,null,7,"Spieler 08","-",{"$f":"CS67","v":"Spieler 09"}]

{"sheet":"12","index":7,"n_rows":52,"n_cols":124,"rows_kept":52,"cut":false,"hidden":false,"merged":[[13,90,13,92],[13,104,13,106],[0,1,0,21],[1,104,1,106],[3,90,3,106],[5,90,5,92],[5,104,5,106],[45,90,45,92],[21,90,21,92],[21,104,21,106],[22,19,22,20],[29,90,29,92],[29,104,29,106],[37,90,37,92],[37,104,37,106]]}
[null,"Turniername",null,null,null,null,null,null,null,null,null,null,null,null,null,null,null,null,null,null,null,null,null,null,null,null,null,null,null,null,null,null,null,null,null,null,null,null,null,1,"1) Punkte 2) So-Be 3) Manuelle Feinwertung ",null,null,null,null,null,null,null,null,null,null,null,null,null,null,null,null,null,null,null,null,null,null,null,null,null,null,null,null,null,null,"Wiederholung Kriterien:",null,null,null,null,null,null,null,null,null,null,null,null,null,null,null,null,{"$f":"\"Paarungsliste und Resultate \"&IF(Turnier=\"\",\"\",Turnier)","v":"Paarungsliste und Resultate Turniername"},null,null,null,null,null,null,null,null,null,null,null,null,null,null,null,null,null,null,null,null,null,null,null,null,null,null,null,"Paarungsliste Darstellung Rutschsystem",null,null,null,null,null,{"$f":"IF(Datum=\"\",\"\",\"Datum:\")","v":""}]
[null,null,null,null,null,null,null,null,null,null,null,null,null,null,null,null,null,null,null,null,null,null,null,null,null,null,null,null,null,null,null,null,null,null,null,null,"a","b","P",2,"1) Punkte 2) So-Be 3) direkte Begegnung 4) Manuelle Feinwertung ",null,null,null,null,null,null,null,null,null,null,null,null,null,null,null,null,null,null,null,null,null,null,null,null,null,null,null,null,null,1,{"$f":"AO1","v":"1) Punkte 2) So-Be 3) Manuelle Feinwertung "},null,null,null,null,null,null,null,null,null,null,null,null,null,null,null,null,{"$f":"IF(Turnier=\"\",\"\",\"Turniername:\")","v":"Turniername:"},null,{"$f":"IF(Turnier=\"\",\"\",Turnier)","v":"Turniername"},null,null,null,null,null,null,null,null,null,null,null,null,"Datum:",null,null,null,null,null,null,null,null,null,null,null,null,{"$f":"IF(Turnier=\"\",\"\",\"Turniername:\")","v":"Turniername:"},null,{"$f":"IF(Turnier=\"\",\"\",Turnier)&IF(Datum=\"\",\"\",\", \"&TEXT(Datum,\"TT.MM.JJJJ\"))","v":"Turniername"}]
[null,null,null,null,null,null,null,null,null,null,null,null,null,null,null,null,null,null,null,null,null,null,null,null,null,null,null,null,null,null,null,null,null,null,null,null,"1","0",1,3,"1) Punkte 2) Anz. Partien 3) So-Be 4) Manuelle Feinwertung "]
[null,"Rangliste",null,null,null,null,null,null,null,null,null,null,null,null,null,null,null,null,null,null,null,null,null,null,null,null,null,null,null,null,null,null,null,null,null,null,"0","1",0,4,"1) Punkte 2) Anz. Partien 3) So-Be 4) direkte Begegnung 5) Manuelle Feinwertung ",null,null,null,null,null,null,null,null,null,null,null,null,null,null,null,null,null,null,null,null,null,null,null,null,null,null,null,null,null,2,{"$f":"AO2","v":"1) Punkte 2) So-Be 3) direkte Begegnung 4) Manuelle Feinwertung "},null,null,null,null,null,null,null,null,null,null,null,null,null,null,null,null,"Turnierleitung:",null,null,null,null,null,null,null,null,null,null,null,null,null,null,null,null,null,null,null,null,null,null,null,null,null,null,null,{"$f":"IF(Turnierleitung=\"\",\"\",\"Turnierleitung:\")","v":""},null,{"$f":"IF(Turnierleitung=\"\",\"\",Turnierleitung)","v":""}]
[null,null,null,null,null,null,null,null,null,null,null,null,null,null,null,null,null,null,null,null,null,null,null,null,null,null,null,null,null,null,null,null,null,null,null,null,"½","½",0.5,5,"1) Punkte 2) Anz. Partien 3) So-Be 4) direkte Begegnung 5) Anz.Schwarzpartien 6) Manuelle Feinwertung ",null,null,null,null,null,null,null,null,null,null,null,null,null,null,null,null,null,null,null,null,null,null,null,null,null,null,null,null,null,3,"1) Punkte 2) Anz. Partien 3) So-Be 4) Manuelle Feinwertung "]
[null,"Rang","Teilnehmer",1,2,3,4,5,6,7,8,9,10,11,12,"Punkte","Spiele","So-Be",{"$f":"IF(S24=\"\",\"FWm\",S24)","v":"FW+"},1,"½",0,"Nr",null,null,null,null,null,null,null,null,null,null,null,null,null,"+","-",1,6,"1) Punkte 2) Anz. Partien 3) So-Be 4) Anz.Schwarzpartien 5) direkte Begegnung 6) Manuelle Feinwertung ",null,null,null,null,null,null,null,null,null,null,null,null,null,null,null,null,null,null,null,null,null,null,null,null,null,null,null,null,null,4,"1) Punkte 2) Anz. Partien 3) So-Be 4) direkte Begegnung 5) Manuelle Feinwertung ",null,null,null,null,null,null,null,null,null,null,null,null,null,null,null,null,1,null,null,null,null,"R","B","SpNr w","SpNr s","Res w","Res s","AdrTTw","AdrTTs",null,{"$f":"CK6+1","v":2},null,null,null,null,"R","B","SpNr w","SpNr s","Res w","Res s","AdrTTw","AdrTTs",null,{"$f":"CK6","v":1},1,null,null,null,{"$f":"CY6","v":2}]
[null,{"$f":"IF(INDEX($CE$25:$CE$36,MATCH(B25,$CI$25:$CI$36,0)),\"--\",IF(INDEX($CD$25:$CD$36,MATCH(B25,$CI$25:$CI$36,0))<ROW()-ROW($B$6),\"\",INDEX($CD$25:$CD$36,MATCH(B25,$CI$25:$CI$36,0))))","v":1},{"$f":"IF(INDEX($C$25:$C$36,MATCH(B25,$CI$25:$CI$36,0))=0,\"Spieler \"&TEXT(W7,\"00\"),INDEX($C$25:$C$36,MATCH(B25,$CI$25:$CI$36,0)))","v":"Spieler 01"},{"$f":"IF(INDEX($B$24:$O$36,MATCH($W7,$B$24:$B$36,0),MATCH(INDEX($B$25:$B$36,MATCH(OFFSET($W$6,D$6,0),$B$25:$B$36,0)),$B$24:$O$24,0))=\"\",\"\",INDEX($B$24:$O$36,MATCH($W7,$B$24:$B$36,0),MATCH(INDEX($B$25:$B$36,MATCH(OFFSET($W$6,D$6,0),$B$25:$B$36,0)),$B$24:$O$24,0)))","v":""},"","","","","","","","","","","",{"$f":"INDEX($AJ$25:$AJ$36,MATCH(W7,$B$25:$B$36,0))","v":0},{"$f":"INDEX($Q$25:$Q$36,MATCH(W7,$B$25:$B$36,0))","v":0},{"$f":"INDEX($R$25:$R$36,MATCH(W7,$B$25:$B$36,0))","v":0},{"$f":"INDEX($S$25:$S$36,MATCH(W7,$B$25:$B$36,0))","v":0},{"$f":"COUNTIF($D7:$O7,1)+COUNTIF($D7:$O7,\"+\")","v":0},{"$f":"COUNTIF($D7:$O7,\"½\")","v":0},{"$f":"COUNTIF($D7:$O7,0)+COUNTIF($D7:$O7,\"-\")","v":0},{"$f":"INDEX($B$25:$B$36,MATCH(B25,$CI$25:$CI$36,0))","v":1},null,null,null,null,null,null,null,null,null,null,null,null,null,"-","+",0,7,"1) Punkte 2) Anz. Partien 3) direkte Begegnung 4) So-Be 5) Anz.Schwarzpartien 6) Manuelle Feinwertung ",null,null,null,null,null,null,null,null,null,null,null,null,null,null,null,null,null,null,null,null,null,null,null,null,null,null,null,null,null,5,"1) Punkte 2) Anz. Partien 3) So-Be 4) direkte Begegnung 5) Anz.Schwarzpartien 6) Manuelle Feinwertung ",null,null,null,null,null,null,null,null,null,null,null,null,null,null,null,{"$f":"IF(OR(INDEX($CE$25:$CE$36,CR7),INDEX($CE$25:$CE$36,CS7)),0,1)","v":1},{"$f":"INDEX($CF$25:$CF$36,MATCH($CR7,TeilnNr,0))","v":"Spieler 01"},"-",{"$f":"INDEX($CF$25:$CF$36,MATCH($CS7,TeilnNr,0))","v":"Spieler 12"},null,null,{"$f":"CK6","v":1},1,{"$f":"IF(AND(CQ7=1,MOD(CP7,2)=0),MAX(TeilnNr),IF(MOD(CQ7,2)=0,IF(MAX(TeilnNr)/2-CQ7+1-(CP7-MAX(TeilnNr)/2-1)>=1,MAX(TeilnNr)/2-CQ7+1-(CP7-MAX(TeilnNr)/2-1),MAX(TeilnNr)/2-CQ7+1-(CP7-MAX(TeilnNr)/2-1)+MAX(TeilnNr)-1),IF(CQ7-(CP7-1)>=1,CQ7-(CP7-1),CQ7-(CP7-1)+MAX(TeilnNr)-1)))","v":1},{"$f":"IF(AND(CQ7=1,MOD(CP7,2)<>0),MAX(TeilnNr),IF(MOD(CQ7,2)<>0,IF(MAX(TeilnNr)/2-CQ7+1-(CP7-MAX(TeilnNr)/2-1)>=1,MAX(TeilnNr)/2-CQ7+1-(CP7-MAX(TeilnNr)/2-1),MAX(TeilnNr)/2-CQ7+1-(CP7-MAX(TeilnNr)/2-1)+MAX(TeilnNr)-1),IF(CQ7-(CP7-1)>=1,CQ7-(CP7-1),CQ7-(CP7-1)+MAX(TeilnNr)-1)))","v":12},{"$f":"IF(LEFT(CO7,1)=\"V\",\"\",LEFT(CO7,1))","v":""},{"$f":"IF(RIGHT(CO7,1)=\"V\",\"\",RIGHT(CO7,1))","v":""},{"$f":"ADDRESS(ROW(Teilnehmer)+CR7,COLUMN(Teilnehmer)+CS7)","v":"$O$25"},{"$f":"ADDRESS(ROW(Teilnehmer)+CS7,COLUMN(Teilnehmer)+CR7)","v":"$D$36"},{"$f":"IF(OR(INDEX($CE$25:$CE$36,DF7),INDEX($CE$25:$CE$36,DG7)),0,1)","v":1},{"$f":"INDEX($CF$25:$CF$36,MATCH($DF7,TeilnNr,0))","v":"Spieler 12"},"-",{"$f":"INDEX($CF$25:$CF$36,MATCH($DG7,TeilnNr,0))","v":"Spieler 11"},null,null,{"$f":"CY6","v":2},1,{"$f":"IF(AND(DE7=1,MOD(DD7,2)=0),MAX(TeilnNr),IF(MOD(DE7,2)=0,IF(MAX(TeilnNr)/2-DE7+1-(DD7-MAX(TeilnNr)/2-1)>=1,MAX(TeilnNr)/2-DE7+1-(DD7-MAX(TeilnNr)/2-1),MAX(TeilnNr)/2-DE7+1-(DD7-MAX(TeilnNr)/2-1)+MAX(TeilnNr)-1),IF(DE7-(DD7-1)>=1,DE7-(DD7-1),DE7-(DD7-1)+MAX(TeilnNr)-1)))","v":12},{"$f":"IF(AND(DE7=1,MOD(DD7,2)<>0),MAX(TeilnNr),IF(MOD(DE7,2)<>0,IF(MAX(TeilnNr)/2-DE7+1-(DD7-MAX(TeilnNr)/2-1)>=1,MAX(TeilnNr)/2-DE7+1-(DD7-MAX(TeilnNr)/2-1),MAX(TeilnNr)/2-DE7+1-(DD7-MAX(TeilnNr)/2-1)+MAX(TeilnNr)-1),IF(DE7-(DD7-1)>=1,DE7-(DD7-1),DE7-(DD7-1)+MAX(TeilnNr)-1)))","v":11},{"$f":"IF(LEFT(DC7,1)=\"V\",\"\",LEFT(DC7,1))","v":""},{"$f":"IF(RIGHT(DC7,1)=\"V\",\"\",RIGHT(DC7,1))","v":""},{"$f":"ADDRESS(ROW(Teilnehmer)+DF7,COLUMN(Teilnehmer)+DG7)","v":"$N$36"},{"$f":"ADDRESS(ROW(Teilnehmer)+DG7,COLUMN(Teilnehmer)+DF7)","v":"$O$35"},{"$f":"CJ7","v":1},{"$f":"CK7","v":"Spieler 01"},"-",{"$f":"CM7","v":"Spieler 12"},null,{"$f":"CX7","v":1},{"$f":"DA7","v":"Spieler 11"},"-",{"$f":"CY7","v":"Spieler 12"}]
[null,"","Spieler 02","","","","","","","","","","","","",0,0,0,0,0,0,0,2,null,null,null,null,null,null,null,null,null,null,null,null,null,null,null,null,8,"1) Punkte 2) Anz. Partien 3) direkte Begegnung 4) Anz.Schwarzpartien 5) So-Be 6) Manuelle Feinwertung ",null,null,null,null,null,null,null,null,null,null,null,null,null,null,null,null,null,null,null,null,null,null,null,null,null,null,null,null,null,6,"1) Punkte 2) Anz. Partien 3) So-Be 4) Anz.Schwarzpartien 5) direkte Begegnung 6) Manuelle Feinwertung ",null,null,null,null,null,null,null,null,null,null,null,null,null,null,null,{"$f":"CJ7+1","v":2},"Spieler 11","-","Spieler 02",null,null,{"$f":"CP7","v":1},{"$f":"CQ7+1","v":2},11,2,"","","$E$35","$N$26",{"$f":"CX7+1","v":2},"Spieler 10","-","Spieler 01",null,null,{"$f":"DD7","v":2},{"$f":"DE7+1","v":2},10,1,"","","$D$34","$M$25",{"$f":"CJ8","v":2},{"$f":"CM8","v":"Spieler 02"},"-",{"$f":"CK8","v":"Spieler 11"},null,{"$f":"CX8","v":2},{"$f":"DA8","v":"Spieler 01"},"-",{"$f":"CY8","v":"Spieler 10"}]
[null,"","Spieler 03","","","","","","","","","","","","",0,0,0,0,0,0,0,3,null,null,null,null,null,null,null,null,null,null,null,null,null,null,null,null,9,"1) Punkte 2) Anz. Partien 3) Anz.Schwarzpartien 4) So-Be 5) direkte Begegnung 6) Manuelle Feinwertung ",null,null,null,null,null,null,null,null,null,null,null,null,null,null,null,null,null,null,null,null,null,null,null,null,null,null,null,null,null,7,"1) Punkte 2) Anz. Partien 3) direkte Begegnung 4) So-Be 5) Anz.Schwarzpartien 6) Manuelle Feinwertung ",null,null,null,null,null,null,null,null,null,null,null,null,null,null,null,{"$f":"CJ8+1","v":3},"Spieler 03","-","Spieler 10",null,null,{"$f":"CP8","v":1},{"$f":"CQ8+1","v":3},3,10,"","","$M$27","$F$34",{"$f":"CX8+1","v":3},"Spieler 02","-","Spieler 09",null,null,{"$f":"DD8","v":2},{"$f":"DE8+1","v":3},2,9,"","","$L$26","$E$33",{"$f":"CJ9","v":3},{"$f":"CK9","v":"Spieler 03"},"-",{"$f":"CM9","v":"Spieler 10"},null,{"$f":"CX9","v":3},{"$f":"CY9","v":"Spieler 02"},"-",{"$f":"DA9","v":"Spieler 09"}]
[null,"","Spieler 04","","","","","","","","","","","","",0,0,0,0,0,0,0,4,null,null,null,null,null,null,null,null,null,null,null,null,null,null,null,4,10,"1) Punkte 2) Anz. Partien 3) Anz.Schwarzpartien 4) direkte Begegnung 5) So-Be 6) Manuelle Feinwertung ",null,null,null,null,null,null,null,null,null,null,null,null,null,null,null,null,null,null,null,null,null,null,null,null,null,null,null,null,null,8,"1) Punkte 2) Anz. Partien 3) direkte Begegnung 4) Anz.Schwarzpartien 5) So-Be 6) Manuelle Feinwertung ",null,null,null,null,null,null,null,null,null,null,null,null,null,null,null,4,"Spieler 09","-","Spieler 04",null,null,{"$f":"CP9","v":1},4,9,4,"","","$G$33","$L$28",4,"Spieler 08","-","Spieler 03",null,null,{"$f":"DD9","v":2},4,8,3,"","","$F$32","$K$27",{"$f":"CJ10","v":4},{"$f":"CM10","v":"Spieler 04"},"-",{"$f":"CK10","v":"Spieler 09"},null,{"$f":"CX10","v":4},{"$f":"DA10","v":"Spieler 03"},"-",{"$f":"CY10","v":"Spieler 08"}]
[null,"","Spieler 05","","","","","","","","","","","","",0,0,0,0,0,0,0,5,null,null,null,null,null,null,null,null,null,null,null,null,null,null,null,null,null,null,null,null,null,null,null,null,null,null,null,null,null,null,null,null,null,null,null,null,null,null,null,null,null,null,null,null,null,null,null,9,"1) Punkte 2) Anz. Partien 3) Anz.Schwarzpartien 4) So-Be 5) direkte Begegnung 6) Manuelle Feinwertung ",null,null,null,null,null,null,null,null,null,null,null,null,null,null,null,5,"Spieler 05","-","Spieler 08",null,null,1,5,5,8,"","","$K$29","$H$32",5,"Spieler 04","-","Spieler 07",null,null,2,5,4,7,"","","$J$28","$G$31",5,"Spieler 05","-",{"$f":"CM11","v":"Spieler 08"},null,5,"Spieler 04","-",{"$f":"DA11","v":"Spieler 07"}]
[null,"","Spieler 06","","","","","","","","","","","","",0,0,0,0,0,0,0,6,null,null,null,null,null,null,null,null,null,null,null,null,null,null,null,null,null,null,null,null,null,null,null,null,null,null,null,null,null,null,null,null,null,null,null,null,null,null,null,null,null,null,null,null,null,null,null,10,"1) Punkte 2) Anz. Partien 3) Anz.Schwarzpartien 4) direkte Begegnung 5) So-Be 6) Manuelle Feinwertung ",null,null,null,null,null,null,null,null,null,null,null,null,null,null,null,6,"Spieler 07","-","Spieler 06",null,null,1,6,7,6,"","","$I$31","$J$30",6,"Spieler 06","-","Spieler 05",null,null,2,6,6,5,"","","$H$30","$I$29",6,{"$f":"CM12","v":"Spieler 06"},"-",{"$f":"CK12","v":"Spieler 07"},null,6,{"$f":"DA12","v":"Spieler 05"},"-",{"$f":"CY12","v":"Spieler 06"}]
[null,"","Spieler 07","","","","","","","","","","","","",0,0,0,0,0,0,0,7]
[null,"","Spieler 08","","","","","","","","","","","","",0,0,0,0,0,0,0,8,null,null,null,null,null,null,null,null,null,null,null,null,null,null,null,null,null,null,null,null,null,null,null,null,null,null,null,null,null,null,null,null,null,null,null,null,null,null,null,null,null,null,null,null,null,null,null,null,null,null,null,null,null,null,null,null,null,null,null,null,null,null,null,null,null,{"$f":"CK6+2","v":3},null,null,null,null,"R","B","SpNr w","SpNr s","Res w","Res s",null,null,null,{"$f":"CY6+2","v":4},null,null,null,null,"R","B","SpNr w","SpNr s","Res w","Res s",null,null,null,{"$f":"CK14","v":3},1,null,null,null,{"$f":"CY14","v":4}]
[null,"","Spieler 09","","","","","","","","","","","","",0,0,0,0,0,0,0,9,null,null,null,null,null,null,null,null,null,null,null,null,null,null,null,null,null,null,null,null,null,null,null,null,null,null,null,null,null,null,null,null,null,null,null,null,null,null,null,null,null,null,null,null,null,null,null,null,null,null,null,null,null,null,null,null,null,null,null,null,null,null,null,null,{"$f":"IF(OR(INDEX($CE$25:$CE$36,CR15),INDEX($CE$25:$CE$36,CS15)),0,1)","v":1},{"$f":"INDEX($CF$25:$CF$36,MATCH($CR15,TeilnNr,0))","v":"Spieler 10"},"-",{"$f":"INDEX($CF$25:$CF$36,MATCH($CS15,TeilnNr,0))","v":"Spieler 12"},null,null,{"$f":"CK14","v":3},1,{"$f":"IF(AND(CQ15=1,MOD(CP15,2)=0),MAX(TeilnNr),IF(MOD(CQ15,2)=0,IF(MAX(TeilnNr)/2-CQ15+1-(CP15-MAX(TeilnNr)/2-1)>=1,MAX(TeilnNr)/2-CQ15+1-(CP15-MAX(TeilnNr)/2-1),MAX(TeilnNr)/2-CQ15+1-(CP15-MAX(TeilnNr)/2-1)+MAX(TeilnNr)-1),IF(CQ15-(CP15-1)>=1,CQ15-(CP15-1),CQ15-(CP15-1)+MAX(TeilnNr)-1)))","v":10},{"$f":"IF(AND(CQ15=1,MOD(CP15,2)<>0),MAX(TeilnNr),IF(MOD(CQ15,2)<>0,IF(MAX(TeilnNr)/2-CQ15+1-(CP15-MAX(TeilnNr)/2-1)>=1,MAX(TeilnNr)/2-CQ15+1-(CP15-MAX(TeilnNr)/2-1),MAX(TeilnNr)/2-CQ15+1-(CP15-MAX(TeilnNr)/2-1)+MAX(TeilnNr)-1),IF(CQ15-(CP15-1)>=1,CQ15-(CP15-1),CQ15-(CP15-1)+MAX(TeilnNr)-1)))","v":12},{"$f":"IF(LEFT(CO15,1)=\"V\",\"\",LEFT(CO15,1))","v":""},{"$f":"IF(RIGHT(CO15,1)=\"V\",\"\",RIGHT(CO15,1))","v":""},{"$f":"ADDRESS(ROW(Teilnehmer)+CR15,COLUMN(Teilnehmer)+CS15)","v":"$O$34"},{"$f":"ADDRESS(ROW(Teilnehmer)+CS15,COLUMN(Teilnehmer)+CR15)","v":"$M$36"},{"$f":"IF(OR(INDEX($CE$25:$CE$36,DF15),INDEX($CE$25:$CE$36,DG15)),0,1)","v":1},{"$f":"INDEX($CF$25:$CF$36,MATCH($DF15,TeilnNr,0))","v":"Spieler 12"},"-",{"$f":"INDEX($CF$25:$CF$36,MATCH($DG15,TeilnNr,0))","v":"Spieler 09"},null,null,{"$f":"CY14","v":4},1,{"$f":"IF(AND(DE15=1,MOD(DD15,2)=0),MAX(TeilnNr),IF(MOD(DE15,2)=0,IF(MAX(TeilnNr)/2-DE15+1-(DD15-MAX(TeilnNr)/2-1)>=1,MAX(TeilnNr)/2-DE15+1-(DD15-MAX(TeilnNr)/2-1),MAX(TeilnNr)/2-DE15+1-(DD15-MAX(TeilnNr)/2-1)+MAX(TeilnNr)-1),IF(DE15-(DD15-1)>=1,DE15-(DD15-1),DE15-(DD15-1)+MAX(TeilnNr)-1)))","v":12},{"$f":"IF(AND(DE15=1,MOD(DD15,2)<>0),MAX(TeilnNr),IF(MOD(DE15,2)<>0,IF(MAX(TeilnNr)/2-DE15+1-(DD15-MAX(TeilnNr)/2-1)>=1,MAX(TeilnNr)/2-DE15+1-(DD15-MAX(TeilnNr)/2-1),MAX(TeilnNr)/2-DE15+1-(DD15-MAX(TeilnNr)/2-1)+MAX(TeilnNr)-1),IF(DE15-(DD15-1)>=1,DE15-(DD15-1),DE15-(DD15-1)+MAX(TeilnNr)-1)))","v":9},{"$f":"IF(LEFT(DC15,1)=\"V\",\"\",LEFT(DC15,1))","v":""},{"$f":"IF(RIGHT(DC15,1)=\"V\",\"\",RIGHT(DC15,1))","v":""},{"$f":"ADDRESS(ROW(Teilnehmer)+DF15,COLUMN(Teilnehmer)+DG15)","v":"$L$36"},{"$f":"ADDRESS(ROW(Teilnehmer)+DG15,COLUMN(Teilnehmer)+DF15)","v":"$O$33"},{"$f":"CJ15","v":1},"Spieler 10","-",{"$f":"CM15","v":"Spieler 12"},null,{"$f":"CX15","v":1},{"$f":"DA15","v":"Spieler 09"},"-",{"$f":"CY15","v":"Spieler 12"}]
[null,"","Spieler 10","","","","","","","","","","","","",0,0,0,0,0,0,0,10,null,null,null,null,null,null,null,null,null,null,null,null,null,null,null,null,null,null,null,null,null,null,null,null,null,null,null,null,null,null,null,null,null,null,null,null,null,null,null,null,null,null,null,null,null,null,null,null,null,null,null,null,null,null,null,null,null,null,null,null,null,null,null,null,{"$f":"CJ15+1","v":2},"Spieler 09","-","Spieler 11",null,null,{"$f":"CP15","v":3},{"$f":"CQ15+1","v":2},9,11,"","","$N$33","$L$35",{"$f":"CX15+1","v":2},"Spieler 08","-","Spieler 10",null,null,{"$f":"DD15","v":4},{"$f":"DE15+1","v":2},8,10,"","","$M$32","$K$34",{"$f":"CJ16","v":2},{"$f":"CM16","v":"Spieler 11"},"-",{"$f":"CK16","v":"Spieler 09"},null,2,"Spieler 10","-","Spieler 08"]
[null,"","Spieler 11","","","","","","","","","","","","",0,0,0,0,0,0,0,11,null,null,null,null,null,null,null,null,null,null,null,null,null,null,null,null,null,null,null,null,null,null,null,null,null,null,null,null,null,null,null,null,null,null,null,null,null,null,null,null,null,null,null,null,null,null,null,null,null,null,null,null,null,null,null,null,null,null,null,null,null,null,null,null,{"$f":"CJ16+1","v":3},"Spieler 01","-","Spieler 08",null,null,{"$f":"CP16","v":3},{"$f":"CQ16+1","v":3},1,8,"","","$K$25","$D$32",{"$f":"CX16+1","v":3},"Spieler 11","-","Spieler 07",null,null,{"$f":"DD16","v":4},{"$f":"DE16+1","v":3},11,7,"","","$J$35","$N$31",3,"Spieler 01","-",{"$f":"CM17","v":"Spieler 08"},null,3,"Spieler 11","-",{"$f":"DA17","v":"Spieler 07"}]
[null,"","Spieler 12","","","","","","","","","","","","",0,0,0,0,0,0,0,12,null,null,null,null,null,null,null,null,null,null,null,null,null,null,null,null,null,null,null,null,null,null,null,null,null,null,null,null,null,null,null,null,null,null,null,null,null,null,null,null,null,null,null,null,null,null,null,null,null,null,null,null,null,null,null,null,null,null,null,null,null,null,null,null,4,"Spieler 07","-","Spieler 02",null,null,{"$f":"CP17","v":3},4,7,2,"","","$E$31","$J$26",4,"Spieler 06","-","Spieler 01",null,null,{"$f":"DD17","v":4},4,6,1,"","","$D$30","$I$25",4,{"$f":"CM18","v":"Spieler 02"},"-",{"$f":"CK18","v":"Spieler 07"},null,4,{"$f":"DA18","v":"Spieler 01"},"-",{"$f":"CY18","v":"Spieler 06"}]
[null,"Wertungskriterien:",null,null,null,null,null,null,null,null,null,null,null,null,null,null,null,null,null,null,null,null,null,null,null,null,null,null,null,null,null,null,null,null,null,null,null,null,null,null,null,null,null,null,null,null,null,null,null,null,null,null,null,null,null,null,null,null,null,null,null,null,null,null,null,null,null,null,null,null,null,null,null,null,null,null,null,null,null,null,null,null,null,null,null,null,null,5,"Spieler 03","-","Spieler 06",null,null,3,5,3,6,"","","$I$27","$F$30",5,"Spieler 02","-","Spieler 05",null,null,4,5,2,5,"","","$H$26","$E$29",5,"Spieler 03","-",{"$f":"CM19","v":"Spieler 06"},null,5,"Spieler 02","-",{"$f":"DA19","v":"Spieler 05"}]
[null,{"$f":"INDEX(Wertungskriterien,WertungskriterienA)","v":"1) Punkte 2) Anz. Partien 3) So-Be 4) direkte Begegnung 5) Manuelle Feinwertung "},null,null,null,null,null,null,null,null,null,null,null,null,null,null,null,null,null,null,null,null,null,null,null,null,null,null,null,null,null,null,null,null,null,null,null,null,null,null,null,null,null,null,null,null,null,null,null,null,null,null,null,null,null,null,null,null,null,null,null,null,null,null,null,null,null,null,null,null,null,null,null,null,null,null,null,null,null,null,null,null,null,null,null,null,null,6,"Spieler 05","-","Spieler 04",null,null,3,6,5,4,"","","$G$29","$H$28",6,"Spieler 04","-","Spieler 03",null,null,4,6,4,3,"","","$F$28","$G$27",6,{"$f":"CM20","v":"Spieler 04"},"-",{"$f":"CK20","v":"Spieler 05"},null,6,{"$f":"DA20","v":"Spieler 03"},"-",{"$f":"CY20","v":"Spieler 04"}]
[]
[null,"+",null,null,null,null,null,null,null,null,null,null,null,null,null,null,null,null,{"$f":"IF(EinAusblenden=\"-\",\"\",IF(FWPlusMinus=\"+\",\"é\",\"ê\"))","v":"é"},null,null,null,null,null,null,null,null,null,null,null,null,null,null,null,null,null,null,null,null,null,null,null,null,null,null,null,null,null,null,null,null,null,null,null,null,null,null,null,null,null,null,null,null,null,null,null,null,null,null,null,null,null,null,null,null,null,null,null,null,null,null,null,null,null,null,null,null,null,{"$f":"CK14+2","v":5},null,null,null,null,"R","B","SpNr w","SpNr s","Res w","Res s",null,null,null,{"$f":"CY14+2","v":6},null,null,null,null,"R","B","SpNr w","SpNr s","Res w","Res s",null,null,null,{"$f":"CK22","v":5},1,null,null,null,{"$f":"CY22","v":6}]
[null,"Turniertabelle",null,null,null,null,null,null,null,null,null,null,null,null,null,null,null,"manuelle Feinwertung: ","+","Partien",null,null,null,"Punkte",null,null,null,null,null,null,null,null,null,null,null,null,null,"Sonneborn-Berger-Berechnung",null,null,null,null,null,null,null,null,null,null,null,null,null,{"$f":"MAX(AZ25:AZ36)","v":0},null,null,null,null,{"$f":"FWPlusMinus=\"+\"","v":true},"Summierung Wertungskriterien vor direkter Begegnung",null,null,null,null,null,null,null,null,null,null,null,null,"Summierung Wertungskriterien nach direkter Begegnung",null,null,null,null,null,null,null,null,null,null,null,null,null,null,null,null,{"$f":"IF(OR(INDEX($CE$25:$CE$36,CR23),INDEX($CE$25:$CE$36,CS23)),0,1)","v":1},{"$f":"INDEX($CF$25:$CF$36,MATCH($CR23,TeilnNr,0))","v":"Spieler 08"},"-",{"$f":"INDEX($CF$25:$CF$36,MATCH($CS23,TeilnNr,0))","v":"Spieler 12"},null,null,{"$f":"CK22","v":5},1,{"$f":"IF(AND(CQ23=1,MOD(CP23,2)=0),MAX(TeilnNr),IF(MOD(CQ23,2)=0,IF(MAX(TeilnNr)/2-CQ23+1-(CP23-MAX(TeilnNr)/2-1)>=1,MAX(TeilnNr)/2-CQ23+1-(CP23-MAX(TeilnNr)/2-1),MAX(TeilnNr)/2-CQ23+1-(CP23-MAX(TeilnNr)/2-1)+MAX(TeilnNr)-1),IF(CQ23-(CP23-1)>=1,CQ23-(CP23-1),CQ23-(CP23-1)+MAX(TeilnNr)-1)))","v":8},{"$f":"IF(AND(CQ23=1,MOD(CP23,2)<>0),MAX(TeilnNr),IF(MOD(CQ23,2)<>0,IF(MAX(TeilnNr)/2-CQ23+1-(CP23-MAX(TeilnNr)/2-1)>=1,MAX(TeilnNr)/2-CQ23+1-(CP23-MAX(TeilnNr)/2-1),MAX(TeilnNr)/2-CQ23+1-(CP23-MAX(TeilnNr)/2-1)+MAX(TeilnNr)-1),IF(CQ23-(CP23-1)>=1,CQ23-(CP23-1),CQ23-(CP23-1)+MAX(TeilnNr)-1)))","v":12},{"$f":"IF(LEFT(CO23,1)=\"V\",\"\",LEFT(CO23,1))","v":""},{"$f":"IF(RIGHT(CO23,1)=\"V\",\"\",RIGHT(CO23,1))","v":""},{"$f":"ADDRESS(ROW(Teilnehmer)+CR23,COLUMN(Teilnehmer)+CS23)","v":"$O$32"},{"$f":"ADDRESS(ROW(Teilnehmer)+CS23,COLUMN(Teilnehmer)+CR23)","v":"$K$36"},{"$f":"IF(OR(INDEX($CE$25:$CE$36,DF23),INDEX($CE$25:$CE$36,DG23)),0,1)","v":1},{"$f":"INDEX($CF$25:$CF$36,MATCH($DF23,TeilnNr,0))","v":"Spieler 12"},"-",{"$f":"INDEX($CF$25:$CF$36,MATCH($DG23,TeilnNr,0))","v":"Spieler 07"},null,null,{"$f":"CY22","v":6},1,{"$f":"IF(AND(DE23=1,MOD(DD23,2)=0),MAX(TeilnNr),IF(MOD(DE23,2)=0,IF(MAX(TeilnNr)/2-DE23+1-(DD23-MAX(TeilnNr)/2-1)>=1,MAX(TeilnNr)/2-DE23+1-(DD23-MAX(TeilnNr)/2-1),MAX(TeilnNr)/2-DE23+1-(DD23-MAX(TeilnNr)/2-1)+MAX(TeilnNr)-1),IF(DE23-(DD23-1)>=1,DE23-(DD23-1),DE23-(DD23-1)+MAX(TeilnNr)-1)))","v":12},{"$f":"IF(AND(DE23=1,MOD(DD23,2)<>0),MAX(TeilnNr),IF(MOD(DE23,2)<>0,IF(MAX(TeilnNr)/2-DE23+1-(DD23-MAX(TeilnNr)/2-1)>=1,MAX(TeilnNr)/2-DE23+1-(DD23-MAX(TeilnNr)/2-1),MAX(TeilnNr)/2-DE23+1-(DD23-MAX(TeilnNr)/2-1)+MAX(TeilnNr)-1),IF(DE23-(DD23-1)>=1,DE23-(DD23-1),DE23-(DD23-1)+MAX(TeilnNr)-1)))","v":7},{"$f":"IF(LEFT(DC23,1)=\"V\",\"\",LEFT(DC23,1))","v":""},{"$f":"IF(RIGHT(DC23,1)=\"V\",\"\",RIGHT(DC23,1))","v":""},{"$f":"ADDRESS(ROW(Teilnehmer)+DF23,COLUMN(Teilnehmer)+DG23)","v":"$J$36"},{"$f":"ADDRESS(ROW(Teilnehmer)+DG23,COLUMN(Teilnehmer)+DF23)","v":"$O$31"},{"$f":"CJ23","v":1},"Spieler 08","-",{"$f":"CM23","v":"Spieler 12"},null,{"$f":"CX23","v":1},{"$f":"DA23","v":"Spieler 07"},"-",{"$f":"CY23","v":"Spieler 12"}]
[null,"Nr.","Teilnehmer",1,2,3,4,5,6,7,8,9,10,11,12,"Punkte","Spiele","So-Be","FW+","weiss","schw.","Rang",null,1,2,3,4,5,6,7,8,9,10,11,12,"P",null,1,2,3,4,5,6,7,8,9,10,11,12,"So-Be",null,{"$f":"IF(S24=\"\",\"FW2\",S24)","v":"FW+"},"Rang\nPunkte","Rang\nPartien","Rang\nSo-Be","Rang\nschwrz","Rang\nFW?","Wertung 1","Wertung 2","Wertung 3","Wertung 4","Wertung 5","Wertung 6","Wertung 7","Wertung 8","Wertung 9","Wertung 10","Wertung","direkte Begegnung","Rang\ndir.Begegn.","Wertung 1","Wertung 2","Wertung 3","Wertung 4","Wertung 5","Wertung 6","Wertung 7","Wertung 8","Wertung 9","Wertung 10","Wertung2","Rang","Platz-halter?","Name","Alphabet","Rang & Alphabet","Reihen-folge",{"$f":"CJ23+1","v":2},"Spieler 07","-","Spieler 09",null,null,{"$f":"CP23","v":5},{"$f":"CQ23+1","v":2},7,9,"","",{"$f":"ADDRESS(ROW(Teilnehmer)+CR24,COLUMN(Teilnehmer)+CS24)","v":"$L$31"},{"$f":"ADDRESS(ROW(Teilnehmer)+CS24,COLUMN(Teilnehmer)+CR24)","v":"$J$33"},{"$f":"CX23+1","v":2},"Spieler 06","-","Spieler 08",null,null,{"$f":"DD23","v":6},{"$f":"DE23+1","v":2},6,8,"","",{"$f":"ADDRESS(ROW(Teilnehmer)+DF24,COLUMN(Teilnehmer)+DG24)","v":"$K$30"},{"$f":"ADDRESS(ROW(Teilnehmer)+DG24,COLUMN(Teilnehmer)+DF24)","v":"$I$32"},{"$f":"CJ24","v":2},{"$f":"CM24","v":"Spieler 09"},"-",{"$f":"CK24","v":"Spieler 07"},null,2,"Spieler 08","-","Spieler 06"]
[null,1,null,{"$f":"IF(ISNA(MATCH(ADDRESS(ROW(),COLUMN()),$CV:$CV,0)),\"\",INDEX($CT:$CT,MATCH(ADDRESS(ROW(),COLUMN()),$CV:$CV,0)))&IF(ISNA(MATCH(ADDRESS(ROW(),COLUMN()),$CW:$CW,0)),\"\",INDEX($CU:$CU,MATCH(ADDRESS(ROW(),COLUMN()),$CW:$CW,0)))&IF(ISNA(MATCH(ADDRESS(ROW(),COLUMN()),$DJ:$DJ,0)),\"\",INDEX($DH:$DH,MATCH(ADDRESS(ROW(),COLUMN()),$DJ:$DJ,0)))&IF(ISNA(MATCH(ADDRESS(ROW(),COLUMN()),$DK:$DK,0)),\"\",INDEX($DI:$DI,MATCH(ADDRESS(ROW(),COLUMN()),$DK:$DK,0)))","v":""},"","","","","","","","","","","",{"$f":"AJ25","v":0},{"$f":"MAX($B$25:$B$36)-COUNTIF(D25:O25,\"\")","v":0},{"$f":"AX25","v":0},null,{"$f":"IF($CE25,0,COUNTIFS($CR:$CR,$B25,$CO:$CO,\"<>\")+COUNTIFS($DF:$DF,$B25,$DC:$DC,\"<>\"))","v":0},{"$f":"IF($CE25,0,COUNTIFS($CS:$CS,$B25,$CO:$CO,\"<>\")+COUNTIFS($DG:$DG,$B25,$DC:$DC,\"<>\"))","v":0},{"$f":"CD25","v":1},null,{"$f":"IF(D25=\"\",0,VLOOKUP(D25,Wertung,3,FALSE))","v":0},{"$f":"IF(E25=\"\",0,VLOOKUP(E25,Wertung,3,FALSE))","v":0},{"$f":"IF(F25=\"\",0,VLOOKUP(F25,Wertung,3,FALSE))","v":0},{"$f":"IF(G25=\"\",0,VLOOKUP(G25,Wertung,3,FALSE))","v":0},{"$f":"IF(H25=\"\",0,VLOOKUP(H25,Wertung,3,FALSE))","v":0},{"$f":"IF(I25=\"\",0,VLOOKUP(I25,Wertung,3,FALSE))","v":0},{"$f":"IF(J25=\"\",0,VLOOKUP(J25,Wertung,3,FALSE))","v":0},{"$f":"IF(K25=\"\",0,VLOOKUP(K25,Wertung,3,FALSE))","v":0},{"$f":"IF(L25=\"\",0,VLOOKUP(L25,Wertung,3,FALSE))","v":0},{"$f":"IF(M25=\"\",0,VLOOKUP(M25,Wertung,3,FALSE))","v":0},{"$f":"IF(N25=\"\",0,VLOOKUP(N25,Wertung,3,FALSE))","v":0},{"$f":"IF(O25=\"\",0,VLOOKUP(O25,Wertung,3,FALSE))","v":0},{"$f":"SUM(X25:AI25)","v":0},null,{"$f":"X25*INDEX($AJ:$AJ,ROW($AL$24)+X$24)","v":0},{"$f":"Y25*INDEX($AJ:$AJ,ROW($AL$24)+Y$24)","v":0},{"$f":"Z25*INDEX($AJ:$AJ,ROW($AL$24)+Z$24)","v":0},{"$f":"AA25*INDEX($AJ:$AJ,ROW($AL$24)+AA$24)","v":0},{"$f":"AB25*INDEX($AJ:$AJ,ROW($AL$24)+AB$24)","v":0},{"$f":"AC25*INDEX($AJ:$AJ,ROW($AL$24)+AC$24)","v":0},{"$f":"AD25*INDEX($AJ:$AJ,ROW($AL$24)+AD$24)","v":0},{"$f":"AE25*INDEX($AJ:$AJ,ROW($AL$24)+AE$24)","v":0},{"$f":"AF25*INDEX($AJ:$AJ,ROW($AL$24)+AF$24)","v":0},{"$f":"AG25*INDEX($AJ:$AJ,ROW($AL$24)+AG$24)","v":0},{"$f":"AH25*INDEX($AJ:$AJ,ROW($AL$24)+AH$24)","v":0},{"$f":"AI25*INDEX($AJ:$AJ,ROW($AL$24)+AI$24)","v":0},{"$f":"SUM(AL25:AW25)","v":0},null,{"$f":"S25","v":0},{"$f":"RANK($AJ25,$AJ$25:$AJ$36,0)","v":1},{"$f":"RANK($Q25,$Q$25:$Q$36,1)","v":1},{"$f":"RANK($AX25,$AX$25:$AX$36,0)","v":1},{"$f":"RANK($U25,$U$25:$U$36,0)","v":1},{"$f":"RANK($AZ25,$AZ$25:$AZ$36,IF($BE$23,0,1))","v":1},{"$f":"VALUE(CONCATENATE(IF($CE25,\"1\",\"0\"),TEXT($BA25,\"00\"),TEXT($BC25,\"00\"),TEXT($BE25,\"00\")))","v":10101},{"$f":"VALUE(CONCATENATE(IF($CE25,\"1\",\"0\"),TEXT($BA25,\"00\"),TEXT($BC25,\"00\")))","v":101},{"$f":"VALUE(CONCATENATE(IF($CE25,\"1\",\"0\"),TEXT($BA25,\"00\"),TEXT($BB25,\"00\"),TEXT($BC25,\"00\"),TEXT($BE25,\"00\")))","v":1010101},{"$f":"VALUE(CONCATENATE(IF($CE25,\"1\",\"0\"),TEXT($BA25,\"00\"),TEXT($BB25,\"00\"),TEXT($BC25,\"00\")))","v":10101},{"$f":"VALUE(CONCATENATE(IF($CE25,\"1\",\"0\"),TEXT($BA25,\"00\"),TEXT($BB25,\"00\"),TEXT($BC25,\"00\")))","v":10101},{"$f":"VALUE(CONCATENATE(IF($CE25,\"1\",\"0\"),TEXT($BA25,\"00\"),TEXT($BB25,\"00\"),TEXT($BC25,\"00\"),TEXT($BD25,\"00\")))","v":1010101},{"$f":"VALUE(CONCATENATE(IF($CE25,\"1\",\"0\"),TEXT($BA25,\"00\"),TEXT($BB25,\"00\")))","v":101},{"$f":"VALUE(CONCATENATE(IF($CE25,\"1\",\"0\"),TEXT($BA25,\"00\"),TEXT($BB25,\"00\")))","v":101},{"$f":"VALUE(CONCATENATE(IF($CE25,\"1\",\"0\"),TEXT($BA25,\"00\"),TEXT($BB25,\"00\"),TEXT($BD25,\"00\"),TEXT($BC25,\"00\")))","v":1010101},{"$f":"VALUE(CONCATENATE(IF($CE25,\"1\",\"0\"),TEXT($BA25,\"00\"),TEXT($BB25,\"00\"),TEXT($BD25,\"00\")))","v":10101},{"$f":"INDEX($BF25:$BO25,1,WertungskriterienA)","v":10101},{"$f":"SUM((TRANSPOSE($BP$25:$BP$36)=BP25)*$X25:$AI25)","v":0},{"$f":"RANK($BQ25,$BQ$25:$BQ$36,0)","v":1},{"$f":"$BP25","v":10101},{"$f":"VALUE(CONCATENATE($BP25,TEXT($BR25,\"00\"),TEXT($BE25,\"00\")))","v":101010101},{"$f":"$BP25","v":10101},{"$f":"VALUE(CONCATENATE($BP25,TEXT($BR25,\"00\"),TEXT($BE25,\"00\")))","v":101010101},{"$f":"VALUE(CONCATENATE($BP25,TEXT($BR25,\"00\"),TEXT($BD25,\"00\"),TEXT($BE25,\"00\")))","v":10101010101},{"$f":"VALUE(CONCATENATE($BP25,TEXT($BR25,\"00\"),TEXT($BE25,\"00\")))","v":101010101},{"$f":"VALUE(CONCATENATE($BP25,TEXT($BR25,\"00\"),TEXT($BC25,\"00\"),TEXT($BD25,\"00\"),TEXT($BE25,\"00\")))","v":1010101010101},{"$f":"VALUE(CONCATENATE($BP25,TEXT($BR25,\"00\"),TEXT($BD25,\"00\"),TEXT($BC25,\"00\"),TEXT($BE25,\"00\")))","v":1010101010101},{"$f":"VALUE(CONCATENATE($BP25,TEXT($BR25,\"00\"),TEXT($BE25,\"00\")))","v":101010101},{"$f":"VALUE(CONCATENATE($BP25,TEXT($BR25,\"00\"),TEXT($BC25,\"00\"),TEXT($BE25,\"00\")))","v":10101010101},{"$f":"INDEX(BS25:CB25,1,WertungskriterienA)","v":101010101},{"$f":"RANK(CC25,$CC$25:$CC$36,1)","v":1},{"$f":"IF($C25=\"\",FALSE,AND(LEN($C25)=1,OR(CODE($C25)<65,CODE($C25)>122,AND(CODE($C25)>90,CODE($C25)<97)),NOT(AND(CODE($C25)>48,CODE($C25)<58))))","v":false},{"$f":"IF(CE25,$C25,IF($C25=\"\",\"Spieler \"&TEXT($B25,\"00\"),$C25))","v":"Spieler 01"},{"$f":"IF(CE25,MAX(TeilnNr),0)+SUMPRODUCT((CF25>$CF$25:$CF$36)*1)","v":0},{"$f":"CD25+CG25/1000+B25/1000000","v":1.0000009999999999},{"$f":"RANK(CH25,$CH$25:$CH$36,1)","v":1},{"$f":"CJ24+1","v":3},"Spieler 10","-","Spieler 06",null,null,{"$f":"CP24","v":5},{"$f":"CQ24+1","v":3},{"$f":"IF(AND(CQ25=1,MOD(CP25,2)=0),MAX(TeilnNr),IF(MOD(CQ25,2)=0,IF(MAX(TeilnNr)/2-CQ25+1-(CP25-MAX(TeilnNr)/2-1)>=1,MAX(TeilnNr)/2-CQ25+1-(CP25-MAX(TeilnNr)/2-1),MAX(TeilnNr)/2-CQ25+1-(CP25-MAX(TeilnNr)/2-1)+MAX(TeilnNr)-1),IF(CQ25-(CP25-1)>=1,CQ25-(CP25-1),CQ25-(CP25-1)+MAX(TeilnNr)-1)))","v":10},{"$f":"IF(AND(CQ25=1,MOD(CP25,2)<>0),MAX(TeilnNr),IF(MOD(CQ25,2)<>0,IF(MAX(TeilnNr)/2-CQ25+1-(CP25-MAX(TeilnNr)/2-1)>=1,MAX(TeilnNr)/2-CQ25+1-(CP25-MAX(TeilnNr)/2-1),MAX(TeilnNr)/2-CQ25+1-(CP25-MAX(TeilnNr)/2-1)+MAX(TeilnNr)-1),IF(CQ25-(CP25-1)>=1,CQ25-(CP25-1),CQ25-(CP25-1)+MAX(TeilnNr)-1)))","v":6},"","",{"$f":"ADDRESS(ROW(Teilnehmer)+CR25,COLUMN(Teilnehmer)+CS25)","v":"$I$34"},{"$f":"ADDRESS(ROW(Teilnehmer)+CS25,COLUMN(Teilnehmer)+CR25)","v":"$M$30"},{"$f":"CX24+1","v":3},"Spieler 09","-","Spieler 05",null,null,{"$f":"DD24","v":6},{"$f":"DE24+1","v":3},{"$f":"IF(AND(DE25=1,MOD(DD25,2)=0),MAX(TeilnNr),IF(MOD(DE25,2)=0,IF(MAX(TeilnNr)/2-DE25+1-(DD25-MAX(TeilnNr)/2-1)>=1,MAX(TeilnNr)/2-DE25+1-(DD25-MAX(TeilnNr)/2-1),MAX(TeilnNr)/2-DE25+1-(DD25-MAX(TeilnNr)/2-1)+MAX(TeilnNr)-1),IF(DE25-(DD25-1)>=1,DE25-(DD25-1),DE25-(DD25-1)+MAX(TeilnNr)-1)))","v":9},{"$f":"IF(AND(DE25=1,MOD(DD25,2)<>0),MAX(TeilnNr),IF(MOD(DE25,2)<>0,IF(MAX(TeilnNr)/2-DE25+1-(DD25-MAX(TeilnNr)/2-1)>=1,MAX(TeilnNr)/2-DE25+1-(DD25-MAX(TeilnNr)/2-1),MAX(TeilnNr)/2-DE25+1-(DD25-MAX(TeilnNr)/2-1)+MAX(TeilnNr)-1),IF(DE25-(DD25-1)>=1,DE25-(DD25-1),DE25-(DD25-1)+MAX(TeilnNr)-1)))","v":5},"","",{"$f":"ADDRESS(ROW(Teilnehmer)+DF25,COLUMN(Teilnehmer)+DG25)","v":"$H$33"},{"$f":"ADDRESS(ROW(Teilnehmer)+DG25,COLUMN(Teilnehmer)+DF25)","v":"$L$29"},3,"Spieler 10","-",{"$f":"CM25","v":"Spieler 06"},null,3,"Spieler 09","-",{"$f":"DA25","v":"Spieler 05"}]
[null,2,null,"","","","","","","","","","","","",{"$f":"AJ26","v":0},0,0,null,0,0,1,null,0,0,0,0,0,0,0,0,0,0,0,0,0,null,0,0,0,0,0,0,0,0,0,0,0,0,0,null,0,1,1,1,1,1,{"$f":"VALUE(CONCATENATE(IF($CE26,\"1\",\"0\"),TEXT($BA26,\"00\"),TEXT($BC26,\"00\"),TEXT($BE26,\"00\")))","v":10101},{"$f":"VALUE(CONCATENATE(IF($CE26,\"1\",\"0\"),TEXT($BA26,\"00\"),TEXT($BC26,\"00\")))","v":101},{"$f":"VALUE(CONCATENATE(IF($CE26,\"1\",\"0\"),TEXT($BA26,\"00\"),TEXT($BB26,\"00\"),TEXT($BC26,\"00\"),TEXT($BE26,\"00\")))","v":1010101},{"$f":"VALUE(CONCATENATE(IF($CE26,\"1\",\"0\"),TEXT($BA26,\"00\"),TEXT($BB26,\"00\"),TEXT($BC26,\"00\")))","v":10101},10101,{"$f":"VALUE(CONCATENATE(IF($CE26,\"1\",\"0\"),TEXT($BA26,\"00\"),TEXT($BB26,\"00\"),TEXT($BC26,\"00\"),TEXT($BD26,\"00\")))","v":1010101},{"$f":"VALUE(CONCATENATE(IF($CE26,\"1\",\"0\"),TEXT($BA26,\"00\"),TEXT($BB26,\"00\")))","v":101},101,{"$f":"VALUE(CONCATENATE(IF($CE26,\"1\",\"0\"),TEXT($BA26,\"00\"),TEXT($BB26,\"00\"),TEXT($BD26,\"00\"),TEXT($BC26,\"00\")))","v":1010101},{"$f":"VALUE(CONCATENATE(IF($CE26,\"1\",\"0\"),TEXT($BA26,\"00\"),TEXT($BB26,\"00\"),TEXT($BD26,\"00\")))","v":10101},{"$f":"INDEX($BF26:$BO26,1,WertungskriterienA)","v":10101},{"$f":"SUM((TRANSPOSE($BP$25:$BP$36)=BP26)*$X26:$AI26)","v":0},1,{"$f":"$BP26","v":10101},{"$f":"VALUE(CONCATENATE($BP26,TEXT($BR26,\"00\"),TEXT($BE26,\"00\")))","v":101010101},{"$f":"$BP26","v":10101},{"$f":"VALUE(CONCATENATE($BP26,TEXT($BR26,\"00\"),TEXT($BE26,\"00\")))","v":101010101},{"$f":"VALUE(CONCATENATE($BP26,TEXT($BR26,\"00\"),TEXT($BD26,\"00\"),TEXT($BE26,\"00\")))","v":10101010101},{"$f":"VALUE(CONCATENATE($BP26,TEXT($BR26,\"00\"),TEXT($BE26,\"00\")))","v":101010101},{"$f":"VALUE(CONCATENATE($BP26,TEXT($BR26,\"00\"),TEXT($BC26,\"00\"),TEXT($BD26,\"00\"),TEXT($BE26,\"00\")))","v":1010101010101},{"$f":"VALUE(CONCATENATE($BP26,TEXT($BR26,\"00\"),TEXT($BD26,\"00\"),TEXT($BC26,\"00\"),TEXT($BE26,\"00\")))","v":1010101010101},{"$f":"VALUE(CONCATENATE($BP26,TEXT($BR26,\"00\"),TEXT($BE26,\"00\")))","v":101010101},{"$f":"VALUE(CONCATENATE($BP26,TEXT($BR26,\"00\"),TEXT($BC26,\"00\"),TEXT($BE26,\"00\")))","v":10101010101},{"$f":"INDEX(BS26:CB26,1,WertungskriterienA)","v":101010101},1,{"$f":"IF($C26=\"\",FALSE,AND(LEN($C26)=1,OR(CODE($C26)<65,CODE($C26)>122,AND(CODE($C26)>90,CODE($C26)<97)),NOT(AND(CODE($C26)>48,CODE($C26)<58))))","v":false},"Spieler 02",1,1.0010019999999999,2,4,"Spieler 05","-","Spieler 11",null,null,{"$f":"CP25","v":5},4,{"$f":"IF(AND(CQ26=1,MOD(CP26,2)=0),MAX(TeilnNr),IF(MOD(CQ26,2)=0,IF(MAX(TeilnNr)/2-CQ26+1-(CP26-MAX(TeilnNr)/2-1)>=1,MAX(TeilnNr)/2-CQ26+1-(CP26-MAX(TeilnNr)/2-1),MAX(TeilnNr)/2-CQ26+1-(CP26-MAX(TeilnNr)/2-1)+MAX(TeilnNr)-1),IF(CQ26-(CP26-1)>=1,CQ26-(CP26-1),CQ26-(CP26-1)+MAX(TeilnNr)-1)))","v":5},{"$f":"IF(AND(CQ26=1,MOD(CP26,2)<>0),MAX(TeilnNr),IF(MOD(CQ26,2)<>0,IF(MAX(TeilnNr)/2-CQ26+1-(CP26-MAX(TeilnNr)/2-1)>=1,MAX(TeilnNr)/2-CQ26+1-(CP26-MAX(TeilnNr)/2-1),MAX(TeilnNr)/2-CQ26+1-(CP26-MAX(TeilnNr)/2-1)+MAX(TeilnNr)-1),IF(CQ26-(CP26-1)>=1,CQ26-(CP26-1),CQ26-(CP26-1)+MAX(TeilnNr)-1)))","v":11},"","",{"$f":"ADDRESS(ROW(Teilnehmer)+CR26,COLUMN(Teilnehmer)+CS26)","v":"$N$29"},{"$f":"ADDRESS(ROW(Teilnehmer)+CS26,COLUMN(Teilnehmer)+CR26)","v":"$H$35"},4,"Spieler 04","-","Spieler 10",null,null,{"$f":"DD25","v":6},4,{"$f":"IF(AND(DE26=1,MOD(DD26,2)=0),MAX(TeilnNr),IF(MOD(DE26,2)=0,IF(MAX(TeilnNr)/2-DE26+1-(DD26-MAX(TeilnNr)/2-1)>=1,MAX(TeilnNr)/2-DE26+1-(DD26-MAX(TeilnNr)/2-1),MAX(TeilnNr)/2-DE26+1-(DD26-MAX(TeilnNr)/2-1)+MAX(TeilnNr)-1),IF(DE26-(DD26-1)>=1,DE26-(DD26-1),DE26-(DD26-1)+MAX(TeilnNr)-1)))","v":4},{"$f":"IF(AND(DE26=1,MOD(DD26,2)<>0),MAX(TeilnNr),IF(MOD(DE26,2)<>0,IF(MAX(TeilnNr)/2-DE26+1-(DD26-MAX(TeilnNr)/2-1)>=1,MAX(TeilnNr)/2-DE26+1-(DD26-MAX(TeilnNr)/2-1),MAX(TeilnNr)/2-DE26+1-(DD26-MAX(TeilnNr)/2-1)+MAX(TeilnNr)-1),IF(DE26-(DD26-1)>=1,DE26-(DD26-1),DE26-(DD26-1)+MAX(TeilnNr)-1)))","v":10},"","",{"$f":"ADDRESS(ROW(Teilnehmer)+DF26,COLUMN(Teilnehmer)+DG26)","v":"$M$28"},{"$f":"ADDRESS(ROW(Teilnehmer)+DG26,COLUMN(Teilnehmer)+DF26)","v":"$G$34"},4,{"$f":"CM26","v":"Spieler 11"},"-",{"$f":"CK26","v":"Spieler 05"},null,4,{"$f":"DA26","v":"Spieler 10"},"-",{"$f":"CY26","v":"Spieler 04"}]
[null,3,null,"","","","","","","","","","","","",0,0,0,null,0,0,1,null,0,0,0,0,0,0,0,0,0,0,0,0,0,null,0,0,0,0,0,0,0,0,0,0,0,0,0,null,0,1,1,1,1,1,10101,101,1010101,10101,10101,1010101,101,101,1010101,10101,{"$f":"INDEX($BF27:$BO27,1,WertungskriterienA)","v":10101},{"$f":"SUM((TRANSPOSE($BP$25:$BP$36)=BP27)*$X27:$AI27)","v":0},1,10101,101010101,10101,101010101,10101010101,101010101,1010101010101,1010101010101,101010101,10101010101,{"$f":"INDEX(BS27:CB27,1,WertungskriterienA)","v":101010101},1,false,"Spieler 03",2,1.002003,3,5,"Spieler 01","-","Spieler 04",null,null,{"$f":"CP26","v":5},5,{"$f":"IF(AND(CQ27=1,MOD(CP27,2)=0),MAX(TeilnNr),IF(MOD(CQ27,2)=0,IF(MAX(TeilnNr)/2-CQ27+1-(CP27-MAX(TeilnNr)/2-1)>=1,MAX(TeilnNr)/2-CQ27+1-(CP27-MAX(TeilnNr)/2-1),MAX(TeilnNr)/2-CQ27+1-(CP27-MAX(TeilnNr)/2-1)+MAX(TeilnNr)-1),IF(CQ27-(CP27-1)>=1,CQ27-(CP27-1),CQ27-(CP27-1)+MAX(TeilnNr)-1)))","v":1},{"$f":"IF(AND(CQ27=1,MOD(CP27,2)<>0),MAX(TeilnNr),IF(MOD(CQ27,2)<>0,IF(MAX(TeilnNr)/2-CQ27+1-(CP27-MAX(TeilnNr)/2-1)>=1,MAX(TeilnNr)/2-CQ27+1-(CP27-MAX(TeilnNr)/2-1),MAX(TeilnNr)/2-CQ27+1-(CP27-MAX(TeilnNr)/2-1)+MAX(TeilnNr)-1),IF(CQ27-(CP27-1)>=1,CQ27-(CP27-1),CQ27-(CP27-1)+MAX(TeilnNr)-1)))","v":4},"","",{"$f":"ADDRESS(ROW(Teilnehmer)+CR27,COLUMN(Teilnehmer)+CS27)","v":"$G$25"},{"$f":"ADDRESS(ROW(Teilnehmer)+CS27,COLUMN(Teilnehmer)+CR27)","v":"$D$28"},5,"Spieler 11","-","Spieler 03",null,null,6,5,{"$f":"IF(AND(DE27=1,MOD(DD27,2)=0),MAX(TeilnNr),IF(MOD(DE27,2)=0,IF(MAX(TeilnNr)/2-DE27+1-(DD27-MAX(TeilnNr)/2-1)>=1,MAX(TeilnNr)/2-DE27+1-(DD27-MAX(TeilnNr)/2-1),MAX(TeilnNr)/2-DE27+1-(DD27-MAX(TeilnNr)/2-1)+MAX(TeilnNr)-1),IF(DE27-(DD27-1)>=1,DE27-(DD27-1),DE27-(DD27-1)+MAX(TeilnNr)-1)))","v":11},{"$f":"IF(AND(DE27=1,MOD(DD27,2)<>0),MAX(TeilnNr),IF(MOD(DE27,2)<>0,IF(MAX(TeilnNr)/2-DE27+1-(DD27-MAX(TeilnNr)/2-1)>=1,MAX(TeilnNr)/2-DE27+1-(DD27-MAX(TeilnNr)/2-1),MAX(TeilnNr)/2-DE27+1-(DD27-MAX(TeilnNr)/2-1)+MAX(TeilnNr)-1),IF(DE27-(DD27-1)>=1,DE27-(DD27-1),DE27-(DD27-1)+MAX(TeilnNr)-1)))","v":3},"","",{"$f":"ADDRESS(ROW(Teilnehmer)+DF27,COLUMN(Teilnehmer)+DG27)","v":"$F$35"},{"$f":"ADDRESS(ROW(Teilnehmer)+DG27,COLUMN(Teilnehmer)+DF27)","v":"$N$27"},5,"Spieler 01","-",{"$f":"CM27","v":"Spieler 04"},null,5,"Spieler 11","-",{"$f":"DA27","v":"Spieler 03"}]
[null,4,null,"","","","","","","","","","","","",0,0,0,null,0,0,1,null,0,0,0,0,0,0,0,0,0,0,0,0,0,null,0,0,0,0,0,0,0,0,0,0,0,0,0,null,0,1,1,1,1,1,10101,101,1010101,10101,10101,1010101,101,101,1010101,10101,{"$f":"INDEX($BF28:$BO28,1,WertungskriterienA)","v":10101},{"$f":"SUM((TRANSPOSE($BP$25:$BP$36)=BP28)*$X28:$AI28)","v":0},1,10101,101010101,10101,101010101,10101010101,101010101,1010101010101,1010101010101,101010101,10101010101,{"$f":"INDEX(BS28:CB28,1,WertungskriterienA)","v":101010101},1,false,"Spieler 04",3,1.0030039999999998,4,6,"Spieler 03","-","Spieler 02",null,null,{"$f":"CP27","v":5},6,{"$f":"IF(AND(CQ28=1,MOD(CP28,2)=0),MAX(TeilnNr),IF(MOD(CQ28,2)=0,IF(MAX(TeilnNr)/2-CQ28+1-(CP28-MAX(TeilnNr)/2-1)>=1,MAX(TeilnNr)/2-CQ28+1-(CP28-MAX(TeilnNr)/2-1),MAX(TeilnNr)/2-CQ28+1-(CP28-MAX(TeilnNr)/2-1)+MAX(TeilnNr)-1),IF(CQ28-(CP28-1)>=1,CQ28-(CP28-1),CQ28-(CP28-1)+MAX(TeilnNr)-1)))","v":3},{"$f":"IF(AND(CQ28=1,MOD(CP28,2)<>0),MAX(TeilnNr),IF(MOD(CQ28,2)<>0,IF(MAX(TeilnNr)/2-CQ28+1-(CP28-MAX(TeilnNr)/2-1)>=1,MAX(TeilnNr)/2-CQ28+1-(CP28-MAX(TeilnNr)/2-1),MAX(TeilnNr)/2-CQ28+1-(CP28-MAX(TeilnNr)/2-1)+MAX(TeilnNr)-1),IF(CQ28-(CP28-1)>=1,CQ28-(CP28-1),CQ28-(CP28-1)+MAX(TeilnNr)-1)))","v":2},"","",{"$f":"ADDRESS(ROW(Teilnehmer)+CR28,COLUMN(Teilnehmer)+CS28)","v":"$E$27"},{"$f":"ADDRESS(ROW(Teilnehmer)+CS28,COLUMN(Teilnehmer)+CR28)","v":"$F$26"},6,"Spieler 02","-","Spieler 01",null,null,6,6,{"$f":"IF(AND(DE28=1,MOD(DD28,2)=0),MAX(TeilnNr),IF(MOD(DE28,2)=0,IF(MAX(TeilnNr)/2-DE28+1-(DD28-MAX(TeilnNr)/2-1)>=1,MAX(TeilnNr)/2-DE28+1-(DD28-MAX(TeilnNr)/2-1),MAX(TeilnNr)/2-DE28+1-(DD28-MAX(TeilnNr)/2-1)+MAX(TeilnNr)-1),IF(DE28-(DD28-1)>=1,DE28-(DD28-1),DE28-(DD28-1)+MAX(TeilnNr)-1)))","v":2},{"$f":"IF(AND(DE28=1,MOD(DD28,2)<>0),MAX(TeilnNr),IF(MOD(DE28,2)<>0,IF(MAX(TeilnNr)/2-DE28+1-(DD28-MAX(TeilnNr)/2-1)>=1,MAX(TeilnNr)/2-DE28+1-(DD28-MAX(TeilnNr)/2-1),MAX(TeilnNr)/2-DE28+1-(DD28-MAX(TeilnNr)/2-1)+MAX(TeilnNr)-1),IF(DE28-(DD28-1)>=1,DE28-(DD28-1),DE28-(DD28-1)+MAX(TeilnNr)-1)))","v":1},"","",{"$f":"ADDRESS(ROW(Teilnehmer)+DF28,COLUMN(Teilnehmer)+DG28)","v":"$D$26"},{"$f":"ADDRESS(ROW(Teilnehmer)+DG28,COLUMN(Teilnehmer)+DF28)","v":"$E$25"},6,{"$f":"CM28","v":"Spieler 02"},"-",{"$f":"CK28","v":"Spieler 03"},null,6,{"$f":"DA28","v":"Spieler 01"},"-",{"$f":"CY28","v":"Spieler 02"}]
[null,5,null,"","","","","","","","","","","","",0,0,0,null,0,0,1,null,0,0,0,0,0,0,0,0,0,0,0,0,0,null,0,0,0,0,0,0,0,0,0,0,0,0,0,null,0,1,1,1,1,1,10101,101,1010101,10101,10101,1010101,101,101,1010101,10101,{"$f":"INDEX($BF29:$BO29,1,WertungskriterienA)","v":10101},{"$f":"SUM((TRANSPOSE($BP$25:$BP$36)=BP29)*$X29:$AI29)","v":0},1,10101,101010101,10101,101010101,10101010101,101010101,1010101010101,1010101010101,101010101,10101010101,{"$f":"INDEX(BS29:CB29,1,WertungskriterienA)","v":101010101},1,false,"Spieler 05",4,1.004005,5]
[null,6,null,"","","","","","","","","","","","",0,0,0,null,0,0,1,null,0,0,0,0,0,0,0,0,0,0,0,0,0,null,0,0,0,0,0,0,0,0,0,0,0,0,0,null,0,1,1,1,1,1,10101,101,1010101,10101,10101,1010101,101,101,1010101,10101,{"$f":"INDEX($BF30:$BO30,1,WertungskriterienA)","v":10101},{"$f":"SUM((TRANSPOSE($BP$25:$BP$36)=BP30)*$X30:$AI30)","v":0},1,10101,101010101,10101,101010101,10101010101,101010101,1010101010101,1010101010101,101010101,10101010101,{"$f":"INDEX(BS30:CB30,1,WertungskriterienA)","v":101010101},1,false,"Spieler 06",5,1.0050059999999998,6,null,{"$f":"CK22+2","v":7},null,null,null,null,"R","B","SpNr w","SpNr s","Res w","Res s",null,null,null,{"$f":"CY22+2","v":8},null,null,null,null,"R","B","SpNr w","SpNr s","Res w","Res s",null,null,null,{"$f":"CK30","v":7},1,null,null,null,{"$f":"CY30","v":8}]
[null,7,null,"","","","","","","","","","","","",0,0,0,null,0,0,1,null,0,0,0,0,0,0,0,0,0,0,0,0,0,null,0,0,0,0,0,0,0,0,0,0,0,0,0,null,0,1,1,1,1,1,10101,101,1010101,10101,10101,1010101,101,101,1010101,10101,{"$f":"INDEX($BF31:$BO31,1,WertungskriterienA)","v":10101},{"$f":"SUM((TRANSPOSE($BP$25:$BP$36)=BP31)*$X31:$AI31)","v":0},1,10101,101010101,10101,101010101,10101010101,101010101,1010101010101,1010101010101,101010101,10101010101,{"$f":"INDEX(BS31:CB31,1,WertungskriterienA)","v":101010101},1,false,"Spieler 07",6,1.0060070000000001,7,{"$f":"IF(OR(INDEX($CE$25:$CE$36,CR31),INDEX($CE$25:$CE$36,CS31)),0,1)","v":1},{"$f":"INDEX($CF$25:$CF$36,MATCH($CR31,TeilnNr,0))","v":"Spieler 06"},"-",{"$f":"INDEX($CF$25:$CF$36,MATCH($CS31,TeilnNr,0))","v":"Spieler 12"},null,null,{"$f":"CK30","v":7},1,{"$f":"IF(AND(CQ31=1,MOD(CP31,2)=0),MAX(TeilnNr),IF(MOD(CQ31,2)=0,IF(MAX(TeilnNr)/2-CQ31+1-(CP31-MAX(TeilnNr)/2-1)>=1,MAX(TeilnNr)/2-CQ31+1-(CP31-MAX(TeilnNr)/2-1),MAX(TeilnNr)/2-CQ31+1-(CP31-MAX(TeilnNr)/2-1)+MAX(TeilnNr)-1),IF(CQ31-(CP31-1)>=1,CQ31-(CP31-1),CQ31-(CP31-1)+MAX(TeilnNr)-1)))","v":6},{"$f":"IF(AND(CQ31=1,MOD(CP31,2)<>0),MAX(TeilnNr),IF(MOD(CQ31,2)<>0,IF(MAX(TeilnNr)/2-CQ31+1-(CP31-MAX(TeilnNr)/2-1)>=1,MAX(TeilnNr)/2-CQ31+1-(CP31-MAX(TeilnNr)/2-1),MAX(TeilnNr)/2-CQ31+1-(CP31-MAX(TeilnNr)/2-1)+MAX(TeilnNr)-1),IF(CQ31-(CP31-1)>=1,CQ31-(CP31-1),CQ31-(CP31-1)+MAX(TeilnNr)-1)))","v":12},{"$f":"IF(LEFT(CO31,1)=\"V\",\"\",LEFT(CO31,1))","v":""},{"$f":"IF(RIGHT(CO31,1)=\"V\",\"\",RIGHT(CO31,1))","v":""},{"$f":"ADDRESS(ROW(Teilnehmer)+CR31,COLUMN(Teilnehmer)+CS31)","v":"$O$30"},{"$f":"ADDRESS(ROW(Teilnehmer)+CS31,COLUMN(Teilnehmer)+CR31)","v":"$I$36"},{"$f":"IF(OR(INDEX($CE$25:$CE$36,DF31),INDEX($CE$25:$CE$36,DG31)),0,1)","v":1},{"$f":"INDEX($CF$25:$CF$36,MATCH($DF31,TeilnNr,0))","v":"Spieler 12"},"-",{"$f":"INDEX($CF$25:$CF$36,MATCH($DG31,TeilnNr,0))","v":"Spieler 05"},null,null,{"$f":"CY30","v":8},1,{"$f":"IF(AND(DE31=1,MOD(DD31,2)=0),MAX(TeilnNr),IF(MOD(DE31,2)=0,IF(MAX(TeilnNr)/2-DE31+1-(DD31-MAX(TeilnNr)/2-1)>=1,MAX(TeilnNr)/2-DE31+1-(DD31-MAX(TeilnNr)/2-1),MAX(TeilnNr)/2-DE31+1-(DD31-MAX(TeilnNr)/2-1)+MAX(TeilnNr)-1),IF(DE31-(DD31-1)>=1,DE31-(DD31-1),DE31-(DD31-1)+MAX(TeilnNr)-1)))","v":12},{"$f":"IF(AND(DE31=1,MOD(DD31,2)<>0),MAX(TeilnNr),IF(MOD(DE31,2)<>0,IF(MAX(TeilnNr)/2-DE31+1-(DD31-MAX(TeilnNr)/2-1)>=1,MAX(TeilnNr)/2-DE31+1-(DD31-MAX(TeilnNr)/2-1),MAX(TeilnNr)/2-DE31+1-(DD31-MAX(TeilnNr)/2-1)+MAX(TeilnNr)-1),IF(DE31-(DD31-1)>=1,DE31-(DD31-1),DE31-(DD31-1)+MAX(TeilnNr)-1)))","v":5},{"$f":"IF(LEFT(DC31,1)=\"V\",\"\",LEFT(DC31,1))","v":""},{"$f":"IF(RIGHT(DC31,1)=\"V\",\"\",RIGHT(DC31,1))","v":""},{"$f":"ADDRESS(ROW(Teilnehmer)+DF31,COLUMN(Teilnehmer)+DG31)","v":"$H$36"},{"$f":"ADDRESS(ROW(Teilnehmer)+DG31,COLUMN(Teilnehmer)+DF31)","v":"$O$29"},{"$f":"CJ31","v":1},"Spieler 06","-",{"$f":"CM31","v":"Spieler 12"},null,{"$f":"CX31","v":1},{"$f":"DA31","v":"Spieler 05"},"-",{"$f":"CY31","v":"Spieler 12"}]
[null,8,null,"","","","","","","","","","","","",0,0,0,null,0,0,1,null,0,0,0,0,0,0,0,0,0,0,0,0,0,null,0,0,0,0,0,0,0,0,0,0,0,0,0,null,0,1,1,1,1,1,10101,101,1010101,10101,10101,1010101,101,101,1010101,10101,{"$f":"INDEX($BF32:$BO32,1,WertungskriterienA)","v":10101},{"$f":"SUM((TRANSPOSE($BP$25:$BP$36)=BP32)*$X32:$AI32)","v":0},1,10101,101010101,10101,101010101,10101010101,101010101,1010101010101,1010101010101,101010101,10101010101,{"$f":"INDEX(BS32:CB32,1,WertungskriterienA)","v":101010101},1,false,"Spieler 08",7,1.0070079999999999,8,{"$f":"CJ31+1","v":2},"Spieler 05","-","Spieler 07",null,null,{"$f":"CP31","v":7},{"$f":"CQ31+1","v":2},{"$f":"IF(AND(CQ32=1,MOD(CP32,2)=0),MAX(TeilnNr),IF(MOD(CQ32,2)=0,IF(MAX(TeilnNr)/2-CQ32+1-(CP32-MAX(TeilnNr)/2-1)>=1,MAX(TeilnNr)/2-CQ32+1-(CP32-MAX(TeilnNr)/2-1),MAX(TeilnNr)/2-CQ32+1-(CP32-MAX(TeilnNr)/2-1)+MAX(TeilnNr)-1),IF(CQ32-(CP32-1)>=1,CQ32-(CP32-1),CQ32-(CP32-1)+MAX(TeilnNr)-1)))","v":5},{"$f":"IF(AND(CQ32=1,MOD(CP32,2)<>0),MAX(TeilnNr),IF(MOD(CQ32,2)<>0,IF(MAX(TeilnNr)/2-CQ32+1-(CP32-MAX(TeilnNr)/2-1)>=1,MAX(TeilnNr)/2-CQ32+1-(CP32-MAX(TeilnNr)/2-1),MAX(TeilnNr)/2-CQ32+1-(CP32-MAX(TeilnNr)/2-1)+MAX(TeilnNr)-1),IF(CQ32-(CP32-1)>=1,CQ32-(CP32-1),CQ32-(CP32-1)+MAX(TeilnNr)-1)))","v":7},"","",{"$f":"ADDRESS(ROW(Teilnehmer)+CR32,COLUMN(Teilnehmer)+CS32)","v":"$J$29"},{"$f":"ADDRESS(ROW(Teilnehmer)+CS32,COLUMN(Teilnehmer)+CR32)","v":"$H$31"},{"$f":"CX31+1","v":2},"Spieler 04","-","Spieler 06",null,null,{"$f":"DD31","v":8},{"$f":"DE31+1","v":2},{"$f":"IF(AND(DE32=1,MOD(DD32,2)=0),MAX(TeilnNr),IF(MOD(DE32,2)=0,IF(MAX(TeilnNr)/2-DE32+1-(DD32-MAX(TeilnNr)/2-1)>=1,MAX(TeilnNr)/2-DE32+1-(DD32-MAX(TeilnNr)/2-1),MAX(TeilnNr)/2-DE32+1-(DD32-MAX(TeilnNr)/2-1)+MAX(TeilnNr)-1),IF(DE32-(DD32-1)>=1,DE32-(DD32-1),DE32-(DD32-1)+MAX(TeilnNr)-1)))","v":4},{"$f":"IF(AND(DE32=1,MOD(DD32,2)<>0),MAX(TeilnNr),IF(MOD(DE32,2)<>0,IF(MAX(TeilnNr)/2-DE32+1-(DD32-MAX(TeilnNr)/2-1)>=1,MAX(TeilnNr)/2-DE32+1-(DD32-MAX(TeilnNr)/2-1),MAX(TeilnNr)/2-DE32+1-(DD32-MAX(TeilnNr)/2-1)+MAX(TeilnNr)-1),IF(DE32-(DD32-1)>=1,DE32-(DD32-1),DE32-(DD32-1)+MAX(TeilnNr)-1)))","v":6},"","",{"$f":"ADDRESS(ROW(Teilnehmer)+DF32,COLUMN(Teilnehmer)+DG32)","v":"$I$28"},{"$f":"ADDRESS(ROW(Teilnehmer)+DG32,COLUMN(Teilnehmer)+DF32)","v":"$G$30"},{"$f":"CJ32","v":2},{"$f":"CM32","v":"Spieler 07"},"-",{"$f":"CK32","v":"Spieler 05"},null,2,"Spieler 06","-","Spieler 04"]
[null,9,null,"","","","","","","","","","","","",0,0,0,null,0,0,1,null,0,0,0,0,0,0,0,0,0,0,0,0,0,null,0,0,0,0,0,0,0,0,0,0,0,0,0,null,0,1,1,1,1,1,10101,101,1010101,10101,10101,1010101,101,101,1010101,10101,{"$f":"INDEX($BF33:$BO33,1,WertungskriterienA)","v":10101},{"$f":"SUM((TRANSPOSE($BP$25:$BP$36)=BP33)*$X33:$AI33)","v":0},1,10101,101010101,10101,101010101,10101010101,101010101,1010101010101,1010101010101,101010101,10101010101,{"$f":"INDEX(BS33:CB33,1,WertungskriterienA)","v":101010101},1,false,"Spieler 09",8,1.0080089999999999,9,{"$f":"CJ32+1","v":3},"Spieler 08","-","Spieler 04",null,null,{"$f":"CP32","v":7},{"$f":"CQ32+1","v":3},{"$f":"IF(AND(CQ33=1,MOD(CP33,2)=0),MAX(TeilnNr),IF(MOD(CQ33,2)=0,IF(MAX(TeilnNr)/2-CQ33+1-(CP33-MAX(TeilnNr)/2-1)>=1,MAX(TeilnNr)/2-CQ33+1-(CP33-MAX(TeilnNr)/2-1),MAX(TeilnNr)/2-CQ33+1-(CP33-MAX(TeilnNr)/2-1)+MAX(TeilnNr)-1),IF(CQ33-(CP33-1)>=1,CQ33-(CP33-1),CQ33-(CP33-1)+MAX(TeilnNr)-1)))","v":8},{"$f":"IF(AND(CQ33=1,MOD(CP33,2)<>0),MAX(TeilnNr),IF(MOD(CQ33,2)<>0,IF(MAX(TeilnNr)/2-CQ33+1-(CP33-MAX(TeilnNr)/2-1)>=1,MAX(TeilnNr)/2-CQ33+1-(CP33-MAX(TeilnNr)/2-1),MAX(TeilnNr)/2-CQ33+1-(CP33-MAX(TeilnNr)/2-1)+MAX(TeilnNr)-1),IF(CQ33-(CP33-1)>=1,CQ33-(CP33-1),CQ33-(CP33-1)+MAX(TeilnNr)-1)))","v":4},"","",{"$f":"ADDRESS(ROW(Teilnehmer)+CR33,COLUMN(Teilnehmer)+CS33)","v":"$G$32"},{"$f":"ADDRESS(ROW(Teilnehmer)+CS33,COLUMN(Teilnehmer)+CR33)","v":"$K$28"},{"$f":"CX32+1","v":3},"Spieler 07","-","Spieler 03",null,null,{"$f":"DD32","v":8},{"$f":"DE32+1","v":3},{"$f":"IF(AND(DE33=1,MOD(DD33,2)=0),MAX(TeilnNr),IF(MOD(DE33,2)=0,IF(MAX(TeilnNr)/2-DE33+1-(DD33-MAX(TeilnNr)/2-1)>=1,MAX(TeilnNr)/2-DE33+1-(DD33-MAX(TeilnNr)/2-1),MAX(TeilnNr)/2-DE33+1-(DD33-MAX(TeilnNr)/2-1)+MAX(TeilnNr)-1),IF(DE33-(DD33-1)>=1,DE33-(DD33-1),DE33-(DD33-1)+MAX(TeilnNr)-1)))","v":7},{"$f":"IF(AND(DE33=1,MOD(DD33,2)<>0),MAX(TeilnNr),IF(MOD(DE33,2)<>0,IF(MAX(TeilnNr)/2-DE33+1-(DD33-MAX(TeilnNr)/2-1)>=1,MAX(TeilnNr)/2-DE33+1-(DD33-MAX(TeilnNr)/2-1),MAX(TeilnNr)/2-DE33+1-(DD33-MAX(TeilnNr)/2-1)+MAX(TeilnNr)-1),IF(DE33-(DD33-1)>=1,DE33-(DD33-1),DE33-(DD33-1)+MAX(TeilnNr)-1)))","v":3},"","",{"$f":"ADDRESS(ROW(Teilnehmer)+DF33,COLUMN(Teilnehmer)+DG33)","v":"$F$31"},{"$f":"ADDRESS(ROW(Teilnehmer)+DG33,COLUMN(Teilnehmer)+DF33)","v":"$J$27"},3,"Spieler 08","-",{"$f":"CM33","v":"Spieler 04"},null,3,"Spieler 07","-",{"$f":"DA33","v":"Spieler 03"}]
[null,10,null,"","","","","","","","","","","","",0,0,0,null,0,0,1,null,0,0,0,0,0,0,0,0,0,0,0,0,0,null,0,0,0,0,0,0,0,0,0,0,0,0,0,null,0,1,1,1,1,1,10101,101,1010101,10101,10101,1010101,101,101,1010101,10101,{"$f":"INDEX($BF34:$BO34,1,WertungskriterienA)","v":10101},{"$f":"SUM((TRANSPOSE($BP$25:$BP$36)=BP34)*$X34:$AI34)","v":0},1,10101,101010101,10101,101010101,10101010101,101010101,1010101010101,1010101010101,101010101,10101010101,{"$f":"INDEX(BS34:CB34,1,WertungskriterienA)","v":101010101},1,false,"Spieler 10",9,1.00901,10,4,"Spieler 03","-","Spieler 09",null,null,{"$f":"CP33","v":7},4,{"$f":"IF(AND(CQ34=1,MOD(CP34,2)=0),MAX(TeilnNr),IF(MOD(CQ34,2)=0,IF(MAX(TeilnNr)/2-CQ34+1-(CP34-MAX(TeilnNr)/2-1)>=1,MAX(TeilnNr)/2-CQ34+1-(CP34-MAX(TeilnNr)/2-1),MAX(TeilnNr)/2-CQ34+1-(CP34-MAX(TeilnNr)/2-1)+MAX(TeilnNr)-1),IF(CQ34-(CP34-1)>=1,CQ34-(CP34-1),CQ34-(CP34-1)+MAX(TeilnNr)-1)))","v":3},{"$f":"IF(AND(CQ34=1,MOD(CP34,2)<>0),MAX(TeilnNr),IF(MOD(CQ34,2)<>0,IF(MAX(TeilnNr)/2-CQ34+1-(CP34-MAX(TeilnNr)/2-1)>=1,MAX(TeilnNr)/2-CQ34+1-(CP34-MAX(TeilnNr)/2-1),MAX(TeilnNr)/2-CQ34+1-(CP34-MAX(TeilnNr)/2-1)+MAX(TeilnNr)-1),IF(CQ34-(CP34-1)>=1,CQ34-(CP34-1),CQ34-(CP34-1)+MAX(TeilnNr)-1)))","v":9},"","",{"$f":"ADDRESS(ROW(Teilnehmer)+CR34,COLUMN(Teilnehmer)+CS34)","v":"$L$27"},{"$f":"ADDRESS(ROW(Teilnehmer)+CS34,COLUMN(Teilnehmer)+CR34)","v":"$F$33"},4,"Spieler 02","-","Spieler 08",null,null,{"$f":"DD33","v":8},4,{"$f":"IF(AND(DE34=1,MOD(DD34,2)=0),MAX(TeilnNr),IF(MOD(DE34,2)=0,IF(MAX(TeilnNr)/2-DE34+1-(DD34-MAX(TeilnNr)/2-1)>=1,MAX(TeilnNr)/2-DE34+1-(DD34-MAX(TeilnNr)/2-1),MAX(TeilnNr)/2-DE34+1-(DD34-MAX(TeilnNr)/2-1)+MAX(TeilnNr)-1),IF(DE34-(DD34-1)>=1,DE34-(DD34-1),DE34-(DD34-1)+MAX(TeilnNr)-1)))","v":2},{"$f":"IF(AND(DE34=1,MOD(DD34,2)<>0),MAX(TeilnNr),IF(MOD(DE34,2)<>0,IF(MAX(TeilnNr)/2-DE34+1-(DD34-MAX(TeilnNr)/2-1)>=1,MAX(TeilnNr)/2-DE34+1-(DD34-MAX(TeilnNr)/2-1),MAX(TeilnNr)/2-DE34+1-(DD34-MAX(TeilnNr)/2-1)+MAX(TeilnNr)-1),IF(DE34-(DD34-1)>=1,DE34-(DD34-1),DE34-(DD34-1)+MAX(TeilnNr)-1)))","v":8},"","",{"$f":"ADDRESS(ROW(Teilnehmer)+DF34,COLUMN(Teilnehmer)+DG34)","v":"$K$26"},{"$f":"ADDRESS(ROW(Teilnehmer)+DG34,COLUMN(Teilnehmer)+DF34)","v":"$E$32"},4,{"$f":"CM34","v":"Spieler 09"},"-",{"$f":"CK34","v":"Spieler 03"},null,4,{"$f":"DA34","v":"Spieler 08"},"-",{"$f":"CY34","v":"Spieler 02"}]
[null,11,null,"","","","","","","","","","","","",0,0,0,null,0,0,1,null,0,0,0,0,0,0,0,0,0,0,0,0,0,null,0,0,0,0,0,0,0,0,0,0,0,0,0,null,0,1,1,1,1,1,10101,101,1010101,10101,10101,1010101,101,101,1010101,10101,{"$f":"INDEX($BF35:$BO35,1,WertungskriterienA)","v":10101},{"$f":"SUM((TRANSPOSE($BP$25:$BP$36)=BP35)*$X35:$AI35)","v":0},1,10101,101010101,10101,101010101,10101010101,101010101,1010101010101,1010101010101,101010101,10101010101,{"$f":"INDEX(BS35:CB35,1,WertungskriterienA)","v":101010101},1,false,"Spieler 11",10,1.010011,11,5,"Spieler 10","-","Spieler 02",null,null,{"$f":"CP34","v":7},5,{"$f":"IF(AND(CQ35=1,MOD(CP35,2)=0),MAX(TeilnNr),IF(MOD(CQ35,2)=0,IF(MAX(TeilnNr)/2-CQ35+1-(CP35-MAX(TeilnNr)/2-1)>=1,MAX(TeilnNr)/2-CQ35+1-(CP35-MAX(TeilnNr)/2-1),MAX(TeilnNr)/2-CQ35+1-(CP35-MAX(TeilnNr)/2-1)+MAX(TeilnNr)-1),IF(CQ35-(CP35-1)>=1,CQ35-(CP35-1),CQ35-(CP35-1)+MAX(TeilnNr)-1)))","v":10},{"$f":"IF(AND(CQ35=1,MOD(CP35,2)<>0),MAX(TeilnNr),IF(MOD(CQ35,2)<>0,IF(MAX(TeilnNr)/2-CQ35+1-(CP35-MAX(TeilnNr)/2-1)>=1,MAX(TeilnNr)/2-CQ35+1-(CP35-MAX(TeilnNr)/2-1),MAX(TeilnNr)/2-CQ35+1-(CP35-MAX(TeilnNr)/2-1)+MAX(TeilnNr)-1),IF(CQ35-(CP35-1)>=1,CQ35-(CP35-1),CQ35-(CP35-1)+MAX(TeilnNr)-1)))","v":2},"","",{"$f":"ADDRESS(ROW(Teilnehmer)+CR35,COLUMN(Teilnehmer)+CS35)","v":"$E$34"},{"$f":"ADDRESS(ROW(Teilnehmer)+CS35,COLUMN(Teilnehmer)+CR35)","v":"$M$26"},5,"Spieler 09","-","Spieler 01",null,null,8,5,{"$f":"IF(AND(DE35=1,MOD(DD35,2)=0),MAX(TeilnNr),IF(MOD(DE35,2)=0,IF(MAX(TeilnNr)/2-DE35+1-(DD35-MAX(TeilnNr)/2-1)>=1,MAX(TeilnNr)/2-DE35+1-(DD35-MAX(TeilnNr)/2-1),MAX(TeilnNr)/2-DE35+1-(DD35-MAX(TeilnNr)/2-1)+MAX(TeilnNr)-1),IF(DE35-(DD35-1)>=1,DE35-(DD35-1),DE35-(DD35-1)+MAX(TeilnNr)-1)))","v":9},{"$f":"IF(AND(DE35=1,MOD(DD35,2)<>0),MAX(TeilnNr),IF(MOD(DE35,2)<>0,IF(MAX(TeilnNr)/2-DE35+1-(DD35-MAX(TeilnNr)/2-1)>=1,MAX(TeilnNr)/2-DE35+1-(DD35-MAX(TeilnNr)/2-1),MAX(TeilnNr)/2-DE35+1-(DD35-MAX(TeilnNr)/2-1)+MAX(TeilnNr)-1),IF(DE35-(DD35-1)>=1,DE35-(DD35-1),DE35-(DD35-1)+MAX(TeilnNr)-1)))","v":1},"","",{"$f":"ADDRESS(ROW(Teilnehmer)+DF35,COLUMN(Teilnehmer)+DG35)","v":"$D$33"},{"$f":"ADDRESS(ROW(Teilnehmer)+DG35,COLUMN(Teilnehmer)+DF35)","v":"$L$25"},5,"Spieler 10","-",{"$f":"CM35","v":"Spieler 02"},null,5,"Spieler 09","-",{"$f":"DA35","v":"Spieler 01"}]
[null,12,null,"","","","","","","","","","","","",0,0,0,null,0,0,1,null,0,0,0,0,0,0,0,0,0,0,0,0,0,null,0,0,0,0,0,0,0,0,0,0,0,0,0,null,0,1,1,1,1,1,10101,101,1010101,10101,10101,1010101,101,101,1010101,10101,{"$f":"INDEX($BF36:$BO36,1,WertungskriterienA)","v":10101},{"$f":"SUM((TRANSPOSE($BP$25:$BP$36)=BP36)*$X36:$AI36)","v":0},1,10101,101010101,10101,101010101,10101010101,101010101,1010101010101,1010101010101,101010101,10101010101,{"$f":"INDEX(BS36:CB36,1,WertungskriterienA)","v":101010101},1,false,"Spieler 12",11,1.0110119999999998,12,6,"Spieler 01","-","Spieler 11",null,null,{"$f":"CP35","v":7},6,{"$f":"IF(AND(CQ36=1,MOD(CP36,2)=0),MAX(TeilnNr),IF(MOD(CQ36,2)=0,IF(MAX(TeilnNr)/2-CQ36+1-(CP36-MAX(TeilnNr)/2-1)>=1,MAX(TeilnNr)/2-CQ36+1-(CP36-MAX(TeilnNr)/2-1),MAX(TeilnNr)/2-CQ36+1-(CP36-MAX(TeilnNr)/2-1)+MAX(TeilnNr)-1),IF(CQ36-(CP36-1)>=1,CQ36-(CP36-1),CQ36-(CP36-1)+MAX(TeilnNr)-1)))","v":1},{"$f":"IF(AND(CQ36=1,MOD(CP36,2)<>0),MAX(TeilnNr),IF(MOD(CQ36,2)<>0,IF(MAX(TeilnNr)/2-CQ36+1-(CP36-MAX(TeilnNr)/2-1)>=1,MAX(TeilnNr)/2-CQ36+1-(CP36-MAX(TeilnNr)/2-1),MAX(TeilnNr)/2-CQ36+1-(CP36-MAX(TeilnNr)/2-1)+MAX(TeilnNr)-1),IF(CQ36-(CP36-1)>=1,CQ36-(CP36-1),CQ36-(CP36-1)+MAX(TeilnNr)-1)))","v":11},"","",{"$f":"ADDRESS(ROW(Teilnehmer)+CR36,COLUMN(Teilnehmer)+CS36)","v":"$N$25"},{"$f":"ADDRESS(ROW(Teilnehmer)+CS36,COLUMN(Teilnehmer)+CR36)","v":"$D$35"},6,"Spieler 11","-","Spieler 10",null,null,8,6,{"$f":"IF(AND(DE36=1,MOD(DD36,2)=0),MAX(TeilnNr),IF(MOD(DE36,2)=0,IF(MAX(TeilnNr)/2-DE36+1-(DD36-MAX(TeilnNr)/2-1)>=1,MAX(TeilnNr)/2-DE36+1-(DD36-MAX(TeilnNr)/2-1),MAX(TeilnNr)/2-DE36+1-(DD36-MAX(TeilnNr)/2-1)+MAX(TeilnNr)-1),IF(DE36-(DD36-1)>=1,DE36-(DD36-1),DE36-(DD36-1)+MAX(TeilnNr)-1)))","v":11},{"$f":"IF(AND(DE36=1,MOD(DD36,2)<>0),MAX(TeilnNr),IF(MOD(DE36,2)<>0,IF(MAX(TeilnNr)/2-DE36+1-(DD36-MAX(TeilnNr)/2-1)>=1,MAX(TeilnNr)/2-DE36+1-(DD36-MAX(TeilnNr)/2-1),MAX(TeilnNr)/2-DE36+1-(DD36-MAX(TeilnNr)/2-1)+MAX(TeilnNr)-1),IF(DE36-(DD36-1)>=1,DE36-(DD36-1),DE36-(DD36-1)+MAX(TeilnNr)-1)))","v":10},"","",{"$f":"ADDRESS(ROW(Teilnehmer)+DF36,COLUMN(Teilnehmer)+DG36)","v":"$M$35"},{"$f":"ADDRESS(ROW(Teilnehmer)+DG36,COLUMN(Teilnehmer)+DF36)","v":"$N$34"},6,{"$f":"CM36","v":"Spieler 11"},"-",{"$f":"CK36","v":"Spieler 01"},null,6,{"$f":"DA36","v":"Spieler 10"},"-",{"$f":"CY36","v":"Spieler 11"}]
[null,null,{"$f":"\"-> bei nur \"&MAX(TeilnNr)-1&\" Spielern an Pos. \"&MAX(TeilnNr)&\" einen Stern (*) eintragen\"","v":"-> bei nur 11 Spielern an Pos. 12 einen Stern (*) eintragen"},null,null,null,null,null,null,null,null,null,null,null,null,null,{"$f":"SUM(Q25:Q36)","v":0},null,null,{"$f":"SUM(T25:T36)","v":0},{"$f":"SUM(U25:U36)","v":0}]
[null,null,null,null,null,null,null,null,null,null,null,null,null,null,null,null,null,null,null,null,null,null,null,null,null,null,null,null,null,null,null,null,null,null,null,null,null,null,null,null,null,null,null,null,null,null,null,null,null,null,null,null,null,null,null,null,null,null,null,null,null,null,null,null,null,null,null,null,null,null,null,null,null,null,null,null,null,null,null,null,null,null,null,null,null,null,null,null,{"$f":"CK30+2","v":9},null,null,null,null,"R","B","SpNr w","SpNr s","Res w","Res s",null,null,null,{"$f":"CY30+2","v":10},null,null,null,null,"R","B","SpNr w","SpNr s","Res w","Res s",null,null,null,{"$f":"CK38","v":9},1,null,null,null,{"$f":"CY38","v":10}]
[null,null,null,null,null,null,null,null,null,null,null,null,null,null,null,null,null,null,null,null,null,null,null,null,null,null,null,null,null,null,null,null,null,null,null,null,null,null,null,null,null,null,null,null,null,null,null,null,null,null,null,null,null,null,null,null,null,null,null,null,null,null,null,null,null,null,null,null,null,null,null,null,null,null,null,null,null,null,null,null,null,null,null,null,null,null,null,{"$f":"IF(OR(INDEX($CE$25:$CE$36,CR39),INDEX($CE$25:$CE$36,CS39)),0,1)","v":1},{"$f":"INDEX($CF$25:$CF$36,MATCH($CR39,TeilnNr,0))","v":"Spieler 04"},"-",{"$f":"INDEX($CF$25:$CF$36,MATCH($CS39,TeilnNr,0))","v":"Spieler 12"},null,null,{"$f":"CK38","v":9},1,{"$f":"IF(AND(CQ39=1,MOD(CP39,2)=0),MAX(TeilnNr),IF(MOD(CQ39,2)=0,IF(MAX(TeilnNr)/2-CQ39+1-(CP39-MAX(TeilnNr)/2-1)>=1,MAX(TeilnNr)/2-CQ39+1-(CP39-MAX(TeilnNr)/2-1),MAX(TeilnNr)/2-CQ39+1-(CP39-MAX(TeilnNr)/2-1)+MAX(TeilnNr)-1),IF(CQ39-(CP39-1)>=1,CQ39-(CP39-1),CQ39-(CP39-1)+MAX(TeilnNr)-1)))","v":4},{"$f":"IF(AND(CQ39=1,MOD(CP39,2)<>0),MAX(TeilnNr),IF(MOD(CQ39,2)<>0,IF(MAX(TeilnNr)/2-CQ39+1-(CP39-MAX(TeilnNr)/2-1)>=1,MAX(TeilnNr)/2-CQ39+1-(CP39-MAX(TeilnNr)/2-1),MAX(TeilnNr)/2-CQ39+1-(CP39-MAX(TeilnNr)/2-1)+MAX(TeilnNr)-1),IF(CQ39-(CP39-1)>=1,CQ39-(CP39-1),CQ39-(CP39-1)+MAX(TeilnNr)-1)))","v":12},{"$f":"IF(LEFT(CO39,1)=\"V\",\"\",LEFT(CO39,1))","v":""},{"$f":"IF(RIGHT(CO39,1)=\"V\",\"\",RIGHT(CO39,1))","v":""},{"$f":"ADDRESS(ROW(Teilnehmer)+CR39,COLUMN(Teilnehmer)+CS39)","v":"$O$28"},{"$f":"ADDRESS(ROW(Teilnehmer)+CS39,COLUMN(Teilnehmer)+CR39)","v":"$G$36"},{"$f":"IF(OR(INDEX($CE$25:$CE$36,DF39),INDEX($CE$25:$CE$36,DG39)),0,1)","v":1},{"$f":"INDEX($CF$25:$CF$36,MATCH($DF39,TeilnNr,0))","v":"Spieler 12"},"-",{"$f":"INDEX($CF$25:$CF$36,MATCH($DG39,TeilnNr,0))","v":"Spieler 03"},null,null,{"$f":"CY38","v":10},1,{"$f":"IF(AND(DE39=1,MOD(DD39,2)=0),MAX(TeilnNr),IF(MOD(DE39,2)=0,IF(MAX(TeilnNr)/2-DE39+1-(DD39-MAX(TeilnNr)/2-1)>=1,MAX(TeilnNr)/2-DE39+1-(DD39-MAX(TeilnNr)/2-1),MAX(TeilnNr)/2-DE39+1-(DD39-MAX(TeilnNr)/2-1)+MAX(TeilnNr)-1),IF(DE39-(DD39-1)>=1,DE39-(DD39-1),DE39-(DD39-1)+MAX(TeilnNr)-1)))","v":12},{"$f":"IF(AND(DE39=1,MOD(DD39,2)<>0),MAX(TeilnNr),IF(MOD(DE39,2)<>0,IF(MAX(TeilnNr)/2-DE39+1-(DD39-MAX(TeilnNr)/2-1)>=1,MAX(TeilnNr)/2-DE39+1-(DD39-MAX(TeilnNr)/2-1),MAX(TeilnNr)/2-DE39+1-(DD39-MAX(TeilnNr)/2-1)+MAX(TeilnNr)-1),IF(DE39-(DD39-1)>=1,DE39-(DD39-1),DE39-(DD39-1)+MAX(TeilnNr)-1)))","v":3},{"$f":"IF(LEFT(DC39,1)=\"V\",\"\",LEFT(DC39,1))","v":""},{"$f":"IF(RIGHT(DC39,1)=\"V\",\"\",RIGHT(DC39,1))","v":""},{"$f":"ADDRESS(ROW(Teilnehmer)+DF39,COLUMN(Teilnehmer)+DG39)","v":"$F$36"},{"$f":"ADDRESS(ROW(Teilnehmer)+DG39,COLUMN(Teilnehmer)+DF39)","v":"$O$27"},{"$f":"CJ39","v":1},"Spieler 04","-",{"$f":"CM39","v":"Spieler 12"},null,{"$f":"CX39","v":1},{"$f":"DA39","v":"Spieler 03"},"-",{"$f":"CY39","v":"Spieler 12"}]
[null,null,null,null,null,null,null,null,null,null,null,null,null,null,null,null,null,null,null,null,null,null,null,null,null,null,null,null,null,null,null,null,null,null,null,null,null,null,null,null,null,null,null,null,null,null,null,null,null,null,null,null,null,null,null,null,null,null,null,null,null,null,null,null,null,null,null,null,null,null,null,null,null,null,null,null,null,null,null,null,null,null,null,null,null,null,null,{"$f":"CJ39+1","v":2},"Spieler 03","-","Spieler 05",null,null,{"$f":"CP39","v":9},{"$f":"CQ39+1","v":2},3,5,"","","$H$27","$F$29",{"$f":"CX39+1","v":2},"Spieler 02","-","Spieler 04",null,null,{"$f":"DD39","v":10},{"$f":"DE39+1","v":2},2,4,"","","$G$26","$E$28",{"$f":"CJ40","v":2},{"$f":"CM40","v":"Spieler 05"},"-",{"$f":"CK40","v":"Spieler 03"},null,2,"Spieler 04","-","Spieler 02"]
[null,null,null,null,null,null,null,null,null,null,null,null,null,null,null,null,null,null,null,null,null,null,null,null,null,null,null,null,null,null,null,null,null,null,null,null,null,null,null,null,null,null,null,null,null,null,null,null,null,null,null,null,null,null,null,null,null,null,null,null,null,null,null,null,null,null,null,null,null,null,null,null,null,null,null,null,null,null,null,null,null,null,null,null,null,null,null,{"$f":"CJ40+1","v":3},"Spieler 06","-","Spieler 02",null,null,{"$f":"CP40","v":9},{"$f":"CQ40+1","v":3},6,2,"","","$E$30","$I$26",{"$f":"CX40+1","v":3},"Spieler 05","-","Spieler 01",null,null,{"$f":"DD40","v":10},{"$f":"DE40+1","v":3},5,1,"","","$D$29","$H$25",3,"Spieler 06","-",{"$f":"CM41","v":"Spieler 02"},null,3,"Spieler 05","-",{"$f":"DA41","v":"Spieler 01"}]
[null,null,null,null,null,null,null,null,null,null,null,null,null,null,null,null,null,null,null,null,null,null,null,null,null,null,null,null,null,null,null,null,null,null,null,null,null,null,null,null,null,null,null,null,null,null,null,null,null,null,null,null,null,null,null,null,null,null,null,null,null,null,null,null,null,null,null,null,null,null,null,null,null,null,null,null,null,null,null,null,null,null,null,null,null,null,null,4,"Spieler 01","-","Spieler 07",null,null,{"$f":"CP41","v":9},4,1,7,"","","$J$25","$D$31",4,"Spieler 11","-","Spieler 06",null,null,{"$f":"DD41","v":10},4,11,6,"","","$I$35","$N$30",4,{"$f":"CM42","v":"Spieler 07"},"-",{"$f":"CK42","v":"Spieler 01"},null,4,{"$f":"DA42","v":"Spieler 06"},"-",{"$f":"CY42","v":"Spieler 11"}]
[null,null,null,null,null,null,null,null,null,null,null,null,null,null,null,null,null,null,null,null,null,null,null,null,null,null,null,null,null,null,null,null,null,null,null,null,null,null,null,null,null,null,null,null,null,null,null,null,null,null,null,null,null,null,null,null,null,null,null,null,null,null,null,null,null,null,null,null,null,null,null,null,null,null,null,null,null,null,null,null,null,null,null,null,null,null,null,5,"Spieler 08","-","Spieler 11",null,null,{"$f":"CP42","v":9},5,8,11,"","","$N$32","$K$35",5,"Spieler 07","-","Spieler 10",null,null,10,5,7,10,"","","$M$31","$J$34",5,"Spieler 08","-",{"$f":"CM43","v":"Spieler 11"},null,5,"Spieler 07","-",{"$f":"DA43","v":"Spieler 10"}]
[null,null,null,null,null,null,null,null,null,null,null,null,null,null,null,null,null,null,null,null,null,null,null,null,null,null,null,null,null,null,null,null,null,null,null,null,null,null,null,null,null,null,null,null,null,null,null,null,null,null,null,null,null,null,null,null,null,null,null,null,null,null,null,null,null,null,null,null,null,null,null,null,null,null,null,null,null,null,null,null,null,null,null,null,null,null,null,6,"Spieler 10","-","Spieler 09",null,null,{"$f":"CP43","v":9},6,10,9,"","","$L$34","$M$33",6,"Spieler 09","-","Spieler 08",null,null,10,6,9,8,"","","$K$33","$L$32",6,{"$f":"CM44","v":"Spieler 09"},"-",{"$f":"CK44","v":"Spieler 10"},null,6,{"$f":"DA44","v":"Spieler 08"},"-",{"$f":"CY44","v":"Spieler 09"}]
[]
[null,null,null,null,null,null,null,null,null,null,null,null,null,null,null,null,null,null,null,null,null,null,null,null,null,null,null,null,null,null,null,null,null,null,null,null,null,null,null,null,null,null,null,null,null,null,null,null,null,null,null,null,null,null,null,null,null,null,null,null,null,null,null,null,null,null,null,null,null,null,null,null,null,null,null,null,null,null,null,null,null,null,null,null,null,null,null,null,{"$f":"CK38+2","v":11},null,null,null,null,"R","B","SpNr w","SpNr s","Res w","Res s",null,null,null,null,null,null,null,null,null,null,null,null,null,null,null,null,null,{"$f":"CK46","v":11},1]
[null,null,null,null,null,null,null,null,null,null,null,null,null,null,null,null,null,null,null,null,null,null,null,null,null,null,null,null,null,null,null,null,null,null,null,null,null,null,null,null,null,null,null,null,null,null,null,null,null,null,null,null,null,null,null,null,null,null,null,null,null,null,null,null,null,null,null,null,null,null,null,null,null,null,null,null,null,null,null,null,null,null,null,null,null,null,null,{"$f":"IF(OR(INDEX($CE$25:$CE$36,CR47),INDEX($CE$25:$CE$36,CS47)),0,1)","v":1},{"$f":"INDEX($CF$25:$CF$36,MATCH($CR47,TeilnNr,0))","v":"Spieler 02"},"-",{"$f":"INDEX($CF$25:$CF$36,MATCH($CS47,TeilnNr,0))","v":"Spieler 12"},null,null,{"$f":"CK46","v":11},1,{"$f":"IF(AND(CQ47=1,MOD(CP47,2)=0),MAX(TeilnNr),IF(MOD(CQ47,2)=0,IF(MAX(TeilnNr)/2-CQ47+1-(CP47-MAX(TeilnNr)/2-1)>=1,MAX(TeilnNr)/2-CQ47+1-(CP47-MAX(TeilnNr)/2-1),MAX(TeilnNr)/2-CQ47+1-(CP47-MAX(TeilnNr)/2-1)+MAX(TeilnNr)-1),IF(CQ47-(CP47-1)>=1,CQ47-(CP47-1),CQ47-(CP47-1)+MAX(TeilnNr)-1)))","v":2},{"$f":"IF(AND(CQ47=1,MOD(CP47,2)<>0),MAX(TeilnNr),IF(MOD(CQ47,2)<>0,IF(MAX(TeilnNr)/2-CQ47+1-(CP47-MAX(TeilnNr)/2-1)>=1,MAX(TeilnNr)/2-CQ47+1-(CP47-MAX(TeilnNr)/2-1),MAX(TeilnNr)/2-CQ47+1-(CP47-MAX(TeilnNr)/2-1)+MAX(TeilnNr)-1),IF(CQ47-(CP47-1)>=1,CQ47-(CP47-1),CQ47-(CP47-1)+MAX(TeilnNr)-1)))","v":12},{"$f":"IF(LEFT(CO47,1)=\"V\",\"\",LEFT(CO47,1))","v":""},{"$f":"IF(RIGHT(CO47,1)=\"V\",\"\",RIGHT(CO47,1))","v":""},{"$f":"ADDRESS(ROW(Teilnehmer)+CR47,COLUMN(Teilnehmer)+CS47)","v":"$O$26"},{"$f":"ADDRESS(ROW(Teilnehmer)+CS47,COLUMN(Teilnehmer)+CR47)","v":"$E$36"},null,null,null,null,null,null,null,null,null,null,null,null,null,null,{"$f":"CJ47","v":1},"Spieler 02","-",{"$f":"CM47","v":"Spieler 12"}]
[null,null,null,null,null,null,null,null,null,null,null,null,null,null,null,null,null,null,null,null,null,null,null,null,null,null,null,null,null,null,null,null,null,null,null,null,null,null,null,null,null,null,null,null,null,null,null,null,null,null,null,null,null,null,null,null,null,null,null,null,null,null,null,null,null,null,null,null,null,null,null,null,null,null,null,null,null,null,null,null,null,null,null,null,null,null,null,{"$f":"CJ47+1","v":2},"Spieler 01","-","Spieler 03",null,null,{"$f":"CP47","v":11},{"$f":"CQ47+1","v":2},1,3,"","","$F$25","$D$27",null,null,null,null,null,null,null,null,null,null,null,null,null,null,{"$f":"CJ48","v":2},{"$f":"CM48","v":"Spieler 03"},"-",{"$f":"CK48","v":"Spieler 01"}]
[null,null,null,null,null,null,null,null,null,null,null,null,null,null,null,null,null,null,null,null,null,null,null,null,null,null,null,null,null,null,null,null,null,null,null,null,null,null,null,null,null,null,null,null,null,null,null,null,null,null,null,null,null,null,null,null,null,null,null,null,null,null,null,null,null,null,null,null,null,null,null,null,null,null,null,null,null,null,null,null,null,null,null,null,null,null,null,{"$f":"CJ48+1","v":3},"Spieler 04","-","Spieler 11",null,null,{"$f":"CP48","v":11},{"$f":"CQ48+1","v":3},4,11,"","","$N$28","$G$35",null,null,null,null,null,null,null,null,null,null,null,null,null,null,3,"Spieler 04","-",{"$f":"CM49","v":"Spieler 11"}]
[null,null,null,null,null,null,null,null,null,null,null,null,null,null,null,null,null,null,null,null,null,null,null,null,null,null,null,null,null,null,null,null,null,null,null,null,null,null,null,null,null,null,null,null,null,null,null,null,null,null,null,null,null,null,null,null,null,null,null,null,null,null,null,null,null,null,null,null,null,null,null,null,null,null,null,null,null,null,null,null,null,null,null,null,null,null,null,4,"Spieler 10","-","Spieler 05",null,null,{"$f":"CP49","v":11},4,10,5,"","","$H$34","$M$29",null,null,null,null,null,null,null,null,null,null,null,null,null,null,4,{"$f":"CM50","v":"Spieler 05"},"-",{"$f":"CK50","v":"Spieler 10"}]
[null,null,null,null,null,null,null,null,null,null,null,null,null,null,null,null,null,null,null,null,null,null,null,null,null,null,null,null,null,null,null,null,null,null,null,null,null,null,null,null,null,null,null,null,null,null,null,null,null,null,null,null,null,null,null,null,null,null,null,null,null,null,null,null,null,null,null,null,null,null,null,null,null,null,null,null,null,null,null,null,null,null,null,null,null,null,null,5,"Spieler 06","-","Spieler 09",null,null,{"$f":"CP50","v":11},5,6,9,"","","$L$30","$I$33",null,null,null,null,null,null,null,null,null,null,null,null,null,null,5,"Spieler 06","-",{"$f":"CM51","v":"Spieler 09"}]
[null,null,null,null,null,null,null,null,null,null,null,null,null,null,null,null,null,null,null,null,null,null,null,null,null,null,null,null,null,null,null,null,null,null,null,null,null,null,null,null,null,null,null,null,null,null,null,null,null,null,null,null,null,null,null,null,null,null,null,null,null,null,null,null,null,null,null,null,null,null,null,null,null,null,null,null,null,null,null,null,null,null,null,null,null,null,null,6,"Spieler 08","-","Spieler 07",null,null,{"$f":"CP51","v":11},6,8,7,"","","$J$32","$K$31",null,null,null,null,null,null,null,null,null,null,null,null,null,null,6,{"$f":"CM52","v":"Spieler 07"},"-",{"$f":"CK52","v":"Spieler 08"}]

{"sheet":"10","index":8,"n_rows":39,"n_cols":118,"rows_kept":39,"cut":false,"hidden":false,"merged":[[33,84,33,86],[0,1,0,19],[1,98,1,100],[3,84,3,100],[5,84,5,86],[5,98,5,100],[12,84,12,86],[12,98,12,100],[19,84,19,86],[19,98,19,100],[20,17,20,18],[26,84,26,86],[26,98,26,100]]}
[null,"Turniername",null,null,null,null,null,null,null,null,null,null,null,null,null,null,null,null,null,null,null,null,null,null,null,null,null,null,null,null,null,null,null,null,null,1,"1) Punkte 2) So-Be 3) Manuelle Feinwertung ",null,null,null,null,null,null,null,null,null,null,null,null,null,null,null,null,null,null,null,null,null,null,null,null,null,null,null,null,"Wiederholung Kriterien:",null,null,null,null,null,null,null,null,null,null,null,null,null,null,null,null,{"$f":"\"Paarungsliste und Resultate \"&IF(Turnier=\"\",\"\",Turnier)","v":"Paarungsliste und Resultate Turniername"},null,null,null,null,null,null,null,null,null,null,null,null,null,null,null,null,null,null,null,null,null,null,null,null,null,null,null,"Paarungsliste Darstellung Rutschsystem",null,null,null,null,null,{"$f":"IF(Datum=\"\",\"\",\"Datum:\")","v":""}]
[null,null,null,null,null,null,null,null,null,null,null,null,null,null,null,null,null,null,null,null,null,null,null,null,null,null,null,null,null,null,null,null,"a","b","P",2,"1) Punkte 2) So-Be 3) direkte Begegnung 4) Manuelle Feinwertung ",null,null,null,null,null,null,null,null,null,null,null,null,null,null,null,null,null,null,null,null,null,null,null,null,null,null,null,1,{"$f":"AK1","v":"1) Punkte 2) So-Be 3) Manuelle Feinwertung "},null,null,null,null,null,null,null,null,null,null,null,null,null,null,null,null,{"$f":"IF(Turnier=\"\",\"\",\"Turniername:\")","v":"Turniername:"},null,{"$f":"IF(Turnier=\"\",\"\",Turnier)","v":"Turniername"},null,null,null,null,null,null,null,null,null,null,null,null,"Datum:",null,null,null,null,null,null,null,null,null,null,null,null,{"$f":"IF(Turnier=\"\",\"\",\"Turniername:\")","v":"Turniername:"},null,{"$f":"IF(Turnier=\"\",\"\",Turnier)&IF(Datum=\"\",\"\",\", \"&TEXT(Datum,\"TT.MM.JJJJ\"))","v":"Turniername"}]
[null,null,null,null,null,null,null,null,null,null,null,null,null,null,null,null,null,null,null,null,null,null,null,null,null,null,null,null,null,null,null,null,"1","0",1,3,"1) Punkte 2) Anz. Partien 3) So-Be 4) Manuelle Feinwertung "]
[null,"Rangliste",null,null,null,null,null,null,null,null,null,null,null,null,null,null,null,null,null,null,null,null,null,null,null,null,null,null,null,null,null,null,"0","1",0,4,"1) Punkte 2) Anz. Partien 3) So-Be 4) direkte Begegnung 5) Manuelle Feinwertung ",null,null,null,null,null,null,null,null,null,null,null,null,null,null,null,null,null,null,null,null,null,null,null,null,null,null,null,2,{"$f":"AK2","v":"1) Punkte 2) So-Be 3) direkte Begegnung 4) Manuelle Feinwertung "},null,null,null,null,null,null,null,null,null,null,null,null,null,null,null,null,"Turnierleitung:",null,null,null,null,null,null,null,null,null,null,null,null,null,null,null,null,null,null,null,null,null,null,null,null,null,null,null,{"$f":"IF(Turnierleitung=\"\",\"\",\"Turnierleitung:\")","v":""},null,{"$f":"IF(Turnierleitung=\"\",\"\",Turnierleitung)","v":""}]
[null,null,null,null,null,null,null,null,null,null,null,null,null,null,null,null,null,null,null,null,null,null,null,null,null,null,null,null,null,null,null,null,"½","½",0.5,5,"1) Punkte 2) Anz. Partien 3) So-Be 4) direkte Begegnung 5) Anz.Schwarzpartien 6) Manuelle Feinwertung ",null,null,null,null,null,null,null,null,null,null,null,null,null,null,null,null,null,null,null,null,null,null,null,null,null,null,null,3,"1) Punkte 2) Anz. Partien 3) So-Be 4) Manuelle Feinwertung "]
[null,"Rang","Teilnehmer",1,2,3,4,5,6,7,8,9,10,"Punkte","Spiele","So-Be",{"$f":"IF(Q22=\"\",\"FWm\",Q22)","v":"FW+"},1,"½",0,"Nr",null,null,null,null,null,null,null,null,null,null,null,"+","-",1,6,"1) Punkte 2) Anz. Partien 3) So-Be 4) Anz.Schwarzpartien 5) direkte Begegnung 6) Manuelle Feinwertung ",null,null,null,null,null,null,null,null,null,null,null,null,null,null,null,null,null,null,null,null,null,null,null,null,null,null,null,4,"1) Punkte 2) Anz. Partien 3) So-Be 4) direkte Begegnung 5) Manuelle Feinwertung ",null,null,null,null,null,null,null,null,null,null,null,null,null,null,null,null,1,null,null,null,null,"R","B","SpNr w","SpNr s","Res w","Res s","AdrTTw","AdrTTs",null,{"$f":"CE6+1","v":2},null,null,null,null,"R","B","SpNr w","SpNr s","Res w","Res s","AdrTTw","AdrTTs",null,{"$f":"CE6","v":1},1,null,null,null,{"$f":"CS6","v":2}]
[null,{"$f":"IF(INDEX($BY$23:$BY$32,MATCH(B23,$CC$23:$CC$32,0)),\"--\",IF(INDEX($BX$23:$BX$32,MATCH(B23,$CC$23:$CC$32,0))<ROW()-ROW($B$6),\"\",INDEX($BX$23:$BX$32,MATCH(B23,$CC$23:$CC$32,0))))","v":1},{"$f":"IF(INDEX($C$23:$C$32,MATCH(B23,$CC$23:$CC$32,0))=0,\"Spieler \"&TEXT(U7,\"00\"),INDEX($C$23:$C$32,MATCH(B23,$CC$23:$CC$32,0)))","v":"Spieler 01"},{"$f":"IF(INDEX($B$22:$M$32,MATCH($U7,$B$22:$B$32,0),MATCH(INDEX($B$23:$B$32,MATCH(OFFSET($U$6,D$6,0),$B$23:$B$32,0)),$B$22:$M$22,0))=\"\",\"\",INDEX($B$22:$M$32,MATCH($U7,$B$22:$B$32,0),MATCH(INDEX($B$23:$B$32,MATCH(OFFSET($U$6,D$6,0),$B$23:$B$32,0)),$B$22:$M$22,0)))","v":""},"","","","","","","","","",{"$f":"INDEX($AF$23:$AF$32,MATCH(U7,$B$23:$B$32,0))","v":0},{"$f":"INDEX($O$23:$O$32,MATCH(U7,$B$23:$B$32,0))","v":0},{"$f":"INDEX($P$23:$P$32,MATCH(U7,$B$23:$B$32,0))","v":0},{"$f":"INDEX($Q$23:$Q$32,MATCH(U7,$B$23:$B$32,0))","v":0},{"$f":"COUNTIF($D7:$M7,1)+COUNTIF($D7:$M7,\"+\")","v":0},{"$f":"COUNTIF($D7:$M7,\"½\")","v":0},{"$f":"COUNTIF($D7:$M7,0)+COUNTIF($D7:$M7,\"-\")","v":0},{"$f":"INDEX($B$23:$B$32,MATCH(B23,$CC$23:$CC$32,0))","v":1},null,null,null,null,null,null,null,null,null,null,null,"-","+",0,7,"1) Punkte 2) Anz. Partien 3) direkte Begegnung 4) So-Be 5) Anz.Schwarzpartien 6) Manuelle Feinwertung ",null,null,null,null,null,null,null,null,null,null,null,null,null,null,null,null,null,null,null,null,null,null,null,null,null,null,null,5,"1) Punkte 2) Anz. Partien 3) So-Be 4) direkte Begegnung 5) Anz.Schwarzpartien 6) Manuelle Feinwertung ",null,null,null,null,null,null,null,null,null,null,null,null,null,null,null,{"$f":"IF(OR(INDEX($BY$23:$BY$32,CL7),INDEX($BY$23:$BY$32,CM7)),0,1)","v":1},{"$f":"INDEX($BZ$23:$BZ$32,MATCH($CL7,TeilnNr,0))","v":"Spieler 01"},"-",{"$f":"INDEX($BZ$23:$BZ$32,MATCH($CM7,TeilnNr,0))","v":"Spieler 10"},null,null,{"$f":"CE6","v":1},1,{"$f":"IF(AND(CK7=1,MOD(CJ7,2)=0),MAX(TeilnNr),IF(MOD(CK7,2)=0,IF(MAX(TeilnNr)/2-CK7+1-(CJ7-MAX(TeilnNr)/2-1)>=1,MAX(TeilnNr)/2-CK7+1-(CJ7-MAX(TeilnNr)/2-1),MAX(TeilnNr)/2-CK7+1-(CJ7-MAX(TeilnNr)/2-1)+MAX(TeilnNr)-1),IF(CK7-(CJ7-1)>=1,CK7-(CJ7-1),CK7-(CJ7-1)+MAX(TeilnNr)-1)))","v":1},{"$f":"IF(AND(CK7=1,MOD(CJ7,2)<>0),MAX(TeilnNr),IF(MOD(CK7,2)<>0,IF(MAX(TeilnNr)/2-CK7+1-(CJ7-MAX(TeilnNr)/2-1)>=1,MAX(TeilnNr)/2-CK7+1-(CJ7-MAX(TeilnNr)/2-1),MAX(TeilnNr)/2-CK7+1-(CJ7-MAX(TeilnNr)/2-1)+MAX(TeilnNr)-1),IF(CK7-(CJ7-1)>=1,CK7-(CJ7-1),CK7-(CJ7-1)+MAX(TeilnNr)-1)))","v":10},{"$f":"IF(LEFT(CI7,1)=\"V\",\"\",LEFT(CI7,1))","v":""},{"$f":"IF(RIGHT(CI7,1)=\"V\",\"\",RIGHT(CI7,1))","v":""},{"$f":"ADDRESS(ROW(Teilnehmer)+CL7,COLUMN(Teilnehmer)+CM7)","v":"$M$23"},{"$f":"ADDRESS(ROW(Teilnehmer)+CM7,COLUMN(Teilnehmer)+CL7)","v":"$D$32"},{"$f":"IF(OR(INDEX($BY$23:$BY$32,CZ7),INDEX($BY$23:$BY$32,DA7)),0,1)","v":1},{"$f":"INDEX($BZ$23:$BZ$32,MATCH($CZ7,TeilnNr,0))","v":"Spieler 10"},"-",{"$f":"INDEX($BZ$23:$BZ$32,MATCH($DA7,TeilnNr,0))","v":"Spieler 09"},null,null,{"$f":"CS6","v":2},1,{"$f":"IF(AND(CY7=1,MOD(CX7,2)=0),MAX(TeilnNr),IF(MOD(CY7,2)=0,IF(MAX(TeilnNr)/2-CY7+1-(CX7-MAX(TeilnNr)/2-1)>=1,MAX(TeilnNr)/2-CY7+1-(CX7-MAX(TeilnNr)/2-1),MAX(TeilnNr)/2-CY7+1-(CX7-MAX(TeilnNr)/2-1)+MAX(TeilnNr)-1),IF(CY7-(CX7-1)>=1,CY7-(CX7-1),CY7-(CX7-1)+MAX(TeilnNr)-1)))","v":10},{"$f":"IF(AND(CY7=1,MOD(CX7,2)<>0),MAX(TeilnNr),IF(MOD(CY7,2)<>0,IF(MAX(TeilnNr)/2-CY7+1-(CX7-MAX(TeilnNr)/2-1)>=1,MAX(TeilnNr)/2-CY7+1-(CX7-MAX(TeilnNr)/2-1),MAX(TeilnNr)/2-CY7+1-(CX7-MAX(TeilnNr)/2-1)+MAX(TeilnNr)-1),IF(CY7-(CX7-1)>=1,CY7-(CX7-1),CY7-(CX7-1)+MAX(TeilnNr)-1)))","v":9},{"$f":"IF(LEFT(CW7,1)=\"V\",\"\",LEFT(CW7,1))","v":""},{"$f":"IF(RIGHT(CW7,1)=\"V\",\"\",RIGHT(CW7,1))","v":""},{"$f":"ADDRESS(ROW(Teilnehmer)+CZ7,COLUMN(Teilnehmer)+DA7)","v":"$L$32"},{"$f":"ADDRESS(ROW(Teilnehmer)+DA7,COLUMN(Teilnehmer)+CZ7)","v":"$M$31"},{"$f":"CD7","v":1},{"$f":"CE7","v":"Spieler 01"},"-",{"$f":"CG7","v":"Spieler 10"},null,{"$f":"CR7","v":1},{"$f":"CU7","v":"Spieler 09"},"-",{"$f":"CS7","v":"Spieler 10"}]
[null,"","Spieler 02","","","","","","","","","","",0,0,0,0,0,0,0,2,null,null,null,null,null,null,null,null,null,null,null,null,null,null,8,"1) Punkte 2) Anz. Partien 3) direkte Begegnung 4) Anz.Schwarzpartien 5) So-Be 6) Manuelle Feinwertung ",null,null,null,null,null,null,null,null,null,null,null,null,null,null,null,null,null,null,null,null,null,null,null,null,null,null,null,6,"1) Punkte 2) Anz. Partien 3) So-Be 4) Anz.Schwarzpartien 5) direkte Begegnung 6) Manuelle Feinwertung ",null,null,null,null,null,null,null,null,null,null,null,null,null,null,null,{"$f":"CD7+1","v":2},{"$f":"INDEX($BZ$23:$BZ$32,MATCH($CL8,TeilnNr,0))","v":"Spieler 09"},"-",{"$f":"INDEX($BZ$23:$BZ$32,MATCH($CM8,TeilnNr,0))","v":"Spieler 02"},null,null,{"$f":"CJ7","v":1},{"$f":"CK7+1","v":2},9,2,{"$f":"IF(LEFT(CI8,1)=\"V\",\"\",LEFT(CI8,1))","v":""},{"$f":"IF(RIGHT(CI8,1)=\"V\",\"\",RIGHT(CI8,1))","v":""},"$E$31","$L$24",{"$f":"CR7+1","v":2},{"$f":"INDEX($BZ$23:$BZ$32,MATCH($CZ8,TeilnNr,0))","v":"Spieler 08"},"-",{"$f":"INDEX($BZ$23:$BZ$32,MATCH($DA8,TeilnNr,0))","v":"Spieler 01"},null,null,{"$f":"CX7","v":2},{"$f":"CY7+1","v":2},8,1,{"$f":"IF(LEFT(CW8,1)=\"V\",\"\",LEFT(CW8,1))","v":""},{"$f":"IF(RIGHT(CW8,1)=\"V\",\"\",RIGHT(CW8,1))","v":""},"$D$30","$K$23",{"$f":"CD8","v":2},{"$f":"CG8","v":"Spieler 02"},"-",{"$f":"CE8","v":"Spieler 09"},null,{"$f":"CR8","v":2},{"$f":"CU8","v":"Spieler 01"},"-",{"$f":"CS8","v":"Spieler 08"}]
[null,"","Spieler 03","","","","","","","","","","",0,0,0,0,0,0,0,3,null,null,null,null,null,null,null,null,null,null,null,null,null,null,9,"1) Punkte 2) Anz. Partien 3) Anz.Schwarzpartien 4) So-Be 5) direkte Begegnung 6) Manuelle Feinwertung ",null,null,null,null,null,null,null,null,null,null,null,null,null,null,null,null,null,null,null,null,null,null,null,null,null,null,null,7,"1) Punkte 2) Anz. Partien 3) direkte Begegnung 4) So-Be 5) Anz.Schwarzpartien 6) Manuelle Feinwertung ",null,null,null,null,null,null,null,null,null,null,null,null,null,null,null,{"$f":"CD8+1","v":3},{"$f":"INDEX($BZ$23:$BZ$32,MATCH($CL9,TeilnNr,0))","v":"Spieler 03"},"-",{"$f":"INDEX($BZ$23:$BZ$32,MATCH($CM9,TeilnNr,0))","v":"Spieler 08"},null,null,{"$f":"CJ8","v":1},{"$f":"CK8+1","v":3},3,8,{"$f":"IF(LEFT(CI9,1)=\"V\",\"\",LEFT(CI9,1))","v":""},{"$f":"IF(RIGHT(CI9,1)=\"V\",\"\",RIGHT(CI9,1))","v":""},"$K$25","$F$30",{"$f":"CR8+1","v":3},{"$f":"INDEX($BZ$23:$BZ$32,MATCH($CZ9,TeilnNr,0))","v":"Spieler 02"},"-",{"$f":"INDEX($BZ$23:$BZ$32,MATCH($DA9,TeilnNr,0))","v":"Spieler 07"},null,null,{"$f":"CX8","v":2},{"$f":"CY8+1","v":3},2,7,{"$f":"IF(LEFT(CW9,1)=\"V\",\"\",LEFT(CW9,1))","v":""},{"$f":"IF(RIGHT(CW9,1)=\"V\",\"\",RIGHT(CW9,1))","v":""},"$J$24","$E$29",{"$f":"CD9","v":3},{"$f":"CE9","v":"Spieler 03"},"-",{"$f":"CG9","v":"Spieler 08"},null,{"$f":"CR9","v":3},{"$f":"CS9","v":"Spieler 02"},"-",{"$f":"CU9","v":"Spieler 07"}]
[null,"","Spieler 04","","","","","","","","","","",0,0,0,0,0,0,0,4,null,null,null,null,null,null,null,null,null,null,null,null,null,4,10,"1) Punkte 2) Anz. Partien 3) Anz.Schwarzpartien 4) direkte Begegnung 5) So-Be 6) Manuelle Feinwertung ",null,null,null,null,null,null,null,null,null,null,null,null,null,null,null,null,null,null,null,null,null,null,null,null,null,null,null,8,"1) Punkte 2) Anz. Partien 3) direkte Begegnung 4) Anz.Schwarzpartien 5) So-Be 6) Manuelle Feinwertung ",null,null,null,null,null,null,null,null,null,null,null,null,null,null,null,4,{"$f":"INDEX($BZ$23:$BZ$32,MATCH($CL10,TeilnNr,0))","v":"Spieler 07"},"-",{"$f":"INDEX($BZ$23:$BZ$32,MATCH($CM10,TeilnNr,0))","v":"Spieler 04"},null,null,{"$f":"CJ9","v":1},4,7,4,{"$f":"IF(LEFT(CI10,1)=\"V\",\"\",LEFT(CI10,1))","v":""},{"$f":"IF(RIGHT(CI10,1)=\"V\",\"\",RIGHT(CI10,1))","v":""},"$G$29","$J$26",4,{"$f":"INDEX($BZ$23:$BZ$32,MATCH($CZ10,TeilnNr,0))","v":"Spieler 06"},"-",{"$f":"INDEX($BZ$23:$BZ$32,MATCH($DA10,TeilnNr,0))","v":"Spieler 03"},null,null,{"$f":"CX9","v":2},4,6,3,{"$f":"IF(LEFT(CW10,1)=\"V\",\"\",LEFT(CW10,1))","v":""},{"$f":"IF(RIGHT(CW10,1)=\"V\",\"\",RIGHT(CW10,1))","v":""},"$F$28","$I$25",{"$f":"CD10","v":4},{"$f":"CG10","v":"Spieler 04"},"-",{"$f":"CE10","v":"Spieler 07"},null,{"$f":"CR10","v":4},{"$f":"CU10","v":"Spieler 03"},"-",{"$f":"CS10","v":"Spieler 06"}]
[null,"","Spieler 05","","","","","","","","","","",0,0,0,0,0,0,0,5,null,null,null,null,null,null,null,null,null,null,null,null,null,null,null,null,null,null,null,null,null,null,null,null,null,null,null,null,null,null,null,null,null,null,null,null,null,null,null,null,null,null,null,9,"1) Punkte 2) Anz. Partien 3) Anz.Schwarzpartien 4) So-Be 5) direkte Begegnung 6) Manuelle Feinwertung ",null,null,null,null,null,null,null,null,null,null,null,null,null,null,null,5,{"$f":"INDEX($BZ$23:$BZ$32,MATCH($CL11,TeilnNr,0))","v":"Spieler 05"},"-",{"$f":"INDEX($BZ$23:$BZ$32,MATCH($CM11,TeilnNr,0))","v":"Spieler 06"},null,null,1,5,5,6,{"$f":"IF(LEFT(CI11,1)=\"V\",\"\",LEFT(CI11,1))","v":""},{"$f":"IF(RIGHT(CI11,1)=\"V\",\"\",RIGHT(CI11,1))","v":""},"$I$27","$H$28",5,{"$f":"INDEX($BZ$23:$BZ$32,MATCH($CZ11,TeilnNr,0))","v":"Spieler 04"},"-",{"$f":"INDEX($BZ$23:$BZ$32,MATCH($DA11,TeilnNr,0))","v":"Spieler 05"},null,null,2,5,4,5,{"$f":"IF(LEFT(CW11,1)=\"V\",\"\",LEFT(CW11,1))","v":""},{"$f":"IF(RIGHT(CW11,1)=\"V\",\"\",RIGHT(CW11,1))","v":""},"$H$26","$G$27",5,"Spieler 05","-",{"$f":"CG11","v":"Spieler 06"},null,5,"Spieler 04","-",{"$f":"CU11","v":"Spieler 05"}]
[null,"","Spieler 06","","","","","","","","","","",0,0,0,0,0,0,0,6,null,null,null,null,null,null,null,null,null,null,null,null,null,null,null,null,null,null,null,null,null,null,null,null,null,null,null,null,null,null,null,null,null,null,null,null,null,null,null,null,null,null,null,10,"1) Punkte 2) Anz. Partien 3) Anz.Schwarzpartien 4) direkte Begegnung 5) So-Be 6) Manuelle Feinwertung "]
[null,"","Spieler 07","","","","","","","","","","",0,0,0,0,0,0,0,7,null,null,null,null,null,null,null,null,null,null,null,null,null,null,null,null,null,null,null,null,null,null,null,null,null,null,null,null,null,null,null,null,null,null,null,null,null,null,null,null,null,null,null,null,null,null,null,null,null,null,null,null,null,null,null,null,null,null,null,null,null,{"$f":"CE6+2","v":3},null,null,null,null,"R","B","SpNr w","SpNr s","Res w","Res s",null,null,null,{"$f":"CS6+2","v":4},null,null,null,null,"R","B","SpNr w","SpNr s","Res w","Res s",null,null,null,{"$f":"CE13","v":3},1,null,null,null,{"$f":"CS13","v":4}]
[null,"","Spieler 08","","","","","","","","","","",0,0,0,0,0,0,0,8,null,null,null,null,null,null,null,null,null,null,null,null,null,null,null,null,null,null,null,null,null,null,null,null,null,null,null,null,null,null,null,null,null,null,null,null,null,null,null,null,null,null,null,null,null,null,null,null,null,null,null,null,null,null,null,null,null,null,null,null,{"$f":"IF(OR(INDEX($BY$23:$BY$32,CL14),INDEX($BY$23:$BY$32,CM14)),0,1)","v":1},{"$f":"INDEX($BZ$23:$BZ$32,MATCH($CL14,TeilnNr,0))","v":"Spieler 08"},"-",{"$f":"INDEX($BZ$23:$BZ$32,MATCH($CM14,TeilnNr,0))","v":"Spieler 10"},null,null,{"$f":"CE13","v":3},1,{"$f":"IF(AND(CK14=1,MOD(CJ14,2)=0),MAX(TeilnNr),IF(MOD(CK14,2)=0,IF(MAX(TeilnNr)/2-CK14+1-(CJ14-MAX(TeilnNr)/2-1)>=1,MAX(TeilnNr)/2-CK14+1-(CJ14-MAX(TeilnNr)/2-1),MAX(TeilnNr)/2-CK14+1-(CJ14-MAX(TeilnNr)/2-1)+MAX(TeilnNr)-1),IF(CK14-(CJ14-1)>=1,CK14-(CJ14-1),CK14-(CJ14-1)+MAX(TeilnNr)-1)))","v":8},{"$f":"IF(AND(CK14=1,MOD(CJ14,2)<>0),MAX(TeilnNr),IF(MOD(CK14,2)<>0,IF(MAX(TeilnNr)/2-CK14+1-(CJ14-MAX(TeilnNr)/2-1)>=1,MAX(TeilnNr)/2-CK14+1-(CJ14-MAX(TeilnNr)/2-1),MAX(TeilnNr)/2-CK14+1-(CJ14-MAX(TeilnNr)/2-1)+MAX(TeilnNr)-1),IF(CK14-(CJ14-1)>=1,CK14-(CJ14-1),CK14-(CJ14-1)+MAX(TeilnNr)-1)))","v":10},{"$f":"IF(LEFT(CI14,1)=\"V\",\"\",LEFT(CI14,1))","v":""},{"$f":"IF(RIGHT(CI14,1)=\"V\",\"\",RIGHT(CI14,1))","v":""},{"$f":"ADDRESS(ROW(Teilnehmer)+CL14,COLUMN(Teilnehmer)+CM14)","v":"$M$30"},{"$f":"ADDRESS(ROW(Teilnehmer)+CM14,COLUMN(Teilnehmer)+CL14)","v":"$K$32"},{"$f":"IF(OR(INDEX($BY$23:$BY$32,CZ14),INDEX($BY$23:$BY$32,DA14)),0,1)","v":1},{"$f":"INDEX($BZ$23:$BZ$32,MATCH($CZ14,TeilnNr,0))","v":"Spieler 10"},"-",{"$f":"INDEX($BZ$23:$BZ$32,MATCH($DA14,TeilnNr,0))","v":"Spieler 07"},null,null,{"$f":"CS13","v":4},1,{"$f":"IF(AND(CY14=1,MOD(CX14,2)=0),MAX(TeilnNr),IF(MOD(CY14,2)=0,IF(MAX(TeilnNr)/2-CY14+1-(CX14-MAX(TeilnNr)/2-1)>=1,MAX(TeilnNr)/2-CY14+1-(CX14-MAX(TeilnNr)/2-1),MAX(TeilnNr)/2-CY14+1-(CX14-MAX(TeilnNr)/2-1)+MAX(TeilnNr)-1),IF(CY14-(CX14-1)>=1,CY14-(CX14-1),CY14-(CX14-1)+MAX(TeilnNr)-1)))","v":10},{"$f":"IF(AND(CY14=1,MOD(CX14,2)<>0),MAX(TeilnNr),IF(MOD(CY14,2)<>0,IF(MAX(TeilnNr)/2-CY14+1-(CX14-MAX(TeilnNr)/2-1)>=1,MAX(TeilnNr)/2-CY14+1-(CX14-MAX(TeilnNr)/2-1),MAX(TeilnNr)/2-CY14+1-(CX14-MAX(TeilnNr)/2-1)+MAX(TeilnNr)-1),IF(CY14-(CX14-1)>=1,CY14-(CX14-1),CY14-(CX14-1)+MAX(TeilnNr)-1)))","v":7},{"$f":"IF(LEFT(CW14,1)=\"V\",\"\",LEFT(CW14,1))","v":""},{"$f":"IF(RIGHT(CW14,1)=\"V\",\"\",RIGHT(CW14,1))","v":""},{"$f":"ADDRESS(ROW(Teilnehmer)+CZ14,COLUMN(Teilnehmer)+DA14)","v":"$J$32"},{"$f":"ADDRESS(ROW(Teilnehmer)+DA14,COLUMN(Teilnehmer)+CZ14)","v":"$M$29"},{"$f":"CD14","v":1},"Spieler 08","-",{"$f":"CG14","v":"Spieler 10"},null,{"$f":"CR14","v":1},{"$f":"CU14","v":"Spieler 07"},"-",{"$f":"CS14","v":"Spieler 10"}]
[null,"","Spieler 09","","","","","","","","","","",0,0,0,0,0,0,0,9,null,null,null,null,null,null,null,null,null,null,null,null,null,null,null,null,null,null,null,null,null,null,null,null,null,null,null,null,null,null,null,null,null,null,null,null,null,null,null,null,null,null,null,null,null,null,null,null,null,null,null,null,null,null,null,null,null,null,null,null,{"$f":"CD14+1","v":2},{"$f":"INDEX($BZ$23:$BZ$32,MATCH($CL15,TeilnNr,0))","v":"Spieler 07"},"-",{"$f":"INDEX($BZ$23:$BZ$32,MATCH($CM15,TeilnNr,0))","v":"Spieler 09"},null,null,{"$f":"CJ14","v":3},{"$f":"CK14+1","v":2},7,9,{"$f":"IF(LEFT(CI15,1)=\"V\",\"\",LEFT(CI15,1))","v":""},{"$f":"IF(RIGHT(CI15,1)=\"V\",\"\",RIGHT(CI15,1))","v":""},"$L$29","$J$31",{"$f":"CR14+1","v":2},{"$f":"INDEX($BZ$23:$BZ$32,MATCH($CZ15,TeilnNr,0))","v":"Spieler 06"},"-",{"$f":"INDEX($BZ$23:$BZ$32,MATCH($DA15,TeilnNr,0))","v":"Spieler 08"},null,null,{"$f":"CX14","v":4},{"$f":"CY14+1","v":2},6,8,{"$f":"IF(LEFT(CW15,1)=\"V\",\"\",LEFT(CW15,1))","v":""},{"$f":"IF(RIGHT(CW15,1)=\"V\",\"\",RIGHT(CW15,1))","v":""},"$K$28","$I$30",{"$f":"CD15","v":2},{"$f":"CG15","v":"Spieler 09"},"-",{"$f":"CE15","v":"Spieler 07"},null,2,"Spieler 08","-","Spieler 06"]
[null,"","Spieler 10","","","","","","","","","","",0,0,0,0,0,0,0,10,null,null,null,null,null,null,null,null,null,null,null,null,null,null,null,null,null,null,null,null,null,null,null,null,null,null,null,null,null,null,null,null,null,null,null,null,null,null,null,null,null,null,null,null,null,null,null,null,null,null,null,null,null,null,null,null,null,null,null,null,{"$f":"CD15+1","v":3},{"$f":"INDEX($BZ$23:$BZ$32,MATCH($CL16,TeilnNr,0))","v":"Spieler 01"},"-",{"$f":"INDEX($BZ$23:$BZ$32,MATCH($CM16,TeilnNr,0))","v":"Spieler 06"},null,null,{"$f":"CJ15","v":3},{"$f":"CK15+1","v":3},1,6,{"$f":"IF(LEFT(CI16,1)=\"V\",\"\",LEFT(CI16,1))","v":""},{"$f":"IF(RIGHT(CI16,1)=\"V\",\"\",RIGHT(CI16,1))","v":""},"$I$23","$D$28",{"$f":"CR15+1","v":3},{"$f":"INDEX($BZ$23:$BZ$32,MATCH($CZ16,TeilnNr,0))","v":"Spieler 09"},"-",{"$f":"INDEX($BZ$23:$BZ$32,MATCH($DA16,TeilnNr,0))","v":"Spieler 05"},null,null,{"$f":"CX15","v":4},{"$f":"CY15+1","v":3},9,5,{"$f":"IF(LEFT(CW16,1)=\"V\",\"\",LEFT(CW16,1))","v":""},{"$f":"IF(RIGHT(CW16,1)=\"V\",\"\",RIGHT(CW16,1))","v":""},"$H$31","$L$27",3,"Spieler 01","-",{"$f":"CG16","v":"Spieler 06"},null,3,"Spieler 09","-",{"$f":"CU16","v":"Spieler 05"}]
[null,"Wertungskriterien:",null,null,null,null,null,null,null,null,null,null,null,null,null,null,null,null,null,null,null,null,null,null,null,null,null,null,null,null,null,null,null,null,null,null,null,null,null,null,null,null,null,null,null,null,null,null,null,null,null,null,null,null,null,null,null,null,null,null,null,null,null,null,null,null,null,null,null,null,null,null,null,null,null,null,null,null,null,null,null,4,{"$f":"INDEX($BZ$23:$BZ$32,MATCH($CL17,TeilnNr,0))","v":"Spieler 05"},"-",{"$f":"INDEX($BZ$23:$BZ$32,MATCH($CM17,TeilnNr,0))","v":"Spieler 02"},null,null,{"$f":"CJ16","v":3},4,5,2,{"$f":"IF(LEFT(CI17,1)=\"V\",\"\",LEFT(CI17,1))","v":""},{"$f":"IF(RIGHT(CI17,1)=\"V\",\"\",RIGHT(CI17,1))","v":""},"$E$27","$H$24",4,{"$f":"INDEX($BZ$23:$BZ$32,MATCH($CZ17,TeilnNr,0))","v":"Spieler 04"},"-",{"$f":"INDEX($BZ$23:$BZ$32,MATCH($DA17,TeilnNr,0))","v":"Spieler 01"},null,null,{"$f":"CX16","v":4},4,4,1,{"$f":"IF(LEFT(CW17,1)=\"V\",\"\",LEFT(CW17,1))","v":""},{"$f":"IF(RIGHT(CW17,1)=\"V\",\"\",RIGHT(CW17,1))","v":""},"$D$26","$G$23",4,{"$f":"CG17","v":"Spieler 02"},"-",{"$f":"CE17","v":"Spieler 05"},null,4,{"$f":"CU17","v":"Spieler 01"},"-",{"$f":"CS17","v":"Spieler 04"}]
[null,{"$f":"INDEX(Wertungskriterien,WertungskriterienA)","v":"1) Punkte 2) Anz. Partien 3) So-Be 4) direkte Begegnung 5) Manuelle Feinwertung "},null,null,null,null,null,null,null,null,null,null,null,null,null,null,null,null,null,null,null,null,null,null,null,null,null,null,null,null,null,null,null,null,null,null,null,null,null,null,null,null,null,null,null,null,null,null,null,null,null,null,null,null,null,null,null,null,null,null,null,null,null,null,null,null,null,null,null,null,null,null,null,null,null,null,null,null,null,null,null,5,{"$f":"INDEX($BZ$23:$BZ$32,MATCH($CL18,TeilnNr,0))","v":"Spieler 03"},"-",{"$f":"INDEX($BZ$23:$BZ$32,MATCH($CM18,TeilnNr,0))","v":"Spieler 04"},null,null,3,5,3,4,{"$f":"IF(LEFT(CI18,1)=\"V\",\"\",LEFT(CI18,1))","v":""},{"$f":"IF(RIGHT(CI18,1)=\"V\",\"\",RIGHT(CI18,1))","v":""},"$G$25","$F$26",5,{"$f":"INDEX($BZ$23:$BZ$32,MATCH($CZ18,TeilnNr,0))","v":"Spieler 02"},"-",{"$f":"INDEX($BZ$23:$BZ$32,MATCH($DA18,TeilnNr,0))","v":"Spieler 03"},null,null,4,5,2,3,{"$f":"IF(LEFT(CW18,1)=\"V\",\"\",LEFT(CW18,1))","v":""},{"$f":"IF(RIGHT(CW18,1)=\"V\",\"\",RIGHT(CW18,1))","v":""},"$F$24","$E$25",5,"Spieler 03","-",{"$f":"CG18","v":"Spieler 04"},null,5,"Spieler 02","-",{"$f":"CU18","v":"Spieler 03"}]
[]
[null,"+",null,null,null,null,null,null,null,null,null,null,null,null,null,null,{"$f":"IF(EinAusblenden=\"-\",\"\",IF(FWPlusMinus=\"+\",\"é\",\"ê\"))","v":"é"},null,null,null,null,null,null,null,null,null,null,null,null,null,null,null,null,null,null,null,null,null,null,null,null,null,null,null,null,null,null,null,null,null,null,null,null,null,null,null,null,null,null,null,null,null,null,null,null,null,null,null,null,null,null,null,null,null,null,null,null,null,null,null,null,null,{"$f":"CE13+2","v":5},null,null,null,null,"R","B","SpNr w","SpNr s","Res w","Res s",null,null,null,{"$f":"CS13+2","v":6},null,null,null,null,"R","B","SpNr w","SpNr s","Res w","Res s",null,null,null,{"$f":"CE20","v":5},1,null,null,null,{"$f":"CS20","v":6}]
[null,"Turniertabelle",null,null,null,null,null,null,null,null,null,null,null,null,null,"manuelle Feinwertung: ","+","Partien",null,null,null,"Punkte",null,null,null,null,null,null,null,null,null,null,null,"Sonneborn-Berger-Berechnung",null,null,null,null,null,null,null,null,null,null,null,{"$f":"MAX(AT23:AT32)","v":0},null,null,null,null,{"$f":"FWPlusMinus=\"+\"","v":true},"Summierung Wertungskriterien vor direkter Begegnung",null,null,null,null,null,null,null,null,null,null,null,null,"Summierung Wertungskriterien nach direkter Begegnung",null,null,null,null,null,null,null,null,null,null,null,null,null,null,null,null,{"$f":"IF(OR(INDEX($BY$23:$BY$32,CL21),INDEX($BY$23:$BY$32,CM21)),0,1)","v":1},{"$f":"INDEX($BZ$23:$BZ$32,MATCH($CL21,TeilnNr,0))","v":"Spieler 06"},"-",{"$f":"INDEX($BZ$23:$BZ$32,MATCH($CM21,TeilnNr,0))","v":"Spieler 10"},null,null,{"$f":"CE20","v":5},1,{"$f":"IF(AND(CK21=1,MOD(CJ21,2)=0),MAX(TeilnNr),IF(MOD(CK21,2)=0,IF(MAX(TeilnNr)/2-CK21+1-(CJ21-MAX(TeilnNr)/2-1)>=1,MAX(TeilnNr)/2-CK21+1-(CJ21-MAX(TeilnNr)/2-1),MAX(TeilnNr)/2-CK21+1-(CJ21-MAX(TeilnNr)/2-1)+MAX(TeilnNr)-1),IF(CK21-(CJ21-1)>=1,CK21-(CJ21-1),CK21-(CJ21-1)+MAX(TeilnNr)-1)))","v":6},{"$f":"IF(AND(CK21=1,MOD(CJ21,2)<>0),MAX(TeilnNr),IF(MOD(CK21,2)<>0,IF(MAX(TeilnNr)/2-CK21+1-(CJ21-MAX(TeilnNr)/2-1)>=1,MAX(TeilnNr)/2-CK21+1-(CJ21-MAX(TeilnNr)/2-1),MAX(TeilnNr)/2-CK21+1-(CJ21-MAX(TeilnNr)/2-1)+MAX(TeilnNr)-1),IF(CK21-(CJ21-1)>=1,CK21-(CJ21-1),CK21-(CJ21-1)+MAX(TeilnNr)-1)))","v":10},{"$f":"IF(LEFT(CI21,1)=\"V\",\"\",LEFT(CI21,1))","v":""},{"$f":"IF(RIGHT(CI21,1)=\"V\",\"\",RIGHT(CI21,1))","v":""},{"$f":"ADDRESS(ROW(Teilnehmer)+CL21,COLUMN(Teilnehmer)+CM21)","v":"$M$28"},{"$f":"ADDRESS(ROW(Teilnehmer)+CM21,COLUMN(Teilnehmer)+CL21)","v":"$I$32"},{"$f":"IF(OR(INDEX($BY$23:$BY$32,CZ21),INDEX($BY$23:$BY$32,DA21)),0,1)","v":1},{"$f":"INDEX($BZ$23:$BZ$32,MATCH($CZ21,TeilnNr,0))","v":"Spieler 10"},"-",{"$f":"INDEX($BZ$23:$BZ$32,MATCH($DA21,TeilnNr,0))","v":"Spieler 05"},null,null,{"$f":"CS20","v":6},1,{"$f":"IF(AND(CY21=1,MOD(CX21,2)=0),MAX(TeilnNr),IF(MOD(CY21,2)=0,IF(MAX(TeilnNr)/2-CY21+1-(CX21-MAX(TeilnNr)/2-1)>=1,MAX(TeilnNr)/2-CY21+1-(CX21-MAX(TeilnNr)/2-1),MAX(TeilnNr)/2-CY21+1-(CX21-MAX(TeilnNr)/2-1)+MAX(TeilnNr)-1),IF(CY21-(CX21-1)>=1,CY21-(CX21-1),CY21-(CX21-1)+MAX(TeilnNr)-1)))","v":10},{"$f":"IF(AND(CY21=1,MOD(CX21,2)<>0),MAX(TeilnNr),IF(MOD(CY21,2)<>0,IF(MAX(TeilnNr)/2-CY21+1-(CX21-MAX(TeilnNr)/2-1)>=1,MAX(TeilnNr)/2-CY21+1-(CX21-MAX(TeilnNr)/2-1),MAX(TeilnNr)/2-CY21+1-(CX21-MAX(TeilnNr)/2-1)+MAX(TeilnNr)-1),IF(CY21-(CX21-1)>=1,CY21-(CX21-1),CY21-(CX21-1)+MAX(TeilnNr)-1)))","v":5},{"$f":"IF(LEFT(CW21,1)=\"V\",\"\",LEFT(CW21,1))","v":""},{"$f":"IF(RIGHT(CW21,1)=\"V\",\"\",RIGHT(CW21,1))","v":""},{"$f":"ADDRESS(ROW(Teilnehmer)+CZ21,COLUMN(Teilnehmer)+DA21)","v":"$H$32"},{"$f":"ADDRESS(ROW(Teilnehmer)+DA21,COLUMN(Teilnehmer)+CZ21)","v":"$M$27"},{"$f":"CD21","v":1},"Spieler 06","-",{"$f":"CG21","v":"Spieler 10"},null,{"$f":"CR21","v":1},{"$f":"CU21","v":"Spieler 05"},"-",{"$f":"CS21","v":"Spieler 10"}]
[null,"Nr.","Teilnehmer",1,2,3,4,5,6,7,8,9,10,"Punkte","Spiele","So-Be","FW+","weiss","schw.","Rang",null,1,2,3,4,5,6,7,8,9,10,"P",null,1,2,3,4,5,6,7,8,9,10,"So-Be",null,{"$f":"IF(Q22=\"\",\"FW2\",Q22)","v":"FW+"},"Rang\nPunkte","Rang\nPartien","Rang\nSo-Be","Rang\nschwrz","Rang\nFW?","Wertung 1","Wertung 2","Wertung 3","Wertung 4","Wertung 5","Wertung 6","Wertung 7","Wertung 8","Wertung 9","Wertung 10","Wertung","direkte Begegnung","Rang\ndir.Begegn.","Wertung 1","Wertung 2","Wertung 3","Wertung 4","Wertung 5","Wertung 6","Wertung 7","Wertung 8","Wertung 9","Wertung 10","Wertung2","Rang","Platz-halter?","Name","Alphabet","Rang & Alphabet","Reihen-folge",{"$f":"CD21+1","v":2},{"$f":"INDEX($BZ$23:$BZ$32,MATCH($CL22,TeilnNr,0))","v":"Spieler 05"},"-",{"$f":"INDEX($BZ$23:$BZ$32,MATCH($CM22,TeilnNr,0))","v":"Spieler 07"},null,null,{"$f":"CJ21","v":5},{"$f":"CK21+1","v":2},5,7,{"$f":"IF(LEFT(CI22,1)=\"V\",\"\",LEFT(CI22,1))","v":""},{"$f":"IF(RIGHT(CI22,1)=\"V\",\"\",RIGHT(CI22,1))","v":""},{"$f":"ADDRESS(ROW(Teilnehmer)+CL22,COLUMN(Teilnehmer)+CM22)","v":"$J$27"},{"$f":"ADDRESS(ROW(Teilnehmer)+CM22,COLUMN(Teilnehmer)+CL22)","v":"$H$29"},{"$f":"CR21+1","v":2},{"$f":"INDEX($BZ$23:$BZ$32,MATCH($CZ22,TeilnNr,0))","v":"Spieler 04"},"-",{"$f":"INDEX($BZ$23:$BZ$32,MATCH($DA22,TeilnNr,0))","v":"Spieler 06"},null,null,{"$f":"CX21","v":6},{"$f":"CY21+1","v":2},4,6,{"$f":"IF(LEFT(CW22,1)=\"V\",\"\",LEFT(CW22,1))","v":""},{"$f":"IF(RIGHT(CW22,1)=\"V\",\"\",RIGHT(CW22,1))","v":""},{"$f":"ADDRESS(ROW(Teilnehmer)+CZ22,COLUMN(Teilnehmer)+DA22)","v":"$I$26"},{"$f":"ADDRESS(ROW(Teilnehmer)+DA22,COLUMN(Teilnehmer)+CZ22)","v":"$G$28"},{"$f":"CD22","v":2},{"$f":"CG22","v":"Spieler 07"},"-",{"$f":"CE22","v":"Spieler 05"},null,2,"Spieler 06","-","Spieler 04"]
[null,1,null,{"$f":"IF(ISNA(MATCH(ADDRESS(ROW(),COLUMN()),$CP:$CP,0)),\"\",INDEX($CN:$CN,MATCH(ADDRESS(ROW(),COLUMN()),$CP:$CP,0)))&IF(ISNA(MATCH(ADDRESS(ROW(),COLUMN()),$CQ:$CQ,0)),\"\",INDEX($CO:$CO,MATCH(ADDRESS(ROW(),COLUMN()),$CQ:$CQ,0)))&IF(ISNA(MATCH(ADDRESS(ROW(),COLUMN()),$DD:$DD,0)),\"\",INDEX($DB:$DB,MATCH(ADDRESS(ROW(),COLUMN()),$DD:$DD,0)))&IF(ISNA(MATCH(ADDRESS(ROW(),COLUMN()),$DE:$DE,0)),\"\",INDEX($DC:$DC,MATCH(ADDRESS(ROW(),COLUMN()),$DE:$DE,0)))","v":""},"","","","","","","","","",{"$f":"AF23","v":0},{"$f":"MAX($B$23:$B$32)-COUNTIF(D23:M23,\"\")","v":0},{"$f":"AR23","v":0},null,{"$f":"IF($BY23,0,COUNTIFS($CL:$CL,$B23,$CI:$CI,\"<>\")+COUNTIFS($CZ:$CZ,$B23,$CW:$CW,\"<>\"))","v":0},{"$f":"IF($BY23,0,COUNTIFS($CM:$CM,$B23,$CI:$CI,\"<>\")+COUNTIFS($DA:$DA,$B23,$CW:$CW,\"<>\"))","v":0},{"$f":"BX23","v":1},null,{"$f":"IF(D23=\"\",0,VLOOKUP(D23,Wertung,3,FALSE))","v":0},{"$f":"IF(E23=\"\",0,VLOOKUP(E23,Wertung,3,FALSE))","v":0},{"$f":"IF(F23=\"\",0,VLOOKUP(F23,Wertung,3,FALSE))","v":0},{"$f":"IF(G23=\"\",0,VLOOKUP(G23,Wertung,3,FALSE))","v":0},{"$f":"IF(H23=\"\",0,VLOOKUP(H23,Wertung,3,FALSE))","v":0},{"$f":"IF(I23=\"\",0,VLOOKUP(I23,Wertung,3,FALSE))","v":0},{"$f":"IF(J23=\"\",0,VLOOKUP(J23,Wertung,3,FALSE))","v":0},{"$f":"IF(K23=\"\",0,VLOOKUP(K23,Wertung,3,FALSE))","v":0},{"$f":"IF(L23=\"\",0,VLOOKUP(L23,Wertung,3,FALSE))","v":0},{"$f":"IF(M23=\"\",0,VLOOKUP(M23,Wertung,3,FALSE))","v":0},{"$f":"SUM(V23:AE23)","v":0},null,{"$f":"V23*INDEX($AF:$AF,ROW($AH$22)+V$22)","v":0},{"$f":"W23*INDEX($AF:$AF,ROW($AH$22)+W$22)","v":0},{"$f":"X23*INDEX($AF:$AF,ROW($AH$22)+X$22)","v":0},{"$f":"Y23*INDEX($AF:$AF,ROW($AH$22)+Y$22)","v":0},{"$f":"Z23*INDEX($AF:$AF,ROW($AH$22)+Z$22)","v":0},{"$f":"AA23*INDEX($AF:$AF,ROW($AH$22)+AA$22)","v":0},{"$f":"AB23*INDEX($AF:$AF,ROW($AH$22)+AB$22)","v":0},{"$f":"AC23*INDEX($AF:$AF,ROW($AH$22)+AC$22)","v":0},{"$f":"AD23*INDEX($AF:$AF,ROW($AH$22)+AD$22)","v":0},{"$f":"AE23*INDEX($AF:$AF,ROW($AH$22)+AE$22)","v":0},{"$f":"SUM(AH23:AQ23)","v":0},null,{"$f":"Q23","v":0},{"$f":"RANK($AF23,$AF$23:$AF$32,0)","v":1},{"$f":"RANK($O23,$O$23:$O$32,1)","v":1},{"$f":"RANK($AR23,$AR$23:$AR$32,0)","v":1},{"$f":"RANK($S23,$S$23:$S$32,0)","v":1},{"$f":"RANK($AT23,$AT$23:$AT$32,IF($AY$21,0,1))","v":1},{"$f":"VALUE(CONCATENATE(IF($BY23,\"1\",\"0\"),TEXT($AU23,\"00\"),TEXT($AW23,\"00\"),TEXT($AY23,\"00\")))","v":10101},{"$f":"VALUE(CONCATENATE(IF($BY23,\"1\",\"0\"),TEXT($AU23,\"00\"),TEXT($AW23,\"00\")))","v":101},{"$f":"VALUE(CONCATENATE(IF($BY23,\"1\",\"0\"),TEXT($AU23,\"00\"),TEXT($AV23,\"00\"),TEXT($AW23,\"00\"),TEXT($AY23,\"00\")))","v":1010101},{"$f":"VALUE(CONCATENATE(IF($BY23,\"1\",\"0\"),TEXT($AU23,\"00\"),TEXT($AV23,\"00\"),TEXT($AW23,\"00\")))","v":10101},{"$f":"VALUE(CONCATENATE(IF($BY23,\"1\",\"0\"),TEXT($AU23,\"00\"),TEXT($AV23,\"00\"),TEXT($AW23,\"00\")))","v":10101},{"$f":"VALUE(CONCATENATE(IF($BY23,\"1\",\"0\"),TEXT($AU23,\"00\"),TEXT($AV23,\"00\"),TEXT($AW23,\"00\"),TEXT($AX23,\"00\")))","v":1010101},{"$f":"VALUE(CONCATENATE(IF($BY23,\"1\",\"0\"),TEXT($AU23,\"00\"),TEXT($AV23,\"00\")))","v":101},{"$f":"VALUE(CONCATENATE(IF($BY23,\"1\",\"0\"),TEXT($AU23,\"00\"),TEXT($AV23,\"00\")))","v":101},{"$f":"VALUE(CONCATENATE(IF($BY23,\"1\",\"0\"),TEXT($AU23,\"00\"),TEXT($AV23,\"00\"),TEXT($AX23,\"00\"),TEXT($AW23,\"00\")))","v":1010101},{"$f":"VALUE(CONCATENATE(IF($BY23,\"1\",\"0\"),TEXT($AU23,\"00\"),TEXT($AV23,\"00\"),TEXT($AX23,\"00\")))","v":10101},{"$f":"INDEX($AZ23:$BI23,1,WertungskriterienA)","v":10101},{"$f":"SUM((TRANSPOSE($BJ$23:$BJ$32)=BJ23)*$V23:$AE23)","v":0},{"$f":"RANK($BK23,$BK$23:$BK$32,0)","v":1},{"$f":"$BJ23","v":10101},{"$f":"VALUE(CONCATENATE($BJ23,TEXT($BL23,\"00\"),TEXT($AY23,\"00\")))","v":101010101},{"$f":"$BJ23","v":10101},{"$f":"VALUE(CONCATENATE($BJ23,TEXT($BL23,\"00\"),TEXT($AY23,\"00\")))","v":101010101},{"$f":"VALUE(CONCATENATE($BJ23,TEXT($BL23,\"00\"),TEXT($AX23,\"00\"),TEXT($AY23,\"00\")))","v":10101010101},{"$f":"VALUE(CONCATENATE($BJ23,TEXT($BL23,\"00\"),TEXT($AY23,\"00\")))","v":101010101},{"$f":"VALUE(CONCATENATE($BJ23,TEXT($BL23,\"00\"),TEXT($AW23,\"00\"),TEXT($AX23,\"00\"),TEXT($AY23,\"00\")))","v":1010101010101},{"$f":"VALUE(CONCATENATE($BJ23,TEXT($BL23,\"00\"),TEXT($AX23,\"00\"),TEXT($AW23,\"00\"),TEXT($AY23,\"00\")))","v":1010101010101},{"$f":"VALUE(CONCATENATE($BJ23,TEXT($BL23,\"00\"),TEXT($AY23,\"00\")))","v":101010101},{"$f":"VALUE(CONCATENATE($BJ23,TEXT($BL23,\"00\"),TEXT($AW23,\"00\"),TEXT($AY23,\"00\")))","v":10101010101},{"$f":"INDEX(BM23:BV23,1,WertungskriterienA)","v":101010101},{"$f":"RANK(BW23,$BW$23:$BW$32,1)","v":1},{"$f":"IF($C23=\"\",FALSE,AND(LEN($C23)=1,OR(CODE($C23)<65,CODE($C23)>122,AND(CODE($C23)>90,CODE($C23)<97)),NOT(AND(CODE($C23)>48,CODE($C23)<58))))","v":false},{"$f":"IF(BY23,$C23,IF($C23=\"\",\"Spieler \"&TEXT($B23,\"00\"),$C23))","v":"Spieler 01"},{"$f":"IF(BY23,MAX(TeilnNr),0)+SUMPRODUCT((BZ23>$BZ$23:$BZ$32)*1)","v":0},{"$f":"BX23+CA23/1000+B23/1000000","v":1.0000009999999999},{"$f":"RANK(CB23,$CB$23:$CB$32,1)","v":1},{"$f":"CD22+1","v":3},{"$f":"INDEX($BZ$23:$BZ$32,MATCH($CL23,TeilnNr,0))","v":"Spieler 08"},"-",{"$f":"INDEX($BZ$23:$BZ$32,MATCH($CM23,TeilnNr,0))","v":"Spieler 04"},null,null,{"$f":"CJ22","v":5},{"$f":"CK22+1","v":3},{"$f":"IF(AND(CK23=1,MOD(CJ23,2)=0),MAX(TeilnNr),IF(MOD(CK23,2)=0,IF(MAX(TeilnNr)/2-CK23+1-(CJ23-MAX(TeilnNr)/2-1)>=1,MAX(TeilnNr)/2-CK23+1-(CJ23-MAX(TeilnNr)/2-1),MAX(TeilnNr)/2-CK23+1-(CJ23-MAX(TeilnNr)/2-1)+MAX(TeilnNr)-1),IF(CK23-(CJ23-1)>=1,CK23-(CJ23-1),CK23-(CJ23-1)+MAX(TeilnNr)-1)))","v":8},{"$f":"IF(AND(CK23=1,MOD(CJ23,2)<>0),MAX(TeilnNr),IF(MOD(CK23,2)<>0,IF(MAX(TeilnNr)/2-CK23+1-(CJ23-MAX(TeilnNr)/2-1)>=1,MAX(TeilnNr)/2-CK23+1-(CJ23-MAX(TeilnNr)/2-1),MAX(TeilnNr)/2-CK23+1-(CJ23-MAX(TeilnNr)/2-1)+MAX(TeilnNr)-1),IF(CK23-(CJ23-1)>=1,CK23-(CJ23-1),CK23-(CJ23-1)+MAX(TeilnNr)-1)))","v":4},{"$f":"IF(LEFT(CI23,1)=\"V\",\"\",LEFT(CI23,1))","v":""},{"$f":"IF(RIGHT(CI23,1)=\"V\",\"\",RIGHT(CI23,1))","v":""},{"$f":"ADDRESS(ROW(Teilnehmer)+CL23,COLUMN(Teilnehmer)+CM23)","v":"$G$30"},{"$f":"ADDRESS(ROW(Teilnehmer)+CM23,COLUMN(Teilnehmer)+CL23)","v":"$K$26"},{"$f":"CR22+1","v":3},{"$f":"INDEX($BZ$23:$BZ$32,MATCH($CZ23,TeilnNr,0))","v":"Spieler 07"},"-",{"$f":"INDEX($BZ$23:$BZ$32,MATCH($DA23,TeilnNr,0))","v":"Spieler 03"},null,null,{"$f":"CX22","v":6},{"$f":"CY22+1","v":3},{"$f":"IF(AND(CY23=1,MOD(CX23,2)=0),MAX(TeilnNr),IF(MOD(CY23,2)=0,IF(MAX(TeilnNr)/2-CY23+1-(CX23-MAX(TeilnNr)/2-1)>=1,MAX(TeilnNr)/2-CY23+1-(CX23-MAX(TeilnNr)/2-1),MAX(TeilnNr)/2-CY23+1-(CX23-MAX(TeilnNr)/2-1)+MAX(TeilnNr)-1),IF(CY23-(CX23-1)>=1,CY23-(CX23-1),CY23-(CX23-1)+MAX(TeilnNr)-1)))","v":7},{"$f":"IF(AND(CY23=1,MOD(CX23,2)<>0),MAX(TeilnNr),IF(MOD(CY23,2)<>0,IF(MAX(TeilnNr)/2-CY23+1-(CX23-MAX(TeilnNr)/2-1)>=1,MAX(TeilnNr)/2-CY23+1-(CX23-MAX(TeilnNr)/2-1),MAX(TeilnNr)/2-CY23+1-(CX23-MAX(TeilnNr)/2-1)+MAX(TeilnNr)-1),IF(CY23-(CX23-1)>=1,CY23-(CX23-1),CY23-(CX23-1)+MAX(TeilnNr)-1)))","v":3},{"$f":"IF(LEFT(CW23,1)=\"V\",\"\",LEFT(CW23,1))","v":""},{"$f":"IF(RIGHT(CW23,1)=\"V\",\"\",RIGHT(CW23,1))","v":""},{"$f":"ADDRESS(ROW(Teilnehmer)+CZ23,COLUMN(Teilnehmer)+DA23)","v":"$F$29"},{"$f":"ADDRESS(ROW(Teilnehmer)+DA23,COLUMN(Teilnehmer)+CZ23)","v":"$J$25"},3,"Spieler 08","-",{"$f":"CG23","v":"Spieler 04"},null,3,"Spieler 07","-",{"$f":"CU23","v":"Spieler 03"}]
[null,2,null,"","","","","","","","","","",{"$f":"AF24","v":0},0,0,null,0,0,1,null,0,0,0,0,0,0,0,0,0,0,0,null,0,0,0,0,0,0,0,0,0,0,0,null,0,1,1,1,1,1,{"$f":"VALUE(CONCATENATE(IF($BY24,\"1\",\"0\"),TEXT($AU24,\"00\"),TEXT($AW24,\"00\"),TEXT($AY24,\"00\")))","v":10101},{"$f":"VALUE(CONCATENATE(IF($BY24,\"1\",\"0\"),TEXT($AU24,\"00\"),TEXT($AW24,\"00\")))","v":101},{"$f":"VALUE(CONCATENATE(IF($BY24,\"1\",\"0\"),TEXT($AU24,\"00\"),TEXT($AV24,\"00\"),TEXT($AW24,\"00\"),TEXT($AY24,\"00\")))","v":1010101},{"$f":"VALUE(CONCATENATE(IF($BY24,\"1\",\"0\"),TEXT($AU24,\"00\"),TEXT($AV24,\"00\"),TEXT($AW24,\"00\")))","v":10101},10101,{"$f":"VALUE(CONCATENATE(IF($BY24,\"1\",\"0\"),TEXT($AU24,\"00\"),TEXT($AV24,\"00\"),TEXT($AW24,\"00\"),TEXT($AX24,\"00\")))","v":1010101},{"$f":"VALUE(CONCATENATE(IF($BY24,\"1\",\"0\"),TEXT($AU24,\"00\"),TEXT($AV24,\"00\")))","v":101},101,{"$f":"VALUE(CONCATENATE(IF($BY24,\"1\",\"0\"),TEXT($AU24,\"00\"),TEXT($AV24,\"00\"),TEXT($AX24,\"00\"),TEXT($AW24,\"00\")))","v":1010101},{"$f":"VALUE(CONCATENATE(IF($BY24,\"1\",\"0\"),TEXT($AU24,\"00\"),TEXT($AV24,\"00\"),TEXT($AX24,\"00\")))","v":10101},{"$f":"INDEX($AZ24:$BI24,1,WertungskriterienA)","v":10101},{"$f":"SUM((TRANSPOSE($BJ$23:$BJ$32)=BJ24)*$V24:$AE24)","v":0},1,{"$f":"$BJ24","v":10101},{"$f":"VALUE(CONCATENATE($BJ24,TEXT($BL24,\"00\"),TEXT($AY24,\"00\")))","v":101010101},{"$f":"$BJ24","v":10101},{"$f":"VALUE(CONCATENATE($BJ24,TEXT($BL24,\"00\"),TEXT($AY24,\"00\")))","v":101010101},{"$f":"VALUE(CONCATENATE($BJ24,TEXT($BL24,\"00\"),TEXT($AX24,\"00\"),TEXT($AY24,\"00\")))","v":10101010101},{"$f":"VALUE(CONCATENATE($BJ24,TEXT($BL24,\"00\"),TEXT($AY24,\"00\")))","v":101010101},{"$f":"VALUE(CONCATENATE($BJ24,TEXT($BL24,\"00\"),TEXT($AW24,\"00\"),TEXT($AX24,\"00\"),TEXT($AY24,\"00\")))","v":1010101010101},{"$f":"VALUE(CONCATENATE($BJ24,TEXT($BL24,\"00\"),TEXT($AX24,\"00\"),TEXT($AW24,\"00\"),TEXT($AY24,\"00\")))","v":1010101010101},{"$f":"VALUE(CONCATENATE($BJ24,TEXT($BL24,\"00\"),TEXT($AY24,\"00\")))","v":101010101},{"$f":"VALUE(CONCATENATE($BJ24,TEXT($BL24,\"00\"),TEXT($AW24,\"00\"),TEXT($AY24,\"00\")))","v":10101010101},{"$f":"INDEX(BM24:BV24,1,WertungskriterienA)","v":101010101},1,{"$f":"IF($C24=\"\",FALSE,AND(LEN($C24)=1,OR(CODE($C24)<65,CODE($C24)>122,AND(CODE($C24)>90,CODE($C24)<97)),NOT(AND(CODE($C24)>48,CODE($C24)<58))))","v":false},"Spieler 02",1,1.0010019999999999,2,4,{"$f":"INDEX($BZ$23:$BZ$32,MATCH($CL24,TeilnNr,0))","v":"Spieler 03"},"-",{"$f":"INDEX($BZ$23:$BZ$32,MATCH($CM24,TeilnNr,0))","v":"Spieler 09"},null,null,{"$f":"CJ23","v":5},4,{"$f":"IF(AND(CK24=1,MOD(CJ24,2)=0),MAX(TeilnNr),IF(MOD(CK24,2)=0,IF(MAX(TeilnNr)/2-CK24+1-(CJ24-MAX(TeilnNr)/2-1)>=1,MAX(TeilnNr)/2-CK24+1-(CJ24-MAX(TeilnNr)/2-1),MAX(TeilnNr)/2-CK24+1-(CJ24-MAX(TeilnNr)/2-1)+MAX(TeilnNr)-1),IF(CK24-(CJ24-1)>=1,CK24-(CJ24-1),CK24-(CJ24-1)+MAX(TeilnNr)-1)))","v":3},{"$f":"IF(AND(CK24=1,MOD(CJ24,2)<>0),MAX(TeilnNr),IF(MOD(CK24,2)<>0,IF(MAX(TeilnNr)/2-CK24+1-(CJ24-MAX(TeilnNr)/2-1)>=1,MAX(TeilnNr)/2-CK24+1-(CJ24-MAX(TeilnNr)/2-1),MAX(TeilnNr)/2-CK24+1-(CJ24-MAX(TeilnNr)/2-1)+MAX(TeilnNr)-1),IF(CK24-(CJ24-1)>=1,CK24-(CJ24-1),CK24-(CJ24-1)+MAX(TeilnNr)-1)))","v":9},{"$f":"IF(LEFT(CI24,1)=\"V\",\"\",LEFT(CI24,1))","v":""},{"$f":"IF(RIGHT(CI24,1)=\"V\",\"\",RIGHT(CI24,1))","v":""},{"$f":"ADDRESS(ROW(Teilnehmer)+CL24,COLUMN(Teilnehmer)+CM24)","v":"$L$25"},{"$f":"ADDRESS(ROW(Teilnehmer)+CM24,COLUMN(Teilnehmer)+CL24)","v":"$F$31"},4,{"$f":"INDEX($BZ$23:$BZ$32,MATCH($CZ24,TeilnNr,0))","v":"Spieler 02"},"-",{"$f":"INDEX($BZ$23:$BZ$32,MATCH($DA24,TeilnNr,0))","v":"Spieler 08"},null,null,{"$f":"CX23","v":6},4,{"$f":"IF(AND(CY24=1,MOD(CX24,2)=0),MAX(TeilnNr),IF(MOD(CY24,2)=0,IF(MAX(TeilnNr)/2-CY24+1-(CX24-MAX(TeilnNr)/2-1)>=1,MAX(TeilnNr)/2-CY24+1-(CX24-MAX(TeilnNr)/2-1),MAX(TeilnNr)/2-CY24+1-(CX24-MAX(TeilnNr)/2-1)+MAX(TeilnNr)-1),IF(CY24-(CX24-1)>=1,CY24-(CX24-1),CY24-(CX24-1)+MAX(TeilnNr)-1)))","v":2},{"$f":"IF(AND(CY24=1,MOD(CX24,2)<>0),MAX(TeilnNr),IF(MOD(CY24,2)<>0,IF(MAX(TeilnNr)/2-CY24+1-(CX24-MAX(TeilnNr)/2-1)>=1,MAX(TeilnNr)/2-CY24+1-(CX24-MAX(TeilnNr)/2-1),MAX(TeilnNr)/2-CY24+1-(CX24-MAX(TeilnNr)/2-1)+MAX(TeilnNr)-1),IF(CY24-(CX24-1)>=1,CY24-(CX24-1),CY24-(CX24-1)+MAX(TeilnNr)-1)))","v":8},{"$f":"IF(LEFT(CW24,1)=\"V\",\"\",LEFT(CW24,1))","v":""},{"$f":"IF(RIGHT(CW24,1)=\"V\",\"\",RIGHT(CW24,1))","v":""},{"$f":"ADDRESS(ROW(Teilnehmer)+CZ24,COLUMN(Teilnehmer)+DA24)","v":"$K$24"},{"$f":"ADDRESS(ROW(Teilnehmer)+DA24,COLUMN(Teilnehmer)+CZ24)","v":"$E$30"},4,{"$f":"CG24","v":"Spieler 09"},"-",{"$f":"CE24","v":"Spieler 03"},null,4,{"$f":"CU24","v":"Spieler 08"},"-",{"$f":"CS24","v":"Spieler 02"}]
[null,3,null,"","","","","","","","","","",0,0,0,null,0,0,1,null,0,0,0,0,0,0,0,0,0,0,0,null,0,0,0,0,0,0,0,0,0,0,0,null,0,1,1,1,1,1,10101,101,1010101,10101,10101,1010101,101,101,1010101,10101,{"$f":"INDEX($AZ25:$BI25,1,WertungskriterienA)","v":10101},{"$f":"SUM((TRANSPOSE($BJ$23:$BJ$32)=BJ25)*$V25:$AE25)","v":0},1,10101,101010101,10101,101010101,10101010101,101010101,1010101010101,1010101010101,101010101,10101010101,{"$f":"INDEX(BM25:BV25,1,WertungskriterienA)","v":101010101},1,false,"Spieler 03",2,1.002003,3,5,{"$f":"INDEX($BZ$23:$BZ$32,MATCH($CL25,TeilnNr,0))","v":"Spieler 01"},"-",{"$f":"INDEX($BZ$23:$BZ$32,MATCH($CM25,TeilnNr,0))","v":"Spieler 02"},null,null,{"$f":"CJ24","v":5},5,{"$f":"IF(AND(CK25=1,MOD(CJ25,2)=0),MAX(TeilnNr),IF(MOD(CK25,2)=0,IF(MAX(TeilnNr)/2-CK25+1-(CJ25-MAX(TeilnNr)/2-1)>=1,MAX(TeilnNr)/2-CK25+1-(CJ25-MAX(TeilnNr)/2-1),MAX(TeilnNr)/2-CK25+1-(CJ25-MAX(TeilnNr)/2-1)+MAX(TeilnNr)-1),IF(CK25-(CJ25-1)>=1,CK25-(CJ25-1),CK25-(CJ25-1)+MAX(TeilnNr)-1)))","v":1},{"$f":"IF(AND(CK25=1,MOD(CJ25,2)<>0),MAX(TeilnNr),IF(MOD(CK25,2)<>0,IF(MAX(TeilnNr)/2-CK25+1-(CJ25-MAX(TeilnNr)/2-1)>=1,MAX(TeilnNr)/2-CK25+1-(CJ25-MAX(TeilnNr)/2-1),MAX(TeilnNr)/2-CK25+1-(CJ25-MAX(TeilnNr)/2-1)+MAX(TeilnNr)-1),IF(CK25-(CJ25-1)>=1,CK25-(CJ25-1),CK25-(CJ25-1)+MAX(TeilnNr)-1)))","v":2},{"$f":"IF(LEFT(CI25,1)=\"V\",\"\",LEFT(CI25,1))","v":""},{"$f":"IF(RIGHT(CI25,1)=\"V\",\"\",RIGHT(CI25,1))","v":""},{"$f":"ADDRESS(ROW(Teilnehmer)+CL25,COLUMN(Teilnehmer)+CM25)","v":"$E$23"},{"$f":"ADDRESS(ROW(Teilnehmer)+CM25,COLUMN(Teilnehmer)+CL25)","v":"$D$24"},5,{"$f":"INDEX($BZ$23:$BZ$32,MATCH($CZ25,TeilnNr,0))","v":"Spieler 09"},"-",{"$f":"INDEX($BZ$23:$BZ$32,MATCH($DA25,TeilnNr,0))","v":"Spieler 01"},null,null,6,5,{"$f":"IF(AND(CY25=1,MOD(CX25,2)=0),MAX(TeilnNr),IF(MOD(CY25,2)=0,IF(MAX(TeilnNr)/2-CY25+1-(CX25-MAX(TeilnNr)/2-1)>=1,MAX(TeilnNr)/2-CY25+1-(CX25-MAX(TeilnNr)/2-1),MAX(TeilnNr)/2-CY25+1-(CX25-MAX(TeilnNr)/2-1)+MAX(TeilnNr)-1),IF(CY25-(CX25-1)>=1,CY25-(CX25-1),CY25-(CX25-1)+MAX(TeilnNr)-1)))","v":9},{"$f":"IF(AND(CY25=1,MOD(CX25,2)<>0),MAX(TeilnNr),IF(MOD(CY25,2)<>0,IF(MAX(TeilnNr)/2-CY25+1-(CX25-MAX(TeilnNr)/2-1)>=1,MAX(TeilnNr)/2-CY25+1-(CX25-MAX(TeilnNr)/2-1),MAX(TeilnNr)/2-CY25+1-(CX25-MAX(TeilnNr)/2-1)+MAX(TeilnNr)-1),IF(CY25-(CX25-1)>=1,CY25-(CX25-1),CY25-(CX25-1)+MAX(TeilnNr)-1)))","v":1},{"$f":"IF(LEFT(CW25,1)=\"V\",\"\",LEFT(CW25,1))","v":""},{"$f":"IF(RIGHT(CW25,1)=\"V\",\"\",RIGHT(CW25,1))","v":""},{"$f":"ADDRESS(ROW(Teilnehmer)+CZ25,COLUMN(Teilnehmer)+DA25)","v":"$D$31"},{"$f":"ADDRESS(ROW(Teilnehmer)+DA25,COLUMN(Teilnehmer)+CZ25)","v":"$L$23"},5,"Spieler 01","-",{"$f":"CG25","v":"Spieler 02"},null,5,"Spieler 09","-",{"$f":"CU25","v":"Spieler 01"}]
[null,4,null,"","","","","","","","","","",0,0,0,null,0,0,1,null,0,0,0,0,0,0,0,0,0,0,0,null,0,0,0,0,0,0,0,0,0,0,0,null,0,1,1,1,1,1,10101,101,1010101,10101,10101,1010101,101,101,1010101,10101,{"$f":"INDEX($AZ26:$BI26,1,WertungskriterienA)","v":10101},{"$f":"SUM((TRANSPOSE($BJ$23:$BJ$32)=BJ26)*$V26:$AE26)","v":0},1,10101,101010101,10101,101010101,10101010101,101010101,1010101010101,1010101010101,101010101,10101010101,{"$f":"INDEX(BM26:BV26,1,WertungskriterienA)","v":101010101},1,false,"Spieler 04",3,1.0030039999999998,4]
[null,5,null,"","","","","","","","","","",0,0,0,null,0,0,1,null,0,0,0,0,0,0,0,0,0,0,0,null,0,0,0,0,0,0,0,0,0,0,0,null,0,1,1,1,1,1,10101,101,1010101,10101,10101,1010101,101,101,1010101,10101,{"$f":"INDEX($AZ27:$BI27,1,WertungskriterienA)","v":10101},{"$f":"SUM((TRANSPOSE($BJ$23:$BJ$32)=BJ27)*$V27:$AE27)","v":0},1,10101,101010101,10101,101010101,10101010101,101010101,1010101010101,1010101010101,101010101,10101010101,{"$f":"INDEX(BM27:BV27,1,WertungskriterienA)","v":101010101},1,false,"Spieler 05",4,1.004005,5,null,{"$f":"CE20+2","v":7},null,null,null,null,"R","B","SpNr w","SpNr s","Res w","Res s",null,null,null,{"$f":"CS20+2","v":8},null,null,null,null,"R","B","SpNr w","SpNr s","Res w","Res s",null,null,null,{"$f":"CE27","v":7},1,null,null,null,{"$f":"CS27","v":8}]
[null,6,null,"","","","","","","","","","",0,0,0,null,0,0,1,null,0,0,0,0,0,0,0,0,0,0,0,null,0,0,0,0,0,0,0,0,0,0,0,null,0,1,1,1,1,1,10101,101,1010101,10101,10101,1010101,101,101,1010101,10101,{"$f":"INDEX($AZ28:$BI28,1,WertungskriterienA)","v":10101},{"$f":"SUM((TRANSPOSE($BJ$23:$BJ$32)=BJ28)*$V28:$AE28)","v":0},1,10101,101010101,10101,101010101,10101010101,101010101,1010101010101,1010101010101,101010101,10101010101,{"$f":"INDEX(BM28:BV28,1,WertungskriterienA)","v":101010101},1,false,"Spieler 06",5,1.0050059999999998,6,{"$f":"IF(OR(INDEX($BY$23:$BY$32,CL28),INDEX($BY$23:$BY$32,CM28)),0,1)","v":1},{"$f":"INDEX($BZ$23:$BZ$32,MATCH($CL28,TeilnNr,0))","v":"Spieler 04"},"-",{"$f":"INDEX($BZ$23:$BZ$32,MATCH($CM28,TeilnNr,0))","v":"Spieler 10"},null,null,{"$f":"CE27","v":7},1,{"$f":"IF(AND(CK28=1,MOD(CJ28,2)=0),MAX(TeilnNr),IF(MOD(CK28,2)=0,IF(MAX(TeilnNr)/2-CK28+1-(CJ28-MAX(TeilnNr)/2-1)>=1,MAX(TeilnNr)/2-CK28+1-(CJ28-MAX(TeilnNr)/2-1),MAX(TeilnNr)/2-CK28+1-(CJ28-MAX(TeilnNr)/2-1)+MAX(TeilnNr)-1),IF(CK28-(CJ28-1)>=1,CK28-(CJ28-1),CK28-(CJ28-1)+MAX(TeilnNr)-1)))","v":4},{"$f":"IF(AND(CK28=1,MOD(CJ28,2)<>0),MAX(TeilnNr),IF(MOD(CK28,2)<>0,IF(MAX(TeilnNr)/2-CK28+1-(CJ28-MAX(TeilnNr)/2-1)>=1,MAX(TeilnNr)/2-CK28+1-(CJ28-MAX(TeilnNr)/2-1),MAX(TeilnNr)/2-CK28+1-(CJ28-MAX(TeilnNr)/2-1)+MAX(TeilnNr)-1),IF(CK28-(CJ28-1)>=1,CK28-(CJ28-1),CK28-(CJ28-1)+MAX(TeilnNr)-1)))","v":10},{"$f":"IF(LEFT(CI28,1)=\"V\",\"\",LEFT(CI28,1))","v":""},{"$f":"IF(RIGHT(CI28,1)=\"V\",\"\",RIGHT(CI28,1))","v":""},{"$f":"ADDRESS(ROW(Teilnehmer)+CL28,COLUMN(Teilnehmer)+CM28)","v":"$M$26"},{"$f":"ADDRESS(ROW(Teilnehmer)+CM28,COLUMN(Teilnehmer)+CL28)","v":"$G$32"},{"$f":"IF(OR(INDEX($BY$23:$BY$32,CZ28),INDEX($BY$23:$BY$32,DA28)),0,1)","v":1},{"$f":"INDEX($BZ$23:$BZ$32,MATCH($CZ28,TeilnNr,0))","v":"Spieler 10"},"-",{"$f":"INDEX($BZ$23:$BZ$32,MATCH($DA28,TeilnNr,0))","v":"Spieler 03"},null,null,{"$f":"CS27","v":8},1,{"$f":"IF(AND(CY28=1,MOD(CX28,2)=0),MAX(TeilnNr),IF(MOD(CY28,2)=0,IF(MAX(TeilnNr)/2-CY28+1-(CX28-MAX(TeilnNr)/2-1)>=1,MAX(TeilnNr)/2-CY28+1-(CX28-MAX(TeilnNr)/2-1),MAX(TeilnNr)/2-CY28+1-(CX28-MAX(TeilnNr)/2-1)+MAX(TeilnNr)-1),IF(CY28-(CX28-1)>=1,CY28-(CX28-1),CY28-(CX28-1)+MAX(TeilnNr)-1)))","v":10},{"$f":"IF(AND(CY28=1,MOD(CX28,2)<>0),MAX(TeilnNr),IF(MOD(CY28,2)<>0,IF(MAX(TeilnNr)/2-CY28+1-(CX28-MAX(TeilnNr)/2-1)>=1,MAX(TeilnNr)/2-CY28+1-(CX28-MAX(TeilnNr)/2-1),MAX(TeilnNr)/2-CY28+1-(CX28-MAX(TeilnNr)/2-1)+MAX(TeilnNr)-1),IF(CY28-(CX28-1)>=1,CY28-(CX28-1),CY28-(CX28-1)+MAX(TeilnNr)-1)))","v":3},{"$f":"IF(LEFT(CW28,1)=\"V\",\"\",LEFT(CW28,1))","v":""},{"$f":"IF(RIGHT(CW28,1)=\"V\",\"\",RIGHT(CW28,1))","v":""},{"$f":"ADDRESS(ROW(Teilnehmer)+CZ28,COLUMN(Teilnehmer)+DA28)","v":"$F$32"},{"$f":"ADDRESS(ROW(Teilnehmer)+DA28,COLUMN(Teilnehmer)+CZ28)","v":"$M$25"},{"$f":"CD28","v":1},"Spieler 04","-",{"$f":"CG28","v":"Spieler 10"},null,{"$f":"CR28","v":1},{"$f":"CU28","v":"Spieler 03"},"-",{"$f":"CS28","v":"Spieler 10"}]
[null,7,null,"","","","","","","","","","",0,0,0,null,0,0,1,null,0,0,0,0,0,0,0,0,0,0,0,null,0,0,0,0,0,0,0,0,0,0,0,null,0,1,1,1,1,1,10101,101,1010101,10101,10101,1010101,101,101,1010101,10101,{"$f":"INDEX($AZ29:$BI29,1,WertungskriterienA)","v":10101},{"$f":"SUM((TRANSPOSE($BJ$23:$BJ$32)=BJ29)*$V29:$AE29)","v":0},1,10101,101010101,10101,101010101,10101010101,101010101,1010101010101,1010101010101,101010101,10101010101,{"$f":"INDEX(BM29:BV29,1,WertungskriterienA)","v":101010101},1,false,"Spieler 07",6,1.0060070000000001,7,{"$f":"CD28+1","v":2},{"$f":"INDEX($BZ$23:$BZ$32,MATCH($CL29,TeilnNr,0))","v":"Spieler 03"},"-",{"$f":"INDEX($BZ$23:$BZ$32,MATCH($CM29,TeilnNr,0))","v":"Spieler 05"},null,null,{"$f":"CJ28","v":7},{"$f":"CK28+1","v":2},{"$f":"IF(AND(CK29=1,MOD(CJ29,2)=0),MAX(TeilnNr),IF(MOD(CK29,2)=0,IF(MAX(TeilnNr)/2-CK29+1-(CJ29-MAX(TeilnNr)/2-1)>=1,MAX(TeilnNr)/2-CK29+1-(CJ29-MAX(TeilnNr)/2-1),MAX(TeilnNr)/2-CK29+1-(CJ29-MAX(TeilnNr)/2-1)+MAX(TeilnNr)-1),IF(CK29-(CJ29-1)>=1,CK29-(CJ29-1),CK29-(CJ29-1)+MAX(TeilnNr)-1)))","v":3},{"$f":"IF(AND(CK29=1,MOD(CJ29,2)<>0),MAX(TeilnNr),IF(MOD(CK29,2)<>0,IF(MAX(TeilnNr)/2-CK29+1-(CJ29-MAX(TeilnNr)/2-1)>=1,MAX(TeilnNr)/2-CK29+1-(CJ29-MAX(TeilnNr)/2-1),MAX(TeilnNr)/2-CK29+1-(CJ29-MAX(TeilnNr)/2-1)+MAX(TeilnNr)-1),IF(CK29-(CJ29-1)>=1,CK29-(CJ29-1),CK29-(CJ29-1)+MAX(TeilnNr)-1)))","v":5},{"$f":"IF(LEFT(CI29,1)=\"V\",\"\",LEFT(CI29,1))","v":""},{"$f":"IF(RIGHT(CI29,1)=\"V\",\"\",RIGHT(CI29,1))","v":""},{"$f":"ADDRESS(ROW(Teilnehmer)+CL29,COLUMN(Teilnehmer)+CM29)","v":"$H$25"},{"$f":"ADDRESS(ROW(Teilnehmer)+CM29,COLUMN(Teilnehmer)+CL29)","v":"$F$27"},{"$f":"CR28+1","v":2},{"$f":"INDEX($BZ$23:$BZ$32,MATCH($CZ29,TeilnNr,0))","v":"Spieler 02"},"-",{"$f":"INDEX($BZ$23:$BZ$32,MATCH($DA29,TeilnNr,0))","v":"Spieler 04"},null,null,{"$f":"CX28","v":8},{"$f":"CY28+1","v":2},{"$f":"IF(AND(CY29=1,MOD(CX29,2)=0),MAX(TeilnNr),IF(MOD(CY29,2)=0,IF(MAX(TeilnNr)/2-CY29+1-(CX29-MAX(TeilnNr)/2-1)>=1,MAX(TeilnNr)/2-CY29+1-(CX29-MAX(TeilnNr)/2-1),MAX(TeilnNr)/2-CY29+1-(CX29-MAX(TeilnNr)/2-1)+MAX(TeilnNr)-1),IF(CY29-(CX29-1)>=1,CY29-(CX29-1),CY29-(CX29-1)+MAX(TeilnNr)-1)))","v":2},{"$f":"IF(AND(CY29=1,MOD(CX29,2)<>0),MAX(TeilnNr),IF(MOD(CY29,2)<>0,IF(MAX(TeilnNr)/2-CY29+1-(CX29-MAX(TeilnNr)/2-1)>=1,MAX(TeilnNr)/2-CY29+1-(CX29-MAX(TeilnNr)/2-1),MAX(TeilnNr)/2-CY29+1-(CX29-MAX(TeilnNr)/2-1)+MAX(TeilnNr)-1),IF(CY29-(CX29-1)>=1,CY29-(CX29-1),CY29-(CX29-1)+MAX(TeilnNr)-1)))","v":4},{"$f":"IF(LEFT(CW29,1)=\"V\",\"\",LEFT(CW29,1))","v":""},{"$f":"IF(RIGHT(CW29,1)=\"V\",\"\",RIGHT(CW29,1))","v":""},{"$f":"ADDRESS(ROW(Teilnehmer)+CZ29,COLUMN(Teilnehmer)+DA29)","v":"$G$24"},{"$f":"ADDRESS(ROW(Teilnehmer)+DA29,COLUMN(Teilnehmer)+CZ29)","v":"$E$26"},{"$f":"CD29","v":2},{"$f":"CG29","v":"Spieler 05"},"-",{"$f":"CE29","v":"Spieler 03"},null,2,"Spieler 04","-","Spieler 02"]
[null,8,null,"","","","","","","","","","",0,0,0,null,0,0,1,null,0,0,0,0,0,0,0,0,0,0,0,null,0,0,0,0,0,0,0,0,0,0,0,null,0,1,1,1,1,1,10101,101,1010101,10101,10101,1010101,101,101,1010101,10101,{"$f":"INDEX($AZ30:$BI30,1,WertungskriterienA)","v":10101},{"$f":"SUM((TRANSPOSE($BJ$23:$BJ$32)=BJ30)*$V30:$AE30)","v":0},1,10101,101010101,10101,101010101,10101010101,101010101,1010101010101,1010101010101,101010101,10101010101,{"$f":"INDEX(BM30:BV30,1,WertungskriterienA)","v":101010101},1,false,"Spieler 08",7,1.0070079999999999,8,{"$f":"CD29+1","v":3},{"$f":"INDEX($BZ$23:$BZ$32,MATCH($CL30,TeilnNr,0))","v":"Spieler 06"},"-",{"$f":"INDEX($BZ$23:$BZ$32,MATCH($CM30,TeilnNr,0))","v":"Spieler 02"},null,null,{"$f":"CJ29","v":7},{"$f":"CK29+1","v":3},{"$f":"IF(AND(CK30=1,MOD(CJ30,2)=0),MAX(TeilnNr),IF(MOD(CK30,2)=0,IF(MAX(TeilnNr)/2-CK30+1-(CJ30-MAX(TeilnNr)/2-1)>=1,MAX(TeilnNr)/2-CK30+1-(CJ30-MAX(TeilnNr)/2-1),MAX(TeilnNr)/2-CK30+1-(CJ30-MAX(TeilnNr)/2-1)+MAX(TeilnNr)-1),IF(CK30-(CJ30-1)>=1,CK30-(CJ30-1),CK30-(CJ30-1)+MAX(TeilnNr)-1)))","v":6},{"$f":"IF(AND(CK30=1,MOD(CJ30,2)<>0),MAX(TeilnNr),IF(MOD(CK30,2)<>0,IF(MAX(TeilnNr)/2-CK30+1-(CJ30-MAX(TeilnNr)/2-1)>=1,MAX(TeilnNr)/2-CK30+1-(CJ30-MAX(TeilnNr)/2-1),MAX(TeilnNr)/2-CK30+1-(CJ30-MAX(TeilnNr)/2-1)+MAX(TeilnNr)-1),IF(CK30-(CJ30-1)>=1,CK30-(CJ30-1),CK30-(CJ30-1)+MAX(TeilnNr)-1)))","v":2},{"$f":"IF(LEFT(CI30,1)=\"V\",\"\",LEFT(CI30,1))","v":""},{"$f":"IF(RIGHT(CI30,1)=\"V\",\"\",RIGHT(CI30,1))","v":""},{"$f":"ADDRESS(ROW(Teilnehmer)+CL30,COLUMN(Teilnehmer)+CM30)","v":"$E$28"},{"$f":"ADDRESS(ROW(Teilnehmer)+CM30,COLUMN(Teilnehmer)+CL30)","v":"$I$24"},{"$f":"CR29+1","v":3},{"$f":"INDEX($BZ$23:$BZ$32,MATCH($CZ30,TeilnNr,0))","v":"Spieler 05"},"-",{"$f":"INDEX($BZ$23:$BZ$32,MATCH($DA30,TeilnNr,0))","v":"Spieler 01"},null,null,{"$f":"CX29","v":8},{"$f":"CY29+1","v":3},{"$f":"IF(AND(CY30=1,MOD(CX30,2)=0),MAX(TeilnNr),IF(MOD(CY30,2)=0,IF(MAX(TeilnNr)/2-CY30+1-(CX30-MAX(TeilnNr)/2-1)>=1,MAX(TeilnNr)/2-CY30+1-(CX30-MAX(TeilnNr)/2-1),MAX(TeilnNr)/2-CY30+1-(CX30-MAX(TeilnNr)/2-1)+MAX(TeilnNr)-1),IF(CY30-(CX30-1)>=1,CY30-(CX30-1),CY30-(CX30-1)+MAX(TeilnNr)-1)))","v":5},{"$f":"IF(AND(CY30=1,MOD(CX30,2)<>0),MAX(TeilnNr),IF(MOD(CY30,2)<>0,IF(MAX(TeilnNr)/2-CY30+1-(CX30-MAX(TeilnNr)/2-1)>=1,MAX(TeilnNr)/2-CY30+1-(CX30-MAX(TeilnNr)/2-1),MAX(TeilnNr)/2-CY30+1-(CX30-MAX(TeilnNr)/2-1)+MAX(TeilnNr)-1),IF(CY30-(CX30-1)>=1,CY30-(CX30-1),CY30-(CX30-1)+MAX(TeilnNr)-1)))","v":1},{"$f":"IF(LEFT(CW30,1)=\"V\",\"\",LEFT(CW30,1))","v":""},{"$f":"IF(RIGHT(CW30,1)=\"V\",\"\",RIGHT(CW30,1))","v":""},{"$f":"ADDRESS(ROW(Teilnehmer)+CZ30,COLUMN(Teilnehmer)+DA30)","v":"$D$27"},{"$f":"ADDRESS(ROW(Teilnehmer)+DA30,COLUMN(Teilnehmer)+CZ30)","v":"$H$23"},3,"Spieler 06","-",{"$f":"CG30","v":"Spieler 02"},null,3,"Spieler 05","-",{"$f":"CU30","v":"Spieler 01"}]
[null,9,null,"","","","","","","","","","",0,0,0,null,0,0,1,null,0,0,0,0,0,0,0,0,0,0,0,null,0,0,0,0,0,0,0,0,0,0,0,null,0,1,1,1,1,1,10101,101,1010101,10101,10101,1010101,101,101,1010101,10101,{"$f":"INDEX($AZ31:$BI31,1,WertungskriterienA)","v":10101},{"$f":"SUM((TRANSPOSE($BJ$23:$BJ$32)=BJ31)*$V31:$AE31)","v":0},1,10101,101010101,10101,101010101,10101010101,101010101,1010101010101,1010101010101,101010101,10101010101,{"$f":"INDEX(BM31:BV31,1,WertungskriterienA)","v":101010101},1,false,"Spieler 09",8,1.0080089999999999,9,4,{"$f":"INDEX($BZ$23:$BZ$32,MATCH($CL31,TeilnNr,0))","v":"Spieler 01"},"-",{"$f":"INDEX($BZ$23:$BZ$32,MATCH($CM31,TeilnNr,0))","v":"Spieler 07"},null,null,{"$f":"CJ30","v":7},4,{"$f":"IF(AND(CK31=1,MOD(CJ31,2)=0),MAX(TeilnNr),IF(MOD(CK31,2)=0,IF(MAX(TeilnNr)/2-CK31+1-(CJ31-MAX(TeilnNr)/2-1)>=1,MAX(TeilnNr)/2-CK31+1-(CJ31-MAX(TeilnNr)/2-1),MAX(TeilnNr)/2-CK31+1-(CJ31-MAX(TeilnNr)/2-1)+MAX(TeilnNr)-1),IF(CK31-(CJ31-1)>=1,CK31-(CJ31-1),CK31-(CJ31-1)+MAX(TeilnNr)-1)))","v":1},{"$f":"IF(AND(CK31=1,MOD(CJ31,2)<>0),MAX(TeilnNr),IF(MOD(CK31,2)<>0,IF(MAX(TeilnNr)/2-CK31+1-(CJ31-MAX(TeilnNr)/2-1)>=1,MAX(TeilnNr)/2-CK31+1-(CJ31-MAX(TeilnNr)/2-1),MAX(TeilnNr)/2-CK31+1-(CJ31-MAX(TeilnNr)/2-1)+MAX(TeilnNr)-1),IF(CK31-(CJ31-1)>=1,CK31-(CJ31-1),CK31-(CJ31-1)+MAX(TeilnNr)-1)))","v":7},{"$f":"IF(LEFT(CI31,1)=\"V\",\"\",LEFT(CI31,1))","v":""},{"$f":"IF(RIGHT(CI31,1)=\"V\",\"\",RIGHT(CI31,1))","v":""},{"$f":"ADDRESS(ROW(Teilnehmer)+CL31,COLUMN(Teilnehmer)+CM31)","v":"$J$23"},{"$f":"ADDRESS(ROW(Teilnehmer)+CM31,COLUMN(Teilnehmer)+CL31)","v":"$D$29"},4,{"$f":"INDEX($BZ$23:$BZ$32,MATCH($CZ31,TeilnNr,0))","v":"Spieler 09"},"-",{"$f":"INDEX($BZ$23:$BZ$32,MATCH($DA31,TeilnNr,0))","v":"Spieler 06"},null,null,{"$f":"CX30","v":8},4,{"$f":"IF(AND(CY31=1,MOD(CX31,2)=0),MAX(TeilnNr),IF(MOD(CY31,2)=0,IF(MAX(TeilnNr)/2-CY31+1-(CX31-MAX(TeilnNr)/2-1)>=1,MAX(TeilnNr)/2-CY31+1-(CX31-MAX(TeilnNr)/2-1),MAX(TeilnNr)/2-CY31+1-(CX31-MAX(TeilnNr)/2-1)+MAX(TeilnNr)-1),IF(CY31-(CX31-1)>=1,CY31-(CX31-1),CY31-(CX31-1)+MAX(TeilnNr)-1)))","v":9},{"$f":"IF(AND(CY31=1,MOD(CX31,2)<>0),MAX(TeilnNr),IF(MOD(CY31,2)<>0,IF(MAX(TeilnNr)/2-CY31+1-(CX31-MAX(TeilnNr)/2-1)>=1,MAX(TeilnNr)/2-CY31+1-(CX31-MAX(TeilnNr)/2-1),MAX(TeilnNr)/2-CY31+1-(CX31-MAX(TeilnNr)/2-1)+MAX(TeilnNr)-1),IF(CY31-(CX31-1)>=1,CY31-(CX31-1),CY31-(CX31-1)+MAX(TeilnNr)-1)))","v":6},{"$f":"IF(LEFT(CW31,1)=\"V\",\"\",LEFT(CW31,1))","v":""},{"$f":"IF(RIGHT(CW31,1)=\"V\",\"\",RIGHT(CW31,1))","v":""},{"$f":"ADDRESS(ROW(Teilnehmer)+CZ31,COLUMN(Teilnehmer)+DA31)","v":"$I$31"},{"$f":"ADDRESS(ROW(Teilnehmer)+DA31,COLUMN(Teilnehmer)+CZ31)","v":"$L$28"},4,{"$f":"CG31","v":"Spieler 07"},"-",{"$f":"CE31","v":"Spieler 01"},null,4,{"$f":"CU31","v":"Spieler 06"},"-",{"$f":"CS31","v":"Spieler 09"}]
[null,10,null,"","","","","","","","","","",0,0,0,null,0,0,1,null,0,0,0,0,0,0,0,0,0,0,0,null,0,0,0,0,0,0,0,0,0,0,0,null,0,1,1,1,1,1,10101,101,1010101,10101,10101,1010101,101,101,1010101,10101,{"$f":"INDEX($AZ32:$BI32,1,WertungskriterienA)","v":10101},{"$f":"SUM((TRANSPOSE($BJ$23:$BJ$32)=BJ32)*$V32:$AE32)","v":0},1,10101,101010101,10101,101010101,10101010101,101010101,1010101010101,1010101010101,101010101,10101010101,{"$f":"INDEX(BM32:BV32,1,WertungskriterienA)","v":101010101},1,false,"Spieler 10",9,1.00901,10,5,{"$f":"INDEX($BZ$23:$BZ$32,MATCH($CL32,TeilnNr,0))","v":"Spieler 08"},"-",{"$f":"INDEX($BZ$23:$BZ$32,MATCH($CM32,TeilnNr,0))","v":"Spieler 09"},null,null,{"$f":"CJ31","v":7},5,{"$f":"IF(AND(CK32=1,MOD(CJ32,2)=0),MAX(TeilnNr),IF(MOD(CK32,2)=0,IF(MAX(TeilnNr)/2-CK32+1-(CJ32-MAX(TeilnNr)/2-1)>=1,MAX(TeilnNr)/2-CK32+1-(CJ32-MAX(TeilnNr)/2-1),MAX(TeilnNr)/2-CK32+1-(CJ32-MAX(TeilnNr)/2-1)+MAX(TeilnNr)-1),IF(CK32-(CJ32-1)>=1,CK32-(CJ32-1),CK32-(CJ32-1)+MAX(TeilnNr)-1)))","v":8},{"$f":"IF(AND(CK32=1,MOD(CJ32,2)<>0),MAX(TeilnNr),IF(MOD(CK32,2)<>0,IF(MAX(TeilnNr)/2-CK32+1-(CJ32-MAX(TeilnNr)/2-1)>=1,MAX(TeilnNr)/2-CK32+1-(CJ32-MAX(TeilnNr)/2-1),MAX(TeilnNr)/2-CK32+1-(CJ32-MAX(TeilnNr)/2-1)+MAX(TeilnNr)-1),IF(CK32-(CJ32-1)>=1,CK32-(CJ32-1),CK32-(CJ32-1)+MAX(TeilnNr)-1)))","v":9},{"$f":"IF(LEFT(CI32,1)=\"V\",\"\",LEFT(CI32,1))","v":""},{"$f":"IF(RIGHT(CI32,1)=\"V\",\"\",RIGHT(CI32,1))","v":""},{"$f":"ADDRESS(ROW(Teilnehmer)+CL32,COLUMN(Teilnehmer)+CM32)","v":"$L$30"},{"$f":"ADDRESS(ROW(Teilnehmer)+CM32,COLUMN(Teilnehmer)+CL32)","v":"$K$31"},5,{"$f":"INDEX($BZ$23:$BZ$32,MATCH($CZ32,TeilnNr,0))","v":"Spieler 07"},"-",{"$f":"INDEX($BZ$23:$BZ$32,MATCH($DA32,TeilnNr,0))","v":"Spieler 08"},null,null,8,5,{"$f":"IF(AND(CY32=1,MOD(CX32,2)=0),MAX(TeilnNr),IF(MOD(CY32,2)=0,IF(MAX(TeilnNr)/2-CY32+1-(CX32-MAX(TeilnNr)/2-1)>=1,MAX(TeilnNr)/2-CY32+1-(CX32-MAX(TeilnNr)/2-1),MAX(TeilnNr)/2-CY32+1-(CX32-MAX(TeilnNr)/2-1)+MAX(TeilnNr)-1),IF(CY32-(CX32-1)>=1,CY32-(CX32-1),CY32-(CX32-1)+MAX(TeilnNr)-1)))","v":7},{"$f":"IF(AND(CY32=1,MOD(CX32,2)<>0),MAX(TeilnNr),IF(MOD(CY32,2)<>0,IF(MAX(TeilnNr)/2-CY32+1-(CX32-MAX(TeilnNr)/2-1)>=1,MAX(TeilnNr)/2-CY32+1-(CX32-MAX(TeilnNr)/2-1),MAX(TeilnNr)/2-CY32+1-(CX32-MAX(TeilnNr)/2-1)+MAX(TeilnNr)-1),IF(CY32-(CX32-1)>=1,CY32-(CX32-1),CY32-(CX32-1)+MAX(TeilnNr)-1)))","v":8},{"$f":"IF(LEFT(CW32,1)=\"V\",\"\",LEFT(CW32,1))","v":""},{"$f":"IF(RIGHT(CW32,1)=\"V\",\"\",RIGHT(CW32,1))","v":""},{"$f":"ADDRESS(ROW(Teilnehmer)+CZ32,COLUMN(Teilnehmer)+DA32)","v":"$K$29"},{"$f":"ADDRESS(ROW(Teilnehmer)+DA32,COLUMN(Teilnehmer)+CZ32)","v":"$J$30"},5,"Spieler 08","-",{"$f":"CG32","v":"Spieler 09"},null,5,"Spieler 07","-",{"$f":"CU32","v":"Spieler 08"}]
[null,null,{"$f":"\"-> bei nur \"&MAX(TeilnNr)-1&\" Spielern an Pos. \"&MAX(TeilnNr)&\" einen Stern (*) eintragen\"","v":"-> bei nur 9 Spielern an Pos. 10 einen Stern (*) eintragen"},null,null,null,null,null,null,null,null,null,null,null,{"$f":"SUM(O23:O32)","v":0},null,null,{"$f":"SUM(R23:R32)","v":0},{"$f":"SUM(S23:S32)","v":0}]
[null,null,null,null,null,null,null,null,null,null,null,null,null,null,null,null,null,null,null,null,null,null,null,null,null,null,null,null,null,null,null,null,null,null,null,null,null,null,null,null,null,null,null,null,null,null,null,null,null,null,null,null,null,null,null,null,null,null,null,null,null,null,null,null,null,null,null,null,null,null,null,null,null,null,null,null,null,null,null,null,null,null,{"$f":"CE27+2","v":9},null,null,null,null,"R","B","SpNr w","SpNr s","Res w","Res s",null,null,null,null,null,null,null,null,null,null,null,null,null,null,null,null,null,{"$f":"CE34","v":9},1]
[null,null,null,null,null,null,null,null,null,null,null,null,null,null,null,null,null,null,null,null,null,null,null,null,null,null,null,null,null,null,null,null,null,null,null,null,null,null,null,null,null,null,null,null,null,null,null,null,null,null,null,null,null,null,null,null,null,null,null,null,null,null,null,null,null,null,null,null,null,null,null,null,null,null,null,null,null,null,null,null,null,{"$f":"IF(OR(INDEX($BY$23:$BY$32,CL35),INDEX($BY$23:$BY$32,CM35)),0,1)","v":1},{"$f":"INDEX($BZ$23:$BZ$32,MATCH($CL35,TeilnNr,0))","v":"Spieler 02"},"-",{"$f":"INDEX($BZ$23:$BZ$32,MATCH($CM35,TeilnNr,0))","v":"Spieler 10"},null,null,{"$f":"CE34","v":9},1,{"$f":"IF(AND(CK35=1,MOD(CJ35,2)=0),MAX(TeilnNr),IF(MOD(CK35,2)=0,IF(MAX(TeilnNr)/2-CK35+1-(CJ35-MAX(TeilnNr)/2-1)>=1,MAX(TeilnNr)/2-CK35+1-(CJ35-MAX(TeilnNr)/2-1),MAX(TeilnNr)/2-CK35+1-(CJ35-MAX(TeilnNr)/2-1)+MAX(TeilnNr)-1),IF(CK35-(CJ35-1)>=1,CK35-(CJ35-1),CK35-(CJ35-1)+MAX(TeilnNr)-1)))","v":2},{"$f":"IF(AND(CK35=1,MOD(CJ35,2)<>0),MAX(TeilnNr),IF(MOD(CK35,2)<>0,IF(MAX(TeilnNr)/2-CK35+1-(CJ35-MAX(TeilnNr)/2-1)>=1,MAX(TeilnNr)/2-CK35+1-(CJ35-MAX(TeilnNr)/2-1),MAX(TeilnNr)/2-CK35+1-(CJ35-MAX(TeilnNr)/2-1)+MAX(TeilnNr)-1),IF(CK35-(CJ35-1)>=1,CK35-(CJ35-1),CK35-(CJ35-1)+MAX(TeilnNr)-1)))","v":10},{"$f":"IF(LEFT(CI35,1)=\"V\",\"\",LEFT(CI35,1))","v":""},{"$f":"IF(RIGHT(CI35,1)=\"V\",\"\",RIGHT(CI35,1))","v":""},{"$f":"ADDRESS(ROW(Teilnehmer)+CL35,COLUMN(Teilnehmer)+CM35)","v":"$M$24"},{"$f":"ADDRESS(ROW(Teilnehmer)+CM35,COLUMN(Teilnehmer)+CL35)","v":"$E$32"},null,null,null,null,null,null,null,null,null,null,null,null,null,null,{"$f":"CD35","v":1},"Spieler 02","-",{"$f":"CG35","v":"Spieler 10"}]
[null,null,null,null,null,null,null,null,null,null,null,null,null,null,null,null,null,null,null,null,null,null,null,null,null,null,null,null,null,null,null,null,null,null,null,null,null,null,null,null,null,null,null,null,null,null,null,null,null,null,null,null,null,null,null,null,null,null,null,null,null,null,null,null,null,null,null,null,null,null,null,null,null,null,null,null,null,null,null,null,null,{"$f":"CD35+1","v":2},{"$f":"INDEX($BZ$23:$BZ$32,MATCH($CL36,TeilnNr,0))","v":"Spieler 01"},"-",{"$f":"INDEX($BZ$23:$BZ$32,MATCH($CM36,TeilnNr,0))","v":"Spieler 03"},null,null,{"$f":"CJ35","v":9},{"$f":"CK35+1","v":2},1,3,{"$f":"IF(LEFT(CI36,1)=\"V\",\"\",LEFT(CI36,1))","v":""},{"$f":"IF(RIGHT(CI36,1)=\"V\",\"\",RIGHT(CI36,1))","v":""},"$F$23","$D$25",null,null,null,null,null,null,null,null,null,null,null,null,null,null,{"$f":"CD36","v":2},{"$f":"CG36","v":"Spieler 03"},"-",{"$f":"CE36","v":"Spieler 01"}]
[null,null,null,null,null,null,null,null,null,null,null,null,null,null,null,null,null,null,null,null,null,null,null,null,null,null,null,null,null,null,null,null,null,null,null,null,null,null,null,null,null,null,null,null,null,null,null,null,null,null,null,null,null,null,null,null,null,null,null,null,null,null,null,null,null,null,null,null,null,null,null,null,null,null,null,null,null,null,null,null,null,{"$f":"CD36+1","v":3},{"$f":"INDEX($BZ$23:$BZ$32,MATCH($CL37,TeilnNr,0))","v":"Spieler 04"},"-",{"$f":"INDEX($BZ$23:$BZ$32,MATCH($CM37,TeilnNr,0))","v":"Spieler 09"},null,null,{"$f":"CJ36","v":9},{"$f":"CK36+1","v":3},4,9,{"$f":"IF(LEFT(CI37,1)=\"V\",\"\",LEFT(CI37,1))","v":""},{"$f":"IF(RIGHT(CI37,1)=\"V\",\"\",RIGHT(CI37,1))","v":""},"$L$26","$G$31",null,null,null,null,null,null,null,null,null,null,null,null,null,null,3,"Spieler 04","-",{"$f":"CG37","v":"Spieler 09"}]
[null,null,null,null,null,null,null,null,null,null,null,null,null,null,null,null,null,null,null,null,null,null,null,null,null,null,null,null,null,null,null,null,null,null,null,null,null,null,null,null,null,null,null,null,null,null,null,null,null,null,null,null,null,null,null,null,null,null,null,null,null,null,null,null,null,null,null,null,null,null,null,null,null,null,null,null,null,null,null,null,null,4,{"$f":"INDEX($BZ$23:$BZ$32,MATCH($CL38,TeilnNr,0))","v":"Spieler 08"},"-",{"$f":"INDEX($BZ$23:$BZ$32,MATCH($CM38,TeilnNr,0))","v":"Spieler 05"},null,null,{"$f":"CJ37","v":9},4,8,5,{"$f":"IF(LEFT(CI38,1)=\"V\",\"\",LEFT(CI38,1))","v":""},{"$f":"IF(RIGHT(CI38,1)=\"V\",\"\",RIGHT(CI38,1))","v":""},"$H$30","$K$27",null,null,null,null,null,null,null,null,null,null,null,null,null,null,4,{"$f":"CG38","v":"Spieler 05"},"-",{"$f":"CE38","v":"Spieler 08"}]
[null,null,null,null,null,null,null,null,null,null,null,null,null,null,null,null,null,null,null,null,null,null,null,null,null,null,null,null,null,null,null,null,null,null,null,null,null,null,null,null,null,null,null,null,null,null,null,null,null,null,null,null,null,null,null,null,null,null,null,null,null,null,null,null,null,null,null,null,null,null,null,null,null,null,null,null,null,null,null,null,null,5,{"$f":"INDEX($BZ$23:$BZ$32,MATCH($CL39,TeilnNr,0))","v":"Spieler 06"},"-",{"$f":"INDEX($BZ$23:$BZ$32,MATCH($CM39,TeilnNr,0))","v":"Spieler 07"},null,null,{"$f":"CJ38","v":9},5,6,7,{"$f":"IF(LEFT(CI39,1)=\"V\",\"\",LEFT(CI39,1))","v":""},{"$f":"IF(RIGHT(CI39,1)=\"V\",\"\",RIGHT(CI39,1))","v":""},"$J$28","$I$29",null,null,null,null,null,null,null,null,null,null,null,null,null,null,5,"Spieler 06","-",{"$f":"CG39","v":"Spieler 07"}]

{"sheet":"8","index":9,"n_rows":29,"n_cols":112,"rows_kept":29,"cut":false,"hidden":false,"merged":[[17,78,17,80],[17,92,17,94],[18,15,18,16],[23,78,23,80],[0,1,0,17],[1,92,1,94],[3,78,3,94],[5,78,5,80],[5,92,5,94],[11,78,11,80],[11,92,11,94]]}
[null,"Turniername",null,null,null,null,null,null,null,null,null,null,null,null,null,null,null,null,null,null,null,null,null,null,null,null,null,null,null,null,null,1,"1) Punkte 2) So-Be 3) Manuelle Feinwertung ",null,null,null,null,null,null,null,null,null,null,null,null,null,null,null,null,null,null,null,null,null,null,null,null,null,null,"Wiederholung Kriterien:",null,null,null,null,null,null,null,null,null,null,null,null,null,null,null,null,{"$f":"\"Paarungsliste und Resultate \"&IF(Turnier=\"\",\"\",Turnier)","v":"Paarungsliste und Resultate Turniername"},null,null,null,null,null,null,null,null,null,null,null,null,null,null,null,null,null,null,null,null,null,null,null,null,null,null,null,"Paarungsliste Darstellung Rutschsystem",null,null,null,null,null,{"$f":"IF(Datum=\"\",\"\",\"Datum:\")","v":""}]
[null,null,null,null,null,null,null,null,null,null,null,null,null,null,null,null,null,null,null,null,null,null,null,null,null,null,null,null,"a","b","P",2,"1) Punkte 2) So-Be 3) direkte Begegnung 4) Manuelle Feinwertung ",null,null,null,null,null,null,null,null,null,null,null,null,null,null,null,null,null,null,null,null,null,null,null,null,null,1,{"$f":"AG1","v":"1) Punkte 2) So-Be 3) Manuelle Feinwertung "},null,null,null,null,null,null,null,null,null,null,null,null,null,null,null,null,{"$f":"IF(Turnier=\"\",\"\",\"Turniername:\")","v":"Turniername:"},null,{"$f":"IF(Turnier=\"\",\"\",Turnier)","v":"Turniername"},null,null,null,null,null,null,null,null,null,null,null,null,"Datum:",null,null,null,null,null,null,null,null,null,null,null,null,{"$f":"IF(Turnier=\"\",\"\",\"Turniername:\")","v":"Turniername:"},null,{"$f":"IF(Turnier=\"\",\"\",Turnier)&IF(Datum=\"\",\"\",\", \"&TEXT(Datum,\"TT.MM.JJJJ\"))","v":"Turniername"}]
[null,null,null,null,null,null,null,null,null,null,null,null,null,null,null,null,null,null,null,null,null,null,null,null,null,null,null,null,"1","0",1,3,"1) Punkte 2) Anz. Partien 3) So-Be 4) Manuelle Feinwertung "]
[null,"Rangliste",null,null,null,null,null,null,null,null,null,null,null,null,null,null,null,null,null,null,null,null,null,null,null,null,null,null,"0","1",0,4,"1) Punkte 2) Anz. Partien 3) So-Be 4) direkte Begegnung 5) Manuelle Feinwertung ",null,null,null,null,null,null,null,null,null,null,null,null,null,null,null,null,null,null,null,null,null,null,null,null,null,2,{"$f":"AG2","v":"1) Punkte 2) So-Be 3) direkte Begegnung 4) Manuelle Feinwertung "},null,null,null,null,null,null,null,null,null,null,null,null,null,null,null,null,"Turnierleitung:",null,null,null,null,null,null,null,null,null,null,null,null,null,null,null,null,null,null,null,null,null,null,null,null,null,null,null,{"$f":"IF(Turnierleitung=\"\",\"\",\"Turnierleitung:\")","v":""},null,{"$f":"IF(Turnierleitung=\"\",\"\",Turnierleitung)","v":""}]
[null,null,null,null,null,null,null,null,null,null,null,null,null,null,null,null,null,null,null,null,null,null,null,null,null,null,null,null,"½","½",0.5,5,"1) Punkte 2) Anz. Partien 3) So-Be 4) direkte Begegnung 5) Anz.Schwarzpartien 6) Manuelle Feinwertung ",null,null,null,null,null,null,null,null,null,null,null,null,null,null,null,null,null,null,null,null,null,null,null,null,null,3,"1) Punkte 2) Anz. Partien 3) So-Be 4) Manuelle Feinwertung "]
[null,"Rang","Teilnehmer",1,2,3,4,5,6,7,8,"Punkte","Spiele","So-Be",{"$f":"IF(O20=\"\",\"FWm\",O20)","v":"FW+"},1,"½",0,"Nr",null,null,null,null,null,null,null,null,null,"+","-",1,6,"1) Punkte 2) Anz. Partien 3) So-Be 4) Anz.Schwarzpartien 5) direkte Begegnung 6) Manuelle Feinwertung ",null,null,null,null,null,null,null,null,null,null,null,null,null,null,null,null,null,null,null,null,null,null,null,null,null,4,"1) Punkte 2) Anz. Partien 3) So-Be 4) direkte Begegnung 5) Manuelle Feinwertung ",null,null,null,null,null,null,null,null,null,null,null,null,null,null,null,null,1,null,null,null,null,"R","B","SpNr w","SpNr s","Res w","Res s","AdrTTw","AdrTTs",null,{"$f":"BY6+1","v":2},null,null,null,null,"R","B","SpNr w","SpNr s","Res w","Res s","AdrTTw","AdrTTs",null,{"$f":"BY6","v":1},1,null,null,null,{"$f":"CM6","v":2}]
[null,{"$f":"IF(INDEX($BS$21:$BS$28,MATCH(B21,$BW$21:$BW$28,0)),\"--\",IF(INDEX($BR$21:$BR$28,MATCH(B21,$BW$21:$BW$28,0))<ROW()-ROW($B$6),\"\",INDEX($BR$21:$BR$28,MATCH(B21,$BW$21:$BW$28,0))))","v":1},{"$f":"IF(INDEX($C$21:$C$28,MATCH(B21,$BW$21:$BW$28,0))=0,\"Spieler \"&TEXT(S7,\"00\"),INDEX($C$21:$C$28,MATCH(B21,$BW$21:$BW$28,0)))","v":"Spieler 01"},{"$f":"IF(INDEX($B$20:$K$28,MATCH($S7,$B$20:$B$28,0),MATCH(INDEX($B$21:$B$28,MATCH(OFFSET($S$6,D$6,0),$B$21:$B$28,0)),$B$20:$K$20,0))=\"\",\"\",INDEX($B$20:$K$28,MATCH($S7,$B$20:$B$28,0),MATCH(INDEX($B$21:$B$28,MATCH(OFFSET($S$6,D$6,0),$B$21:$B$28,0)),$B$20:$K$20,0)))","v":""},"","","","","","","",{"$f":"INDEX($AB$21:$AB$28,MATCH(S7,$B$21:$B$28,0))","v":0},{"$f":"INDEX($M$21:$M$28,MATCH(S7,$B$21:$B$28,0))","v":0},{"$f":"INDEX($N$21:$N$28,MATCH(S7,$B$21:$B$28,0))","v":0},{"$f":"INDEX($O$21:$O$28,MATCH(S7,$B$21:$B$28,0))","v":0},{"$f":"COUNTIF($D7:$K7,1)+COUNTIF($D7:$K7,\"+\")","v":0},{"$f":"COUNTIF($D7:$K7,\"½\")","v":0},{"$f":"COUNTIF($D7:$K7,0)+COUNTIF($D7:$K7,\"-\")","v":0},{"$f":"INDEX($B$21:$B$28,MATCH(B21,$BW$21:$BW$28,0))","v":1},null,null,null,null,null,null,null,null,null,"-","+",0,7,"1) Punkte 2) Anz. Partien 3) direkte Begegnung 4) So-Be 5) Anz.Schwarzpartien 6) Manuelle Feinwertung ",null,null,null,null,null,null,null,null,null,null,null,null,null,null,null,null,null,null,null,null,null,null,null,null,null,5,"1) Punkte 2) Anz. Partien 3) So-Be 4) direkte Begegnung 5) Anz.Schwarzpartien 6) Manuelle Feinwertung ",null,null,null,null,null,null,null,null,null,null,null,null,null,null,null,{"$f":"IF(OR(INDEX($BS$21:$BS$28,CF7),INDEX($BS$21:$BS$28,CG7)),0,1)","v":1},{"$f":"INDEX($BT$21:$BT$28,MATCH($CF7,TeilnNr,0))","v":"Spieler 01"},"-",{"$f":"INDEX($BT$21:$BT$28,MATCH($CG7,TeilnNr,0))","v":"Spieler 08"},null,null,{"$f":"BY6","v":1},1,{"$f":"IF(AND(CE7=1,MOD(CD7,2)=0),MAX(TeilnNr),IF(MOD(CE7,2)=0,IF(MAX(TeilnNr)/2-CE7+1-(CD7-MAX(TeilnNr)/2-1)>=1,MAX(TeilnNr)/2-CE7+1-(CD7-MAX(TeilnNr)/2-1),MAX(TeilnNr)/2-CE7+1-(CD7-MAX(TeilnNr)/2-1)+MAX(TeilnNr)-1),IF(CE7-(CD7-1)>=1,CE7-(CD7-1),CE7-(CD7-1)+MAX(TeilnNr)-1)))","v":1},{"$f":"IF(AND(CE7=1,MOD(CD7,2)<>0),MAX(TeilnNr),IF(MOD(CE7,2)<>0,IF(MAX(TeilnNr)/2-CE7+1-(CD7-MAX(TeilnNr)/2-1)>=1,MAX(TeilnNr)/2-CE7+1-(CD7-MAX(TeilnNr)/2-1),MAX(TeilnNr)/2-CE7+1-(CD7-MAX(TeilnNr)/2-1)+MAX(TeilnNr)-1),IF(CE7-(CD7-1)>=1,CE7-(CD7-1),CE7-(CD7-1)+MAX(TeilnNr)-1)))","v":8},{"$f":"IF(LEFT(CC7,1)=\"V\",\"\",LEFT(CC7,1))","v":""},{"$f":"IF(RIGHT(CC7,1)=\"V\",\"\",RIGHT(CC7,1))","v":""},{"$f":"ADDRESS(ROW(Teilnehmer)+CF7,COLUMN(Teilnehmer)+CG7)","v":"$K$21"},{"$f":"ADDRESS(ROW(Teilnehmer)+CG7,COLUMN(Teilnehmer)+CF7)","v":"$D$28"},{"$f":"IF(OR(INDEX($BS$21:$BS$28,CT7),INDEX($BS$21:$BS$28,CU7)),0,1)","v":1},{"$f":"INDEX($BT$21:$BT$28,MATCH($CT7,TeilnNr,0))","v":"Spieler 08"},"-",{"$f":"INDEX($BT$21:$BT$28,MATCH($CU7,TeilnNr,0))","v":"Spieler 07"},null,null,{"$f":"CM6","v":2},1,{"$f":"IF(AND(CS7=1,MOD(CR7,2)=0),MAX(TeilnNr),IF(MOD(CS7,2)=0,IF(MAX(TeilnNr)/2-CS7+1-(CR7-MAX(TeilnNr)/2-1)>=1,MAX(TeilnNr)/2-CS7+1-(CR7-MAX(TeilnNr)/2-1),MAX(TeilnNr)/2-CS7+1-(CR7-MAX(TeilnNr)/2-1)+MAX(TeilnNr)-1),IF(CS7-(CR7-1)>=1,CS7-(CR7-1),CS7-(CR7-1)+MAX(TeilnNr)-1)))","v":8},{"$f":"IF(AND(CS7=1,MOD(CR7,2)<>0),MAX(TeilnNr),IF(MOD(CS7,2)<>0,IF(MAX(TeilnNr)/2-CS7+1-(CR7-MAX(TeilnNr)/2-1)>=1,MAX(TeilnNr)/2-CS7+1-(CR7-MAX(TeilnNr)/2-1),MAX(TeilnNr)/2-CS7+1-(CR7-MAX(TeilnNr)/2-1)+MAX(TeilnNr)-1),IF(CS7-(CR7-1)>=1,CS7-(CR7-1),CS7-(CR7-1)+MAX(TeilnNr)-1)))","v":7},{"$f":"IF(LEFT(CQ7,1)=\"V\",\"\",LEFT(CQ7,1))","v":""},{"$f":"IF(RIGHT(CQ7,1)=\"V\",\"\",RIGHT(CQ7,1))","v":""},{"$f":"ADDRESS(ROW(Teilnehmer)+CT7,COLUMN(Teilnehmer)+CU7)","v":"$J$28"},{"$f":"ADDRESS(ROW(Teilnehmer)+CU7,COLUMN(Teilnehmer)+CT7)","v":"$K$27"},{"$f":"BX7","v":1},{"$f":"BY7","v":"Spieler 01"},"-",{"$f":"CA7","v":"Spieler 08"},null,{"$f":"CL7","v":1},{"$f":"CO7","v":"Spieler 07"},"-",{"$f":"CM7","v":"Spieler 08"}]
[null,"","Spieler 02","","","","","","","","",0,0,0,0,0,0,0,2,null,null,null,null,null,null,null,null,null,null,null,null,8,"1) Punkte 2) Anz. Partien 3) direkte Begegnung 4) Anz.Schwarzpartien 5) So-Be 6) Manuelle Feinwertung ",null,null,null,null,null,null,null,null,null,null,null,null,null,null,null,null,null,null,null,null,null,null,null,null,null,6,"1) Punkte 2) Anz. Partien 3) So-Be 4) Anz.Schwarzpartien 5) direkte Begegnung 6) Manuelle Feinwertung ",null,null,null,null,null,null,null,null,null,null,null,null,null,null,null,{"$f":"BX7+1","v":2},{"$f":"INDEX($BT$21:$BT$28,MATCH($CF8,TeilnNr,0))","v":"Spieler 07"},"-",{"$f":"INDEX($BT$21:$BT$28,MATCH($CG8,TeilnNr,0))","v":"Spieler 02"},null,null,{"$f":"CD7","v":1},{"$f":"CE7+1","v":2},7,2,{"$f":"IF(LEFT(CC8,1)=\"V\",\"\",LEFT(CC8,1))","v":""},{"$f":"IF(RIGHT(CC8,1)=\"V\",\"\",RIGHT(CC8,1))","v":""},"$E$27","$J$22",{"$f":"CL7+1","v":2},{"$f":"INDEX($BT$21:$BT$28,MATCH($CT8,TeilnNr,0))","v":"Spieler 06"},"-",{"$f":"INDEX($BT$21:$BT$28,MATCH($CU8,TeilnNr,0))","v":"Spieler 01"},null,null,{"$f":"CR7","v":2},{"$f":"CS7+1","v":2},6,1,{"$f":"IF(LEFT(CQ8,1)=\"V\",\"\",LEFT(CQ8,1))","v":""},{"$f":"IF(RIGHT(CQ8,1)=\"V\",\"\",RIGHT(CQ8,1))","v":""},"$D$26","$I$21",{"$f":"BX8","v":2},{"$f":"CA8","v":"Spieler 02"},"-",{"$f":"BY8","v":"Spieler 07"},null,{"$f":"CL8","v":2},{"$f":"CO8","v":"Spieler 01"},"-",{"$f":"CM8","v":"Spieler 06"}]
[null,"","Spieler 03","","","","","","","","",0,0,0,0,0,0,0,3,null,null,null,null,null,null,null,null,null,null,null,null,9,"1) Punkte 2) Anz. Partien 3) Anz.Schwarzpartien 4) So-Be 5) direkte Begegnung 6) Manuelle Feinwertung ",null,null,null,null,null,null,null,null,null,null,null,null,null,null,null,null,null,null,null,null,null,null,null,null,null,7,"1) Punkte 2) Anz. Partien 3) direkte Begegnung 4) So-Be 5) Anz.Schwarzpartien 6) Manuelle Feinwertung ",null,null,null,null,null,null,null,null,null,null,null,null,null,null,null,{"$f":"BX8+1","v":3},{"$f":"INDEX($BT$21:$BT$28,MATCH($CF9,TeilnNr,0))","v":"Spieler 03"},"-",{"$f":"INDEX($BT$21:$BT$28,MATCH($CG9,TeilnNr,0))","v":"Spieler 06"},null,null,{"$f":"CD8","v":1},{"$f":"CE8+1","v":3},3,6,{"$f":"IF(LEFT(CC9,1)=\"V\",\"\",LEFT(CC9,1))","v":""},{"$f":"IF(RIGHT(CC9,1)=\"V\",\"\",RIGHT(CC9,1))","v":""},"$I$23","$F$26",{"$f":"CL8+1","v":3},{"$f":"INDEX($BT$21:$BT$28,MATCH($CT9,TeilnNr,0))","v":"Spieler 02"},"-",{"$f":"INDEX($BT$21:$BT$28,MATCH($CU9,TeilnNr,0))","v":"Spieler 05"},null,null,{"$f":"CR8","v":2},{"$f":"CS8+1","v":3},2,5,{"$f":"IF(LEFT(CQ9,1)=\"V\",\"\",LEFT(CQ9,1))","v":""},{"$f":"IF(RIGHT(CQ9,1)=\"V\",\"\",RIGHT(CQ9,1))","v":""},"$H$22","$E$25",{"$f":"BX9","v":3},{"$f":"BY9","v":"Spieler 03"},"-",{"$f":"CA9","v":"Spieler 06"},null,{"$f":"CL9","v":3},{"$f":"CM9","v":"Spieler 02"},"-",{"$f":"CO9","v":"Spieler 05"}]
[null,"","Spieler 04","","","","","","","","",0,0,0,0,0,0,0,4,null,null,null,null,null,null,null,null,null,null,null,4,10,"1) Punkte 2) Anz. Partien 3) Anz.Schwarzpartien 4) direkte Begegnung 5) So-Be 6) Manuelle Feinwertung ",null,null,null,null,null,null,null,null,null,null,null,null,null,null,null,null,null,null,null,null,null,null,null,null,null,8,"1) Punkte 2) Anz. Partien 3) direkte Begegnung 4) Anz.Schwarzpartien 5) So-Be 6) Manuelle Feinwertung ",null,null,null,null,null,null,null,null,null,null,null,null,null,null,null,4,{"$f":"INDEX($BT$21:$BT$28,MATCH($CF10,TeilnNr,0))","v":"Spieler 05"},"-",{"$f":"INDEX($BT$21:$BT$28,MATCH($CG10,TeilnNr,0))","v":"Spieler 04"},null,null,{"$f":"CD9","v":1},4,5,4,{"$f":"IF(LEFT(CC10,1)=\"V\",\"\",LEFT(CC10,1))","v":""},{"$f":"IF(RIGHT(CC10,1)=\"V\",\"\",RIGHT(CC10,1))","v":""},"$G$25","$H$24",4,{"$f":"INDEX($BT$21:$BT$28,MATCH($CT10,TeilnNr,0))","v":"Spieler 04"},"-",{"$f":"INDEX($BT$21:$BT$28,MATCH($CU10,TeilnNr,0))","v":"Spieler 03"},null,null,{"$f":"CR9","v":2},4,4,3,{"$f":"IF(LEFT(CQ10,1)=\"V\",\"\",LEFT(CQ10,1))","v":""},{"$f":"IF(RIGHT(CQ10,1)=\"V\",\"\",RIGHT(CQ10,1))","v":""},"$F$24","$G$23",{"$f":"BX10","v":4},{"$f":"CA10","v":"Spieler 04"},"-",{"$f":"BY10","v":"Spieler 05"},null,{"$f":"CL10","v":4},{"$f":"CO10","v":"Spieler 03"},"-",{"$f":"CM10","v":"Spieler 04"}]
[null,"","Spieler 05","","","","","","","","",0,0,0,0,0,0,0,5,null,null,null,null,null,null,null,null,null,null,null,null,null,null,null,null,null,null,null,null,null,null,null,null,null,null,null,null,null,null,null,null,null,null,null,null,null,null,null,9,"1) Punkte 2) Anz. Partien 3) Anz.Schwarzpartien 4) So-Be 5) direkte Begegnung 6) Manuelle Feinwertung "]
[null,"","Spieler 06","","","","","","","","",0,0,0,0,0,0,0,6,null,null,null,null,null,null,null,null,null,null,null,null,null,null,null,null,null,null,null,null,null,null,null,null,null,null,null,null,null,null,null,null,null,null,null,null,null,null,null,10,"1) Punkte 2) Anz. Partien 3) Anz.Schwarzpartien 4) direkte Begegnung 5) So-Be 6) Manuelle Feinwertung ",null,null,null,null,null,null,null,null,null,null,null,null,null,null,null,null,{"$f":"BY6+2","v":3},null,null,null,null,"R","B","SpNr w","SpNr s","Res w","Res s",null,null,null,{"$f":"CM6+2","v":4},null,null,null,null,"R","B","SpNr w","SpNr s","Res w","Res s",null,null,null,{"$f":"BY12","v":3},1,null,null,null,{"$f":"CM12","v":4}]
[null,"","Spieler 07","","","","","","","","",0,0,0,0,0,0,0,7,null,null,null,null,null,null,null,null,null,null,null,null,null,null,null,null,null,null,null,null,null,null,null,null,null,null,null,null,null,null,null,null,null,null,null,null,null,null,null,null,null,null,null,null,null,null,null,null,null,null,null,null,null,null,null,null,{"$f":"IF(OR(INDEX($BS$21:$BS$28,CF13),INDEX($BS$21:$BS$28,CG13)),0,1)","v":1},{"$f":"INDEX($BT$21:$BT$28,MATCH($CF13,TeilnNr,0))","v":"Spieler 06"},"-",{"$f":"INDEX($BT$21:$BT$28,MATCH($CG13,TeilnNr,0))","v":"Spieler 08"},null,null,{"$f":"BY12","v":3},1,{"$f":"IF(AND(CE13=1,MOD(CD13,2)=0),MAX(TeilnNr),IF(MOD(CE13,2)=0,IF(MAX(TeilnNr)/2-CE13+1-(CD13-MAX(TeilnNr)/2-1)>=1,MAX(TeilnNr)/2-CE13+1-(CD13-MAX(TeilnNr)/2-1),MAX(TeilnNr)/2-CE13+1-(CD13-MAX(TeilnNr)/2-1)+MAX(TeilnNr)-1),IF(CE13-(CD13-1)>=1,CE13-(CD13-1),CE13-(CD13-1)+MAX(TeilnNr)-1)))","v":6},{"$f":"IF(AND(CE13=1,MOD(CD13,2)<>0),MAX(TeilnNr),IF(MOD(CE13,2)<>0,IF(MAX(TeilnNr)/2-CE13+1-(CD13-MAX(TeilnNr)/2-1)>=1,MAX(TeilnNr)/2-CE13+1-(CD13-MAX(TeilnNr)/2-1),MAX(TeilnNr)/2-CE13+1-(CD13-MAX(TeilnNr)/2-1)+MAX(TeilnNr)-1),IF(CE13-(CD13-1)>=1,CE13-(CD13-1),CE13-(CD13-1)+MAX(TeilnNr)-1)))","v":8},{"$f":"IF(LEFT(CC13,1)=\"V\",\"\",LEFT(CC13,1))","v":""},{"$f":"IF(RIGHT(CC13,1)=\"V\",\"\",RIGHT(CC13,1))","v":""},{"$f":"ADDRESS(ROW(Teilnehmer)+CF13,COLUMN(Teilnehmer)+CG13)","v":"$K$26"},{"$f":"ADDRESS(ROW(Teilnehmer)+CG13,COLUMN(Teilnehmer)+CF13)","v":"$I$28"},{"$f":"IF(OR(INDEX($BS$21:$BS$28,CT13),INDEX($BS$21:$BS$28,CU13)),0,1)","v":1},{"$f":"INDEX($BT$21:$BT$28,MATCH($CT13,TeilnNr,0))","v":"Spieler 08"},"-",{"$f":"INDEX($BT$21:$BT$28,MATCH($CU13,TeilnNr,0))","v":"Spieler 05"},null,null,{"$f":"CM12","v":4},1,{"$f":"IF(AND(CS13=1,MOD(CR13,2)=0),MAX(TeilnNr),IF(MOD(CS13,2)=0,IF(MAX(TeilnNr)/2-CS13+1-(CR13-MAX(TeilnNr)/2-1)>=1,MAX(TeilnNr)/2-CS13+1-(CR13-MAX(TeilnNr)/2-1),MAX(TeilnNr)/2-CS13+1-(CR13-MAX(TeilnNr)/2-1)+MAX(TeilnNr)-1),IF(CS13-(CR13-1)>=1,CS13-(CR13-1),CS13-(CR13-1)+MAX(TeilnNr)-1)))","v":8},{"$f":"IF(AND(CS13=1,MOD(CR13,2)<>0),MAX(TeilnNr),IF(MOD(CS13,2)<>0,IF(MAX(TeilnNr)/2-CS13+1-(CR13-MAX(TeilnNr)/2-1)>=1,MAX(TeilnNr)/2-CS13+1-(CR13-MAX(TeilnNr)/2-1),MAX(TeilnNr)/2-CS13+1-(CR13-MAX(TeilnNr)/2-1)+MAX(TeilnNr)-1),IF(CS13-(CR13-1)>=1,CS13-(CR13-1),CS13-(CR13-1)+MAX(TeilnNr)-1)))","v":5},{"$f":"IF(LEFT(CQ13,1)=\"V\",\"\",LEFT(CQ13,1))","v":""},{"$f":"IF(RIGHT(CQ13,1)=\"V\",\"\",RIGHT(CQ13,1))","v":""},{"$f":"ADDRESS(ROW(Teilnehmer)+CT13,COLUMN(Teilnehmer)+CU13)","v":"$H$28"},{"$f":"ADDRESS(ROW(Teilnehmer)+CU13,COLUMN(Teilnehmer)+CT13)","v":"$K$25"},{"$f":"BX13","v":1},"Spieler 06","-",{"$f":"CA13","v":"Spieler 08"},null,{"$f":"CL13","v":1},{"$f":"CO13","v":"Spieler 05"},"-",{"$f":"CM13","v":"Spieler 08"}]
[null,"","Spieler 08","","","","","","","","",0,0,0,0,0,0,0,8,null,null,null,null,null,null,null,null,null,null,null,null,null,null,null,null,null,null,null,null,null,null,null,null,null,null,null,null,null,null,null,null,null,null,null,null,null,null,null,null,null,null,null,null,null,null,null,null,null,null,null,null,null,null,null,null,{"$f":"BX13+1","v":2},{"$f":"INDEX($BT$21:$BT$28,MATCH($CF14,TeilnNr,0))","v":"Spieler 05"},"-",{"$f":"INDEX($BT$21:$BT$28,MATCH($CG14,TeilnNr,0))","v":"Spieler 07"},null,null,{"$f":"CD13","v":3},{"$f":"CE13+1","v":2},5,7,{"$f":"IF(LEFT(CC14,1)=\"V\",\"\",LEFT(CC14,1))","v":""},{"$f":"IF(RIGHT(CC14,1)=\"V\",\"\",RIGHT(CC14,1))","v":""},"$J$25","$H$27",{"$f":"CL13+1","v":2},{"$f":"INDEX($BT$21:$BT$28,MATCH($CT14,TeilnNr,0))","v":"Spieler 04"},"-",{"$f":"INDEX($BT$21:$BT$28,MATCH($CU14,TeilnNr,0))","v":"Spieler 06"},null,null,{"$f":"CR13","v":4},{"$f":"CS13+1","v":2},4,6,{"$f":"IF(LEFT(CQ14,1)=\"V\",\"\",LEFT(CQ14,1))","v":""},{"$f":"IF(RIGHT(CQ14,1)=\"V\",\"\",RIGHT(CQ14,1))","v":""},"$I$24","$G$26",{"$f":"BX14","v":2},{"$f":"CA14","v":"Spieler 07"},"-",{"$f":"BY14","v":"Spieler 05"},null,2,"Spieler 06","-","Spieler 04"]
[null,"Wertungskriterien:",null,null,null,null,null,null,null,null,null,null,null,null,null,null,null,null,null,null,null,null,null,null,null,null,null,null,null,null,null,null,null,null,null,null,null,null,null,null,null,null,null,null,null,null,null,null,null,null,null,null,null,null,null,null,null,null,null,null,null,null,null,null,null,null,null,null,null,null,null,null,null,null,null,{"$f":"BX14+1","v":3},{"$f":"INDEX($BT$21:$BT$28,MATCH($CF15,TeilnNr,0))","v":"Spieler 01"},"-",{"$f":"INDEX($BT$21:$BT$28,MATCH($CG15,TeilnNr,0))","v":"Spieler 04"},null,null,{"$f":"CD14","v":3},{"$f":"CE14+1","v":3},1,4,{"$f":"IF(LEFT(CC15,1)=\"V\",\"\",LEFT(CC15,1))","v":""},{"$f":"IF(RIGHT(CC15,1)=\"V\",\"\",RIGHT(CC15,1))","v":""},"$G$21","$D$24",{"$f":"CL14+1","v":3},{"$f":"INDEX($BT$21:$BT$28,MATCH($CT15,TeilnNr,0))","v":"Spieler 07"},"-",{"$f":"INDEX($BT$21:$BT$28,MATCH($CU15,TeilnNr,0))","v":"Spieler 03"},null,null,{"$f":"CR14","v":4},{"$f":"CS14+1","v":3},7,3,{"$f":"IF(LEFT(CQ15,1)=\"V\",\"\",LEFT(CQ15,1))","v":""},{"$f":"IF(RIGHT(CQ15,1)=\"V\",\"\",RIGHT(CQ15,1))","v":""},"$F$27","$J$23",3,"Spieler 01","-",{"$f":"CA15","v":"Spieler 04"},null,3,"Spieler 07","-",{"$f":"CO15","v":"Spieler 03"}]
[null,{"$f":"INDEX(Wertungskriterien,WertungskriterienA)","v":"1) Punkte 2) Anz. Partien 3) So-Be 4) direkte Begegnung 5) Manuelle Feinwertung "},null,null,null,null,null,null,null,null,null,null,null,null,null,null,null,null,null,null,null,null,null,null,null,null,null,null,null,null,null,null,null,null,null,null,null,null,null,null,null,null,null,null,null,null,null,null,null,null,null,null,null,null,null,null,null,null,null,null,null,null,null,null,null,null,null,null,null,null,null,null,null,null,null,4,{"$f":"INDEX($BT$21:$BT$28,MATCH($CF16,TeilnNr,0))","v":"Spieler 03"},"-",{"$f":"INDEX($BT$21:$BT$28,MATCH($CG16,TeilnNr,0))","v":"Spieler 02"},null,null,{"$f":"CD15","v":3},4,3,2,{"$f":"IF(LEFT(CC16,1)=\"V\",\"\",LEFT(CC16,1))","v":""},{"$f":"IF(RIGHT(CC16,1)=\"V\",\"\",RIGHT(CC16,1))","v":""},"$E$23","$F$22",4,{"$f":"INDEX($BT$21:$BT$28,MATCH($CT16,TeilnNr,0))","v":"Spieler 02"},"-",{"$f":"INDEX($BT$21:$BT$28,MATCH($CU16,TeilnNr,0))","v":"Spieler 01"},null,null,{"$f":"CR15","v":4},4,2,1,{"$f":"IF(LEFT(CQ16,1)=\"V\",\"\",LEFT(CQ16,1))","v":""},{"$f":"IF(RIGHT(CQ16,1)=\"V\",\"\",RIGHT(CQ16,1))","v":""},"$D$22","$E$21",4,{"$f":"CA16","v":"Spieler 02"},"-",{"$f":"BY16","v":"Spieler 03"},null,4,{"$f":"CO16","v":"Spieler 01"},"-",{"$f":"CM16","v":"Spieler 02"}]
[]
[null,"+",null,null,null,null,null,null,null,null,null,null,null,null,{"$f":"IF(EinAusblenden=\"-\",\"\",IF(FWPlusMinus=\"+\",\"é\",\"ê\"))","v":"é"},null,null,null,null,null,null,null,null,null,null,null,null,null,null,null,null,null,null,null,null,null,null,null,null,null,null,null,null,null,null,null,null,null,null,null,null,null,null,null,null,null,null,null,null,null,null,null,null,null,null,null,null,null,null,null,null,null,null,null,null,null,{"$f":"BY12+2","v":5},null,null,null,null,"R","B","SpNr w","SpNr s","Res w","Res s",null,null,null,{"$f":"CM12+2","v":6},null,null,null,null,"R","B","SpNr w","SpNr s","Res w","Res s",null,null,null,{"$f":"BY18","v":5},1,null,null,null,{"$f":"CM18","v":6}]
[null,"Turniertabelle",null,null,null,null,null,null,null,null,null,null,null,"manuelle Feinwertung: ","+","Partien",null,null,null,"Punkte",null,null,null,null,null,null,null,null,null,"Sonneborn-Berger-Berechnung",null,null,null,null,null,null,null,null,null,{"$f":"MAX(AN21:AN28)","v":0},null,null,null,null,{"$f":"FWPlusMinus=\"+\"","v":true},"Summierung Wertungskriterien vor direkter Begegnung",null,null,null,null,null,null,null,null,null,null,null,null,"Summierung Wertungskriterien nach direkter Begegnung",null,null,null,null,null,null,null,null,null,null,null,null,null,null,null,null,{"$f":"IF(OR(INDEX($BS$21:$BS$28,CF19),INDEX($BS$21:$BS$28,CG19)),0,1)","v":1},{"$f":"INDEX($BT$21:$BT$28,MATCH($CF19,TeilnNr,0))","v":"Spieler 04"},"-",{"$f":"INDEX($BT$21:$BT$28,MATCH($CG19,TeilnNr,0))","v":"Spieler 08"},null,null,{"$f":"BY18","v":5},1,{"$f":"IF(AND(CE19=1,MOD(CD19,2)=0),MAX(TeilnNr),IF(MOD(CE19,2)=0,IF(MAX(TeilnNr)/2-CE19+1-(CD19-MAX(TeilnNr)/2-1)>=1,MAX(TeilnNr)/2-CE19+1-(CD19-MAX(TeilnNr)/2-1),MAX(TeilnNr)/2-CE19+1-(CD19-MAX(TeilnNr)/2-1)+MAX(TeilnNr)-1),IF(CE19-(CD19-1)>=1,CE19-(CD19-1),CE19-(CD19-1)+MAX(TeilnNr)-1)))","v":4},{"$f":"IF(AND(CE19=1,MOD(CD19,2)<>0),MAX(TeilnNr),IF(MOD(CE19,2)<>0,IF(MAX(TeilnNr)/2-CE19+1-(CD19-MAX(TeilnNr)/2-1)>=1,MAX(TeilnNr)/2-CE19+1-(CD19-MAX(TeilnNr)/2-1),MAX(TeilnNr)/2-CE19+1-(CD19-MAX(TeilnNr)/2-1)+MAX(TeilnNr)-1),IF(CE19-(CD19-1)>=1,CE19-(CD19-1),CE19-(CD19-1)+MAX(TeilnNr)-1)))","v":8},{"$f":"IF(LEFT(CC19,1)=\"V\",\"\",LEFT(CC19,1))","v":""},{"$f":"IF(RIGHT(CC19,1)=\"V\",\"\",RIGHT(CC19,1))","v":""},{"$f":"ADDRESS(ROW(Teilnehmer)+CF19,COLUMN(Teilnehmer)+CG19)","v":"$K$24"},{"$f":"ADDRESS(ROW(Teilnehmer)+CG19,COLUMN(Teilnehmer)+CF19)","v":"$G$28"},{"$f":"IF(OR(INDEX($BS$21:$BS$28,CT19),INDEX($BS$21:$BS$28,CU19)),0,1)","v":1},{"$f":"INDEX($BT$21:$BT$28,MATCH($CT19,TeilnNr,0))","v":"Spieler 08"},"-",{"$f":"INDEX($BT$21:$BT$28,MATCH($CU19,TeilnNr,0))","v":"Spieler 03"},null,null,{"$f":"CM18","v":6},1,{"$f":"IF(AND(CS19=1,MOD(CR19,2)=0),MAX(TeilnNr),IF(MOD(CS19,2)=0,IF(MAX(TeilnNr)/2-CS19+1-(CR19-MAX(TeilnNr)/2-1)>=1,MAX(TeilnNr)/2-CS19+1-(CR19-MAX(TeilnNr)/2-1),MAX(TeilnNr)/2-CS19+1-(CR19-MAX(TeilnNr)/2-1)+MAX(TeilnNr)-1),IF(CS19-(CR19-1)>=1,CS19-(CR19-1),CS19-(CR19-1)+MAX(TeilnNr)-1)))","v":8},{"$f":"IF(AND(CS19=1,MOD(CR19,2)<>0),MAX(TeilnNr),IF(MOD(CS19,2)<>0,IF(MAX(TeilnNr)/2-CS19+1-(CR19-MAX(TeilnNr)/2-1)>=1,MAX(TeilnNr)/2-CS19+1-(CR19-MAX(TeilnNr)/2-1),MAX(TeilnNr)/2-CS19+1-(CR19-MAX(TeilnNr)/2-1)+MAX(TeilnNr)-1),IF(CS19-(CR19-1)>=1,CS19-(CR19-1),CS19-(CR19-1)+MAX(TeilnNr)-1)))","v":3},{"$f":"IF(LEFT(CQ19,1)=\"V\",\"\",LEFT(CQ19,1))","v":""},{"$f":"IF(RIGHT(CQ19,1)=\"V\",\"\",RIGHT(CQ19,1))","v":""},{"$f":"ADDRESS(ROW(Teilnehmer)+CT19,COLUMN(Teilnehmer)+CU19)","v":"$F$28"},{"$f":"ADDRESS(ROW(Teilnehmer)+CU19,COLUMN(Teilnehmer)+CT19)","v":"$K$23"},{"$f":"BX19","v":1},"Spieler 04","-",{"$f":"CA19","v":"Spieler 08"},null,{"$f":"CL19","v":1},{"$f":"CO19","v":"Spieler 03"},"-",{"$f":"CM19","v":"Spieler 08"}]
[null,"Nr.","Teilnehmer",1,2,3,4,5,6,7,8,"Punkte","Spiele","So-Be","FW+","weiss","schw.","Rang",null,1,2,3,4,5,6,7,8,"P",null,1,2,3,4,5,6,7,8,"So-Be",null,{"$f":"IF(O20=\"\",\"FW2\",O20)","v":"FW+"},"Rang\nPunkte","Rang\nPartien","Rang\nSo-Be","Rang\nschwrz","Rang\nFW?","Wertung 1","Wertung 2","Wertung 3","Wertung 4","Wertung 5","Wertung 6","Wertung 7","Wertung 8","Wertung 9","Wertung 10","Wertung","direkte Begegnung","Rang\ndir.Begegn.","Wertung 1","Wertung 2","Wertung 3","Wertung 4","Wertung 5","Wertung 6","Wertung 7","Wertung 8","Wertung 9","Wertung 10","Wertung2","Rang","Platz-halter?","Name","Alphabet","Rang & Alphabet","Reihen-folge",{"$f":"BX19+1","v":2},{"$f":"INDEX($BT$21:$BT$28,MATCH($CF20,TeilnNr,0))","v":"Spieler 03"},"-",{"$f":"INDEX($BT$21:$BT$28,MATCH($CG20,TeilnNr,0))","v":"Spieler 05"},null,null,{"$f":"CD19","v":5},{"$f":"CE19+1","v":2},3,5,{"$f":"IF(LEFT(CC20,1)=\"V\",\"\",LEFT(CC20,1))","v":""},{"$f":"IF(RIGHT(CC20,1)=\"V\",\"\",RIGHT(CC20,1))","v":""},{"$f":"ADDRESS(ROW(Teilnehmer)+CF20,COLUMN(Teilnehmer)+CG20)","v":"$H$23"},{"$f":"ADDRESS(ROW(Teilnehmer)+CG20,COLUMN(Teilnehmer)+CF20)","v":"$F$25"},{"$f":"CL19+1","v":2},{"$f":"INDEX($BT$21:$BT$28,MATCH($CT20,TeilnNr,0))","v":"Spieler 02"},"-",{"$f":"INDEX($BT$21:$BT$28,MATCH($CU20,TeilnNr,0))","v":"Spieler 04"},null,null,{"$f":"CR19","v":6},{"$f":"CS19+1","v":2},2,4,{"$f":"IF(LEFT(CQ20,1)=\"V\",\"\",LEFT(CQ20,1))","v":""},{"$f":"IF(RIGHT(CQ20,1)=\"V\",\"\",RIGHT(CQ20,1))","v":""},{"$f":"ADDRESS(ROW(Teilnehmer)+CT20,COLUMN(Teilnehmer)+CU20)","v":"$G$22"},{"$f":"ADDRESS(ROW(Teilnehmer)+CU20,COLUMN(Teilnehmer)+CT20)","v":"$E$24"},{"$f":"BX20","v":2},{"$f":"CA20","v":"Spieler 05"},"-",{"$f":"BY20","v":"Spieler 03"},null,2,"Spieler 04","-","Spieler 02"]
[null,1,null,{"$f":"IF(ISNA(MATCH(ADDRESS(ROW(),COLUMN()),$CJ:$CJ,0)),\"\",INDEX($CH:$CH,MATCH(ADDRESS(ROW(),COLUMN()),$CJ:$CJ,0)))&IF(ISNA(MATCH(ADDRESS(ROW(),COLUMN()),$CK:$CK,0)),\"\",INDEX($CI:$CI,MATCH(ADDRESS(ROW(),COLUMN()),$CK:$CK,0)))&IF(ISNA(MATCH(ADDRESS(ROW(),COLUMN()),$CX:$CX,0)),\"\",INDEX($CV:$CV,MATCH(ADDRESS(ROW(),COLUMN()),$CX:$CX,0)))&IF(ISNA(MATCH(ADDRESS(ROW(),COLUMN()),$CY:$CY,0)),\"\",INDEX($CW:$CW,MATCH(ADDRESS(ROW(),COLUMN()),$CY:$CY,0)))","v":""},"","","","","","","",{"$f":"AB21","v":0},{"$f":"MAX($B$21:$B$28)-COUNTIF(D21:K21,\"\")","v":0},{"$f":"AL21","v":0},null,{"$f":"IF($BS21,0,COUNTIFS($CF:$CF,$B21,$CC:$CC,\"<>\")+COUNTIFS($CT:$CT,$B21,$CQ:$CQ,\"<>\"))","v":0},{"$f":"IF($BS21,0,COUNTIFS($CG:$CG,$B21,$CC:$CC,\"<>\")+COUNTIFS($CU:$CU,$B21,$CQ:$CQ,\"<>\"))","v":0},{"$f":"BR21","v":1},null,{"$f":"IF(D21=\"\",0,VLOOKUP(D21,Wertung,3,FALSE))","v":0},0,0,0,0,0,0,0,{"$f":"SUM(T21:AA21)","v":0},null,{"$f":"T21*INDEX($AB:$AB,ROW($AD$20)+T$20)","v":0},0,0,0,0,0,0,0,{"$f":"SUM(AD21:AK21)","v":0},null,{"$f":"O21","v":0},{"$f":"RANK($AB21,$AB$21:$AB$28,0)","v":1},{"$f":"RANK($M21,$M$21:$M$28,1)","v":1},{"$f":"RANK($AL21,$AL$21:$AL$28,0)","v":1},{"$f":"RANK($Q21,$Q$21:$Q$28,0)","v":1},{"$f":"RANK($AN21,$AN$21:$AN$28,IF($AS$19,0,1))","v":1},{"$f":"VALUE(CONCATENATE(IF($BS21,\"1\",\"0\"),TEXT($AO21,\"00\"),TEXT($AQ21,\"00\"),TEXT($AS21,\"00\")))","v":10101},{"$f":"VALUE(CONCATENATE(IF($BS21,\"1\",\"0\"),TEXT($AO21,\"00\"),TEXT($AQ21,\"00\")))","v":101},{"$f":"VALUE(CONCATENATE(IF($BS21,\"1\",\"0\"),TEXT($AO21,\"00\"),TEXT($AP21,\"00\"),TEXT($AQ21,\"00\"),TEXT($AS21,\"00\")))","v":1010101},{"$f":"VALUE(CONCATENATE(IF($BS21,\"1\",\"0\"),TEXT($AO21,\"00\"),TEXT($AP21,\"00\"),TEXT($AQ21,\"00\")))","v":10101},{"$f":"VALUE(CONCATENATE(IF($BS21,\"1\",\"0\"),TEXT($AO21,\"00\"),TEXT($AP21,\"00\"),TEXT($AQ21,\"00\")))","v":10101},{"$f":"VALUE(CONCATENATE(IF($BS21,\"1\",\"0\"),TEXT($AO21,\"00\"),TEXT($AP21,\"00\"),TEXT($AQ21,\"00\"),TEXT($AR21,\"00\")))","v":1010101},{"$f":"VALUE(CONCATENATE(IF($BS21,\"1\",\"0\"),TEXT($AO21,\"00\"),TEXT($AP21,\"00\")))","v":101},{"$f":"VALUE(CONCATENATE(IF($BS21,\"1\",\"0\"),TEXT($AO21,\"00\"),TEXT($AP21,\"00\")))","v":101},{"$f":"VALUE(CONCATENATE(IF($BS21,\"1\",\"0\"),TEXT($AO21,\"00\"),TEXT($AP21,\"00\"),TEXT($AR21,\"00\"),TEXT($AQ21,\"00\")))","v":1010101},{"$f":"VALUE(CONCATENATE(IF($BS21,\"1\",\"0\"),TEXT($AO21,\"00\"),TEXT($AP21,\"00\"),TEXT($AR21,\"00\")))","v":10101},{"$f":"INDEX($AT21:$BC21,1,WertungskriterienA)","v":10101},{"$f":"SUM((TRANSPOSE($BD$21:$BD$28)=BD21)*$T21:$AA21)","v":0},{"$f":"RANK($BE21,$BE$21:$BE$28,0)","v":1},{"$f":"$BD21","v":10101},{"$f":"VALUE(CONCATENATE($BD21,TEXT($BF21,\"00\"),TEXT($AS21,\"00\")))","v":101010101},{"$f":"$BD21","v":10101},{"$f":"VALUE(CONCATENATE($BD21,TEXT($BF21,\"00\"),TEXT($AS21,\"00\")))","v":101010101},{"$f":"VALUE(CONCATENATE($BD21,TEXT($BF21,\"00\"),TEXT($AR21,\"00\"),TEXT($AS21,\"00\")))","v":10101010101},{"$f":"VALUE(CONCATENATE($BD21,TEXT($BF21,\"00\"),TEXT($AS21,\"00\")))","v":101010101},{"$f":"VALUE(CONCATENATE($BD21,TEXT($BF21,\"00\"),TEXT($AQ21,\"00\"),TEXT($AR21,\"00\"),TEXT($AS21,\"00\")))","v":1010101010101},{"$f":"VALUE(CONCATENATE($BD21,TEXT($BF21,\"00\"),TEXT($AR21,\"00\"),TEXT($AQ21,\"00\"),TEXT($AS21,\"00\")))","v":1010101010101},{"$f":"VALUE(CONCATENATE($BD21,TEXT($BF21,\"00\"),TEXT($AS21,\"00\")))","v":101010101},{"$f":"VALUE(CONCATENATE($BD21,TEXT($BF21,\"00\"),TEXT($AQ21,\"00\"),TEXT($AS21,\"00\")))","v":10101010101},{"$f":"INDEX(BG21:BP21,1,WertungskriterienA)","v":101010101},{"$f":"RANK(BQ21,$BQ$21:$BQ$28,1)","v":1},{"$f":"IF($C21=\"\",FALSE,AND(LEN($C21)=1,OR(CODE($C21)<65,CODE($C21)>122,AND(CODE($C21)>90,CODE($C21)<97)),NOT(AND(CODE($C21)>48,CODE($C21)<58))))","v":false},{"$f":"IF(BS21,$C21,IF($C21=\"\",\"Spieler \"&TEXT($B21,\"00\"),$C21))","v":"Spieler 01"},{"$f":"IF(BS21,MAX(TeilnNr),0)+SUMPRODUCT((BT21>$BT$21:$BT$28)*1)","v":0},{"$f":"BR21+BU21/1000+B21/1000000","v":1.0000009999999999},{"$f":"RANK(BV21,$BV$21:$BV$28,1)","v":1},{"$f":"BX20+1","v":3},{"$f":"INDEX($BT$21:$BT$28,MATCH($CF21,TeilnNr,0))","v":"Spieler 06"},"-",{"$f":"INDEX($BT$21:$BT$28,MATCH($CG21,TeilnNr,0))","v":"Spieler 02"},null,null,{"$f":"CD20","v":5},{"$f":"CE20+1","v":3},{"$f":"IF(AND(CE21=1,MOD(CD21,2)=0),MAX(TeilnNr),IF(MOD(CE21,2)=0,IF(MAX(TeilnNr)/2-CE21+1-(CD21-MAX(TeilnNr)/2-1)>=1,MAX(TeilnNr)/2-CE21+1-(CD21-MAX(TeilnNr)/2-1),MAX(TeilnNr)/2-CE21+1-(CD21-MAX(TeilnNr)/2-1)+MAX(TeilnNr)-1),IF(CE21-(CD21-1)>=1,CE21-(CD21-1),CE21-(CD21-1)+MAX(TeilnNr)-1)))","v":6},{"$f":"IF(AND(CE21=1,MOD(CD21,2)<>0),MAX(TeilnNr),IF(MOD(CE21,2)<>0,IF(MAX(TeilnNr)/2-CE21+1-(CD21-MAX(TeilnNr)/2-1)>=1,MAX(TeilnNr)/2-CE21+1-(CD21-MAX(TeilnNr)/2-1),MAX(TeilnNr)/2-CE21+1-(CD21-MAX(TeilnNr)/2-1)+MAX(TeilnNr)-1),IF(CE21-(CD21-1)>=1,CE21-(CD21-1),CE21-(CD21-1)+MAX(TeilnNr)-1)))","v":2},{"$f":"IF(LEFT(CC21,1)=\"V\",\"\",LEFT(CC21,1))","v":""},{"$f":"IF(RIGHT(CC21,1)=\"V\",\"\",RIGHT(CC21,1))","v":""},{"$f":"ADDRESS(ROW(Teilnehmer)+CF21,COLUMN(Teilnehmer)+CG21)","v":"$E$26"},{"$f":"ADDRESS(ROW(Teilnehmer)+CG21,COLUMN(Teilnehmer)+CF21)","v":"$I$22"},{"$f":"CL20+1","v":3},{"$f":"INDEX($BT$21:$BT$28,MATCH($CT21,TeilnNr,0))","v":"Spieler 05"},"-",{"$f":"INDEX($BT$21:$BT$28,MATCH($CU21,TeilnNr,0))","v":"Spieler 01"},null,null,{"$f":"CR20","v":6},{"$f":"CS20+1","v":3},{"$f":"IF(AND(CS21=1,MOD(CR21,2)=0),MAX(TeilnNr),IF(MOD(CS21,2)=0,IF(MAX(TeilnNr)/2-CS21+1-(CR21-MAX(TeilnNr)/2-1)>=1,MAX(TeilnNr)/2-CS21+1-(CR21-MAX(TeilnNr)/2-1),MAX(TeilnNr)/2-CS21+1-(CR21-MAX(TeilnNr)/2-1)+MAX(TeilnNr)-1),IF(CS21-(CR21-1)>=1,CS21-(CR21-1),CS21-(CR21-1)+MAX(TeilnNr)-1)))","v":5},{"$f":"IF(AND(CS21=1,MOD(CR21,2)<>0),MAX(TeilnNr),IF(MOD(CS21,2)<>0,IF(MAX(TeilnNr)/2-CS21+1-(CR21-MAX(TeilnNr)/2-1)>=1,MAX(TeilnNr)/2-CS21+1-(CR21-MAX(TeilnNr)/2-1),MAX(TeilnNr)/2-CS21+1-(CR21-MAX(TeilnNr)/2-1)+MAX(TeilnNr)-1),IF(CS21-(CR21-1)>=1,CS21-(CR21-1),CS21-(CR21-1)+MAX(TeilnNr)-1)))","v":1},{"$f":"IF(LEFT(CQ21,1)=\"V\",\"\",LEFT(CQ21,1))","v":""},{"$f":"IF(RIGHT(CQ21,1)=\"V\",\"\",RIGHT(CQ21,1))","v":""},{"$f":"ADDRESS(ROW(Teilnehmer)+CT21,COLUMN(Teilnehmer)+CU21)","v":"$D$25"},{"$f":"ADDRESS(ROW(Teilnehmer)+CU21,COLUMN(Teilnehmer)+CT21)","v":"$H$21"},3,"Spieler 06","-",{"$f":"CA21","v":"Spieler 02"},null,3,"Spieler 05","-",{"$f":"CO21","v":"Spieler 01"}]
[null,2,null,"","","","","","","","",{"$f":"AB22","v":0},0,0,null,0,0,1,null,0,0,0,0,0,0,0,0,0,null,0,0,0,0,0,0,0,0,0,null,0,1,1,1,1,1,{"$f":"VALUE(CONCATENATE(IF($BS22,\"1\",\"0\"),TEXT($AO22,\"00\"),TEXT($AQ22,\"00\"),TEXT($AS22,\"00\")))","v":10101},{"$f":"VALUE(CONCATENATE(IF($BS22,\"1\",\"0\"),TEXT($AO22,\"00\"),TEXT($AQ22,\"00\")))","v":101},{"$f":"VALUE(CONCATENATE(IF($BS22,\"1\",\"0\"),TEXT($AO22,\"00\"),TEXT($AP22,\"00\"),TEXT($AQ22,\"00\"),TEXT($AS22,\"00\")))","v":1010101},{"$f":"VALUE(CONCATENATE(IF($BS22,\"1\",\"0\"),TEXT($AO22,\"00\"),TEXT($AP22,\"00\"),TEXT($AQ22,\"00\")))","v":10101},10101,{"$f":"VALUE(CONCATENATE(IF($BS22,\"1\",\"0\"),TEXT($AO22,\"00\"),TEXT($AP22,\"00\"),TEXT($AQ22,\"00\"),TEXT($AR22,\"00\")))","v":1010101},{"$f":"VALUE(CONCATENATE(IF($BS22,\"1\",\"0\"),TEXT($AO22,\"00\"),TEXT($AP22,\"00\")))","v":101},101,{"$f":"VALUE(CONCATENATE(IF($BS22,\"1\",\"0\"),TEXT($AO22,\"00\"),TEXT($AP22,\"00\"),TEXT($AR22,\"00\"),TEXT($AQ22,\"00\")))","v":1010101},{"$f":"VALUE(CONCATENATE(IF($BS22,\"1\",\"0\"),TEXT($AO22,\"00\"),TEXT($AP22,\"00\"),TEXT($AR22,\"00\")))","v":10101},{"$f":"INDEX($AT22:$BC22,1,WertungskriterienA)","v":10101},{"$f":"SUM((TRANSPOSE($BD$21:$BD$28)=BD22)*$T22:$AA22)","v":0},1,{"$f":"$BD22","v":10101},{"$f":"VALUE(CONCATENATE($BD22,TEXT($BF22,\"00\"),TEXT($AS22,\"00\")))","v":101010101},{"$f":"$BD22","v":10101},{"$f":"VALUE(CONCATENATE($BD22,TEXT($BF22,\"00\"),TEXT($AS22,\"00\")))","v":101010101},{"$f":"VALUE(CONCATENATE($BD22,TEXT($BF22,\"00\"),TEXT($AR22,\"00\"),TEXT($AS22,\"00\")))","v":10101010101},{"$f":"VALUE(CONCATENATE($BD22,TEXT($BF22,\"00\"),TEXT($AS22,\"00\")))","v":101010101},{"$f":"VALUE(CONCATENATE($BD22,TEXT($BF22,\"00\"),TEXT($AQ22,\"00\"),TEXT($AR22,\"00\"),TEXT($AS22,\"00\")))","v":1010101010101},{"$f":"VALUE(CONCATENATE($BD22,TEXT($BF22,\"00\"),TEXT($AR22,\"00\"),TEXT($AQ22,\"00\"),TEXT($AS22,\"00\")))","v":1010101010101},{"$f":"VALUE(CONCATENATE($BD22,TEXT($BF22,\"00\"),TEXT($AS22,\"00\")))","v":101010101},{"$f":"VALUE(CONCATENATE($BD22,TEXT($BF22,\"00\"),TEXT($AQ22,\"00\"),TEXT($AS22,\"00\")))","v":10101010101},{"$f":"INDEX(BG22:BP22,1,WertungskriterienA)","v":101010101},1,{"$f":"IF($C22=\"\",FALSE,AND(LEN($C22)=1,OR(CODE($C22)<65,CODE($C22)>122,AND(CODE($C22)>90,CODE($C22)<97)),NOT(AND(CODE($C22)>48,CODE($C22)<58))))","v":false},"Spieler 02",1,1.0010019999999999,2,4,{"$f":"INDEX($BT$21:$BT$28,MATCH($CF22,TeilnNr,0))","v":"Spieler 01"},"-",{"$f":"INDEX($BT$21:$BT$28,MATCH($CG22,TeilnNr,0))","v":"Spieler 07"},null,null,{"$f":"CD21","v":5},4,{"$f":"IF(AND(CE22=1,MOD(CD22,2)=0),MAX(TeilnNr),IF(MOD(CE22,2)=0,IF(MAX(TeilnNr)/2-CE22+1-(CD22-MAX(TeilnNr)/2-1)>=1,MAX(TeilnNr)/2-CE22+1-(CD22-MAX(TeilnNr)/2-1),MAX(TeilnNr)/2-CE22+1-(CD22-MAX(TeilnNr)/2-1)+MAX(TeilnNr)-1),IF(CE22-(CD22-1)>=1,CE22-(CD22-1),CE22-(CD22-1)+MAX(TeilnNr)-1)))","v":1},{"$f":"IF(AND(CE22=1,MOD(CD22,2)<>0),MAX(TeilnNr),IF(MOD(CE22,2)<>0,IF(MAX(TeilnNr)/2-CE22+1-(CD22-MAX(TeilnNr)/2-1)>=1,MAX(TeilnNr)/2-CE22+1-(CD22-MAX(TeilnNr)/2-1),MAX(TeilnNr)/2-CE22+1-(CD22-MAX(TeilnNr)/2-1)+MAX(TeilnNr)-1),IF(CE22-(CD22-1)>=1,CE22-(CD22-1),CE22-(CD22-1)+MAX(TeilnNr)-1)))","v":7},{"$f":"IF(LEFT(CC22,1)=\"V\",\"\",LEFT(CC22,1))","v":""},{"$f":"IF(RIGHT(CC22,1)=\"V\",\"\",RIGHT(CC22,1))","v":""},{"$f":"ADDRESS(ROW(Teilnehmer)+CF22,COLUMN(Teilnehmer)+CG22)","v":"$J$21"},{"$f":"ADDRESS(ROW(Teilnehmer)+CG22,COLUMN(Teilnehmer)+CF22)","v":"$D$27"},4,{"$f":"INDEX($BT$21:$BT$28,MATCH($CT22,TeilnNr,0))","v":"Spieler 07"},"-",{"$f":"INDEX($BT$21:$BT$28,MATCH($CU22,TeilnNr,0))","v":"Spieler 06"},null,null,{"$f":"CR21","v":6},4,{"$f":"IF(AND(CS22=1,MOD(CR22,2)=0),MAX(TeilnNr),IF(MOD(CS22,2)=0,IF(MAX(TeilnNr)/2-CS22+1-(CR22-MAX(TeilnNr)/2-1)>=1,MAX(TeilnNr)/2-CS22+1-(CR22-MAX(TeilnNr)/2-1),MAX(TeilnNr)/2-CS22+1-(CR22-MAX(TeilnNr)/2-1)+MAX(TeilnNr)-1),IF(CS22-(CR22-1)>=1,CS22-(CR22-1),CS22-(CR22-1)+MAX(TeilnNr)-1)))","v":7},{"$f":"IF(AND(CS22=1,MOD(CR22,2)<>0),MAX(TeilnNr),IF(MOD(CS22,2)<>0,IF(MAX(TeilnNr)/2-CS22+1-(CR22-MAX(TeilnNr)/2-1)>=1,MAX(TeilnNr)/2-CS22+1-(CR22-MAX(TeilnNr)/2-1),MAX(TeilnNr)/2-CS22+1-(CR22-MAX(TeilnNr)/2-1)+MAX(TeilnNr)-1),IF(CS22-(CR22-1)>=1,CS22-(CR22-1),CS22-(CR22-1)+MAX(TeilnNr)-1)))","v":6},{"$f":"IF(LEFT(CQ22,1)=\"V\",\"\",LEFT(CQ22,1))","v":""},{"$f":"IF(RIGHT(CQ22,1)=\"V\",\"\",RIGHT(CQ22,1))","v":""},{"$f":"ADDRESS(ROW(Teilnehmer)+CT22,COLUMN(Teilnehmer)+CU22)","v":"$I$27"},{"$f":"ADDRESS(ROW(Teilnehmer)+CU22,COLUMN(Teilnehmer)+CT22)","v":"$J$26"},4,{"$f":"CA22","v":"Spieler 07"},"-",{"$f":"BY22","v":"Spieler 01"},null,4,{"$f":"CO22","v":"Spieler 06"},"-",{"$f":"CM22","v":"Spieler 07"}]
[null,3,null,"","","","","","","","",0,0,0,null,0,0,1,null,0,0,0,0,0,0,0,0,0,null,0,0,0,0,0,0,0,0,0,null,0,1,1,1,1,1,10101,101,1010101,10101,10101,1010101,101,101,1010101,10101,{"$f":"INDEX($AT23:$BC23,1,WertungskriterienA)","v":10101},{"$f":"SUM((TRANSPOSE($BD$21:$BD$28)=BD23)*$T23:$AA23)","v":0},1,10101,101010101,10101,101010101,10101010101,101010101,1010101010101,1010101010101,101010101,10101010101,{"$f":"INDEX(BG23:BP23,1,WertungskriterienA)","v":101010101},1,false,"Spieler 03",2,1.002003,3]
[null,4,null,"","","","","","","","",0,0,0,null,0,0,1,null,0,0,0,0,0,0,0,0,0,null,0,0,0,0,0,0,0,0,0,null,0,1,1,1,1,1,10101,101,1010101,10101,10101,1010101,101,101,1010101,10101,{"$f":"INDEX($AT24:$BC24,1,WertungskriterienA)","v":10101},{"$f":"SUM((TRANSPOSE($BD$21:$BD$28)=BD24)*$T24:$AA24)","v":0},1,10101,101010101,10101,101010101,10101010101,101010101,1010101010101,1010101010101,101010101,10101010101,{"$f":"INDEX(BG24:BP24,1,WertungskriterienA)","v":101010101},1,false,"Spieler 04",3,1.0030039999999998,4,null,{"$f":"BY18+2","v":7},null,null,null,null,"R","B","SpNr w","SpNr s","Res w","Res s",null,null,null,null,null,null,null,null,null,null,null,null,null,null,null,null,null,{"$f":"BY24","v":7},1]
[null,5,null,"","","","","","","","",0,0,0,null,0,0,1,null,0,0,0,0,0,0,0,0,0,null,0,0,0,0,0,0,0,0,0,null,0,1,1,1,1,1,10101,101,1010101,10101,10101,1010101,101,101,1010101,10101,{"$f":"INDEX($AT25:$BC25,1,WertungskriterienA)","v":10101},{"$f":"SUM((TRANSPOSE($BD$21:$BD$28)=BD25)*$T25:$AA25)","v":0},1,10101,101010101,10101,101010101,10101010101,101010101,1010101010101,1010101010101,101010101,10101010101,{"$f":"INDEX(BG25:BP25,1,WertungskriterienA)","v":101010101},1,false,"Spieler 05",4,1.004005,5,{"$f":"IF(OR(INDEX($BS$21:$BS$28,CF25),INDEX($BS$21:$BS$28,CG25)),0,1)","v":1},{"$f":"INDEX($BT$21:$BT$28,MATCH($CF25,TeilnNr,0))","v":"Spieler 02"},"-",{"$f":"INDEX($BT$21:$BT$28,MATCH($CG25,TeilnNr,0))","v":"Spieler 08"},null,null,{"$f":"BY24","v":7},1,{"$f":"IF(AND(CE25=1,MOD(CD25,2)=0),MAX(TeilnNr),IF(MOD(CE25,2)=0,IF(MAX(TeilnNr)/2-CE25+1-(CD25-MAX(TeilnNr)/2-1)>=1,MAX(TeilnNr)/2-CE25+1-(CD25-MAX(TeilnNr)/2-1),MAX(TeilnNr)/2-CE25+1-(CD25-MAX(TeilnNr)/2-1)+MAX(TeilnNr)-1),IF(CE25-(CD25-1)>=1,CE25-(CD25-1),CE25-(CD25-1)+MAX(TeilnNr)-1)))","v":2},{"$f":"IF(AND(CE25=1,MOD(CD25,2)<>0),MAX(TeilnNr),IF(MOD(CE25,2)<>0,IF(MAX(TeilnNr)/2-CE25+1-(CD25-MAX(TeilnNr)/2-1)>=1,MAX(TeilnNr)/2-CE25+1-(CD25-MAX(TeilnNr)/2-1),MAX(TeilnNr)/2-CE25+1-(CD25-MAX(TeilnNr)/2-1)+MAX(TeilnNr)-1),IF(CE25-(CD25-1)>=1,CE25-(CD25-1),CE25-(CD25-1)+MAX(TeilnNr)-1)))","v":8},{"$f":"IF(LEFT(CC25,1)=\"V\",\"\",LEFT(CC25,1))","v":""},{"$f":"IF(RIGHT(CC25,1)=\"V\",\"\",RIGHT(CC25,1))","v":""},{"$f":"ADDRESS(ROW(Teilnehmer)+CF25,COLUMN(Teilnehmer)+CG25)","v":"$K$22"},{"$f":"ADDRESS(ROW(Teilnehmer)+CG25,COLUMN(Teilnehmer)+CF25)","v":"$E$28"},null,null,null,null,null,null,null,null,null,null,null,null,null,null,{"$f":"BX25","v":1},"Spieler 02","-",{"$f":"CA25","v":"Spieler 08"}]
[null,6,null,"","","","","","","","",0,0,0,null,0,0,1,null,0,0,0,0,0,0,0,0,0,null,0,0,0,0,0,0,0,0,0,null,0,1,1,1,1,1,10101,101,1010101,10101,10101,1010101,101,101,1010101,10101,{"$f":"INDEX($AT26:$BC26,1,WertungskriterienA)","v":10101},{"$f":"SUM((TRANSPOSE($BD$21:$BD$28)=BD26)*$T26:$AA26)","v":0},1,10101,101010101,10101,101010101,10101010101,101010101,1010101010101,1010101010101,101010101,10101010101,{"$f":"INDEX(BG26:BP26,1,WertungskriterienA)","v":101010101},1,false,"Spieler 06",5,1.0050059999999998,6,{"$f":"BX25+1","v":2},{"$f":"INDEX($BT$21:$BT$28,MATCH($CF26,TeilnNr,0))","v":"Spieler 01"},"-",{"$f":"INDEX($BT$21:$BT$28,MATCH($CG26,TeilnNr,0))","v":"Spieler 03"},null,null,{"$f":"CD25","v":7},{"$f":"CE25+1","v":2},{"$f":"IF(AND(CE26=1,MOD(CD26,2)=0),MAX(TeilnNr),IF(MOD(CE26,2)=0,IF(MAX(TeilnNr)/2-CE26+1-(CD26-MAX(TeilnNr)/2-1)>=1,MAX(TeilnNr)/2-CE26+1-(CD26-MAX(TeilnNr)/2-1),MAX(TeilnNr)/2-CE26+1-(CD26-MAX(TeilnNr)/2-1)+MAX(TeilnNr)-1),IF(CE26-(CD26-1)>=1,CE26-(CD26-1),CE26-(CD26-1)+MAX(TeilnNr)-1)))","v":1},{"$f":"IF(AND(CE26=1,MOD(CD26,2)<>0),MAX(TeilnNr),IF(MOD(CE26,2)<>0,IF(MAX(TeilnNr)/2-CE26+1-(CD26-MAX(TeilnNr)/2-1)>=1,MAX(TeilnNr)/2-CE26+1-(CD26-MAX(TeilnNr)/2-1),MAX(TeilnNr)/2-CE26+1-(CD26-MAX(TeilnNr)/2-1)+MAX(TeilnNr)-1),IF(CE26-(CD26-1)>=1,CE26-(CD26-1),CE26-(CD26-1)+MAX(TeilnNr)-1)))","v":3},{"$f":"IF(LEFT(CC26,1)=\"V\",\"\",LEFT(CC26,1))","v":""},{"$f":"IF(RIGHT(CC26,1)=\"V\",\"\",RIGHT(CC26,1))","v":""},{"$f":"ADDRESS(ROW(Teilnehmer)+CF26,COLUMN(Teilnehmer)+CG26)","v":"$F$21"},{"$f":"ADDRESS(ROW(Teilnehmer)+CG26,COLUMN(Teilnehmer)+CF26)","v":"$D$23"},null,null,null,null,null,null,null,null,null,null,null,null,null,null,{"$f":"BX26","v":2},{"$f":"CA26","v":"Spieler 03"},"-",{"$f":"BY26","v":"Spieler 01"}]
[null,7,null,"","","","","","","","",0,0,0,null,0,0,1,null,0,0,0,0,0,0,0,0,0,null,0,0,0,0,0,0,0,0,0,null,0,1,1,1,1,1,10101,101,1010101,10101,10101,1010101,101,101,1010101,10101,{"$f":"INDEX($AT27:$BC27,1,WertungskriterienA)","v":10101},{"$f":"SUM((TRANSPOSE($BD$21:$BD$28)=BD27)*$T27:$AA27)","v":0},1,10101,101010101,10101,101010101,10101010101,101010101,1010101010101,1010101010101,101010101,10101010101,{"$f":"INDEX(BG27:BP27,1,WertungskriterienA)","v":101010101},1,false,"Spieler 07",6,1.0060070000000001,7,{"$f":"BX26+1","v":3},{"$f":"INDEX($BT$21:$BT$28,MATCH($CF27,TeilnNr,0))","v":"Spieler 04"},"-",{"$f":"INDEX($BT$21:$BT$28,MATCH($CG27,TeilnNr,0))","v":"Spieler 07"},null,null,{"$f":"CD26","v":7},{"$f":"CE26+1","v":3},{"$f":"IF(AND(CE27=1,MOD(CD27,2)=0),MAX(TeilnNr),IF(MOD(CE27,2)=0,IF(MAX(TeilnNr)/2-CE27+1-(CD27-MAX(TeilnNr)/2-1)>=1,MAX(TeilnNr)/2-CE27+1-(CD27-MAX(TeilnNr)/2-1),MAX(TeilnNr)/2-CE27+1-(CD27-MAX(TeilnNr)/2-1)+MAX(TeilnNr)-1),IF(CE27-(CD27-1)>=1,CE27-(CD27-1),CE27-(CD27-1)+MAX(TeilnNr)-1)))","v":4},{"$f":"IF(AND(CE27=1,MOD(CD27,2)<>0),MAX(TeilnNr),IF(MOD(CE27,2)<>0,IF(MAX(TeilnNr)/2-CE27+1-(CD27-MAX(TeilnNr)/2-1)>=1,MAX(TeilnNr)/2-CE27+1-(CD27-MAX(TeilnNr)/2-1),MAX(TeilnNr)/2-CE27+1-(CD27-MAX(TeilnNr)/2-1)+MAX(TeilnNr)-1),IF(CE27-(CD27-1)>=1,CE27-(CD27-1),CE27-(CD27-1)+MAX(TeilnNr)-1)))","v":7},{"$f":"IF(LEFT(CC27,1)=\"V\",\"\",LEFT(CC27,1))","v":""},{"$f":"IF(RIGHT(CC27,1)=\"V\",\"\",RIGHT(CC27,1))","v":""},{"$f":"ADDRESS(ROW(Teilnehmer)+CF27,COLUMN(Teilnehmer)+CG27)","v":"$J$24"},{"$f":"ADDRESS(ROW(Teilnehmer)+CG27,COLUMN(Teilnehmer)+CF27)","v":"$G$27"},null,null,null,null,null,null,null,null,null,null,null,null,null,null,3,"Spieler 04","-",{"$f":"CA27","v":"Spieler 07"}]
[null,8,null,"","","","","","","","",0,0,0,null,0,0,1,null,0,0,0,0,0,0,0,0,0,null,0,0,0,0,0,0,0,0,0,null,0,1,1,1,1,1,10101,101,1010101,10101,10101,1010101,101,101,1010101,10101,{"$f":"INDEX($AT28:$BC28,1,WertungskriterienA)","v":10101},{"$f":"SUM((TRANSPOSE($BD$21:$BD$28)=BD28)*$T28:$AA28)","v":0},1,10101,101010101,10101,101010101,10101010101,101010101,1010101010101,1010101010101,101010101,10101010101,{"$f":"INDEX(BG28:BP28,1,WertungskriterienA)","v":101010101},1,false,"Spieler 08",7,1.0070079999999999,8,4,{"$f":"INDEX($BT$21:$BT$28,MATCH($CF28,TeilnNr,0))","v":"Spieler 06"},"-",{"$f":"INDEX($BT$21:$BT$28,MATCH($CG28,TeilnNr,0))","v":"Spieler 05"},null,null,{"$f":"CD27","v":7},4,{"$f":"IF(AND(CE28=1,MOD(CD28,2)=0),MAX(TeilnNr),IF(MOD(CE28,2)=0,IF(MAX(TeilnNr)/2-CE28+1-(CD28-MAX(TeilnNr)/2-1)>=1,MAX(TeilnNr)/2-CE28+1-(CD28-MAX(TeilnNr)/2-1),MAX(TeilnNr)/2-CE28+1-(CD28-MAX(TeilnNr)/2-1)+MAX(TeilnNr)-1),IF(CE28-(CD28-1)>=1,CE28-(CD28-1),CE28-(CD28-1)+MAX(TeilnNr)-1)))","v":6},{"$f":"IF(AND(CE28=1,MOD(CD28,2)<>0),MAX(TeilnNr),IF(MOD(CE28,2)<>0,IF(MAX(TeilnNr)/2-CE28+1-(CD28-MAX(TeilnNr)/2-1)>=1,MAX(TeilnNr)/2-CE28+1-(CD28-MAX(TeilnNr)/2-1),MAX(TeilnNr)/2-CE28+1-(CD28-MAX(TeilnNr)/2-1)+MAX(TeilnNr)-1),IF(CE28-(CD28-1)>=1,CE28-(CD28-1),CE28-(CD28-1)+MAX(TeilnNr)-1)))","v":5},{"$f":"IF(LEFT(CC28,1)=\"V\",\"\",LEFT(CC28,1))","v":""},{"$f":"IF(RIGHT(CC28,1)=\"V\",\"\",RIGHT(CC28,1))","v":""},{"$f":"ADDRESS(ROW(Teilnehmer)+CF28,COLUMN(Teilnehmer)+CG28)","v":"$H$26"},{"$f":"ADDRESS(ROW(Teilnehmer)+CG28,COLUMN(Teilnehmer)+CF28)","v":"$I$25"},null,null,null,null,null,null,null,null,null,null,null,null,null,null,4,{"$f":"CA28","v":"Spieler 05"},"-",{"$f":"BY28","v":"Spieler 06"}]
[null,null,{"$f":"\"-> bei nur \"&MAX(TeilnNr)-1&\" Spielern an Pos. \"&MAX(TeilnNr)&\" einen Stern (*) eintragen\"","v":"-> bei nur 7 Spielern an Pos. 8 einen Stern (*) eintragen"},null,null,null,null,null,null,null,null,null,{"$f":"SUM(M21:M28)","v":0},null,null,{"$f":"SUM(P21:P28)","v":0},{"$f":"SUM(Q21:Q28)","v":0}]

{"sheet":"6","index":10,"n_rows":25,"n_cols":106,"rows_kept":25,"cut":false,"hidden":false,"merged":[[15,72,15,74],[16,13,16,14],[0,1,0,15],[1,86,1,88],[3,72,3,88],[5,72,5,74],[5,86,5,88],[10,72,10,74],[10,86,10,88]]}
[null,"Turniername",null,null,null,null,null,null,null,null,null,null,null,null,null,null,null,null,null,null,null,null,null,null,null,null,null,1,"1) Punkte 2) So-Be 3) Manuelle Feinwertung ",null,null,null,null,null,null,null,null,null,null,null,null,null,null,null,null,null,null,null,null,null,null,null,null,"Wiederholung Kriterien:",null,null,null,null,null,null,null,null,null,null,null,null,null,null,null,null,{"$f":"\"Paarungsliste und Resultate \"&IF(Turnier=\"\",\"\",Turnier)","v":"Paarungsliste und Resultate Turniername"},null,null,null,null,null,null,null,null,null,null,null,null,null,null,null,null,null,null,null,null,null,null,null,null,null,null,null,"Paarungsliste Darstellung Rutschsystem",null,null,null,null,null,{"$f":"IF(Datum=\"\",\"\",\"Datum:\")","v":""}]
[null,null,null,null,null,null,null,null,null,null,null,null,null,null,null,null,null,null,null,null,null,null,null,null,"a","b","P",2,"1) Punkte 2) So-Be 3) direkte Begegnung 4) Manuelle Feinwertung ",null,null,null,null,null,null,null,null,null,null,null,null,null,null,null,null,null,null,null,null,null,null,null,1,{"$f":"AC1","v":"1) Punkte 2) So-Be 3) Manuelle Feinwertung "},null,null,null,null,null,null,null,null,null,null,null,null,null,null,null,null,{"$f":"IF(Turnier=\"\",\"\",\"Turniername:\")","v":"Turniername:"},null,{"$f":"IF(Turnier=\"\",\"\",Turnier)","v":"Turniername"},null,null,null,null,null,null,null,null,null,null,null,null,"Datum:",null,null,null,null,null,null,null,null,null,null,null,null,{"$f":"IF(Turnier=\"\",\"\",\"Turniername:\")","v":"Turniername:"},null,{"$f":"IF(Turnier=\"\",\"\",Turnier)&IF(Datum=\"\",\"\",\", \"&TEXT(Datum,\"TT.MM.JJJJ\"))","v":"Turniername"}]
[null,null,null,null,null,null,null,null,null,null,null,null,null,null,null,null,null,null,null,null,null,null,null,null,"1","0",1,3,"1) Punkte 2) Anz. Partien 3) So-Be 4) Manuelle Feinwertung "]
[null,"Rangliste",null,null,null,null,null,null,null,null,null,null,null,null,null,null,null,null,null,null,null,null,null,null,"0","1",0,4,"1) Punkte 2) Anz. Partien 3) So-Be 4) direkte Begegnung 5) Manuelle Feinwertung ",null,null,null,null,null,null,null,null,null,null,null,null,null,null,null,null,null,null,null,null,null,null,null,2,{"$f":"AC2","v":"1) Punkte 2) So-Be 3) direkte Begegnung 4) Manuelle Feinwertung "},null,null,null,null,null,null,null,null,null,null,null,null,null,null,null,null,"Turnierleitung:",null,null,null,null,null,null,null,null,null,null,null,null,null,null,null,null,null,null,null,null,null,null,null,null,null,null,null,{"$f":"IF(Turnierleitung=\"\",\"\",\"Turnierleitung:\")","v":""},null,{"$f":"IF(Turnierleitung=\"\",\"\",Turnierleitung)","v":""}]
[null,null,null,null,null,null,null,null,null,null,null,null,null,null,null,null,null,null,null,null,null,null,null,null,"½","½",0.5,5,"1) Punkte 2) Anz. Partien 3) So-Be 4) direkte Begegnung 5) Anz.Schwarzpartien 6) Manuelle Feinwertung ",null,null,null,null,null,null,null,null,null,null,null,null,null,null,null,null,null,null,null,null,null,null,null,3,"1) Punkte 2) Anz. Partien 3) So-Be 4) Manuelle Feinwertung "]
[null,"Rang","Teilnehmer",1,2,3,4,5,6,"Punkte","Spiele","So-Be",{"$f":"IF(M18=\"\",\"FWm\",M18)","v":"FW+"},1,"½",0,"Nr",null,null,null,null,null,null,null,"+","-",1,6,"1) Punkte 2) Anz. Partien 3) So-Be 4) Anz.Schwarzpartien 5) direkte Begegnung 6) Manuelle Feinwertung ",null,null,null,null,null,null,null,null,null,null,null,null,null,null,null,null,null,null,null,null,null,null,null,4,"1) Punkte 2) Anz. Partien 3) So-Be 4) direkte Begegnung 5) Manuelle Feinwertung ",null,null,null,null,null,null,null,null,null,null,null,null,null,null,null,null,1,null,null,null,null,"R","B","SpNr w","SpNr s","Res w","Res s","AdrTTw","AdrTTs",null,{"$f":"BS6+1","v":2},null,null,null,null,"R","B","SpNr w","SpNr s","Res w","Res s","AdrTTw","AdrTTs",null,{"$f":"BS6","v":1},1,null,null,null,{"$f":"CG6","v":2}]
[null,{"$f":"IF(INDEX($BM$19:$BM$24,MATCH(B19,$BQ$19:$BQ$24,0)),\"--\",IF(INDEX($BL$19:$BL$24,MATCH(B19,$BQ$19:$BQ$24,0))<ROW()-ROW($B$6),\"\",INDEX($BL$19:$BL$24,MATCH(B19,$BQ$19:$BQ$24,0))))","v":1},{"$f":"IF(INDEX($C$19:$C$24,MATCH(B19,$BQ$19:$BQ$24,0))=0,\"Spieler \"&TEXT(Q7,\"00\"),INDEX($C$19:$C$24,MATCH(B19,$BQ$19:$BQ$24,0)))","v":"Spieler 01"},{"$f":"IF(INDEX($B$18:$I$24,MATCH($Q7,$B$18:$B$24,0),MATCH(INDEX($B$19:$B$24,MATCH(OFFSET($Q$6,D$6,0),$B$19:$B$24,0)),$B$18:$I$18,0))=\"\",\"\",INDEX($B$18:$I$24,MATCH($Q7,$B$18:$B$24,0),MATCH(INDEX($B$19:$B$24,MATCH(OFFSET($Q$6,D$6,0),$B$19:$B$24,0)),$B$18:$I$18,0)))","v":""},"","","","","",{"$f":"INDEX($X$19:$X$24,MATCH(Q7,$B$19:$B$24,0))","v":0},{"$f":"INDEX($K$19:$K$24,MATCH(Q7,$B$19:$B$24,0))","v":0},{"$f":"INDEX($L$19:$L$24,MATCH(Q7,$B$19:$B$24,0))","v":0},{"$f":"INDEX($M$19:$M$24,MATCH(Q7,$B$19:$B$24,0))","v":0},{"$f":"COUNTIF($D7:$I7,1)+COUNTIF($D7:$I7,\"+\")","v":0},{"$f":"COUNTIF($D7:$I7,\"½\")","v":0},{"$f":"COUNTIF($D7:$I7,0)+COUNTIF($D7:$I7,\"-\")","v":0},{"$f":"INDEX($B$19:$B$24,MATCH(B19,$BQ$19:$BQ$24,0))","v":1},null,null,null,null,null,null,null,"-","+",0,7,"1) Punkte 2) Anz. Partien 3) direkte Begegnung 4) So-Be 5) Anz.Schwarzpartien 6) Manuelle Feinwertung ",null,null,null,null,null,null,null,null,null,null,null,null,null,null,null,null,null,null,null,null,null,null,null,5,"1) Punkte 2) Anz. Partien 3) So-Be 4) direkte Begegnung 5) Anz.Schwarzpartien 6) Manuelle Feinwertung ",null,null,null,null,null,null,null,null,null,null,null,null,null,null,null,{"$f":"IF(OR(INDEX($BM$19:$BM$24,BZ7),INDEX($BM$19:$BM$24,CA7)),0,1)","v":1},{"$f":"INDEX($BN$19:$BN$24,MATCH($BZ7,TeilnNr,0))","v":"Spieler 01"},"-",{"$f":"INDEX($BN$19:$BN$24,MATCH($CA7,TeilnNr,0))","v":"Spieler 06"},null,null,{"$f":"BS6","v":1},1,{"$f":"IF(AND(BY7=1,MOD(BX7,2)=0),MAX(TeilnNr),IF(MOD(BY7,2)=0,IF(MAX(TeilnNr)/2-BY7+1-(BX7-MAX(TeilnNr)/2-1)>=1,MAX(TeilnNr)/2-BY7+1-(BX7-MAX(TeilnNr)/2-1),MAX(TeilnNr)/2-BY7+1-(BX7-MAX(TeilnNr)/2-1)+MAX(TeilnNr)-1),IF(BY7-(BX7-1)>=1,BY7-(BX7-1),BY7-(BX7-1)+MAX(TeilnNr)-1)))","v":1},{"$f":"IF(AND(BY7=1,MOD(BX7,2)<>0),MAX(TeilnNr),IF(MOD(BY7,2)<>0,IF(MAX(TeilnNr)/2-BY7+1-(BX7-MAX(TeilnNr)/2-1)>=1,MAX(TeilnNr)/2-BY7+1-(BX7-MAX(TeilnNr)/2-1),MAX(TeilnNr)/2-BY7+1-(BX7-MAX(TeilnNr)/2-1)+MAX(TeilnNr)-1),IF(BY7-(BX7-1)>=1,BY7-(BX7-1),BY7-(BX7-1)+MAX(TeilnNr)-1)))","v":6},{"$f":"IF(LEFT(BW7,1)=\"V\",\"\",LEFT(BW7,1))","v":""},{"$f":"IF(RIGHT(BW7,1)=\"V\",\"\",RIGHT(BW7,1))","v":""},{"$f":"ADDRESS(ROW(Teilnehmer)+BZ7,COLUMN(Teilnehmer)+CA7)","v":"$I$19"},{"$f":"ADDRESS(ROW(Teilnehmer)+CA7,COLUMN(Teilnehmer)+BZ7)","v":"$D$24"},{"$f":"IF(OR(INDEX($BM$19:$BM$24,CN7),INDEX($BM$19:$BM$24,CO7)),0,1)","v":1},{"$f":"INDEX($BN$19:$BN$24,MATCH($CN7,TeilnNr,0))","v":"Spieler 06"},"-",{"$f":"INDEX($BN$19:$BN$24,MATCH($CO7,TeilnNr,0))","v":"Spieler 05"},null,null,{"$f":"CG6","v":2},1,{"$f":"IF(AND(CM7=1,MOD(CL7,2)=0),MAX(TeilnNr),IF(MOD(CM7,2)=0,IF(MAX(TeilnNr)/2-CM7+1-(CL7-MAX(TeilnNr)/2-1)>=1,MAX(TeilnNr)/2-CM7+1-(CL7-MAX(TeilnNr)/2-1),MAX(TeilnNr)/2-CM7+1-(CL7-MAX(TeilnNr)/2-1)+MAX(TeilnNr)-1),IF(CM7-(CL7-1)>=1,CM7-(CL7-1),CM7-(CL7-1)+MAX(TeilnNr)-1)))","v":6},{"$f":"IF(AND(CM7=1,MOD(CL7,2)<>0),MAX(TeilnNr),IF(MOD(CM7,2)<>0,IF(MAX(TeilnNr)/2-CM7+1-(CL7-MAX(TeilnNr)/2-1)>=1,MAX(TeilnNr)/2-CM7+1-(CL7-MAX(TeilnNr)/2-1),MAX(TeilnNr)/2-CM7+1-(CL7-MAX(TeilnNr)/2-1)+MAX(TeilnNr)-1),IF(CM7-(CL7-1)>=1,CM7-(CL7-1),CM7-(CL7-1)+MAX(TeilnNr)-1)))","v":5},{"$f":"IF(LEFT(CK7,1)=\"V\",\"\",LEFT(CK7,1))","v":""},{"$f":"IF(RIGHT(CK7,1)=\"V\",\"\",RIGHT(CK7,1))","v":""},{"$f":"ADDRESS(ROW(Teilnehmer)+CN7,COLUMN(Teilnehmer)+CO7)","v":"$H$24"},{"$f":"ADDRESS(ROW(Teilnehmer)+CO7,COLUMN(Teilnehmer)+CN7)","v":"$I$23"},{"$f":"BR7","v":1},{"$f":"BS7","v":"Spieler 01"},"-",{"$f":"BU7","v":"Spieler 06"},null,{"$f":"CF7","v":1},{"$f":"CI7","v":"Spieler 05"},"-",{"$f":"CG7","v":"Spieler 06"}]
[null,"","Spieler 02","","","","","","",0,0,0,0,0,0,0,2,null,null,null,null,null,null,null,null,null,null,8,"1) Punkte 2) Anz. Partien 3) direkte Begegnung 4) Anz.Schwarzpartien 5) So-Be 6) Manuelle Feinwertung ",null,null,null,null,null,null,null,null,null,null,null,null,null,null,null,null,null,null,null,null,null,null,null,6,"1) Punkte 2) Anz. Partien 3) So-Be 4) Anz.Schwarzpartien 5) direkte Begegnung 6) Manuelle Feinwertung ",null,null,null,null,null,null,null,null,null,null,null,null,null,null,null,{"$f":"BR7+1","v":2},{"$f":"INDEX($BN$19:$BN$24,MATCH($BZ8,TeilnNr,0))","v":"Spieler 05"},"-",{"$f":"INDEX($BN$19:$BN$24,MATCH($CA8,TeilnNr,0))","v":"Spieler 02"},null,null,{"$f":"BX7","v":1},{"$f":"BY7+1","v":2},5,2,{"$f":"IF(LEFT(BW8,1)=\"V\",\"\",LEFT(BW8,1))","v":""},{"$f":"IF(RIGHT(BW8,1)=\"V\",\"\",RIGHT(BW8,1))","v":""},"$E$23","$H$20",{"$f":"CF7+1","v":2},{"$f":"INDEX($BN$19:$BN$24,MATCH($CN8,TeilnNr,0))","v":"Spieler 04"},"-",{"$f":"INDEX($BN$19:$BN$24,MATCH($CO8,TeilnNr,0))","v":"Spieler 01"},null,null,{"$f":"CL7","v":2},{"$f":"CM7+1","v":2},4,1,{"$f":"IF(LEFT(CK8,1)=\"V\",\"\",LEFT(CK8,1))","v":""},{"$f":"IF(RIGHT(CK8,1)=\"V\",\"\",RIGHT(CK8,1))","v":""},"$D$22","$G$19",{"$f":"BR8","v":2},{"$f":"BU8","v":"Spieler 02"},"-",{"$f":"BS8","v":"Spieler 05"},null,{"$f":"CF8","v":2},{"$f":"CI8","v":"Spieler 01"},"-",{"$f":"CG8","v":"Spieler 04"}]
[null,"","Spieler 03","","","","","","",0,0,0,0,0,0,0,3,null,null,null,null,null,null,null,null,null,null,9,"1) Punkte 2) Anz. Partien 3) Anz.Schwarzpartien 4) So-Be 5) direkte Begegnung 6) Manuelle Feinwertung ",null,null,null,null,null,null,null,null,null,null,null,null,null,null,null,null,null,null,null,null,null,null,null,7,"1) Punkte 2) Anz. Partien 3) direkte Begegnung 4) So-Be 5) Anz.Schwarzpartien 6) Manuelle Feinwertung ",null,null,null,null,null,null,null,null,null,null,null,null,null,null,null,{"$f":"BR8+1","v":3},{"$f":"INDEX($BN$19:$BN$24,MATCH($BZ9,TeilnNr,0))","v":"Spieler 03"},"-",{"$f":"INDEX($BN$19:$BN$24,MATCH($CA9,TeilnNr,0))","v":"Spieler 04"},null,null,{"$f":"BX8","v":1},{"$f":"BY8+1","v":3},3,4,{"$f":"IF(LEFT(BW9,1)=\"V\",\"\",LEFT(BW9,1))","v":""},{"$f":"IF(RIGHT(BW9,1)=\"V\",\"\",RIGHT(BW9,1))","v":""},"$G$21","$F$22",{"$f":"CF8+1","v":3},{"$f":"INDEX($BN$19:$BN$24,MATCH($CN9,TeilnNr,0))","v":"Spieler 02"},"-",{"$f":"INDEX($BN$19:$BN$24,MATCH($CO9,TeilnNr,0))","v":"Spieler 03"},null,null,{"$f":"CL8","v":2},{"$f":"CM8+1","v":3},2,3,{"$f":"IF(LEFT(CK9,1)=\"V\",\"\",LEFT(CK9,1))","v":""},{"$f":"IF(RIGHT(CK9,1)=\"V\",\"\",RIGHT(CK9,1))","v":""},"$F$20","$E$21",{"$f":"BR9","v":3},{"$f":"BS9","v":"Spieler 03"},"-",{"$f":"BU9","v":"Spieler 04"},null,{"$f":"CF9","v":3},{"$f":"CG9","v":"Spieler 02"},"-",{"$f":"CI9","v":"Spieler 03"}]
[null,"","Spieler 04","","","","","","",0,0,0,0,0,0,0,4,null,null,null,null,null,null,null,null,null,4,10,"1) Punkte 2) Anz. Partien 3) Anz.Schwarzpartien 4) direkte Begegnung 5) So-Be 6) Manuelle Feinwertung ",null,null,null,null,null,null,null,null,null,null,null,null,null,null,null,null,null,null,null,null,null,null,null,8,"1) Punkte 2) Anz. Partien 3) direkte Begegnung 4) Anz.Schwarzpartien 5) So-Be 6) Manuelle Feinwertung "]
[null,"","Spieler 05","","","","","","",0,0,0,0,0,0,0,5,null,null,null,null,null,null,null,null,null,null,null,null,null,null,null,null,null,null,null,null,null,null,null,null,null,null,null,null,null,null,null,null,null,null,null,9,"1) Punkte 2) Anz. Partien 3) Anz.Schwarzpartien 4) So-Be 5) direkte Begegnung 6) Manuelle Feinwertung ",null,null,null,null,null,null,null,null,null,null,null,null,null,null,null,null,{"$f":"BS6+2","v":3},null,null,null,null,"R","B","SpNr w","SpNr s","Res w","Res s",null,null,null,{"$f":"CG6+2","v":4},null,null,null,null,"R","B","SpNr w","SpNr s","Res w","Res s",null,null,null,{"$f":"BS11","v":3},1,null,null,null,{"$f":"CG11","v":4}]
[null,"","Spieler 06","","","","","","",0,0,0,0,0,0,0,6,null,null,null,null,null,null,null,null,null,null,null,null,null,null,null,null,null,null,null,null,null,null,null,null,null,null,null,null,null,null,null,null,null,null,null,10,"1) Punkte 2) Anz. Partien 3) Anz.Schwarzpartien 4) direkte Begegnung 5) So-Be 6) Manuelle Feinwertung ",null,null,null,null,null,null,null,null,null,null,null,null,null,null,null,{"$f":"IF(OR(INDEX($BM$19:$BM$24,BZ12),INDEX($BM$19:$BM$24,CA12)),0,1)","v":1},{"$f":"INDEX($BN$19:$BN$24,MATCH($BZ12,TeilnNr,0))","v":"Spieler 04"},"-",{"$f":"INDEX($BN$19:$BN$24,MATCH($CA12,TeilnNr,0))","v":"Spieler 06"},null,null,{"$f":"BS11","v":3},1,{"$f":"IF(AND(BY12=1,MOD(BX12,2)=0),MAX(TeilnNr),IF(MOD(BY12,2)=0,IF(MAX(TeilnNr)/2-BY12+1-(BX12-MAX(TeilnNr)/2-1)>=1,MAX(TeilnNr)/2-BY12+1-(BX12-MAX(TeilnNr)/2-1),MAX(TeilnNr)/2-BY12+1-(BX12-MAX(TeilnNr)/2-1)+MAX(TeilnNr)-1),IF(BY12-(BX12-1)>=1,BY12-(BX12-1),BY12-(BX12-1)+MAX(TeilnNr)-1)))","v":4},{"$f":"IF(AND(BY12=1,MOD(BX12,2)<>0),MAX(TeilnNr),IF(MOD(BY12,2)<>0,IF(MAX(TeilnNr)/2-BY12+1-(BX12-MAX(TeilnNr)/2-1)>=1,MAX(TeilnNr)/2-BY12+1-(BX12-MAX(TeilnNr)/2-1),MAX(TeilnNr)/2-BY12+1-(BX12-MAX(TeilnNr)/2-1)+MAX(TeilnNr)-1),IF(BY12-(BX12-1)>=1,BY12-(BX12-1),BY12-(BX12-1)+MAX(TeilnNr)-1)))","v":6},{"$f":"IF(LEFT(BW12,1)=\"V\",\"\",LEFT(BW12,1))","v":""},{"$f":"IF(RIGHT(BW12,1)=\"V\",\"\",RIGHT(BW12,1))","v":""},{"$f":"ADDRESS(ROW(Teilnehmer)+BZ12,COLUMN(Teilnehmer)+CA12)","v":"$I$22"},{"$f":"ADDRESS(ROW(Teilnehmer)+CA12,COLUMN(Teilnehmer)+BZ12)","v":"$G$24"},{"$f":"IF(OR(INDEX($BM$19:$BM$24,CN12),INDEX($BM$19:$BM$24,CO12)),0,1)","v":1},{"$f":"INDEX($BN$19:$BN$24,MATCH($CN12,TeilnNr,0))","v":"Spieler 06"},"-",{"$f":"INDEX($BN$19:$BN$24,MATCH($CO12,TeilnNr,0))","v":"Spieler 03"},null,null,{"$f":"CG11","v":4},1,{"$f":"IF(AND(CM12=1,MOD(CL12,2)=0),MAX(TeilnNr),IF(MOD(CM12,2)=0,IF(MAX(TeilnNr)/2-CM12+1-(CL12-MAX(TeilnNr)/2-1)>=1,MAX(TeilnNr)/2-CM12+1-(CL12-MAX(TeilnNr)/2-1),MAX(TeilnNr)/2-CM12+1-(CL12-MAX(TeilnNr)/2-1)+MAX(TeilnNr)-1),IF(CM12-(CL12-1)>=1,CM12-(CL12-1),CM12-(CL12-1)+MAX(TeilnNr)-1)))","v":6},{"$f":"IF(AND(CM12=1,MOD(CL12,2)<>0),MAX(TeilnNr),IF(MOD(CM12,2)<>0,IF(MAX(TeilnNr)/2-CM12+1-(CL12-MAX(TeilnNr)/2-1)>=1,MAX(TeilnNr)/2-CM12+1-(CL12-MAX(TeilnNr)/2-1),MAX(TeilnNr)/2-CM12+1-(CL12-MAX(TeilnNr)/2-1)+MAX(TeilnNr)-1),IF(CM12-(CL12-1)>=1,CM12-(CL12-1),CM12-(CL12-1)+MAX(TeilnNr)-1)))","v":3},{"$f":"IF(LEFT(CK12,1)=\"V\",\"\",LEFT(CK12,1))","v":""},{"$f":"IF(RIGHT(CK12,1)=\"V\",\"\",RIGHT(CK12,1))","v":""},{"$f":"ADDRESS(ROW(Teilnehmer)+CN12,COLUMN(Teilnehmer)+CO12)","v":"$F$24"},{"$f":"ADDRESS(ROW(Teilnehmer)+CO12,COLUMN(Teilnehmer)+CN12)","v":"$I$21"},{"$f":"BR12","v":1},"Spieler 04","-",{"$f":"BU12","v":"Spieler 06"},null,{"$f":"CF12","v":1},{"$f":"CI12","v":"Spieler 03"},"-",{"$f":"CG12","v":"Spieler 06"}]
[null,"Wertungskriterien:",null,null,null,null,null,null,null,null,null,null,null,null,null,null,null,null,null,null,null,null,null,null,null,null,null,null,null,null,null,null,null,null,null,null,null,null,null,null,null,null,null,null,null,null,null,null,null,null,null,null,null,null,null,null,null,null,null,null,null,null,null,null,null,null,null,null,null,{"$f":"BR12+1","v":2},{"$f":"INDEX($BN$19:$BN$24,MATCH($BZ13,TeilnNr,0))","v":"Spieler 03"},"-",{"$f":"INDEX($BN$19:$BN$24,MATCH($CA13,TeilnNr,0))","v":"Spieler 05"},null,null,{"$f":"BX12","v":3},{"$f":"BY12+1","v":2},3,5,{"$f":"IF(LEFT(BW13,1)=\"V\",\"\",LEFT(BW13,1))","v":""},{"$f":"IF(RIGHT(BW13,1)=\"V\",\"\",RIGHT(BW13,1))","v":""},"$H$21","$F$23",{"$f":"CF12+1","v":2},{"$f":"INDEX($BN$19:$BN$24,MATCH($CN13,TeilnNr,0))","v":"Spieler 02"},"-",{"$f":"INDEX($BN$19:$BN$24,MATCH($CO13,TeilnNr,0))","v":"Spieler 04"},null,null,{"$f":"CL12","v":4},{"$f":"CM12+1","v":2},2,4,{"$f":"IF(LEFT(CK13,1)=\"V\",\"\",LEFT(CK13,1))","v":""},{"$f":"IF(RIGHT(CK13,1)=\"V\",\"\",RIGHT(CK13,1))","v":""},"$G$20","$E$22",{"$f":"BR13","v":2},{"$f":"BU13","v":"Spieler 05"},"-",{"$f":"BS13","v":"Spieler 03"},null,2,"Spieler 04","-","Spieler 02"]
[null,{"$f":"INDEX(Wertungskriterien,WertungskriterienA)","v":"1) Punkte 2) Anz. Partien 3) So-Be 4) direkte Begegnung 5) Manuelle Feinwertung "},null,null,null,null,null,null,null,null,null,null,null,null,null,null,null,null,null,null,null,null,null,null,null,null,null,null,null,null,null,null,null,null,null,null,null,null,null,null,null,null,null,null,null,null,null,null,null,null,null,null,null,null,null,null,null,null,null,null,null,null,null,null,null,null,null,null,null,{"$f":"BR13+1","v":3},{"$f":"INDEX($BN$19:$BN$24,MATCH($BZ14,TeilnNr,0))","v":"Spieler 01"},"-",{"$f":"INDEX($BN$19:$BN$24,MATCH($CA14,TeilnNr,0))","v":"Spieler 02"},null,null,{"$f":"BX13","v":3},{"$f":"BY13+1","v":3},1,2,{"$f":"IF(LEFT(BW14,1)=\"V\",\"\",LEFT(BW14,1))","v":""},{"$f":"IF(RIGHT(BW14,1)=\"V\",\"\",RIGHT(BW14,1))","v":""},"$E$19","$D$20",{"$f":"CF13+1","v":3},{"$f":"INDEX($BN$19:$BN$24,MATCH($CN14,TeilnNr,0))","v":"Spieler 05"},"-",{"$f":"INDEX($BN$19:$BN$24,MATCH($CO14,TeilnNr,0))","v":"Spieler 01"},null,null,{"$f":"CL13","v":4},{"$f":"CM13+1","v":3},5,1,{"$f":"IF(LEFT(CK14,1)=\"V\",\"\",LEFT(CK14,1))","v":""},{"$f":"IF(RIGHT(CK14,1)=\"V\",\"\",RIGHT(CK14,1))","v":""},"$D$23","$H$19",3,"Spieler 01","-",{"$f":"BU14","v":"Spieler 02"},null,3,"Spieler 05","-",{"$f":"CI14","v":"Spieler 01"}]
[]
[null,"+",null,null,null,null,null,null,null,null,null,null,{"$f":"IF(EinAusblenden=\"-\",\"\",IF(FWPlusMinus=\"+\",\"é\",\"ê\"))","v":"é"},null,null,null,null,null,null,null,null,null,null,null,null,null,null,null,null,null,null,null,null,null,null,null,null,null,null,null,null,null,null,null,null,null,null,null,null,null,null,null,null,null,null,null,null,null,null,null,null,null,null,null,null,null,null,null,null,null,{"$f":"BS11+2","v":5},null,null,null,null,"R","B","SpNr w","SpNr s","Res w","Res s",null,null,null,null,null,null,null,null,null,null,null,null,null,null,null,null,null,{"$f":"BS16","v":5},1]
[null,"Turniertabelle",null,null,null,null,null,null,null,null,null,"manuelle Feinwertung: ","+","Partien",null,null,null,"Punkte",null,null,null,null,null,null,null,"Sonneborn-Berger-Berechnung",null,null,null,null,null,null,null,{"$f":"MAX(AH19:AH24)","v":0},null,null,null,null,{"$f":"FWPlusMinus=\"+\"","v":true},"Summierung Wertungskriterien vor direkter Begegnung",null,null,null,null,null,null,null,null,null,null,null,null,"Summierung Wertungskriterien nach direkter Begegnung",null,null,null,null,null,null,null,null,null,null,null,null,null,null,null,null,{"$f":"IF(OR(INDEX($BM$19:$BM$24,BZ17),INDEX($BM$19:$BM$24,CA17)),0,1)","v":1},{"$f":"INDEX($BN$19:$BN$24,MATCH($BZ17,TeilnNr,0))","v":"Spieler 02"},"-",{"$f":"INDEX($BN$19:$BN$24,MATCH($CA17,TeilnNr,0))","v":"Spieler 06"},null,null,{"$f":"BS16","v":5},1,{"$f":"IF(AND(BY17=1,MOD(BX17,2)=0),MAX(TeilnNr),IF(MOD(BY17,2)=0,IF(MAX(TeilnNr)/2-BY17+1-(BX17-MAX(TeilnNr)/2-1)>=1,MAX(TeilnNr)/2-BY17+1-(BX17-MAX(TeilnNr)/2-1),MAX(TeilnNr)/2-BY17+1-(BX17-MAX(TeilnNr)/2-1)+MAX(TeilnNr)-1),IF(BY17-(BX17-1)>=1,BY17-(BX17-1),BY17-(BX17-1)+MAX(TeilnNr)-1)))","v":2},{"$f":"IF(AND(BY17=1,MOD(BX17,2)<>0),MAX(TeilnNr),IF(MOD(BY17,2)<>0,IF(MAX(TeilnNr)/2-BY17+1-(BX17-MAX(TeilnNr)/2-1)>=1,MAX(TeilnNr)/2-BY17+1-(BX17-MAX(TeilnNr)/2-1),MAX(TeilnNr)/2-BY17+1-(BX17-MAX(TeilnNr)/2-1)+MAX(TeilnNr)-1),IF(BY17-(BX17-1)>=1,BY17-(BX17-1),BY17-(BX17-1)+MAX(TeilnNr)-1)))","v":6},{"$f":"IF(LEFT(BW17,1)=\"V\",\"\",LEFT(BW17,1))","v":""},{"$f":"IF(RIGHT(BW17,1)=\"V\",\"\",RIGHT(BW17,1))","v":""},{"$f":"ADDRESS(ROW(Teilnehmer)+BZ17,COLUMN(Teilnehmer)+CA17)","v":"$I$20"},{"$f":"ADDRESS(ROW(Teilnehmer)+CA17,COLUMN(Teilnehmer)+BZ17)","v":"$E$24"},null,null,null,null,null,null,null,null,null,null,null,null,null,null,{"$f":"BR17","v":1},"Spieler 02","-",{"$f":"BU17","v":"Spieler 06"}]
[null,"Nr.","Teilnehmer",1,2,3,4,5,6,"Punkte","Spiele","So-Be","FW+","weiss","schw.","Rang",null,1,2,3,4,5,6,"P",null,1,2,3,4,5,6,"So-Be",null,{"$f":"IF(M18=\"\",\"FW2\",M18)","v":"FW+"},"Rang\nPunkte","Rang\nPartien","Rang\nSo-Be","Rang\nschwrz","Rang\nFW?","Wertung 1","Wertung 2","Wertung 3","Wertung 4","Wertung 5","Wertung 6","Wertung 7","Wertung 8","Wertung 9","Wertung 10","Wertung","direkte Begegnung","Rang\ndir.Begegn.","Wertung 1","Wertung 2","Wertung 3","Wertung 4","Wertung 5","Wertung 6","Wertung 7","Wertung 8","Wertung 9","Wertung 10","Wertung2","Rang","Platz-halter?","Name","Alphabet","Rang & Alphabet","Reihen-folge",{"$f":"BR17+1","v":2},{"$f":"INDEX($BN$19:$BN$24,MATCH($BZ18,TeilnNr,0))","v":"Spieler 01"},"-",{"$f":"INDEX($BN$19:$BN$24,MATCH($CA18,TeilnNr,0))","v":"Spieler 03"},null,null,{"$f":"BX17","v":5},{"$f":"BY17+1","v":2},1,3,{"$f":"IF(LEFT(BW18,1)=\"V\",\"\",LEFT(BW18,1))","v":""},{"$f":"IF(RIGHT(BW18,1)=\"V\",\"\",RIGHT(BW18,1))","v":""},{"$f":"ADDRESS(ROW(Teilnehmer)+BZ18,COLUMN(Teilnehmer)+CA18)","v":"$F$19"},{"$f":"ADDRESS(ROW(Teilnehmer)+CA18,COLUMN(Teilnehmer)+BZ18)","v":"$D$21"},null,null,null,null,null,null,null,null,null,null,null,null,null,null,{"$f":"BR18","v":2},{"$f":"BU18","v":"Spieler 03"},"-",{"$f":"BS18","v":"Spieler 01"}]
[null,1,null,{"$f":"IF(ISNA(MATCH(ADDRESS(ROW(),COLUMN()),$CD:$CD,0)),\"\",INDEX($CB:$CB,MATCH(ADDRESS(ROW(),COLUMN()),$CD:$CD,0)))&IF(ISNA(MATCH(ADDRESS(ROW(),COLUMN()),$CE:$CE,0)),\"\",INDEX($CC:$CC,MATCH(ADDRESS(ROW(),COLUMN()),$CE:$CE,0)))&IF(ISNA(MATCH(ADDRESS(ROW(),COLUMN()),$CR:$CR,0)),\"\",INDEX($CP:$CP,MATCH(ADDRESS(ROW(),COLUMN()),$CR:$CR,0)))&IF(ISNA(MATCH(ADDRESS(ROW(),COLUMN()),$CS:$CS,0)),\"\",INDEX($CQ:$CQ,MATCH(ADDRESS(ROW(),COLUMN()),$CS:$CS,0)))","v":""},"","","","","",{"$f":"X19","v":0},{"$f":"MAX($B$19:$B$24)-COUNTIF(D19:I19,\"\")","v":0},{"$f":"AF19","v":0},null,{"$f":"IF($BM19,0,COUNTIFS($BZ:$BZ,$B19,$BW:$BW,\"<>\")+COUNTIFS($CN:$CN,$B19,$CK:$CK,\"<>\"))","v":0},{"$f":"IF($BM19,0,COUNTIFS($CA:$CA,$B19,$BW:$BW,\"<>\")+COUNTIFS($CO:$CO,$B19,$CK:$CK,\"<>\"))","v":0},{"$f":"BL19","v":1},null,{"$f":"IF(D19=\"\",0,VLOOKUP(D19,Wertung,3,FALSE))","v":0},0,0,0,0,0,{"$f":"SUM(R19:W19)","v":0},null,{"$f":"R19*INDEX($X:$X,ROW($Z$18)+R$18)","v":0},0,0,0,0,0,{"$f":"SUM(Z19:AE19)","v":0},null,{"$f":"M19","v":0},{"$f":"RANK($X19,$X$19:$X$24,0)","v":1},{"$f":"RANK($K19,$K$19:$K$24,1)","v":1},{"$f":"RANK($AF19,$AF$19:$AF$24,0)","v":1},{"$f":"RANK($O19,$O$19:$O$24,0)","v":1},{"$f":"RANK($AH19,$AH$19:$AH$24,IF($AM$17,0,1))","v":1},{"$f":"VALUE(CONCATENATE(IF($BM19,\"1\",\"0\"),TEXT($AI19,\"00\"),TEXT($AK19,\"00\"),TEXT($AM19,\"00\")))","v":10101},{"$f":"VALUE(CONCATENATE(IF($BM19,\"1\",\"0\"),TEXT($AI19,\"00\"),TEXT($AK19,\"00\")))","v":101},{"$f":"VALUE(CONCATENATE(IF($BM19,\"1\",\"0\"),TEXT($AI19,\"00\"),TEXT($AJ19,\"00\"),TEXT($AK19,\"00\"),TEXT($AM19,\"00\")))","v":1010101},{"$f":"VALUE(CONCATENATE(IF($BM19,\"1\",\"0\"),TEXT($AI19,\"00\"),TEXT($AJ19,\"00\"),TEXT($AK19,\"00\")))","v":10101},{"$f":"VALUE(CONCATENATE(IF($BM19,\"1\",\"0\"),TEXT($AI19,\"00\"),TEXT($AJ19,\"00\"),TEXT($AK19,\"00\")))","v":10101},{"$f":"VALUE(CONCATENATE(IF($BM19,\"1\",\"0\"),TEXT($AI19,\"00\"),TEXT($AJ19,\"00\"),TEXT($AK19,\"00\"),TEXT($AL19,\"00\")))","v":1010101},{"$f":"VALUE(CONCATENATE(IF($BM19,\"1\",\"0\"),TEXT($AI19,\"00\"),TEXT($AJ19,\"00\")))","v":101},{"$f":"VALUE(CONCATENATE(IF($BM19,\"1\",\"0\"),TEXT($AI19,\"00\"),TEXT($AJ19,\"00\")))","v":101},{"$f":"VALUE(CONCATENATE(IF($BM19,\"1\",\"0\"),TEXT($AI19,\"00\"),TEXT($AJ19,\"00\"),TEXT($AL19,\"00\"),TEXT($AK19,\"00\")))","v":1010101},{"$f":"VALUE(CONCATENATE(IF($BM19,\"1\",\"0\"),TEXT($AI19,\"00\"),TEXT($AJ19,\"00\"),TEXT($AL19,\"00\")))","v":10101},{"$f":"INDEX($AN19:$AW19,1,WertungskriterienA)","v":10101},{"$f":"SUM((TRANSPOSE($AX$19:$AX$24)=AX19)*$R19:$W19)","v":0},{"$f":"RANK($AY19,$AY$19:$AY$24,0)","v":1},{"$f":"$AX19","v":10101},{"$f":"VALUE(CONCATENATE($AX19,TEXT($AZ19,\"00\"),TEXT($AM19,\"00\")))","v":101010101},{"$f":"$AX19","v":10101},{"$f":"VALUE(CONCATENATE($AX19,TEXT($AZ19,\"00\"),TEXT($AM19,\"00\")))","v":101010101},{"$f":"VALUE(CONCATENATE($AX19,TEXT($AZ19,\"00\"),TEXT($AL19,\"00\"),TEXT($AM19,\"00\")))","v":10101010101},{"$f":"VALUE(CONCATENATE($AX19,TEXT($AZ19,\"00\"),TEXT($AM19,\"00\")))","v":101010101},{"$f":"VALUE(CONCATENATE($AX19,TEXT($AZ19,\"00\"),TEXT($AK19,\"00\"),TEXT($AL19,\"00\"),TEXT($AM19,\"00\")))","v":1010101010101},{"$f":"VALUE(CONCATENATE($AX19,TEXT($AZ19,\"00\"),TEXT($AL19,\"00\"),TEXT($AK19,\"00\"),TEXT($AM19,\"00\")))","v":1010101010101},{"$f":"VALUE(CONCATENATE($AX19,TEXT($AZ19,\"00\"),TEXT($AM19,\"00\")))","v":101010101},{"$f":"VALUE(CONCATENATE($AX19,TEXT($AZ19,\"00\"),TEXT($AK19,\"00\"),TEXT($AM19,\"00\")))","v":10101010101},{"$f":"INDEX(BA19:BJ19,1,WertungskriterienA)","v":101010101},{"$f":"RANK(BK19,$BK$19:$BK$24,1)","v":1},{"$f":"IF($C19=\"\",FALSE,AND(LEN($C19)=1,OR(CODE($C19)<65,CODE($C19)>122,AND(CODE($C19)>90,CODE($C19)<97)),NOT(AND(CODE($C19)>48,CODE($C19)<58))))","v":false},{"$f":"IF(BM19,$C19,IF($C19=\"\",\"Spieler \"&TEXT($B19,\"00\"),$C19))","v":"Spieler 01"},{"$f":"IF(BM19,MAX(TeilnNr),0)+SUMPRODUCT((BN19>$BN$19:$BN$24)*1)","v":0},{"$f":"BL19+BO19/1000+B19/1000000","v":1.0000009999999999},{"$f":"RANK(BP19,$BP$19:$BP$24,1)","v":1},{"$f":"BR18+1","v":3},{"$f":"INDEX($BN$19:$BN$24,MATCH($BZ19,TeilnNr,0))","v":"Spieler 04"},"-",{"$f":"INDEX($BN$19:$BN$24,MATCH($CA19,TeilnNr,0))","v":"Spieler 05"},null,null,{"$f":"BX18","v":5},{"$f":"BY18+1","v":3},{"$f":"IF(AND(BY19=1,MOD(BX19,2)=0),MAX(TeilnNr),IF(MOD(BY19,2)=0,IF(MAX(TeilnNr)/2-BY19+1-(BX19-MAX(TeilnNr)/2-1)>=1,MAX(TeilnNr)/2-BY19+1-(BX19-MAX(TeilnNr)/2-1),MAX(TeilnNr)/2-BY19+1-(BX19-MAX(TeilnNr)/2-1)+MAX(TeilnNr)-1),IF(BY19-(BX19-1)>=1,BY19-(BX19-1),BY19-(BX19-1)+MAX(TeilnNr)-1)))","v":4},{"$f":"IF(AND(BY19=1,MOD(BX19,2)<>0),MAX(TeilnNr),IF(MOD(BY19,2)<>0,IF(MAX(TeilnNr)/2-BY19+1-(BX19-MAX(TeilnNr)/2-1)>=1,MAX(TeilnNr)/2-BY19+1-(BX19-MAX(TeilnNr)/2-1),MAX(TeilnNr)/2-BY19+1-(BX19-MAX(TeilnNr)/2-1)+MAX(TeilnNr)-1),IF(BY19-(BX19-1)>=1,BY19-(BX19-1),BY19-(BX19-1)+MAX(TeilnNr)-1)))","v":5},{"$f":"IF(LEFT(BW19,1)=\"V\",\"\",LEFT(BW19,1))","v":""},{"$f":"IF(RIGHT(BW19,1)=\"V\",\"\",RIGHT(BW19,1))","v":""},{"$f":"ADDRESS(ROW(Teilnehmer)+BZ19,COLUMN(Teilnehmer)+CA19)","v":"$H$22"},{"$f":"ADDRESS(ROW(Teilnehmer)+CA19,COLUMN(Teilnehmer)+BZ19)","v":"$G$23"},null,null,null,null,null,null,null,null,null,null,null,null,null,null,3,"Spieler 04","-",{"$f":"BU19","v":"Spieler 05"}]
[null,2,null,"","","","","","",{"$f":"X20","v":0},0,0,null,0,0,1,null,0,0,0,0,0,0,0,null,0,0,0,0,0,0,0,null,0,1,1,1,1,1,{"$f":"VALUE(CONCATENATE(IF($BM20,\"1\",\"0\"),TEXT($AI20,\"00\"),TEXT($AK20,\"00\"),TEXT($AM20,\"00\")))","v":10101},{"$f":"VALUE(CONCATENATE(IF($BM20,\"1\",\"0\"),TEXT($AI20,\"00\"),TEXT($AK20,\"00\")))","v":101},{"$f":"VALUE(CONCATENATE(IF($BM20,\"1\",\"0\"),TEXT($AI20,\"00\"),TEXT($AJ20,\"00\"),TEXT($AK20,\"00\"),TEXT($AM20,\"00\")))","v":1010101},{"$f":"VALUE(CONCATENATE(IF($BM20,\"1\",\"0\"),TEXT($AI20,\"00\"),TEXT($AJ20,\"00\"),TEXT($AK20,\"00\")))","v":10101},10101,{"$f":"VALUE(CONCATENATE(IF($BM20,\"1\",\"0\"),TEXT($AI20,\"00\"),TEXT($AJ20,\"00\"),TEXT($AK20,\"00\"),TEXT($AL20,\"00\")))","v":1010101},{"$f":"VALUE(CONCATENATE(IF($BM20,\"1\",\"0\"),TEXT($AI20,\"00\"),TEXT($AJ20,\"00\")))","v":101},101,{"$f":"VALUE(CONCATENATE(IF($BM20,\"1\",\"0\"),TEXT($AI20,\"00\"),TEXT($AJ20,\"00\"),TEXT($AL20,\"00\"),TEXT($AK20,\"00\")))","v":1010101},{"$f":"VALUE(CONCATENATE(IF($BM20,\"1\",\"0\"),TEXT($AI20,\"00\"),TEXT($AJ20,\"00\"),TEXT($AL20,\"00\")))","v":10101},{"$f":"INDEX($AN20:$AW20,1,WertungskriterienA)","v":10101},{"$f":"SUM((TRANSPOSE($AX$19:$AX$24)=AX20)*$R20:$W20)","v":0},1,{"$f":"$AX20","v":10101},{"$f":"VALUE(CONCATENATE($AX20,TEXT($AZ20,\"00\"),TEXT($AM20,\"00\")))","v":101010101},{"$f":"$AX20","v":10101},{"$f":"VALUE(CONCATENATE($AX20,TEXT($AZ20,\"00\"),TEXT($AM20,\"00\")))","v":101010101},{"$f":"VALUE(CONCATENATE($AX20,TEXT($AZ20,\"00\"),TEXT($AL20,\"00\"),TEXT($AM20,\"00\")))","v":10101010101},{"$f":"VALUE(CONCATENATE($AX20,TEXT($AZ20,\"00\"),TEXT($AM20,\"00\")))","v":101010101},{"$f":"VALUE(CONCATENATE($AX20,TEXT($AZ20,\"00\"),TEXT($AK20,\"00\"),TEXT($AL20,\"00\"),TEXT($AM20,\"00\")))","v":1010101010101},{"$f":"VALUE(CONCATENATE($AX20,TEXT($AZ20,\"00\"),TEXT($AL20,\"00\"),TEXT($AK20,\"00\"),TEXT($AM20,\"00\")))","v":1010101010101},{"$f":"VALUE(CONCATENATE($AX20,TEXT($AZ20,\"00\"),TEXT($AM20,\"00\")))","v":101010101},{"$f":"VALUE(CONCATENATE($AX20,TEXT($AZ20,\"00\"),TEXT($AK20,\"00\"),TEXT($AM20,\"00\")))","v":10101010101},{"$f":"INDEX(BA20:BJ20,1,WertungskriterienA)","v":101010101},1,{"$f":"IF($C20=\"\",FALSE,AND(LEN($C20)=1,OR(CODE($C20)<65,CODE($C20)>122,AND(CODE($C20)>90,CODE($C20)<97)),NOT(AND(CODE($C20)>48,CODE($C20)<58))))","v":false},"Spieler 02",1,1.0010019999999999,2]
[null,3,null,"","","","","","",0,0,0,null,0,0,1,null,0,0,0,0,0,0,0,null,0,0,0,0,0,0,0,null,0,1,1,1,1,1,10101,101,1010101,10101,10101,1010101,101,101,1010101,10101,{"$f":"INDEX($AN21:$AW21,1,WertungskriterienA)","v":10101},{"$f":"SUM((TRANSPOSE($AX$19:$AX$24)=AX21)*$R21:$W21)","v":0},1,10101,101010101,10101,101010101,10101010101,101010101,1010101010101,1010101010101,101010101,10101010101,{"$f":"INDEX(BA21:BJ21,1,WertungskriterienA)","v":101010101},1,false,"Spieler 03",2,1.002003,3]
[null,4,null,"","","","","","",0,0,0,null,0,0,1,null,0,0,0,0,0,0,0,null,0,0,0,0,0,0,0,null,0,1,1,1,1,1,10101,101,1010101,10101,10101,1010101,101,101,1010101,10101,{"$f":"INDEX($AN22:$AW22,1,WertungskriterienA)","v":10101},{"$f":"SUM((TRANSPOSE($AX$19:$AX$24)=AX22)*$R22:$W22)","v":0},1,10101,101010101,10101,101010101,10101010101,101010101,1010101010101,1010101010101,101010101,10101010101,{"$f":"INDEX(BA22:BJ22,1,WertungskriterienA)","v":101010101},1,false,"Spieler 04",3,1.0030039999999998,4]
[null,5,null,"","","","","","",0,0,0,null,0,0,1,null,0,0,0,0,0,0,0,null,0,0,0,0,0,0,0,null,0,1,1,1,1,1,10101,101,1010101,10101,10101,1010101,101,101,1010101,10101,{"$f":"INDEX($AN23:$AW23,1,WertungskriterienA)","v":10101},{"$f":"SUM((TRANSPOSE($AX$19:$AX$24)=AX23)*$R23:$W23)","v":0},1,10101,101010101,10101,101010101,10101010101,101010101,1010101010101,1010101010101,101010101,10101010101,{"$f":"INDEX(BA23:BJ23,1,WertungskriterienA)","v":101010101},1,false,"Spieler 05",4,1.004005,5]
[null,6,null,"","","","","","",0,0,0,null,0,0,1,null,0,0,0,0,0,0,0,null,0,0,0,0,0,0,0,null,0,1,1,1,1,1,10101,101,1010101,10101,10101,1010101,101,101,1010101,10101,{"$f":"INDEX($AN24:$AW24,1,WertungskriterienA)","v":10101},{"$f":"SUM((TRANSPOSE($AX$19:$AX$24)=AX24)*$R24:$W24)","v":0},1,10101,101010101,10101,101010101,10101010101,101010101,1010101010101,1010101010101,101010101,10101010101,{"$f":"INDEX(BA24:BJ24,1,WertungskriterienA)","v":101010101},1,false,"Spieler 06",5,1.0050059999999998,6]
[null,null,{"$f":"\"-> bei nur \"&MAX(TeilnNr)-1&\" Spielern an Pos. \"&MAX(TeilnNr)&\" einen Stern (*) eintragen\"","v":"-> bei nur 5 Spielern an Pos. 6 einen Stern (*) eintragen"},null,null,null,null,null,null,null,{"$f":"SUM(K19:K24)","v":0},null,null,{"$f":"SUM(N19:N24)","v":0},{"$f":"SUM(O19:O24)","v":0}]

{"sheet":"4","index":11,"n_rows":21,"n_cols":100,"rows_kept":21,"cut":false,"hidden":false,"merged":[[14,11,14,12],[0,1,0,13],[1,80,1,82],[3,66,3,82],[5,66,5,68],[5,80,5,82],[9,66,9,68]]}
[null,"Turniername",null,null,null,null,null,null,null,null,null,null,null,null,null,null,null,null,null,null,null,null,null,1,"1) Punkte 2) So-Be 3) Manuelle Feinwertung ",null,null,null,null,null,null,null,null,null,null,null,null,null,null,null,null,null,null,null,null,null,null,"Wiederholung Kriterien:",null,null,null,null,null,null,null,null,null,null,null,null,null,null,null,null,{"$f":"\"Paarungsliste und Resultate \"&IF(Turnier=\"\",\"\",Turnier)","v":"Paarungsliste und Resultate Turniername"},null,null,null,null,null,null,null,null,null,null,null,null,null,null,null,null,null,null,null,null,null,null,null,null,null,null,null,"Paarungsliste Darstellung Rutschsystem",null,null,null,null,null,{"$f":"IF(Datum=\"\",\"\",\"Datum:\")","v":""}]
[null,null,null,null,null,null,null,null,null,null,null,null,null,null,null,null,null,null,null,null,"a","b","P",2,"1) Punkte 2) So-Be 3) direkte Begegnung 4) Manuelle Feinwertung ",null,null,null,null,null,null,null,null,null,null,null,null,null,null,null,null,null,null,null,null,null,1,{"$f":"Y1","v":"1) Punkte 2) So-Be 3) Manuelle Feinwertung "},null,null,null,null,null,null,null,null,null,null,null,null,null,null,null,null,{"$f":"IF(Turnier=\"\",\"\",\"Turniername:\")","v":"Turniername:"},null,{"$f":"IF(Turnier=\"\",\"\",Turnier)","v":"Turniername"},null,null,null,null,null,null,null,null,null,null,null,null,"Datum:",null,null,null,null,null,null,null,null,null,null,null,null,{"$f":"IF(Turnier=\"\",\"\",\"Turniername:\")","v":"Turniername:"},null,{"$f":"IF(Turnier=\"\",\"\",Turnier)&IF(Datum=\"\",\"\",\", \"&TEXT(Datum,\"TT.MM.JJJJ\"))","v":"Turniername"}]
[null,null,null,null,null,null,null,null,null,null,null,null,null,null,null,null,null,null,null,null,"1","0",1,3,"1) Punkte 2) Anz. Partien 3) So-Be 4) Manuelle Feinwertung "]
[null,"Rangliste",null,null,null,null,null,null,null,null,null,null,null,null,null,null,null,null,null,null,"0","1",0,4,"1) Punkte 2) Anz. Partien 3) So-Be 4) direkte Begegnung 5) Manuelle Feinwertung ",null,null,null,null,null,null,null,null,null,null,null,null,null,null,null,null,null,null,null,null,null,2,{"$f":"Y2","v":"1) Punkte 2) So-Be 3) direkte Begegnung 4) Manuelle Feinwertung "},null,null,null,null,null,null,null,null,null,null,null,null,null,null,null,null,"Turnierleitung:",null,null,null,null,null,null,null,null,null,null,null,null,null,null,null,null,null,null,null,null,null,null,null,null,null,null,null,{"$f":"IF(Turnierleitung=\"\",\"\",\"Turnierleitung:\")","v":""},null,{"$f":"IF(Turnierleitung=\"\",\"\",Turnierleitung)","v":""}]
[null,null,null,null,null,null,null,null,null,null,null,null,null,null,null,null,null,null,null,null,"½","½",0.5,5,"1) Punkte 2) Anz. Partien 3) So-Be 4) direkte Begegnung 5) Anz.Schwarzpartien 6) Manuelle Feinwertung ",null,null,null,null,null,null,null,null,null,null,null,null,null,null,null,null,null,null,null,null,null,3,"1) Punkte 2) Anz. Partien 3) So-Be 4) Manuelle Feinwertung "]
[null,"Rang","Teilnehmer",1,2,3,4,"Punkte","Spiele","So-Be",{"$f":"IF(K16=\"\",\"FWm\",K16)","v":"FW+"},1,"½",0,"Nr",null,null,null,null,null,"+","-",1,6,"1) Punkte 2) Anz. Partien 3) So-Be 4) Anz.Schwarzpartien 5) direkte Begegnung 6) Manuelle Feinwertung ",null,null,null,null,null,null,null,null,null,null,null,null,null,null,null,null,null,null,null,null,null,4,"1) Punkte 2) Anz. Partien 3) So-Be 4) direkte Begegnung 5) Manuelle Feinwertung ",null,null,null,null,null,null,null,null,null,null,null,null,null,null,null,null,1,null,null,null,null,"R","B","SpNr w","SpNr s","Res w","Res s","AdrTTw","AdrTTs",null,{"$f":"BM6+1","v":2},null,null,null,null,"R","B","SpNr w","SpNr s","Res w","Res s","AdrTTw","AdrTTs",null,{"$f":"BM6","v":1},1,null,null,null,{"$f":"CA6","v":2}]
[null,{"$f":"IF(INDEX($BG$17:$BG$20,MATCH(B17,$BK$17:$BK$20,0)),\"--\",IF(INDEX($BF$17:$BF$20,MATCH(B17,$BK$17:$BK$20,0))<ROW()-ROW($B$6),\"\",INDEX($BF$17:$BF$20,MATCH(B17,$BK$17:$BK$20,0))))","v":1},{"$f":"IF(INDEX($C$17:$C$20,MATCH(B17,$BK$17:$BK$20,0))=0,\"Spieler \"&TEXT(O7,\"00\"),INDEX($C$17:$C$20,MATCH(B17,$BK$17:$BK$20,0)))","v":"Spieler 01"},{"$f":"IF(INDEX($B$16:$G$20,MATCH($O7,$B$16:$B$20,0),MATCH(INDEX($B$17:$B$20,MATCH(OFFSET($O$6,D$6,0),$B$17:$B$20,0)),$B$16:$G$16,0))=\"\",\"\",INDEX($B$16:$G$20,MATCH($O7,$B$16:$B$20,0),MATCH(INDEX($B$17:$B$20,MATCH(OFFSET($O$6,D$6,0),$B$17:$B$20,0)),$B$16:$G$16,0)))","v":""},"","","",{"$f":"INDEX($T$17:$T$20,MATCH(O7,$B$17:$B$20,0))","v":0},{"$f":"INDEX($I$17:$I$20,MATCH(O7,$B$17:$B$20,0))","v":0},{"$f":"INDEX($J$17:$J$20,MATCH(O7,$B$17:$B$20,0))","v":0},{"$f":"INDEX($K$17:$K$20,MATCH(O7,$B$17:$B$20,0))","v":0},{"$f":"COUNTIF($D7:$G7,1)+COUNTIF($D7:$G7,\"+\")","v":0},{"$f":"COUNTIF($D7:$G7,\"½\")","v":0},{"$f":"COUNTIF($D7:$G7,0)+COUNTIF($D7:$G7,\"-\")","v":0},{"$f":"INDEX($B$17:$B$20,MATCH(B17,$BK$17:$BK$20,0))","v":1},null,null,null,null,null,"-","+",0,7,"1) Punkte 2) Anz. Partien 3) direkte Begegnung 4) So-Be 5) Anz.Schwarzpartien 6) Manuelle Feinwertung ",null,null,null,null,null,null,null,null,null,null,null,null,null,null,null,null,null,null,null,null,null,5,"1) Punkte 2) Anz. Partien 3) So-Be 4) direkte Begegnung 5) Anz.Schwarzpartien 6) Manuelle Feinwertung ",null,null,null,null,null,null,null,null,null,null,null,null,null,null,null,{"$f":"IF(OR(INDEX($BG$17:$BG$20,BT7),INDEX($BG$17:$BG$20,BU7)),0,1)","v":1},{"$f":"INDEX($BH$17:$BH$20,MATCH($BT7,TeilnNr,0))","v":"Spieler 01"},"-",{"$f":"INDEX($BH$17:$BH$20,MATCH($BU7,TeilnNr,0))","v":"Spieler 04"},null,null,{"$f":"BM6","v":1},1,{"$f":"IF(AND(BS7=1,MOD(BR7,2)=0),MAX(TeilnNr),IF(MOD(BS7,2)=0,IF(MAX(TeilnNr)/2-BS7+1-(BR7-MAX(TeilnNr)/2-1)>=1,MAX(TeilnNr)/2-BS7+1-(BR7-MAX(TeilnNr)/2-1),MAX(TeilnNr)/2-BS7+1-(BR7-MAX(TeilnNr)/2-1)+MAX(TeilnNr)-1),IF(BS7-(BR7-1)>=1,BS7-(BR7-1),BS7-(BR7-1)+MAX(TeilnNr)-1)))","v":1},{"$f":"IF(AND(BS7=1,MOD(BR7,2)<>0),MAX(TeilnNr),IF(MOD(BS7,2)<>0,IF(MAX(TeilnNr)/2-BS7+1-(BR7-MAX(TeilnNr)/2-1)>=1,MAX(TeilnNr)/2-BS7+1-(BR7-MAX(TeilnNr)/2-1),MAX(TeilnNr)/2-BS7+1-(BR7-MAX(TeilnNr)/2-1)+MAX(TeilnNr)-1),IF(BS7-(BR7-1)>=1,BS7-(BR7-1),BS7-(BR7-1)+MAX(TeilnNr)-1)))","v":4},{"$f":"IF(LEFT(BQ7,1)=\"V\",\"\",LEFT(BQ7,1))","v":""},{"$f":"IF(RIGHT(BQ7,1)=\"V\",\"\",RIGHT(BQ7,1))","v":""},{"$f":"ADDRESS(ROW(Teilnehmer)+BT7,COLUMN(Teilnehmer)+BU7)","v":"$G$17"},{"$f":"ADDRESS(ROW(Teilnehmer)+BU7,COLUMN(Teilnehmer)+BT7)","v":"$D$20"},{"$f":"IF(OR(INDEX($BG$17:$BG$20,CH7),INDEX($BG$17:$BG$20,CI7)),0,1)","v":1},{"$f":"INDEX($BH$17:$BH$20,MATCH($CH7,TeilnNr,0))","v":"Spieler 04"},"-",{"$f":"INDEX($BH$17:$BH$20,MATCH($CI7,TeilnNr,0))","v":"Spieler 03"},null,null,{"$f":"CA6","v":2},1,{"$f":"IF(AND(CG7=1,MOD(CF7,2)=0),MAX(TeilnNr),IF(MOD(CG7,2)=0,IF(MAX(TeilnNr)/2-CG7+1-(CF7-MAX(TeilnNr)/2-1)>=1,MAX(TeilnNr)/2-CG7+1-(CF7-MAX(TeilnNr)/2-1),MAX(TeilnNr)/2-CG7+1-(CF7-MAX(TeilnNr)/2-1)+MAX(TeilnNr)-1),IF(CG7-(CF7-1)>=1,CG7-(CF7-1),CG7-(CF7-1)+MAX(TeilnNr)-1)))","v":4},{"$f":"IF(AND(CG7=1,MOD(CF7,2)<>0),MAX(TeilnNr),IF(MOD(CG7,2)<>0,IF(MAX(TeilnNr)/2-CG7+1-(CF7-MAX(TeilnNr)/2-1)>=1,MAX(TeilnNr)/2-CG7+1-(CF7-MAX(TeilnNr)/2-1),MAX(TeilnNr)/2-CG7+1-(CF7-MAX(TeilnNr)/2-1)+MAX(TeilnNr)-1),IF(CG7-(CF7-1)>=1,CG7-(CF7-1),CG7-(CF7-1)+MAX(TeilnNr)-1)))","v":3},{"$f":"IF(LEFT(CE7,1)=\"V\",\"\",LEFT(CE7,1))","v":""},{"$f":"IF(RIGHT(CE7,1)=\"V\",\"\",RIGHT(CE7,1))","v":""},{"$f":"ADDRESS(ROW(Teilnehmer)+CH7,COLUMN(Teilnehmer)+CI7)","v":"$F$20"},{"$f":"ADDRESS(ROW(Teilnehmer)+CI7,COLUMN(Teilnehmer)+CH7)","v":"$G$19"},{"$f":"BL7","v":1},{"$f":"BM7","v":"Spieler 01"},"-",{"$f":"BO7","v":"Spieler 04"},null,{"$f":"BZ7","v":1},{"$f":"CC7","v":"Spieler 03"},"-",{"$f":"CA7","v":"Spieler 04"}]
[null,{"$f":"IF(INDEX($BG$17:$BG$20,MATCH(B18,$BK$17:$BK$20,0)),\"--\",IF(INDEX($BF$17:$BF$20,MATCH(B18,$BK$17:$BK$20,0))<ROW()-ROW($B$6),\"\",INDEX($BF$17:$BF$20,MATCH(B18,$BK$17:$BK$20,0))))","v":""},{"$f":"IF(INDEX($C$17:$C$20,MATCH(B18,$BK$17:$BK$20,0))=0,\"Spieler \"&TEXT(O8,\"00\"),INDEX($C$17:$C$20,MATCH(B18,$BK$17:$BK$20,0)))","v":"Spieler 02"},"","","","",{"$f":"INDEX($T$17:$T$20,MATCH(O8,$B$17:$B$20,0))","v":0},{"$f":"INDEX($I$17:$I$20,MATCH(O8,$B$17:$B$20,0))","v":0},{"$f":"INDEX($J$17:$J$20,MATCH(O8,$B$17:$B$20,0))","v":0},{"$f":"INDEX($K$17:$K$20,MATCH(O8,$B$17:$B$20,0))","v":0},{"$f":"COUNTIF($D8:$G8,1)+COUNTIF($D8:$G8,\"+\")","v":0},{"$f":"COUNTIF($D8:$G8,\"½\")","v":0},{"$f":"COUNTIF($D8:$G8,0)+COUNTIF($D8:$G8,\"-\")","v":0},{"$f":"INDEX($B$17:$B$20,MATCH(B18,$BK$17:$BK$20,0))","v":2},null,null,null,null,null,null,null,null,8,"1) Punkte 2) Anz. Partien 3) direkte Begegnung 4) Anz.Schwarzpartien 5) So-Be 6) Manuelle Feinwertung ",null,null,null,null,null,null,null,null,null,null,null,null,null,null,null,null,null,null,null,null,null,6,"1) Punkte 2) Anz. Partien 3) So-Be 4) Anz.Schwarzpartien 5) direkte Begegnung 6) Manuelle Feinwertung ",null,null,null,null,null,null,null,null,null,null,null,null,null,null,null,{"$f":"BL7+1","v":2},{"$f":"INDEX($BH$17:$BH$20,MATCH($BT8,TeilnNr,0))","v":"Spieler 03"},"-",{"$f":"INDEX($BH$17:$BH$20,MATCH($BU8,TeilnNr,0))","v":"Spieler 02"},null,null,{"$f":"BR7","v":1},{"$f":"BS7+1","v":2},3,2,{"$f":"IF(LEFT(BQ8,1)=\"V\",\"\",LEFT(BQ8,1))","v":""},{"$f":"IF(RIGHT(BQ8,1)=\"V\",\"\",RIGHT(BQ8,1))","v":""},"$E$19","$F$18",{"$f":"BZ7+1","v":2},{"$f":"INDEX($BH$17:$BH$20,MATCH($CH8,TeilnNr,0))","v":"Spieler 02"},"-",{"$f":"INDEX($BH$17:$BH$20,MATCH($CI8,TeilnNr,0))","v":"Spieler 01"},null,null,{"$f":"CF7","v":2},{"$f":"CG7+1","v":2},2,1,{"$f":"IF(LEFT(CE8,1)=\"V\",\"\",LEFT(CE8,1))","v":""},{"$f":"IF(RIGHT(CE8,1)=\"V\",\"\",RIGHT(CE8,1))","v":""},"$D$18","$E$17",{"$f":"BL8","v":2},{"$f":"BO8","v":"Spieler 02"},"-",{"$f":"BM8","v":"Spieler 03"},null,{"$f":"BZ8","v":2},{"$f":"CC8","v":"Spieler 01"},"-",{"$f":"CA8","v":"Spieler 02"}]
[null,{"$f":"IF(INDEX($BG$17:$BG$20,MATCH(B19,$BK$17:$BK$20,0)),\"--\",IF(INDEX($BF$17:$BF$20,MATCH(B19,$BK$17:$BK$20,0))<ROW()-ROW($B$6),\"\",INDEX($BF$17:$BF$20,MATCH(B19,$BK$17:$BK$20,0))))","v":""},{"$f":"IF(INDEX($C$17:$C$20,MATCH(B19,$BK$17:$BK$20,0))=0,\"Spieler \"&TEXT(O9,\"00\"),INDEX($C$17:$C$20,MATCH(B19,$BK$17:$BK$20,0)))","v":"Spieler 03"},"","","","",{"$f":"INDEX($T$17:$T$20,MATCH(O9,$B$17:$B$20,0))","v":0},{"$f":"INDEX($I$17:$I$20,MATCH(O9,$B$17:$B$20,0))","v":0},{"$f":"INDEX($J$17:$J$20,MATCH(O9,$B$17:$B$20,0))","v":0},{"$f":"INDEX($K$17:$K$20,MATCH(O9,$B$17:$B$20,0))","v":0},{"$f":"COUNTIF($D9:$G9,1)+COUNTIF($D9:$G9,\"+\")","v":0},{"$f":"COUNTIF($D9:$G9,\"½\")","v":0},{"$f":"COUNTIF($D9:$G9,0)+COUNTIF($D9:$G9,\"-\")","v":0},{"$f":"INDEX($B$17:$B$20,MATCH(B19,$BK$17:$BK$20,0))","v":3},null,null,null,null,null,null,null,null,9,"1) Punkte 2) Anz. Partien 3) Anz.Schwarzpartien 4) So-Be 5) direkte Begegnung 6) Manuelle Feinwertung ",null,null,null,null,null,null,null,null,null,null,null,null,null,null,null,null,null,null,null,null,null,7,"1) Punkte 2) Anz. Partien 3) direkte Begegnung 4) So-Be 5) Anz.Schwarzpartien 6) Manuelle Feinwertung "]
[null,{"$f":"IF(INDEX($BG$17:$BG$20,MATCH(B20,$BK$17:$BK$20,0)),\"--\",IF(INDEX($BF$17:$BF$20,MATCH(B20,$BK$17:$BK$20,0))<ROW()-ROW($B$6),\"\",INDEX($BF$17:$BF$20,MATCH(B20,$BK$17:$BK$20,0))))","v":""},{"$f":"IF(INDEX($C$17:$C$20,MATCH(B20,$BK$17:$BK$20,0))=0,\"Spieler \"&TEXT(O10,\"00\"),INDEX($C$17:$C$20,MATCH(B20,$BK$17:$BK$20,0)))","v":"Spieler 04"},"","","","",{"$f":"INDEX($T$17:$T$20,MATCH(O10,$B$17:$B$20,0))","v":0},{"$f":"INDEX($I$17:$I$20,MATCH(O10,$B$17:$B$20,0))","v":0},{"$f":"INDEX($J$17:$J$20,MATCH(O10,$B$17:$B$20,0))","v":0},{"$f":"INDEX($K$17:$K$20,MATCH(O10,$B$17:$B$20,0))","v":0},{"$f":"COUNTIF($D10:$G10,1)+COUNTIF($D10:$G10,\"+\")","v":0},{"$f":"COUNTIF($D10:$G10,\"½\")","v":0},{"$f":"COUNTIF($D10:$G10,0)+COUNTIF($D10:$G10,\"-\")","v":0},{"$f":"INDEX($B$17:$B$20,MATCH(B20,$BK$17:$BK$20,0))","v":4},null,null,null,null,null,null,null,4,10,"1) Punkte 2) Anz. Partien 3) Anz.Schwarzpartien 4) direkte Begegnung 5) So-Be 6) Manuelle Feinwertung ",null,null,null,null,null,null,null,null,null,null,null,null,null,null,null,null,null,null,null,null,null,8,"1) Punkte 2) Anz. Partien 3) direkte Begegnung 4) Anz.Schwarzpartien 5) So-Be 6) Manuelle Feinwertung ",null,null,null,null,null,null,null,null,null,null,null,null,null,null,null,null,{"$f":"BM6+2","v":3},null,null,null,null,"R","B","SpNr w","SpNr s","Res w","Res s",null,null,null,null,null,null,null,null,null,null,null,null,null,null,null,null,null,{"$f":"BM10","v":3},1]
[null,"Wertungskriterien:",null,null,null,null,null,null,null,null,null,null,null,null,null,null,null,null,null,null,null,null,null,null,null,null,null,null,null,null,null,null,null,null,null,null,null,null,null,null,null,null,null,null,null,null,null,null,null,null,null,null,null,null,null,null,null,null,null,null,null,null,null,{"$f":"IF(OR(INDEX($BG$17:$BG$20,BT11),INDEX($BG$17:$BG$20,BU11)),0,1)","v":1},{"$f":"INDEX($BH$17:$BH$20,MATCH($BT11,TeilnNr,0))","v":"Spieler 02"},"-",{"$f":"INDEX($BH$17:$BH$20,MATCH($BU11,TeilnNr,0))","v":"Spieler 04"},null,null,{"$f":"BM10","v":3},1,{"$f":"IF(AND(BS11=1,MOD(BR11,2)=0),MAX(TeilnNr),IF(MOD(BS11,2)=0,IF(MAX(TeilnNr)/2-BS11+1-(BR11-MAX(TeilnNr)/2-1)>=1,MAX(TeilnNr)/2-BS11+1-(BR11-MAX(TeilnNr)/2-1),MAX(TeilnNr)/2-BS11+1-(BR11-MAX(TeilnNr)/2-1)+MAX(TeilnNr)-1),IF(BS11-(BR11-1)>=1,BS11-(BR11-1),BS11-(BR11-1)+MAX(TeilnNr)-1)))","v":2},{"$f":"IF(AND(BS11=1,MOD(BR11,2)<>0),MAX(TeilnNr),IF(MOD(BS11,2)<>0,IF(MAX(TeilnNr)/2-BS11+1-(BR11-MAX(TeilnNr)/2-1)>=1,MAX(TeilnNr)/2-BS11+1-(BR11-MAX(TeilnNr)/2-1),MAX(TeilnNr)/2-BS11+1-(BR11-MAX(TeilnNr)/2-1)+MAX(TeilnNr)-1),IF(BS11-(BR11-1)>=1,BS11-(BR11-1),BS11-(BR11-1)+MAX(TeilnNr)-1)))","v":4},{"$f":"IF(LEFT(BQ11,1)=\"V\",\"\",LEFT(BQ11,1))","v":""},{"$f":"IF(RIGHT(BQ11,1)=\"V\",\"\",RIGHT(BQ11,1))","v":""},{"$f":"ADDRESS(ROW(Teilnehmer)+BT11,COLUMN(Teilnehmer)+BU11)","v":"$G$18"},{"$f":"ADDRESS(ROW(Teilnehmer)+BU11,COLUMN(Teilnehmer)+BT11)","v":"$E$20"},null,null,null,null,null,null,null,null,null,null,null,null,null,null,{"$f":"BL11","v":1},"Spieler 02","-",{"$f":"BO11","v":"Spieler 04"}]
[null,{"$f":"INDEX(Wertungskriterien,WertungskriterienA)","v":"1) Punkte 2) Anz. Partien 3) So-Be 4) direkte Begegnung 5) Manuelle Feinwertung "},null,null,null,null,null,null,null,null,null,null,null,null,null,null,null,null,null,null,null,null,null,null,null,null,null,null,null,null,null,null,null,null,null,null,null,null,null,null,null,null,null,null,null,null,null,null,null,null,null,null,null,null,null,null,null,null,null,null,null,null,null,{"$f":"BL11+1","v":2},{"$f":"INDEX($BH$17:$BH$20,MATCH($BT12,TeilnNr,0))","v":"Spieler 01"},"-",{"$f":"INDEX($BH$17:$BH$20,MATCH($BU12,TeilnNr,0))","v":"Spieler 03"},null,null,{"$f":"BR11","v":3},{"$f":"BS11+1","v":2},1,3,{"$f":"IF(LEFT(BQ12,1)=\"V\",\"\",LEFT(BQ12,1))","v":""},{"$f":"IF(RIGHT(BQ12,1)=\"V\",\"\",RIGHT(BQ12,1))","v":""},"$F$17","$D$19",null,null,null,null,null,null,null,null,null,null,null,null,null,null,{"$f":"BL12","v":2},{"$f":"BO12","v":"Spieler 03"},"-",{"$f":"BM12","v":"Spieler 01"}]
[]
[null,"+",null,null,null,null,null,null,null,null,{"$f":"IF(EinAusblenden=\"-\",\"\",IF(FWPlusMinus=\"+\",\"é\",\"ê\"))","v":"é"}]
[null,"Turniertabelle",null,null,null,null,null,null,null,"manuelle Feinwertung: ","+","Partien",null,null,null,"Punkte",null,null,null,null,null,"Sonneborn-Berger-Berechnung",null,null,null,null,null,{"$f":"MAX(AB17:AB20)","v":0},null,null,null,null,{"$f":"FWPlusMinus=\"+\"","v":true},"Summierung Wertungskriterien vor direkter Begegnung",null,null,null,null,null,null,null,null,null,null,null,null,"Summierung Wertungskriterien nach direkter Begegnung"]
[null,"Nr.","Teilnehmer",1,2,3,4,"Punkte","Spiele","So-Be","FW+","weiss","schw.","Rang",null,1,2,3,4,"P",null,1,2,3,4,"So-Be",null,{"$f":"IF(K16=\"\",\"FW2\",K16)","v":"FW+"},"Rang\nPunkte","Rang\nPartien","Rang\nSo-Be","Rang\nschwrz","Rang\nFW?","Wertung 1","Wertung 2","Wertung 3","Wertung 4","Wertung 5","Wertung 6","Wertung 7","Wertung 8","Wertung 9","Wertung 10","Wertung","direkte Begegnung","Rang\ndir.Begegn.","Wertung 1","Wertung 2","Wertung 3","Wertung 4","Wertung 5","Wertung 6","Wertung 7","Wertung 8","Wertung 9","Wertung 10","Wertung2","Rang","Platz-halter?","Name","Alphabet","Rang & Alphabet","Reihen-folge"]
[null,1,null,{"$f":"IF(ISNA(MATCH(ADDRESS(ROW(),COLUMN()),$BX:$BX,0)),\"\",INDEX($BV:$BV,MATCH(ADDRESS(ROW(),COLUMN()),$BX:$BX,0)))&IF(ISNA(MATCH(ADDRESS(ROW(),COLUMN()),$BY:$BY,0)),\"\",INDEX($BW:$BW,MATCH(ADDRESS(ROW(),COLUMN()),$BY:$BY,0)))&IF(ISNA(MATCH(ADDRESS(ROW(),COLUMN()),$CL:$CL,0)),\"\",INDEX($CJ:$CJ,MATCH(ADDRESS(ROW(),COLUMN()),$CL:$CL,0)))&IF(ISNA(MATCH(ADDRESS(ROW(),COLUMN()),$CM:$CM,0)),\"\",INDEX($CK:$CK,MATCH(ADDRESS(ROW(),COLUMN()),$CM:$CM,0)))","v":""},"","","",{"$f":"T17","v":0},{"$f":"MAX($B$17:$B$20)-COUNTIF(D17:G17,\"\")","v":0},{"$f":"Z17","v":0},null,{"$f":"IF($BG17,0,COUNTIFS($BT:$BT,$B17,$BQ:$BQ,\"<>\")+COUNTIFS($CH:$CH,$B17,$CE:$CE,\"<>\"))","v":0},{"$f":"IF($BG17,0,COUNTIFS($BU:$BU,$B17,$BQ:$BQ,\"<>\")+COUNTIFS($CI:$CI,$B17,$CE:$CE,\"<>\"))","v":0},{"$f":"BF17","v":1},null,{"$f":"IF(D17=\"\",0,VLOOKUP(D17,Wertung,3,FALSE))","v":0},0,0,0,{"$f":"SUM(P17:S17)","v":0},null,{"$f":"P17*INDEX($T:$T,ROW($V$16)+P$16)","v":0},0,0,0,{"$f":"SUM(V17:Y17)","v":0},null,{"$f":"K17","v":0},{"$f":"RANK($T17,$T$17:$T$20,0)","v":1},{"$f":"RANK($I17,$I$17:$I$20,1)","v":1},{"$f":"RANK($Z17,$Z$17:$Z$20,0)","v":1},{"$f":"RANK($M17,$M$17:$M$20,0)","v":1},{"$f":"RANK($AB17,$AB$17:$AB$20,IF($AG$15,0,1))","v":1},{"$f":"VALUE(CONCATENATE(IF($BG17,\"1\",\"0\"),TEXT($AC17,\"00\"),TEXT($AE17,\"00\"),TEXT($AG17,\"00\")))","v":10101},{"$f":"VALUE(CONCATENATE(IF($BG17,\"1\",\"0\"),TEXT($AC17,\"00\"),TEXT($AE17,\"00\")))","v":101},{"$f":"VALUE(CONCATENATE(IF($BG17,\"1\",\"0\"),TEXT($AC17,\"00\"),TEXT($AD17,\"00\"),TEXT($AE17,\"00\"),TEXT($AG17,\"00\")))","v":1010101},{"$f":"VALUE(CONCATENATE(IF($BG17,\"1\",\"0\"),TEXT($AC17,\"00\"),TEXT($AD17,\"00\"),TEXT($AE17,\"00\")))","v":10101},{"$f":"VALUE(CONCATENATE(IF($BG17,\"1\",\"0\"),TEXT($AC17,\"00\"),TEXT($AD17,\"00\"),TEXT($AE17,\"00\")))","v":10101},{"$f":"VALUE(CONCATENATE(IF($BG17,\"1\",\"0\"),TEXT($AC17,\"00\"),TEXT($AD17,\"00\"),TEXT($AE17,\"00\"),TEXT($AF17,\"00\")))","v":1010101},{"$f":"VALUE(CONCATENATE(IF($BG17,\"1\",\"0\"),TEXT($AC17,\"00\"),TEXT($AD17,\"00\")))","v":101},{"$f":"VALUE(CONCATENATE(IF($BG17,\"1\",\"0\"),TEXT($AC17,\"00\"),TEXT($AD17,\"00\")))","v":101},{"$f":"VALUE(CONCATENATE(IF($BG17,\"1\",\"0\"),TEXT($AC17,\"00\"),TEXT($AD17,\"00\"),TEXT($AF17,\"00\"),TEXT($AE17,\"00\")))","v":1010101},{"$f":"VALUE(CONCATENATE(IF($BG17,\"1\",\"0\"),TEXT($AC17,\"00\"),TEXT($AD17,\"00\"),TEXT($AF17,\"00\")))","v":10101},{"$f":"INDEX($AH17:$AQ17,1,WertungskriterienA)","v":10101},{"$f":"SUM((TRANSPOSE($AR$17:$AR$20)=AR17)*$P17:$S17)","v":0},{"$f":"RANK($AS17,$AS$17:$AS$20,0)","v":1},{"$f":"$AR17","v":10101},{"$f":"VALUE(CONCATENATE($AR17,TEXT($AT17,\"00\"),TEXT($AG17,\"00\")))","v":101010101},{"$f":"$AR17","v":10101},{"$f":"VALUE(CONCATENATE($AR17,TEXT($AT17,\"00\"),TEXT($AG17,\"00\")))","v":101010101},{"$f":"VALUE(CONCATENATE($AR17,TEXT($AT17,\"00\"),TEXT($AF17,\"00\"),TEXT($AG17,\"00\")))","v":10101010101},{"$f":"VALUE(CONCATENATE($AR17,TEXT($AT17,\"00\"),TEXT($AG17,\"00\")))","v":101010101},{"$f":"VALUE(CONCATENATE($AR17,TEXT($AT17,\"00\"),TEXT($AE17,\"00\"),TEXT($AF17,\"00\"),TEXT($AG17,\"00\")))","v":1010101010101},{"$f":"VALUE(CONCATENATE($AR17,TEXT($AT17,\"00\"),TEXT($AF17,\"00\"),TEXT($AE17,\"00\"),TEXT($AG17,\"00\")))","v":1010101010101},{"$f":"VALUE(CONCATENATE($AR17,TEXT($AT17,\"00\"),TEXT($AG17,\"00\")))","v":101010101},{"$f":"VALUE(CONCATENATE($AR17,TEXT($AT17,\"00\"),TEXT($AE17,\"00\"),TEXT($AG17,\"00\")))","v":10101010101},{"$f":"INDEX(AU17:BD17,1,WertungskriterienA)","v":101010101},{"$f":"RANK(BE17,$BE$17:$BE$20,1)","v":1},{"$f":"IF($C17=\"\",FALSE,AND(LEN($C17)=1,OR(CODE($C17)<65,CODE($C17)>122,AND(CODE($C17)>90,CODE($C17)<97)),NOT(AND(CODE($C17)>48,CODE($C17)<58))))","v":false},{"$f":"IF(BG17,$C17,IF($C17=\"\",\"Spieler \"&TEXT($B17,\"00\"),$C17))","v":"Spieler 01"},{"$f":"IF(BG17,MAX(TeilnNr),0)+SUMPRODUCT((BH17>$BH$17:$BH$20)*1)","v":0},{"$f":"BF17+BI17/1000+B17/1000000","v":1.0000009999999999},{"$f":"RANK(BJ17,$BJ$17:$BJ$20,1)","v":1}]
[null,2,null,"","","","",{"$f":"T18","v":0},{"$f":"MAX($B$17:$B$20)-COUNTIF(D18:G18,\"\")","v":0},0,null,{"$f":"IF($BG18,0,COUNTIFS($BT:$BT,$B18,$BQ:$BQ,\"<>\")+COUNTIFS($CH:$CH,$B18,$CE:$CE,\"<>\"))","v":0},{"$f":"IF($BG18,0,COUNTIFS($BU:$BU,$B18,$BQ:$BQ,\"<>\")+COUNTIFS($CI:$CI,$B18,$CE:$CE,\"<>\"))","v":0},1,null,0,0,0,0,{"$f":"SUM(P18:S18)","v":0},null,0,0,0,0,{"$f":"SUM(V18:Y18)","v":0},null,{"$f":"K18","v":0},{"$f":"RANK($T18,$T$17:$T$20,0)","v":1},{"$f":"RANK($I18,$I$17:$I$20,1)","v":1},{"$f":"RANK($Z18,$Z$17:$Z$20,0)","v":1},{"$f":"RANK($M18,$M$17:$M$20,0)","v":1},{"$f":"RANK($AB18,$AB$17:$AB$20,IF($AG$15,0,1))","v":1},{"$f":"VALUE(CONCATENATE(IF($BG18,\"1\",\"0\"),TEXT($AC18,\"00\"),TEXT($AE18,\"00\"),TEXT($AG18,\"00\")))","v":10101},{"$f":"VALUE(CONCATENATE(IF($BG18,\"1\",\"0\"),TEXT($AC18,\"00\"),TEXT($AE18,\"00\")))","v":101},{"$f":"VALUE(CONCATENATE(IF($BG18,\"1\",\"0\"),TEXT($AC18,\"00\"),TEXT($AD18,\"00\"),TEXT($AE18,\"00\"),TEXT($AG18,\"00\")))","v":1010101},{"$f":"VALUE(CONCATENATE(IF($BG18,\"1\",\"0\"),TEXT($AC18,\"00\"),TEXT($AD18,\"00\"),TEXT($AE18,\"00\")))","v":10101},10101,{"$f":"VALUE(CONCATENATE(IF($BG18,\"1\",\"0\"),TEXT($AC18,\"00\"),TEXT($AD18,\"00\"),TEXT($AE18,\"00\"),TEXT($AF18,\"00\")))","v":1010101},{"$f":"VALUE(CONCATENATE(IF($BG18,\"1\",\"0\"),TEXT($AC18,\"00\"),TEXT($AD18,\"00\")))","v":101},101,{"$f":"VALUE(CONCATENATE(IF($BG18,\"1\",\"0\"),TEXT($AC18,\"00\"),TEXT($AD18,\"00\"),TEXT($AF18,\"00\"),TEXT($AE18,\"00\")))","v":1010101},{"$f":"VALUE(CONCATENATE(IF($BG18,\"1\",\"0\"),TEXT($AC18,\"00\"),TEXT($AD18,\"00\"),TEXT($AF18,\"00\")))","v":10101},{"$f":"INDEX($AH18:$AQ18,1,WertungskriterienA)","v":10101},{"$f":"SUM((TRANSPOSE($AR$17:$AR$20)=AR18)*$P18:$S18)","v":0},{"$f":"RANK($AS18,$AS$17:$AS$20,0)","v":1},{"$f":"$AR18","v":10101},{"$f":"VALUE(CONCATENATE($AR18,TEXT($AT18,\"00\"),TEXT($AG18,\"00\")))","v":101010101},{"$f":"$AR18","v":10101},{"$f":"VALUE(CONCATENATE($AR18,TEXT($AT18,\"00\"),TEXT($AG18,\"00\")))","v":101010101},{"$f":"VALUE(CONCATENATE($AR18,TEXT($AT18,\"00\"),TEXT($AF18,\"00\"),TEXT($AG18,\"00\")))","v":10101010101},{"$f":"VALUE(CONCATENATE($AR18,TEXT($AT18,\"00\"),TEXT($AG18,\"00\")))","v":101010101},{"$f":"VALUE(CONCATENATE($AR18,TEXT($AT18,\"00\"),TEXT($AE18,\"00\"),TEXT($AF18,\"00\"),TEXT($AG18,\"00\")))","v":1010101010101},{"$f":"VALUE(CONCATENATE($AR18,TEXT($AT18,\"00\"),TEXT($AF18,\"00\"),TEXT($AE18,\"00\"),TEXT($AG18,\"00\")))","v":1010101010101},{"$f":"VALUE(CONCATENATE($AR18,TEXT($AT18,\"00\"),TEXT($AG18,\"00\")))","v":101010101},{"$f":"VALUE(CONCATENATE($AR18,TEXT($AT18,\"00\"),TEXT($AE18,\"00\"),TEXT($AG18,\"00\")))","v":10101010101},{"$f":"INDEX(AU18:BD18,1,WertungskriterienA)","v":101010101},{"$f":"RANK(BE18,$BE$17:$BE$20,1)","v":1},{"$f":"IF($C18=\"\",FALSE,AND(LEN($C18)=1,OR(CODE($C18)<65,CODE($C18)>122,AND(CODE($C18)>90,CODE($C18)<97)),NOT(AND(CODE($C18)>48,CODE($C18)<58))))","v":false},"Spieler 02",{"$f":"IF(BG18,MAX(TeilnNr),0)+SUMPRODUCT((BH18>$BH$17:$BH$20)*1)","v":1},{"$f":"BF18+BI18/1000+B18/1000000","v":1.0010019999999999},{"$f":"RANK(BJ18,$BJ$17:$BJ$20,1)","v":2}]
[null,3,null,"","","","",0,{"$f":"MAX($B$17:$B$20)-COUNTIF(D19:G19,\"\")","v":0},0,null,{"$f":"IF($BG19,0,COUNTIFS($BT:$BT,$B19,$BQ:$BQ,\"<>\")+COUNTIFS($CH:$CH,$B19,$CE:$CE,\"<>\"))","v":0},{"$f":"IF($BG19,0,COUNTIFS($BU:$BU,$B19,$BQ:$BQ,\"<>\")+COUNTIFS($CI:$CI,$B19,$CE:$CE,\"<>\"))","v":0},1,null,0,0,0,0,{"$f":"SUM(P19:S19)","v":0},null,0,0,0,0,{"$f":"SUM(V19:Y19)","v":0},null,{"$f":"K19","v":0},{"$f":"RANK($T19,$T$17:$T$20,0)","v":1},{"$f":"RANK($I19,$I$17:$I$20,1)","v":1},{"$f":"RANK($Z19,$Z$17:$Z$20,0)","v":1},{"$f":"RANK($M19,$M$17:$M$20,0)","v":1},{"$f":"RANK($AB19,$AB$17:$AB$20,IF($AG$15,0,1))","v":1},10101,101,1010101,10101,10101,1010101,101,101,1010101,10101,{"$f":"INDEX($AH19:$AQ19,1,WertungskriterienA)","v":10101},{"$f":"SUM((TRANSPOSE($AR$17:$AR$20)=AR19)*$P19:$S19)","v":0},{"$f":"RANK($AS19,$AS$17:$AS$20,0)","v":1},10101,101010101,10101,101010101,10101010101,101010101,1010101010101,1010101010101,101010101,10101010101,{"$f":"INDEX(AU19:BD19,1,WertungskriterienA)","v":101010101},{"$f":"RANK(BE19,$BE$17:$BE$20,1)","v":1},false,"Spieler 03",{"$f":"IF(BG19,MAX(TeilnNr),0)+SUMPRODUCT((BH19>$BH$17:$BH$20)*1)","v":2},{"$f":"BF19+BI19/1000+B19/1000000","v":1.002003},{"$f":"RANK(BJ19,$BJ$17:$BJ$20,1)","v":3}]
[null,4,null,"","","","",0,{"$f":"MAX($B$17:$B$20)-COUNTIF(D20:G20,\"\")","v":0},0,null,{"$f":"IF($BG20,0,COUNTIFS($BT:$BT,$B20,$BQ:$BQ,\"<>\")+COUNTIFS($CH:$CH,$B20,$CE:$CE,\"<>\"))","v":0},{"$f":"IF($BG20,0,COUNTIFS($BU:$BU,$B20,$BQ:$BQ,\"<>\")+COUNTIFS($CI:$CI,$B20,$CE:$CE,\"<>\"))","v":0},1,null,0,0,0,0,{"$f":"SUM(P20:S20)","v":0},null,0,0,0,0,{"$f":"SUM(V20:Y20)","v":0},null,{"$f":"K20","v":0},{"$f":"RANK($T20,$T$17:$T$20,0)","v":1},{"$f":"RANK($I20,$I$17:$I$20,1)","v":1},{"$f":"RANK($Z20,$Z$17:$Z$20,0)","v":1},{"$f":"RANK($M20,$M$17:$M$20,0)","v":1},{"$f":"RANK($AB20,$AB$17:$AB$20,IF($AG$15,0,1))","v":1},10101,101,1010101,10101,10101,1010101,101,101,1010101,10101,{"$f":"INDEX($AH20:$AQ20,1,WertungskriterienA)","v":10101},{"$f":"SUM((TRANSPOSE($AR$17:$AR$20)=AR20)*$P20:$S20)","v":0},{"$f":"RANK($AS20,$AS$17:$AS$20,0)","v":1},10101,101010101,10101,101010101,10101010101,101010101,1010101010101,1010101010101,101010101,10101010101,{"$f":"INDEX(AU20:BD20,1,WertungskriterienA)","v":101010101},{"$f":"RANK(BE20,$BE$17:$BE$20,1)","v":1},false,"Spieler 04",{"$f":"IF(BG20,MAX(TeilnNr),0)+SUMPRODUCT((BH20>$BH$17:$BH$20)*1)","v":3},{"$f":"BF20+BI20/1000+B20/1000000","v":1.0030039999999998},{"$f":"RANK(BJ20,$BJ$17:$BJ$20,1)","v":4}]
[null,null,{"$f":"\"-> bei nur \"&MAX(TeilnNr)-1&\" Spielern an Pos. \"&MAX(TeilnNr)&\" einen Stern (*) eintragen\"","v":"-> bei nur 3 Spielern an Pos. 4 einen Stern (*) eintragen"},null,null,null,null,null,{"$f":"SUM(I17:I20)","v":0},null,null,{"$f":"SUM(L17:L20)","v":0},{"$f":"SUM(M17:M20)","v":0}]

{"sheet":"12DR","index":12,"n_rows":94,"n_cols":149,"rows_kept":94,"cut":false,"hidden":false,"merged":[[13,102,13,104],[13,117,13,119],[5,17,5,18],[5,19,5,20],[5,21,5,22],[0,1,0,33],[1,117,1,119],[3,102,3,119],[5,102,5,104],[5,117,5,119],[5,13,5,14],[5,15,5,16],[5,23,5,24],[5,25,5,26],[21,102,21,104],[21,117,21,119],[22,31,22,32],[29,102,29,104],[29,117,29,119],[85,102,85,104],[85,117,85,119],[45,102,45,104],[45,117,45,119],[53,102,53,104],[53,117,53,119],[61,102,61,104],[61,117,61,119],[23,17,23,18],[23,19,23,20],[69,102,69,104],[69,117,69,119],[77,102,77,104],[77,117,77,119],[37,102,37,104],[37,117,37,119],[23,21,23,22],[23,23,23,24],[23,25,23,26],[23,15,23,16],[5,3,5,4],[5,5,5,6],[5,7,5,8],[5,9,5,10],[5,11,5,12],[23,5,23,6],[23,13,23,14],[23,3,23,4],[23,7,23,8],[23,9,23,10],[23,11,23,12]]}
[null,"Turniername",null,null,null,null,null,null,null,null,null,null,null,null,null,null,null,null,null,null,null,null,null,null,null,null,null,null,null,null,null,null,null,null,null,null,null,null,null,null,null,null,null,null,null,null,null,null,null,null,null,1,"1) Punkte 2) So-Be 3) Manuelle Feinwertung ",null,null,null,null,null,null,null,null,null,null,null,null,null,null,null,null,null,null,null,null,null,null,null,null,null,null,null,null,null,null,"Wiederholung Kriterien:",null,null,null,null,null,null,null,null,null,null,null,null,null,null,null,null,{"$f":"\"Paarungsliste und Resultate \"&IF(Turnier=\"\",\"\",Turnier)","v":"Paarungsliste und Resultate Turniername"},null,null,null,null,null,null,null,null,null,null,null,null,null,null,null,null,null,null,null,null,null,null,null,null,null,null,null,null,null,"Paarungsliste Darstellung Rutschsystem",null,null,null,null,null,null,null,null,null,null,{"$f":"IF(Datum=\"\",\"\",\"Datum:\")","v":""}]
[null,null,null,null,null,null,null,null,null,null,null,null,null,null,null,null,null,null,null,null,null,null,null,null,null,null,null,null,null,null,null,null,null,null,null,null,null,null,null,null,null,null,null,null,null,null,null,null,"a","b","P",2,"1) Punkte 2) So-Be 3) direkte Begegnung 4) Manuelle Feinwertung ",null,null,null,null,null,null,null,null,null,null,null,null,null,null,null,null,null,null,null,null,null,null,null,null,null,null,null,null,null,1,{"$f":"BA1","v":"1) Punkte 2) So-Be 3) Manuelle Feinwertung "},null,null,null,null,null,null,null,null,null,null,null,null,null,null,null,null,{"$f":"IF(Turnier=\"\",\"\",\"Turniername:\")","v":"Turniername:"},null,{"$f":"IF(Turnier=\"\",\"\",Turnier)","v":"Turniername"},null,null,null,null,null,null,null,null,null,null,null,null,null,"Datum:",null,null,null,null,null,null,null,null,null,null,null,null,null,{"$f":"IF(Turnier=\"\",\"\",\"Turniername:\")","v":"Turniername:"},null,{"$f":"IF(Turnier=\"\",\"\",Turnier)&IF(Datum=\"\",\"\",\", \"&TEXT(Datum,\"TT.MM.JJJJ\"))","v":"Turniername"}]
[null,null,null,null,null,null,null,null,null,null,null,null,null,null,null,null,null,null,null,null,null,null,null,null,null,null,null,null,null,null,null,null,null,null,null,null,null,null,null,null,null,null,null,null,null,null,null,null,"1","0",1,3,"1) Punkte 2) Anz. Partien 3) So-Be 4) Manuelle Feinwertung "]
[null,"Rangliste",null,null,null,null,null,null,null,null,null,null,null,null,null,null,null,null,null,null,null,null,null,null,null,null,null,null,null,null,null,null,null,null,null,null,null,null,null,null,null,null,null,null,null,null,null,null,"0","1",0,4,"1) Punkte 2) Anz. Partien 3) So-Be 4) direkte Begegnung 5) Manuelle Feinwertung ",null,null,null,null,null,null,null,null,null,null,null,null,null,null,null,null,null,null,null,null,null,null,null,null,null,null,null,null,null,2,{"$f":"BA2","v":"1) Punkte 2) So-Be 3) direkte Begegnung 4) Manuelle Feinwertung "},null,null,null,null,null,null,null,null,null,null,null,null,null,null,null,null,"Turnierleitung:",null,null,null,null,null,null,null,null,null,null,null,null,null,null,null,null,null,null,null,null,null,null,null,null,null,null,null,null,null,{"$f":"IF(Turnierleitung=\"\",\"\",\"Turnierleitung:\")","v":""},null,{"$f":"IF(Turnierleitung=\"\",\"\",Turnierleitung)","v":""}]
[null,null,null,null,null,null,null,null,null,null,null,null,null,null,null,null,null,null,null,null,null,null,null,null,null,null,null,null,null,null,null,null,null,null,null,null,null,null,null,null,null,null,null,null,null,null,null,null,"½","½",0.5,5,"1) Punkte 2) Anz. Partien 3) So-Be 4) direkte Begegnung 5) Anz.Schwarzpartien 6) Manuelle Feinwertung ",null,null,null,null,null,null,null,null,null,null,null,null,null,null,null,null,null,null,null,null,null,null,null,null,null,null,null,null,null,3,"1) Punkte 2) Anz. Partien 3) So-Be 4) Manuelle Feinwertung "]
[null,"Rang","Teilnehmer",1,null,2,null,3,null,4,null,5,null,6,null,7,null,8,null,9,null,10,null,11,null,12,null,"Punkte","Spiele","So-Be",{"$f":"IF(AE24=\"\",\"FWm\",AE24)","v":"FWx"},1,"½",0,"Nr",null,null,null,null,null,null,null,null,null,null,null,null,null,"+","-",1,6,"1) Punkte 2) Anz. Partien 3) So-Be 4) Anz.Schwarzpartien 5) direkte Begegnung 6) Manuelle Feinwertung ",null,null,null,null,null,null,null,null,null,null,null,null,null,null,null,null,null,null,null,null,null,null,null,null,null,null,null,null,null,4,"1) Punkte 2) Anz. Partien 3) So-Be 4) direkte Begegnung 5) Manuelle Feinwertung ",null,null,null,null,null,null,null,null,null,null,null,null,null,null,null,null,1,null,null,null,null,"N°","R","B","SpNr w","SpNr s","Res w","Res s","AdrTTw","AdrTTs",null,{"$f":"CW6+1","v":2},null,null,null,null,"N°","R","B","SpNr w","SpNr s","Res w","Res s","AdrTTw","AdrTTs",null,{"$f":"CW6","v":1},null,{"$f":"IF(CW6=MAX(TeilnNr),\"-> Bretter drehen!\",\"\")","v":""},null,null,null,null,null,null,null,{"$f":"DL6","v":2},null,{"$f":"IF(DL6=MAX(TeilnNr),\"-> Bretter drehen!\",\"\")","v":""}]
[null,{"$f":"IF(INDEX($CQ$25:$CQ$36,MATCH(B25,$CU$25:$CU$36,0)),\"-\",IF(INDEX($CP$25:$CP$36,MATCH(B25,$CU$25:$CU$36,0))<ROW()-ROW($B$6),\"\",INDEX($CP$25:$CP$36,MATCH(B25,$CU$25:$CU$36,0))))","v":1},{"$f":"IF(INDEX($C$25:$C$36,MATCH(B25,$CU$25:$CU$36,0))=0,\"Spieler \"&TEXT(AI7,\"00\"),INDEX($C$25:$C$36,MATCH(B25,$CU$25:$CU$36,0)))","v":"Spieler 01"},{"$f":"IF(INDEX($B$24:$AA$36,MATCH($AI7,$B$24:$B$36,0),MATCH(INDEX($B$25:$B$36,MATCH(OFFSET($AI$6,D$6,0),$B$25:$B$36,0)),$B$24:$AA$24,0))=\"\",\"\",INDEX($B$24:$AA$36,MATCH($AI7,$B$24:$B$36,0),MATCH(INDEX($B$25:$B$36,MATCH(OFFSET($AI$6,D$6,0),$B$25:$B$36,0)),$B$24:$AA$24,0)))","v":""},{"$f":"IF(INDEX($B$24:$AA$36,MATCH($AI7,$B$24:$B$36,0),MATCH(INDEX($B$25:$B$36,MATCH(OFFSET($AI$6,D$6,0),$B$25:$B$36,0)),$B$24:$AA$24,0)+1)=\"\",\"\",INDEX($B$24:$AA$36,MATCH($AI7,$B$24:$B$36,0),MATCH(INDEX($B$25:$B$36,MATCH(OFFSET($AI$6,D$6,0),$B$25:$B$36,0)),$B$24:$AA$24,0)+1))","v":""},{"$f":"IF(INDEX($B$24:$AA$36,MATCH($AI7,$B$24:$B$36,0),MATCH(INDEX($B$25:$B$36,MATCH(OFFSET($AI$6,F$6,0),$B$25:$B$36,0)),$B$24:$AA$24,0))=\"\",\"\",INDEX($B$24:$AA$36,MATCH($AI7,$B$24:$B$36,0),MATCH(INDEX($B$25:$B$36,MATCH(OFFSET($AI$6,F$6,0),$B$25:$B$36,0)),$B$24:$AA$24,0)))","v":""},{"$f":"IF(INDEX($B$24:$AA$36,MATCH($AI7,$B$24:$B$36,0),MATCH(INDEX($B$25:$B$36,MATCH(OFFSET($AI$6,F$6,0),$B$25:$B$36,0)),$B$24:$AA$24,0)+1)=\"\",\"\",INDEX($B$24:$AA$36,MATCH($AI7,$B$24:$B$36,0),MATCH(INDEX($B$25:$B$36,MATCH(OFFSET($AI$6,F$6,0),$B$25:$B$36,0)),$B$24:$AA$24,0)+1))","v":""},{"$f":"IF(INDEX($B$24:$AA$36,MATCH($AI7,$B$24:$B$36,0),MATCH(INDEX($B$25:$B$36,MATCH(OFFSET($AI$6,H$6,0),$B$25:$B$36,0)),$B$24:$AA$24,0))=\"\",\"\",INDEX($B$24:$AA$36,MATCH($AI7,$B$24:$B$36,0),MATCH(INDEX($B$25:$B$36,MATCH(OFFSET($AI$6,H$6,0),$B$25:$B$36,0)),$B$24:$AA$24,0)))","v":""},"",{"$f":"IF(INDEX($B$24:$AA$36,MATCH($AI7,$B$24:$B$36,0),MATCH(INDEX($B$25:$B$36,MATCH(OFFSET($AI$6,J$6,0),$B$25:$B$36,0)),$B$24:$AA$24,0))=\"\",\"\",INDEX($B$24:$AA$36,MATCH($AI7,$B$24:$B$36,0),MATCH(INDEX($B$25:$B$36,MATCH(OFFSET($AI$6,J$6,0),$B$25:$B$36,0)),$B$24:$AA$24,0)))","v":""},{"$f":"IF(INDEX($B$24:$AA$36,MATCH($AI7,$B$24:$B$36,0),MATCH(INDEX($B$25:$B$36,MATCH(OFFSET($AI$6,J$6,0),$B$25:$B$36,0)),$B$24:$AA$24,0)+1)=\"\",\"\",INDEX($B$24:$AA$36,MATCH($AI7,$B$24:$B$36,0),MATCH(INDEX($B$25:$B$36,MATCH(OFFSET($AI$6,J$6,0),$B$25:$B$36,0)),$B$24:$AA$24,0)+1))","v":""},{"$f":"IF(INDEX($B$24:$AA$36,MATCH($AI7,$B$24:$B$36,0),MATCH(INDEX($B$25:$B$36,MATCH(OFFSET($AI$6,L$6,0),$B$25:$B$36,0)),$B$24:$AA$24,0))=\"\",\"\",INDEX($B$24:$AA$36,MATCH($AI7,$B$24:$B$36,0),MATCH(INDEX($B$25:$B$36,MATCH(OFFSET($AI$6,L$6,0),$B$25:$B$36,0)),$B$24:$AA$24,0)))","v":""},{"$f":"IF(INDEX($B$24:$AA$36,MATCH($AI7,$B$24:$B$36,0),MATCH(INDEX($B$25:$B$36,MATCH(OFFSET($AI$6,L$6,0),$B$25:$B$36,0)),$B$24:$AA$24,0)+1)=\"\",\"\",INDEX($B$24:$AA$36,MATCH($AI7,$B$24:$B$36,0),MATCH(INDEX($B$25:$B$36,MATCH(OFFSET($AI$6,L$6,0),$B$25:$B$36,0)),$B$24:$AA$24,0)+1))","v":""},{"$f":"IF(INDEX($B$24:$AA$36,MATCH($AI7,$B$24:$B$36,0),MATCH(INDEX($B$25:$B$36,MATCH(OFFSET($AI$6,N$6,0),$B$25:$B$36,0)),$B$24:$AA$24,0))=\"\",\"\",INDEX($B$24:$AA$36,MATCH($AI7,$B$24:$B$36,0),MATCH(INDEX($B$25:$B$36,MATCH(OFFSET($AI$6,N$6,0),$B$25:$B$36,0)),$B$24:$AA$24,0)))","v":""},{"$f":"IF(INDEX($B$24:$AA$36,MATCH($AI7,$B$24:$B$36,0),MATCH(INDEX($B$25:$B$36,MATCH(OFFSET($AI$6,N$6,0),$B$25:$B$36,0)),$B$24:$AA$24,0)+1)=\"\",\"\",INDEX($B$24:$AA$36,MATCH($AI7,$B$24:$B$36,0),MATCH(INDEX($B$25:$B$36,MATCH(OFFSET($AI$6,N$6,0),$B$25:$B$36,0)),$B$24:$AA$24,0)+1))","v":""},{"$f":"IF(INDEX($B$24:$AA$36,MATCH($AI7,$B$24:$B$36,0),MATCH(INDEX($B$25:$B$36,MATCH(OFFSET($AI$6,P$6,0),$B$25:$B$36,0)),$B$24:$AA$24,0))=\"\",\"\",INDEX($B$24:$AA$36,MATCH($AI7,$B$24:$B$36,0),MATCH(INDEX($B$25:$B$36,MATCH(OFFSET($AI$6,P$6,0),$B$25:$B$36,0)),$B$24:$AA$24,0)))","v":""},{"$f":"IF(INDEX($B$24:$AA$36,MATCH($AI7,$B$24:$B$36,0),MATCH(INDEX($B$25:$B$36,MATCH(OFFSET($AI$6,P$6,0),$B$25:$B$36,0)),$B$24:$AA$24,0)+1)=\"\",\"\",INDEX($B$24:$AA$36,MATCH($AI7,$B$24:$B$36,0),MATCH(INDEX($B$25:$B$36,MATCH(OFFSET($AI$6,P$6,0),$B$25:$B$36,0)),$B$24:$AA$24,0)+1))","v":""},{"$f":"IF(INDEX($B$24:$AA$36,MATCH($AI7,$B$24:$B$36,0),MATCH(INDEX($B$25:$B$36,MATCH(OFFSET($AI$6,R$6,0),$B$25:$B$36,0)),$B$24:$AA$24,0))=\"\",\"\",INDEX($B$24:$AA$36,MATCH($AI7,$B$24:$B$36,0),MATCH(INDEX($B$25:$B$36,MATCH(OFFSET($AI$6,R$6,0),$B$25:$B$36,0)),$B$24:$AA$24,0)))","v":""},{"$f":"IF(INDEX($B$24:$AA$36,MATCH($AI7,$B$24:$B$36,0),MATCH(INDEX($B$25:$B$36,MATCH(OFFSET($AI$6,R$6,0),$B$25:$B$36,0)),$B$24:$AA$24,0)+1)=\"\",\"\",INDEX($B$24:$AA$36,MATCH($AI7,$B$24:$B$36,0),MATCH(INDEX($B$25:$B$36,MATCH(OFFSET($AI$6,R$6,0),$B$25:$B$36,0)),$B$24:$AA$24,0)+1))","v":""},{"$f":"IF(INDEX($B$24:$AA$36,MATCH($AI7,$B$24:$B$36,0),MATCH(INDEX($B$25:$B$36,MATCH(OFFSET($AI$6,T$6,0),$B$25:$B$36,0)),$B$24:$AA$24,0))=\"\",\"\",INDEX($B$24:$AA$36,MATCH($AI7,$B$24:$B$36,0),MATCH(INDEX($B$25:$B$36,MATCH(OFFSET($AI$6,T$6,0),$B$25:$B$36,0)),$B$24:$AA$24,0)))","v":""},{"$f":"IF(INDEX($B$24:$AA$36,MATCH($AI7,$B$24:$B$36,0),MATCH(INDEX($B$25:$B$36,MATCH(OFFSET($AI$6,T$6,0),$B$25:$B$36,0)),$B$24:$AA$24,0)+1)=\"\",\"\",INDEX($B$24:$AA$36,MATCH($AI7,$B$24:$B$36,0),MATCH(INDEX($B$25:$B$36,MATCH(OFFSET($AI$6,T$6,0),$B$25:$B$36,0)),$B$24:$AA$24,0)+1))","v":""},{"$f":"IF(INDEX($B$24:$AA$36,MATCH($AI7,$B$24:$B$36,0),MATCH(INDEX($B$25:$B$36,MATCH(OFFSET($AI$6,V$6,0),$B$25:$B$36,0)),$B$24:$AA$24,0))=\"\",\"\",INDEX($B$24:$AA$36,MATCH($AI7,$B$24:$B$36,0),MATCH(INDEX($B$25:$B$36,MATCH(OFFSET($AI$6,V$6,0),$B$25:$B$36,0)),$B$24:$AA$24,0)))","v":""},{"$f":"IF(INDEX($B$24:$AA$36,MATCH($AI7,$B$24:$B$36,0),MATCH(INDEX($B$25:$B$36,MATCH(OFFSET($AI$6,V$6,0),$B$25:$B$36,0)),$B$24:$AA$24,0)+1)=\"\",\"\",INDEX($B$24:$AA$36,MATCH($AI7,$B$24:$B$36,0),MATCH(INDEX($B$25:$B$36,MATCH(OFFSET($AI$6,V$6,0),$B$25:$B$36,0)),$B$24:$AA$24,0)+1))","v":""},{"$f":"IF(INDEX($B$24:$AA$36,MATCH($AI7,$B$24:$B$36,0),MATCH(INDEX($B$25:$B$36,MATCH(OFFSET($AI$6,X$6,0),$B$25:$B$36,0)),$B$24:$AA$24,0))=\"\",\"\",INDEX($B$24:$AA$36,MATCH($AI7,$B$24:$B$36,0),MATCH(INDEX($B$25:$B$36,MATCH(OFFSET($AI$6,X$6,0),$B$25:$B$36,0)),$B$24:$AA$24,0)))","v":""},{"$f":"IF(INDEX($B$24:$AA$36,MATCH($AI7,$B$24:$B$36,0),MATCH(INDEX($B$25:$B$36,MATCH(OFFSET($AI$6,X$6,0),$B$25:$B$36,0)),$B$24:$AA$24,0)+1)=\"\",\"\",INDEX($B$24:$AA$36,MATCH($AI7,$B$24:$B$36,0),MATCH(INDEX($B$25:$B$36,MATCH(OFFSET($AI$6,X$6,0),$B$25:$B$36,0)),$B$24:$AA$24,0)+1))","v":""},{"$f":"IF(INDEX($B$24:$AA$36,MATCH($AI7,$B$24:$B$36,0),MATCH(INDEX($B$25:$B$36,MATCH(OFFSET($AI$6,Z$6,0),$B$25:$B$36,0)),$B$24:$AA$24,0))=\"\",\"\",INDEX($B$24:$AA$36,MATCH($AI7,$B$24:$B$36,0),MATCH(INDEX($B$25:$B$36,MATCH(OFFSET($AI$6,Z$6,0),$B$25:$B$36,0)),$B$24:$AA$24,0)))","v":""},{"$f":"IF(INDEX($B$24:$AA$36,MATCH($AI7,$B$24:$B$36,0),MATCH(INDEX($B$25:$B$36,MATCH(OFFSET($AI$6,Z$6,0),$B$25:$B$36,0)),$B$24:$AA$24,0)+1)=\"\",\"\",INDEX($B$24:$AA$36,MATCH($AI7,$B$24:$B$36,0),MATCH(INDEX($B$25:$B$36,MATCH(OFFSET($AI$6,Z$6,0),$B$25:$B$36,0)),$B$24:$AA$24,0)+1))","v":""},{"$f":"INDEX($AV$25:$AV$36,MATCH(AI7,$B$25:$B$36,0))","v":0},{"$f":"INDEX($AC$25:$AC$36,MATCH(AI7,$B$25:$B$36,0))","v":0},{"$f":"INDEX($AD$25:$AD$36,MATCH(AI7,$B$25:$B$36,0))","v":0},{"$f":"INDEX($AE$25:$AE$36,MATCH(AI7,$B$25:$B$36,0))","v":0},{"$f":"COUNTIF($D7:$AA7,1)+COUNTIF($D7:$AA7,\"+\")","v":0},{"$f":"COUNTIF($D7:$AA7,\"½\")","v":0},{"$f":"COUNTIF($D7:$AA7,0)+COUNTIF($D7:$AA7,\"-\")","v":0},{"$f":"INDEX($B$25:$B$36,MATCH(B25,$CU$25:$CU$36,0))","v":1},null,null,null,null,null,null,null,null,null,null,null,null,null,"-","+",0,7,"1) Punkte 2) Anz. Partien 3) direkte Begegnung 4) So-Be 5) Anz.Schwarzpartien 6) Manuelle Feinwertung ",null,null,null,null,null,null,null,null,null,null,null,null,null,null,null,null,null,null,null,null,null,null,null,null,null,null,null,null,null,5,"1) Punkte 2) Anz. Partien 3) So-Be 4) direkte Begegnung 5) Anz.Schwarzpartien 6) Manuelle Feinwertung ",null,null,null,null,null,null,null,null,null,null,null,null,null,null,null,{"$f":"IF(OR(INDEX($CQ$25:$CQ$36,DE7),INDEX($CQ$25:$CQ$36,DF7)),0,1)","v":1},{"$f":"INDEX($CR$25:$CR$36,MATCH($DE7,TeilnNr,0))","v":"Spieler 01"},"-",{"$f":"INDEX($CR$25:$CR$36,MATCH($DF7,TeilnNr,0))","v":"Spieler 12"},null,null,{"$f":"CW6","v":1},{"$f":"IF(CW6>MAX(TeilnNr)-1,CW6-(MAX(TeilnNr)-1),CW6)","v":1},1,{"$f":"IF(AND(DD7=1,MOD(DC7,2)=IF(DB7>MAX(TeilnNr)-1,1,0)),MAX(TeilnNr),IF(MOD(DD7,2)=IF(DB7>MAX(TeilnNr)-1,1,0),IF(MAX(TeilnNr)/2-DD7+1-(DC7-MAX(TeilnNr)/2-1)>=1,MAX(TeilnNr)/2-DD7+1-(DC7-MAX(TeilnNr)/2-1),MAX(TeilnNr)/2-DD7+1-(DC7-MAX(TeilnNr)/2-1)+MAX(TeilnNr)-1),IF(DD7-(DC7-1)>=1,DD7-(DC7-1),DD7-(DC7-1)+MAX(TeilnNr)-1)))","v":1},{"$f":"IF(AND(DD7=1,MOD(DC7,2)<>IF(DB7>MAX(TeilnNr)-1,1,0)),MAX(TeilnNr),IF(MOD(DD7,2)<>IF(DB7>MAX(TeilnNr)-1,1,0),IF(MAX(TeilnNr)/2-DD7+1-(DC7-MAX(TeilnNr)/2-1)>=1,MAX(TeilnNr)/2-DD7+1-(DC7-MAX(TeilnNr)/2-1),MAX(TeilnNr)/2-DD7+1-(DC7-MAX(TeilnNr)/2-1)+MAX(TeilnNr)-1),IF(DD7-(DC7-1)>=1,DD7-(DC7-1),DD7-(DC7-1)+MAX(TeilnNr)-1)))","v":12},{"$f":"IF(LEFT(DA7,1)=\"V\",\"\",LEFT(DA7,1))","v":""},{"$f":"IF(RIGHT(DA7,1)=\"V\",\"\",RIGHT(DA7,1))","v":""},{"$f":"IF(DB7>MAX(TeilnNr)-1,ADDRESS(ROW(Teilnehmer)+DE7,COLUMN(Teilnehmer)+DF7+DF7),ADDRESS(ROW(Teilnehmer)+DE7,COLUMN(Teilnehmer)+DF7+DF7-1))","v":"$Z$25"},{"$f":"IF(DB7>MAX(TeilnNr)-1,ADDRESS(ROW(Teilnehmer)+DF7,COLUMN(Teilnehmer)+DE7+DE7),ADDRESS(ROW(Teilnehmer)+DF7,COLUMN(Teilnehmer)+DE7+DE7-1))","v":"$D$36"},{"$f":"IF(OR(INDEX($CQ$25:$CQ$36,DT7),INDEX($CQ$25:$CQ$36,DU7)),0,1)","v":1},{"$f":"INDEX($CR$25:$CR$36,MATCH($DT7,TeilnNr,0))","v":"Spieler 12"},"-",{"$f":"INDEX($CR$25:$CR$36,MATCH($DU7,TeilnNr,0))","v":"Spieler 11"},null,null,{"$f":"DL6","v":2},{"$f":"IF(DL6>MAX(TeilnNr)-1,DL6-(MAX(TeilnNr)-1),DL6)","v":2},1,{"$f":"IF(AND(DS7=1,MOD(DR7,2)=IF(DQ7>MAX(TeilnNr)-1,1,0)),MAX(TeilnNr),IF(MOD(DS7,2)=IF(DQ7>MAX(TeilnNr)-1,1,0),IF(MAX(TeilnNr)/2-DS7+1-(DR7-MAX(TeilnNr)/2-1)>=1,MAX(TeilnNr)/2-DS7+1-(DR7-MAX(TeilnNr)/2-1),MAX(TeilnNr)/2-DS7+1-(DR7-MAX(TeilnNr)/2-1)+MAX(TeilnNr)-1),IF(DS7-(DR7-1)>=1,DS7-(DR7-1),DS7-(DR7-1)+MAX(TeilnNr)-1)))","v":12},{"$f":"IF(AND(DS7=1,MOD(DR7,2)<>IF(DQ7>MAX(TeilnNr)-1,1,0)),MAX(TeilnNr),IF(MOD(DS7,2)<>IF(DQ7>MAX(TeilnNr)-1,1,0),IF(MAX(TeilnNr)/2-DS7+1-(DR7-MAX(TeilnNr)/2-1)>=1,MAX(TeilnNr)/2-DS7+1-(DR7-MAX(TeilnNr)/2-1),MAX(TeilnNr)/2-DS7+1-(DR7-MAX(TeilnNr)/2-1)+MAX(TeilnNr)-1),IF(DS7-(DR7-1)>=1,DS7-(DR7-1),DS7-(DR7-1)+MAX(TeilnNr)-1)))","v":11},{"$f":"IF(LEFT(DP7,1)=\"V\",\"\",LEFT(DP7,1))","v":""},{"$f":"IF(RIGHT(DP7,1)=\"V\",\"\",RIGHT(DP7,1))","v":""},{"$f":"IF(DQ7>MAX(TeilnNr)-1,ADDRESS(ROW(Teilnehmer)+DT7,COLUMN(Teilnehmer)+DU7+DU7),ADDRESS(ROW(Teilnehmer)+DT7,COLUMN(Teilnehmer)+DU7+DU7-1))","v":"$X$36"},{"$f":"IF(DQ7>MAX(TeilnNr)-1,ADDRESS(ROW(Teilnehmer)+DU7,COLUMN(Teilnehmer)+DT7+DT7),ADDRESS(ROW(Teilnehmer)+DU7,COLUMN(Teilnehmer)+DT7+DT7-1))","v":"$Z$35"},{"$f":"CV7","v":1},{"$f":"CW7","v":"Spieler 01"},"-",{"$f":"CY7","v":"Spieler 12"},{"$f":"IF(ISNUMBER(DB7),IF(DB7>MAX(TeilnNr)-1,IF(DD7=1,1,IF(MOD(DD7,2)<>0,2,1)),IF(DD7=1,1,IF(MOD(DD7,2)<>0,1,2))),\"\")","v":1},null,{"$f":"IF(ED7=1,2,1)","v":2},{"$f":"ED7","v":1},null,{"$f":"IF(DS7=1,EF7*10,EF7)","v":20},{"$f":"DK7","v":1},{"$f":"DN7","v":"Spieler 11"},"-",{"$f":"DL7","v":"Spieler 12"},{"$f":"IF(ISNUMBER(DQ7),IF(DQ7>MAX(TeilnNr)-1,IF(DS7=1,2,IF(MOD(DS7,2)<>0,2,1)),IF(DS7=1,2,IF(MOD(DS7,2)<>0,1,2))),\"\")","v":2},null,{"$f":"IF(EN7=1,2,1)","v":1},{"$f":"EN7","v":2},null,{"$f":"IF(DS7=1,EP7*10,EP7)","v":10}]
[null,"","Spieler 02","",{"$f":"IF(INDEX($B$24:$AA$36,MATCH($AI8,$B$24:$B$36,0),MATCH(INDEX($B$25:$B$36,MATCH(OFFSET($AI$6,D$6,0),$B$25:$B$36,0)),$B$24:$AA$24,0)+1)=\"\",\"\",INDEX($B$24:$AA$36,MATCH($AI8,$B$24:$B$36,0),MATCH(INDEX($B$25:$B$36,MATCH(OFFSET($AI$6,D$6,0),$B$25:$B$36,0)),$B$24:$AA$24,0)+1))","v":""},"","","","","",{"$f":"IF(INDEX($B$24:$AA$36,MATCH($AI8,$B$24:$B$36,0),MATCH(INDEX($B$25:$B$36,MATCH(OFFSET($AI$6,J$6,0),$B$25:$B$36,0)),$B$24:$AA$24,0)+1)=\"\",\"\",INDEX($B$24:$AA$36,MATCH($AI8,$B$24:$B$36,0),MATCH(INDEX($B$25:$B$36,MATCH(OFFSET($AI$6,J$6,0),$B$25:$B$36,0)),$B$24:$AA$24,0)+1))","v":""},"",{"$f":"IF(INDEX($B$24:$AA$36,MATCH($AI8,$B$24:$B$36,0),MATCH(INDEX($B$25:$B$36,MATCH(OFFSET($AI$6,L$6,0),$B$25:$B$36,0)),$B$24:$AA$24,0)+1)=\"\",\"\",INDEX($B$24:$AA$36,MATCH($AI8,$B$24:$B$36,0),MATCH(INDEX($B$25:$B$36,MATCH(OFFSET($AI$6,L$6,0),$B$25:$B$36,0)),$B$24:$AA$24,0)+1))","v":""},"",{"$f":"IF(INDEX($B$24:$AA$36,MATCH($AI8,$B$24:$B$36,0),MATCH(INDEX($B$25:$B$36,MATCH(OFFSET($AI$6,N$6,0),$B$25:$B$36,0)),$B$24:$AA$24,0)+1)=\"\",\"\",INDEX($B$24:$AA$36,MATCH($AI8,$B$24:$B$36,0),MATCH(INDEX($B$25:$B$36,MATCH(OFFSET($AI$6,N$6,0),$B$25:$B$36,0)),$B$24:$AA$24,0)+1))","v":""},"",{"$f":"IF(INDEX($B$24:$AA$36,MATCH($AI8,$B$24:$B$36,0),MATCH(INDEX($B$25:$B$36,MATCH(OFFSET($AI$6,P$6,0),$B$25:$B$36,0)),$B$24:$AA$24,0)+1)=\"\",\"\",INDEX($B$24:$AA$36,MATCH($AI8,$B$24:$B$36,0),MATCH(INDEX($B$25:$B$36,MATCH(OFFSET($AI$6,P$6,0),$B$25:$B$36,0)),$B$24:$AA$24,0)+1))","v":""},"",{"$f":"IF(INDEX($B$24:$AA$36,MATCH($AI8,$B$24:$B$36,0),MATCH(INDEX($B$25:$B$36,MATCH(OFFSET($AI$6,R$6,0),$B$25:$B$36,0)),$B$24:$AA$24,0)+1)=\"\",\"\",INDEX($B$24:$AA$36,MATCH($AI8,$B$24:$B$36,0),MATCH(INDEX($B$25:$B$36,MATCH(OFFSET($AI$6,R$6,0),$B$25:$B$36,0)),$B$24:$AA$24,0)+1))","v":""},"",{"$f":"IF(INDEX($B$24:$AA$36,MATCH($AI8,$B$24:$B$36,0),MATCH(INDEX($B$25:$B$36,MATCH(OFFSET($AI$6,T$6,0),$B$25:$B$36,0)),$B$24:$AA$24,0)+1)=\"\",\"\",INDEX($B$24:$AA$36,MATCH($AI8,$B$24:$B$36,0),MATCH(INDEX($B$25:$B$36,MATCH(OFFSET($AI$6,T$6,0),$B$25:$B$36,0)),$B$24:$AA$24,0)+1))","v":""},"",{"$f":"IF(INDEX($B$24:$AA$36,MATCH($AI8,$B$24:$B$36,0),MATCH(INDEX($B$25:$B$36,MATCH(OFFSET($AI$6,V$6,0),$B$25:$B$36,0)),$B$24:$AA$24,0)+1)=\"\",\"\",INDEX($B$24:$AA$36,MATCH($AI8,$B$24:$B$36,0),MATCH(INDEX($B$25:$B$36,MATCH(OFFSET($AI$6,V$6,0),$B$25:$B$36,0)),$B$24:$AA$24,0)+1))","v":""},"",{"$f":"IF(INDEX($B$24:$AA$36,MATCH($AI8,$B$24:$B$36,0),MATCH(INDEX($B$25:$B$36,MATCH(OFFSET($AI$6,X$6,0),$B$25:$B$36,0)),$B$24:$AA$24,0)+1)=\"\",\"\",INDEX($B$24:$AA$36,MATCH($AI8,$B$24:$B$36,0),MATCH(INDEX($B$25:$B$36,MATCH(OFFSET($AI$6,X$6,0),$B$25:$B$36,0)),$B$24:$AA$24,0)+1))","v":""},"",{"$f":"IF(INDEX($B$24:$AA$36,MATCH($AI8,$B$24:$B$36,0),MATCH(INDEX($B$25:$B$36,MATCH(OFFSET($AI$6,Z$6,0),$B$25:$B$36,0)),$B$24:$AA$24,0)+1)=\"\",\"\",INDEX($B$24:$AA$36,MATCH($AI8,$B$24:$B$36,0),MATCH(INDEX($B$25:$B$36,MATCH(OFFSET($AI$6,Z$6,0),$B$25:$B$36,0)),$B$24:$AA$24,0)+1))","v":""},0,0,0,0,0,0,0,2,null,null,null,null,null,null,null,null,null,null,null,null,null,null,null,null,8,"1) Punkte 2) Anz. Partien 3) direkte Begegnung 4) Anz.Schwarzpartien 5) So-Be 6) Manuelle Feinwertung ",null,null,null,null,null,null,null,null,null,null,null,null,null,null,null,null,null,null,null,null,null,null,null,null,null,null,null,null,null,6,"1) Punkte 2) Anz. Partien 3) So-Be 4) Anz.Schwarzpartien 5) direkte Begegnung 6) Manuelle Feinwertung ",null,null,null,null,null,null,null,null,null,null,null,null,null,null,null,{"$f":"CV7+1","v":2},"Spieler 11","-","Spieler 02",null,null,{"$f":"DB7","v":1},{"$f":"DC7","v":1},{"$f":"DD7+1","v":2},11,2,"","","$F$35","$X$26",{"$f":"DK7+1","v":2},"Spieler 10","-","Spieler 01",null,null,{"$f":"DQ7","v":2},{"$f":"DR7","v":2},{"$f":"DS7+1","v":2},10,1,"","","$D$34","$V$25",2,{"$f":"IF(DB8>MAX(TeilnNr)-1,CW8,CY8)","v":"Spieler 02"},"-",{"$f":"IF(DB8>MAX(TeilnNr)-1,CY8,CW8)","v":"Spieler 11"},2,null,{"$f":"IF(ED8=1,2,1)","v":1},{"$f":"ED8","v":2},null,{"$f":"IF(DS8=1,EF8*10,EF8)","v":1},2,{"$f":"IF(DQ8>MAX(TeilnNr)-1,DL8,DN8)","v":"Spieler 01"},"-",{"$f":"IF(DQ8>MAX(TeilnNr)-1,DN8,DL8)","v":"Spieler 10"},2,null,{"$f":"IF(EN8=1,2,1)","v":1},{"$f":"EN8","v":2},null,{"$f":"IF(DS8=1,EP8*10,EP8)","v":1}]
[null,"","Spieler 03","","","","","","","",{"$f":"IF(INDEX($B$24:$AA$36,MATCH($AI9,$B$24:$B$36,0),MATCH(INDEX($B$25:$B$36,MATCH(OFFSET($AI$6,J$6,0),$B$25:$B$36,0)),$B$24:$AA$24,0)+1)=\"\",\"\",INDEX($B$24:$AA$36,MATCH($AI9,$B$24:$B$36,0),MATCH(INDEX($B$25:$B$36,MATCH(OFFSET($AI$6,J$6,0),$B$25:$B$36,0)),$B$24:$AA$24,0)+1))","v":""},"",{"$f":"IF(INDEX($B$24:$AA$36,MATCH($AI9,$B$24:$B$36,0),MATCH(INDEX($B$25:$B$36,MATCH(OFFSET($AI$6,L$6,0),$B$25:$B$36,0)),$B$24:$AA$24,0)+1)=\"\",\"\",INDEX($B$24:$AA$36,MATCH($AI9,$B$24:$B$36,0),MATCH(INDEX($B$25:$B$36,MATCH(OFFSET($AI$6,L$6,0),$B$25:$B$36,0)),$B$24:$AA$24,0)+1))","v":""},"",{"$f":"IF(INDEX($B$24:$AA$36,MATCH($AI9,$B$24:$B$36,0),MATCH(INDEX($B$25:$B$36,MATCH(OFFSET($AI$6,N$6,0),$B$25:$B$36,0)),$B$24:$AA$24,0)+1)=\"\",\"\",INDEX($B$24:$AA$36,MATCH($AI9,$B$24:$B$36,0),MATCH(INDEX($B$25:$B$36,MATCH(OFFSET($AI$6,N$6,0),$B$25:$B$36,0)),$B$24:$AA$24,0)+1))","v":""},"",{"$f":"IF(INDEX($B$24:$AA$36,MATCH($AI9,$B$24:$B$36,0),MATCH(INDEX($B$25:$B$36,MATCH(OFFSET($AI$6,P$6,0),$B$25:$B$36,0)),$B$24:$AA$24,0)+1)=\"\",\"\",INDEX($B$24:$AA$36,MATCH($AI9,$B$24:$B$36,0),MATCH(INDEX($B$25:$B$36,MATCH(OFFSET($AI$6,P$6,0),$B$25:$B$36,0)),$B$24:$AA$24,0)+1))","v":""},"",{"$f":"IF(INDEX($B$24:$AA$36,MATCH($AI9,$B$24:$B$36,0),MATCH(INDEX($B$25:$B$36,MATCH(OFFSET($AI$6,R$6,0),$B$25:$B$36,0)),$B$24:$AA$24,0)+1)=\"\",\"\",INDEX($B$24:$AA$36,MATCH($AI9,$B$24:$B$36,0),MATCH(INDEX($B$25:$B$36,MATCH(OFFSET($AI$6,R$6,0),$B$25:$B$36,0)),$B$24:$AA$24,0)+1))","v":""},"",{"$f":"IF(INDEX($B$24:$AA$36,MATCH($AI9,$B$24:$B$36,0),MATCH(INDEX($B$25:$B$36,MATCH(OFFSET($AI$6,T$6,0),$B$25:$B$36,0)),$B$24:$AA$24,0)+1)=\"\",\"\",INDEX($B$24:$AA$36,MATCH($AI9,$B$24:$B$36,0),MATCH(INDEX($B$25:$B$36,MATCH(OFFSET($AI$6,T$6,0),$B$25:$B$36,0)),$B$24:$AA$24,0)+1))","v":""},"",{"$f":"IF(INDEX($B$24:$AA$36,MATCH($AI9,$B$24:$B$36,0),MATCH(INDEX($B$25:$B$36,MATCH(OFFSET($AI$6,V$6,0),$B$25:$B$36,0)),$B$24:$AA$24,0)+1)=\"\",\"\",INDEX($B$24:$AA$36,MATCH($AI9,$B$24:$B$36,0),MATCH(INDEX($B$25:$B$36,MATCH(OFFSET($AI$6,V$6,0),$B$25:$B$36,0)),$B$24:$AA$24,0)+1))","v":""},"",{"$f":"IF(INDEX($B$24:$AA$36,MATCH($AI9,$B$24:$B$36,0),MATCH(INDEX($B$25:$B$36,MATCH(OFFSET($AI$6,X$6,0),$B$25:$B$36,0)),$B$24:$AA$24,0)+1)=\"\",\"\",INDEX($B$24:$AA$36,MATCH($AI9,$B$24:$B$36,0),MATCH(INDEX($B$25:$B$36,MATCH(OFFSET($AI$6,X$6,0),$B$25:$B$36,0)),$B$24:$AA$24,0)+1))","v":""},"",{"$f":"IF(INDEX($B$24:$AA$36,MATCH($AI9,$B$24:$B$36,0),MATCH(INDEX($B$25:$B$36,MATCH(OFFSET($AI$6,Z$6,0),$B$25:$B$36,0)),$B$24:$AA$24,0)+1)=\"\",\"\",INDEX($B$24:$AA$36,MATCH($AI9,$B$24:$B$36,0),MATCH(INDEX($B$25:$B$36,MATCH(OFFSET($AI$6,Z$6,0),$B$25:$B$36,0)),$B$24:$AA$24,0)+1))","v":""},0,0,0,0,0,0,0,3,null,null,null,null,null,null,null,null,null,null,null,null,null,null,null,null,9,"1) Punkte 2) Anz. Partien 3) Anz.Schwarzpartien 4) So-Be 5) direkte Begegnung 6) Manuelle Feinwertung ",null,null,null,null,null,null,null,null,null,null,null,null,null,null,null,null,null,null,null,null,null,null,null,null,null,null,null,null,null,7,"1) Punkte 2) Anz. Partien 3) direkte Begegnung 4) So-Be 5) Anz.Schwarzpartien 6) Manuelle Feinwertung ",null,null,null,null,null,null,null,null,null,null,null,null,null,null,null,{"$f":"CV8+1","v":3},"Spieler 03","-","Spieler 10",null,null,{"$f":"DB8","v":1},{"$f":"DC8","v":1},{"$f":"DD8+1","v":3},3,10,"","","$V$27","$H$34",{"$f":"DK8+1","v":3},"Spieler 02","-","Spieler 09",null,null,{"$f":"DQ8","v":2},{"$f":"DR8","v":2},{"$f":"DS8+1","v":3},2,9,"","","$T$26","$F$33",3,{"$f":"IF(DB9>MAX(TeilnNr)-1,CY9,CW9)","v":"Spieler 03"},"-",{"$f":"IF(DB9>MAX(TeilnNr)-1,CW9,CY9)","v":"Spieler 10"},1,null,2,1,null,2,3,{"$f":"IF(DQ9>MAX(TeilnNr)-1,DN9,DL9)","v":"Spieler 02"},"-",{"$f":"IF(DQ9>MAX(TeilnNr)-1,DL9,DN9)","v":"Spieler 09"},1,null,2,1,null,2]
[null,"","Spieler 04","","","","","","","",{"$f":"IF(INDEX($B$24:$AA$36,MATCH($AI10,$B$24:$B$36,0),MATCH(INDEX($B$25:$B$36,MATCH(OFFSET($AI$6,J$6,0),$B$25:$B$36,0)),$B$24:$AA$24,0)+1)=\"\",\"\",INDEX($B$24:$AA$36,MATCH($AI10,$B$24:$B$36,0),MATCH(INDEX($B$25:$B$36,MATCH(OFFSET($AI$6,J$6,0),$B$25:$B$36,0)),$B$24:$AA$24,0)+1))","v":""},"",{"$f":"IF(INDEX($B$24:$AA$36,MATCH($AI10,$B$24:$B$36,0),MATCH(INDEX($B$25:$B$36,MATCH(OFFSET($AI$6,L$6,0),$B$25:$B$36,0)),$B$24:$AA$24,0)+1)=\"\",\"\",INDEX($B$24:$AA$36,MATCH($AI10,$B$24:$B$36,0),MATCH(INDEX($B$25:$B$36,MATCH(OFFSET($AI$6,L$6,0),$B$25:$B$36,0)),$B$24:$AA$24,0)+1))","v":""},"",{"$f":"IF(INDEX($B$24:$AA$36,MATCH($AI10,$B$24:$B$36,0),MATCH(INDEX($B$25:$B$36,MATCH(OFFSET($AI$6,N$6,0),$B$25:$B$36,0)),$B$24:$AA$24,0)+1)=\"\",\"\",INDEX($B$24:$AA$36,MATCH($AI10,$B$24:$B$36,0),MATCH(INDEX($B$25:$B$36,MATCH(OFFSET($AI$6,N$6,0),$B$25:$B$36,0)),$B$24:$AA$24,0)+1))","v":""},"",{"$f":"IF(INDEX($B$24:$AA$36,MATCH($AI10,$B$24:$B$36,0),MATCH(INDEX($B$25:$B$36,MATCH(OFFSET($AI$6,P$6,0),$B$25:$B$36,0)),$B$24:$AA$24,0)+1)=\"\",\"\",INDEX($B$24:$AA$36,MATCH($AI10,$B$24:$B$36,0),MATCH(INDEX($B$25:$B$36,MATCH(OFFSET($AI$6,P$6,0),$B$25:$B$36,0)),$B$24:$AA$24,0)+1))","v":""},"",{"$f":"IF(INDEX($B$24:$AA$36,MATCH($AI10,$B$24:$B$36,0),MATCH(INDEX($B$25:$B$36,MATCH(OFFSET($AI$6,R$6,0),$B$25:$B$36,0)),$B$24:$AA$24,0)+1)=\"\",\"\",INDEX($B$24:$AA$36,MATCH($AI10,$B$24:$B$36,0),MATCH(INDEX($B$25:$B$36,MATCH(OFFSET($AI$6,R$6,0),$B$25:$B$36,0)),$B$24:$AA$24,0)+1))","v":""},"",{"$f":"IF(INDEX($B$24:$AA$36,MATCH($AI10,$B$24:$B$36,0),MATCH(INDEX($B$25:$B$36,MATCH(OFFSET($AI$6,T$6,0),$B$25:$B$36,0)),$B$24:$AA$24,0)+1)=\"\",\"\",INDEX($B$24:$AA$36,MATCH($AI10,$B$24:$B$36,0),MATCH(INDEX($B$25:$B$36,MATCH(OFFSET($AI$6,T$6,0),$B$25:$B$36,0)),$B$24:$AA$24,0)+1))","v":""},"",{"$f":"IF(INDEX($B$24:$AA$36,MATCH($AI10,$B$24:$B$36,0),MATCH(INDEX($B$25:$B$36,MATCH(OFFSET($AI$6,V$6,0),$B$25:$B$36,0)),$B$24:$AA$24,0)+1)=\"\",\"\",INDEX($B$24:$AA$36,MATCH($AI10,$B$24:$B$36,0),MATCH(INDEX($B$25:$B$36,MATCH(OFFSET($AI$6,V$6,0),$B$25:$B$36,0)),$B$24:$AA$24,0)+1))","v":""},"",{"$f":"IF(INDEX($B$24:$AA$36,MATCH($AI10,$B$24:$B$36,0),MATCH(INDEX($B$25:$B$36,MATCH(OFFSET($AI$6,X$6,0),$B$25:$B$36,0)),$B$24:$AA$24,0)+1)=\"\",\"\",INDEX($B$24:$AA$36,MATCH($AI10,$B$24:$B$36,0),MATCH(INDEX($B$25:$B$36,MATCH(OFFSET($AI$6,X$6,0),$B$25:$B$36,0)),$B$24:$AA$24,0)+1))","v":""},"",{"$f":"IF(INDEX($B$24:$AA$36,MATCH($AI10,$B$24:$B$36,0),MATCH(INDEX($B$25:$B$36,MATCH(OFFSET($AI$6,Z$6,0),$B$25:$B$36,0)),$B$24:$AA$24,0)+1)=\"\",\"\",INDEX($B$24:$AA$36,MATCH($AI10,$B$24:$B$36,0),MATCH(INDEX($B$25:$B$36,MATCH(OFFSET($AI$6,Z$6,0),$B$25:$B$36,0)),$B$24:$AA$24,0)+1))","v":""},0,0,0,0,0,0,0,4,null,null,null,null,null,null,null,null,null,null,null,null,null,null,null,4,10,"1) Punkte 2) Anz. Partien 3) Anz.Schwarzpartien 4) direkte Begegnung 5) So-Be 6) Manuelle Feinwertung ",null,null,null,null,null,null,null,null,null,null,null,null,null,null,null,null,null,null,null,null,null,null,null,null,null,null,null,null,null,8,"1) Punkte 2) Anz. Partien 3) direkte Begegnung 4) Anz.Schwarzpartien 5) So-Be 6) Manuelle Feinwertung ",null,null,null,null,null,null,null,null,null,null,null,null,null,null,null,4,"Spieler 09","-","Spieler 04",null,null,1,{"$f":"DC9","v":1},4,9,4,"","","$J$33","$T$28",4,"Spieler 08","-","Spieler 03",null,null,2,{"$f":"DR9","v":2},4,8,3,"","","$H$32","$R$27",4,{"$f":"IF(DB10>MAX(TeilnNr)-1,CW10,CY10)","v":"Spieler 04"},"-",{"$f":"IF(DB10>MAX(TeilnNr)-1,CY10,CW10)","v":"Spieler 09"},2,null,1,2,null,1,4,{"$f":"IF(DQ10>MAX(TeilnNr)-1,DL10,DN10)","v":"Spieler 03"},"-",{"$f":"IF(DQ10>MAX(TeilnNr)-1,DN10,DL10)","v":"Spieler 08"},2,null,1,2,null,1]
[null,"","Spieler 05","","","","","","","",{"$f":"IF(INDEX($B$24:$AA$36,MATCH($AI11,$B$24:$B$36,0),MATCH(INDEX($B$25:$B$36,MATCH(OFFSET($AI$6,J$6,0),$B$25:$B$36,0)),$B$24:$AA$24,0)+1)=\"\",\"\",INDEX($B$24:$AA$36,MATCH($AI11,$B$24:$B$36,0),MATCH(INDEX($B$25:$B$36,MATCH(OFFSET($AI$6,J$6,0),$B$25:$B$36,0)),$B$24:$AA$24,0)+1))","v":""},"",{"$f":"IF(INDEX($B$24:$AA$36,MATCH($AI11,$B$24:$B$36,0),MATCH(INDEX($B$25:$B$36,MATCH(OFFSET($AI$6,L$6,0),$B$25:$B$36,0)),$B$24:$AA$24,0)+1)=\"\",\"\",INDEX($B$24:$AA$36,MATCH($AI11,$B$24:$B$36,0),MATCH(INDEX($B$25:$B$36,MATCH(OFFSET($AI$6,L$6,0),$B$25:$B$36,0)),$B$24:$AA$24,0)+1))","v":""},"",{"$f":"IF(INDEX($B$24:$AA$36,MATCH($AI11,$B$24:$B$36,0),MATCH(INDEX($B$25:$B$36,MATCH(OFFSET($AI$6,N$6,0),$B$25:$B$36,0)),$B$24:$AA$24,0)+1)=\"\",\"\",INDEX($B$24:$AA$36,MATCH($AI11,$B$24:$B$36,0),MATCH(INDEX($B$25:$B$36,MATCH(OFFSET($AI$6,N$6,0),$B$25:$B$36,0)),$B$24:$AA$24,0)+1))","v":""},"",{"$f":"IF(INDEX($B$24:$AA$36,MATCH($AI11,$B$24:$B$36,0),MATCH(INDEX($B$25:$B$36,MATCH(OFFSET($AI$6,P$6,0),$B$25:$B$36,0)),$B$24:$AA$24,0)+1)=\"\",\"\",INDEX($B$24:$AA$36,MATCH($AI11,$B$24:$B$36,0),MATCH(INDEX($B$25:$B$36,MATCH(OFFSET($AI$6,P$6,0),$B$25:$B$36,0)),$B$24:$AA$24,0)+1))","v":""},"",{"$f":"IF(INDEX($B$24:$AA$36,MATCH($AI11,$B$24:$B$36,0),MATCH(INDEX($B$25:$B$36,MATCH(OFFSET($AI$6,R$6,0),$B$25:$B$36,0)),$B$24:$AA$24,0)+1)=\"\",\"\",INDEX($B$24:$AA$36,MATCH($AI11,$B$24:$B$36,0),MATCH(INDEX($B$25:$B$36,MATCH(OFFSET($AI$6,R$6,0),$B$25:$B$36,0)),$B$24:$AA$24,0)+1))","v":""},"",{"$f":"IF(INDEX($B$24:$AA$36,MATCH($AI11,$B$24:$B$36,0),MATCH(INDEX($B$25:$B$36,MATCH(OFFSET($AI$6,T$6,0),$B$25:$B$36,0)),$B$24:$AA$24,0)+1)=\"\",\"\",INDEX($B$24:$AA$36,MATCH($AI11,$B$24:$B$36,0),MATCH(INDEX($B$25:$B$36,MATCH(OFFSET($AI$6,T$6,0),$B$25:$B$36,0)),$B$24:$AA$24,0)+1))","v":""},"",{"$f":"IF(INDEX($B$24:$AA$36,MATCH($AI11,$B$24:$B$36,0),MATCH(INDEX($B$25:$B$36,MATCH(OFFSET($AI$6,V$6,0),$B$25:$B$36,0)),$B$24:$AA$24,0)+1)=\"\",\"\",INDEX($B$24:$AA$36,MATCH($AI11,$B$24:$B$36,0),MATCH(INDEX($B$25:$B$36,MATCH(OFFSET($AI$6,V$6,0),$B$25:$B$36,0)),$B$24:$AA$24,0)+1))","v":""},"",{"$f":"IF(INDEX($B$24:$AA$36,MATCH($AI11,$B$24:$B$36,0),MATCH(INDEX($B$25:$B$36,MATCH(OFFSET($AI$6,X$6,0),$B$25:$B$36,0)),$B$24:$AA$24,0)+1)=\"\",\"\",INDEX($B$24:$AA$36,MATCH($AI11,$B$24:$B$36,0),MATCH(INDEX($B$25:$B$36,MATCH(OFFSET($AI$6,X$6,0),$B$25:$B$36,0)),$B$24:$AA$24,0)+1))","v":""},"",{"$f":"IF(INDEX($B$24:$AA$36,MATCH($AI11,$B$24:$B$36,0),MATCH(INDEX($B$25:$B$36,MATCH(OFFSET($AI$6,Z$6,0),$B$25:$B$36,0)),$B$24:$AA$24,0)+1)=\"\",\"\",INDEX($B$24:$AA$36,MATCH($AI11,$B$24:$B$36,0),MATCH(INDEX($B$25:$B$36,MATCH(OFFSET($AI$6,Z$6,0),$B$25:$B$36,0)),$B$24:$AA$24,0)+1))","v":""},0,0,0,0,0,0,0,5,null,null,null,null,null,null,null,null,null,null,null,null,null,null,null,null,null,null,null,null,null,null,null,null,null,null,null,null,null,null,null,null,null,null,null,null,null,null,null,null,null,null,null,null,null,null,null,9,"1) Punkte 2) Anz. Partien 3) Anz.Schwarzpartien 4) So-Be 5) direkte Begegnung 6) Manuelle Feinwertung ",null,null,null,null,null,null,null,null,null,null,null,null,null,null,null,5,"Spieler 05","-","Spieler 08",null,null,1,1,5,5,8,"","","$R$29","$L$32",5,"Spieler 04","-","Spieler 07",null,null,2,2,5,4,7,"","","$P$28","$J$31",5,{"$f":"IF(DB11>MAX(TeilnNr)-1,CY11,CW11)","v":"Spieler 05"},"-",{"$f":"IF(DB11>MAX(TeilnNr)-1,CW11,CY11)","v":"Spieler 08"},1,null,2,1,null,2,5,{"$f":"IF(DQ11>MAX(TeilnNr)-1,DN11,DL11)","v":"Spieler 04"},"-",{"$f":"IF(DQ11>MAX(TeilnNr)-1,DL11,DN11)","v":"Spieler 07"},1,null,2,1,null,2]
[null,"","Spieler 06","","","","","","","",{"$f":"IF(INDEX($B$24:$AA$36,MATCH($AI12,$B$24:$B$36,0),MATCH(INDEX($B$25:$B$36,MATCH(OFFSET($AI$6,J$6,0),$B$25:$B$36,0)),$B$24:$AA$24,0)+1)=\"\",\"\",INDEX($B$24:$AA$36,MATCH($AI12,$B$24:$B$36,0),MATCH(INDEX($B$25:$B$36,MATCH(OFFSET($AI$6,J$6,0),$B$25:$B$36,0)),$B$24:$AA$24,0)+1))","v":""},"",{"$f":"IF(INDEX($B$24:$AA$36,MATCH($AI12,$B$24:$B$36,0),MATCH(INDEX($B$25:$B$36,MATCH(OFFSET($AI$6,L$6,0),$B$25:$B$36,0)),$B$24:$AA$24,0)+1)=\"\",\"\",INDEX($B$24:$AA$36,MATCH($AI12,$B$24:$B$36,0),MATCH(INDEX($B$25:$B$36,MATCH(OFFSET($AI$6,L$6,0),$B$25:$B$36,0)),$B$24:$AA$24,0)+1))","v":""},"",{"$f":"IF(INDEX($B$24:$AA$36,MATCH($AI12,$B$24:$B$36,0),MATCH(INDEX($B$25:$B$36,MATCH(OFFSET($AI$6,N$6,0),$B$25:$B$36,0)),$B$24:$AA$24,0)+1)=\"\",\"\",INDEX($B$24:$AA$36,MATCH($AI12,$B$24:$B$36,0),MATCH(INDEX($B$25:$B$36,MATCH(OFFSET($AI$6,N$6,0),$B$25:$B$36,0)),$B$24:$AA$24,0)+1))","v":""},"",{"$f":"IF(INDEX($B$24:$AA$36,MATCH($AI12,$B$24:$B$36,0),MATCH(INDEX($B$25:$B$36,MATCH(OFFSET($AI$6,P$6,0),$B$25:$B$36,0)),$B$24:$AA$24,0)+1)=\"\",\"\",INDEX($B$24:$AA$36,MATCH($AI12,$B$24:$B$36,0),MATCH(INDEX($B$25:$B$36,MATCH(OFFSET($AI$6,P$6,0),$B$25:$B$36,0)),$B$24:$AA$24,0)+1))","v":""},"",{"$f":"IF(INDEX($B$24:$AA$36,MATCH($AI12,$B$24:$B$36,0),MATCH(INDEX($B$25:$B$36,MATCH(OFFSET($AI$6,R$6,0),$B$25:$B$36,0)),$B$24:$AA$24,0)+1)=\"\",\"\",INDEX($B$24:$AA$36,MATCH($AI12,$B$24:$B$36,0),MATCH(INDEX($B$25:$B$36,MATCH(OFFSET($AI$6,R$6,0),$B$25:$B$36,0)),$B$24:$AA$24,0)+1))","v":""},"",{"$f":"IF(INDEX($B$24:$AA$36,MATCH($AI12,$B$24:$B$36,0),MATCH(INDEX($B$25:$B$36,MATCH(OFFSET($AI$6,T$6,0),$B$25:$B$36,0)),$B$24:$AA$24,0)+1)=\"\",\"\",INDEX($B$24:$AA$36,MATCH($AI12,$B$24:$B$36,0),MATCH(INDEX($B$25:$B$36,MATCH(OFFSET($AI$6,T$6,0),$B$25:$B$36,0)),$B$24:$AA$24,0)+1))","v":""},"",{"$f":"IF(INDEX($B$24:$AA$36,MATCH($AI12,$B$24:$B$36,0),MATCH(INDEX($B$25:$B$36,MATCH(OFFSET($AI$6,V$6,0),$B$25:$B$36,0)),$B$24:$AA$24,0)+1)=\"\",\"\",INDEX($B$24:$AA$36,MATCH($AI12,$B$24:$B$36,0),MATCH(INDEX($B$25:$B$36,MATCH(OFFSET($AI$6,V$6,0),$B$25:$B$36,0)),$B$24:$AA$24,0)+1))","v":""},"",{"$f":"IF(INDEX($B$24:$AA$36,MATCH($AI12,$B$24:$B$36,0),MATCH(INDEX($B$25:$B$36,MATCH(OFFSET($AI$6,X$6,0),$B$25:$B$36,0)),$B$24:$AA$24,0)+1)=\"\",\"\",INDEX($B$24:$AA$36,MATCH($AI12,$B$24:$B$36,0),MATCH(INDEX($B$25:$B$36,MATCH(OFFSET($AI$6,X$6,0),$B$25:$B$36,0)),$B$24:$AA$24,0)+1))","v":""},"",{"$f":"IF(INDEX($B$24:$AA$36,MATCH($AI12,$B$24:$B$36,0),MATCH(INDEX($B$25:$B$36,MATCH(OFFSET($AI$6,Z$6,0),$B$25:$B$36,0)),$B$24:$AA$24,0)+1)=\"\",\"\",INDEX($B$24:$AA$36,MATCH($AI12,$B$24:$B$36,0),MATCH(INDEX($B$25:$B$36,MATCH(OFFSET($AI$6,Z$6,0),$B$25:$B$36,0)),$B$24:$AA$24,0)+1))","v":""},0,0,0,0,0,0,0,6,null,null,null,null,null,null,null,null,null,null,null,null,null,null,null,null,null,null,null,null,null,null,null,null,null,null,null,null,null,null,null,null,null,null,null,null,null,null,null,null,null,null,null,null,null,null,null,10,"1) Punkte 2) Anz. Partien 3) Anz.Schwarzpartien 4) direkte Begegnung 5) So-Be 6) Manuelle Feinwertung ",null,null,null,null,null,null,null,null,null,null,null,null,null,null,null,6,"Spieler 07","-","Spieler 06",null,null,1,1,6,7,6,"","","$N$31","$P$30",6,"Spieler 06","-","Spieler 05",null,null,2,2,6,6,5,"","","$L$30","$N$29",6,{"$f":"IF(DB12>MAX(TeilnNr)-1,CW12,CY12)","v":"Spieler 06"},"-",{"$f":"IF(DB12>MAX(TeilnNr)-1,CY12,CW12)","v":"Spieler 07"},2,null,1,2,null,1,6,{"$f":"IF(DQ12>MAX(TeilnNr)-1,DL12,DN12)","v":"Spieler 05"},"-",{"$f":"IF(DQ12>MAX(TeilnNr)-1,DN12,DL12)","v":"Spieler 06"},2,null,1,2,null,1]
[null,"","Spieler 07","","","","","","","",{"$f":"IF(INDEX($B$24:$AA$36,MATCH($AI13,$B$24:$B$36,0),MATCH(INDEX($B$25:$B$36,MATCH(OFFSET($AI$6,J$6,0),$B$25:$B$36,0)),$B$24:$AA$24,0)+1)=\"\",\"\",INDEX($B$24:$AA$36,MATCH($AI13,$B$24:$B$36,0),MATCH(INDEX($B$25:$B$36,MATCH(OFFSET($AI$6,J$6,0),$B$25:$B$36,0)),$B$24:$AA$24,0)+1))","v":""},"",{"$f":"IF(INDEX($B$24:$AA$36,MATCH($AI13,$B$24:$B$36,0),MATCH(INDEX($B$25:$B$36,MATCH(OFFSET($AI$6,L$6,0),$B$25:$B$36,0)),$B$24:$AA$24,0)+1)=\"\",\"\",INDEX($B$24:$AA$36,MATCH($AI13,$B$24:$B$36,0),MATCH(INDEX($B$25:$B$36,MATCH(OFFSET($AI$6,L$6,0),$B$25:$B$36,0)),$B$24:$AA$24,0)+1))","v":""},"",{"$f":"IF(INDEX($B$24:$AA$36,MATCH($AI13,$B$24:$B$36,0),MATCH(INDEX($B$25:$B$36,MATCH(OFFSET($AI$6,N$6,0),$B$25:$B$36,0)),$B$24:$AA$24,0)+1)=\"\",\"\",INDEX($B$24:$AA$36,MATCH($AI13,$B$24:$B$36,0),MATCH(INDEX($B$25:$B$36,MATCH(OFFSET($AI$6,N$6,0),$B$25:$B$36,0)),$B$24:$AA$24,0)+1))","v":""},"",{"$f":"IF(INDEX($B$24:$AA$36,MATCH($AI13,$B$24:$B$36,0),MATCH(INDEX($B$25:$B$36,MATCH(OFFSET($AI$6,P$6,0),$B$25:$B$36,0)),$B$24:$AA$24,0)+1)=\"\",\"\",INDEX($B$24:$AA$36,MATCH($AI13,$B$24:$B$36,0),MATCH(INDEX($B$25:$B$36,MATCH(OFFSET($AI$6,P$6,0),$B$25:$B$36,0)),$B$24:$AA$24,0)+1))","v":""},"",{"$f":"IF(INDEX($B$24:$AA$36,MATCH($AI13,$B$24:$B$36,0),MATCH(INDEX($B$25:$B$36,MATCH(OFFSET($AI$6,R$6,0),$B$25:$B$36,0)),$B$24:$AA$24,0)+1)=\"\",\"\",INDEX($B$24:$AA$36,MATCH($AI13,$B$24:$B$36,0),MATCH(INDEX($B$25:$B$36,MATCH(OFFSET($AI$6,R$6,0),$B$25:$B$36,0)),$B$24:$AA$24,0)+1))","v":""},"",{"$f":"IF(INDEX($B$24:$AA$36,MATCH($AI13,$B$24:$B$36,0),MATCH(INDEX($B$25:$B$36,MATCH(OFFSET($AI$6,T$6,0),$B$25:$B$36,0)),$B$24:$AA$24,0)+1)=\"\",\"\",INDEX($B$24:$AA$36,MATCH($AI13,$B$24:$B$36,0),MATCH(INDEX($B$25:$B$36,MATCH(OFFSET($AI$6,T$6,0),$B$25:$B$36,0)),$B$24:$AA$24,0)+1))","v":""},"",{"$f":"IF(INDEX($B$24:$AA$36,MATCH($AI13,$B$24:$B$36,0),MATCH(INDEX($B$25:$B$36,MATCH(OFFSET($AI$6,V$6,0),$B$25:$B$36,0)),$B$24:$AA$24,0)+1)=\"\",\"\",INDEX($B$24:$AA$36,MATCH($AI13,$B$24:$B$36,0),MATCH(INDEX($B$25:$B$36,MATCH(OFFSET($AI$6,V$6,0),$B$25:$B$36,0)),$B$24:$AA$24,0)+1))","v":""},"",{"$f":"IF(INDEX($B$24:$AA$36,MATCH($AI13,$B$24:$B$36,0),MATCH(INDEX($B$25:$B$36,MATCH(OFFSET($AI$6,X$6,0),$B$25:$B$36,0)),$B$24:$AA$24,0)+1)=\"\",\"\",INDEX($B$24:$AA$36,MATCH($AI13,$B$24:$B$36,0),MATCH(INDEX($B$25:$B$36,MATCH(OFFSET($AI$6,X$6,0),$B$25:$B$36,0)),$B$24:$AA$24,0)+1))","v":""},"",{"$f":"IF(INDEX($B$24:$AA$36,MATCH($AI13,$B$24:$B$36,0),MATCH(INDEX($B$25:$B$36,MATCH(OFFSET($AI$6,Z$6,0),$B$25:$B$36,0)),$B$24:$AA$24,0)+1)=\"\",\"\",INDEX($B$24:$AA$36,MATCH($AI13,$B$24:$B$36,0),MATCH(INDEX($B$25:$B$36,MATCH(OFFSET($AI$6,Z$6,0),$B$25:$B$36,0)),$B$24:$AA$24,0)+1))","v":""},0,0,0,0,0,0,0,7,null,null,null,null,null,null,null,null,null,null,null,null,null,null,null,null,null,null,null,null,null,null,null,null,null,null,null,null,null,null,null,null,null,null,null,null,null,null,null,null,null,null,null,null,null,null,null,null,null,null,null,null,null,null,null,null,null,null,null,null,null,null,null,null,null,null,null,null,null,null,null,null,null,null,null,null,null,null,null,null,null,null,null,null,null,null,null,null,null,null,null,null,null,null,null,null,null,null,{"$f":"IF(ISNUMBER(DB13),IF(DB13>MAX(TeilnNr)-1,2,1),\"\")","v":""},null,null,{"$f":"IF(ISNUMBER(DE13),IF(DE13>MAX(TeilnNr)-1,2,1),\"\")","v":""},null,null,null,null,null,null,{"$f":"IF(ISNUMBER(DQ13),IF(DQ13>MAX(TeilnNr)-1,IF(DS13=1,1,IF(MOD(DS13,2)<>0,2,1)),IF(DS13=1,2,IF(MOD(DS13,2)<>0,1,2))),\"\")","v":""},null,null,{"$f":"IF(ISNUMBER(DO13),IF(DO13>MAX(TeilnNr)-1,2,1),\"\")","v":""}]
[null,"","Spieler 08","","","","","","","",{"$f":"IF(INDEX($B$24:$AA$36,MATCH($AI14,$B$24:$B$36,0),MATCH(INDEX($B$25:$B$36,MATCH(OFFSET($AI$6,J$6,0),$B$25:$B$36,0)),$B$24:$AA$24,0)+1)=\"\",\"\",INDEX($B$24:$AA$36,MATCH($AI14,$B$24:$B$36,0),MATCH(INDEX($B$25:$B$36,MATCH(OFFSET($AI$6,J$6,0),$B$25:$B$36,0)),$B$24:$AA$24,0)+1))","v":""},"",{"$f":"IF(INDEX($B$24:$AA$36,MATCH($AI14,$B$24:$B$36,0),MATCH(INDEX($B$25:$B$36,MATCH(OFFSET($AI$6,L$6,0),$B$25:$B$36,0)),$B$24:$AA$24,0)+1)=\"\",\"\",INDEX($B$24:$AA$36,MATCH($AI14,$B$24:$B$36,0),MATCH(INDEX($B$25:$B$36,MATCH(OFFSET($AI$6,L$6,0),$B$25:$B$36,0)),$B$24:$AA$24,0)+1))","v":""},"",{"$f":"IF(INDEX($B$24:$AA$36,MATCH($AI14,$B$24:$B$36,0),MATCH(INDEX($B$25:$B$36,MATCH(OFFSET($AI$6,N$6,0),$B$25:$B$36,0)),$B$24:$AA$24,0)+1)=\"\",\"\",INDEX($B$24:$AA$36,MATCH($AI14,$B$24:$B$36,0),MATCH(INDEX($B$25:$B$36,MATCH(OFFSET($AI$6,N$6,0),$B$25:$B$36,0)),$B$24:$AA$24,0)+1))","v":""},"",{"$f":"IF(INDEX($B$24:$AA$36,MATCH($AI14,$B$24:$B$36,0),MATCH(INDEX($B$25:$B$36,MATCH(OFFSET($AI$6,P$6,0),$B$25:$B$36,0)),$B$24:$AA$24,0)+1)=\"\",\"\",INDEX($B$24:$AA$36,MATCH($AI14,$B$24:$B$36,0),MATCH(INDEX($B$25:$B$36,MATCH(OFFSET($AI$6,P$6,0),$B$25:$B$36,0)),$B$24:$AA$24,0)+1))","v":""},"",{"$f":"IF(INDEX($B$24:$AA$36,MATCH($AI14,$B$24:$B$36,0),MATCH(INDEX($B$25:$B$36,MATCH(OFFSET($AI$6,R$6,0),$B$25:$B$36,0)),$B$24:$AA$24,0)+1)=\"\",\"\",INDEX($B$24:$AA$36,MATCH($AI14,$B$24:$B$36,0),MATCH(INDEX($B$25:$B$36,MATCH(OFFSET($AI$6,R$6,0),$B$25:$B$36,0)),$B$24:$AA$24,0)+1))","v":""},"",{"$f":"IF(INDEX($B$24:$AA$36,MATCH($AI14,$B$24:$B$36,0),MATCH(INDEX($B$25:$B$36,MATCH(OFFSET($AI$6,T$6,0),$B$25:$B$36,0)),$B$24:$AA$24,0)+1)=\"\",\"\",INDEX($B$24:$AA$36,MATCH($AI14,$B$24:$B$36,0),MATCH(INDEX($B$25:$B$36,MATCH(OFFSET($AI$6,T$6,0),$B$25:$B$36,0)),$B$24:$AA$24,0)+1))","v":""},"",{"$f":"IF(INDEX($B$24:$AA$36,MATCH($AI14,$B$24:$B$36,0),MATCH(INDEX($B$25:$B$36,MATCH(OFFSET($AI$6,V$6,0),$B$25:$B$36,0)),$B$24:$AA$24,0)+1)=\"\",\"\",INDEX($B$24:$AA$36,MATCH($AI14,$B$24:$B$36,0),MATCH(INDEX($B$25:$B$36,MATCH(OFFSET($AI$6,V$6,0),$B$25:$B$36,0)),$B$24:$AA$24,0)+1))","v":""},"",{"$f":"IF(INDEX($B$24:$AA$36,MATCH($AI14,$B$24:$B$36,0),MATCH(INDEX($B$25:$B$36,MATCH(OFFSET($AI$6,X$6,0),$B$25:$B$36,0)),$B$24:$AA$24,0)+1)=\"\",\"\",INDEX($B$24:$AA$36,MATCH($AI14,$B$24:$B$36,0),MATCH(INDEX($B$25:$B$36,MATCH(OFFSET($AI$6,X$6,0),$B$25:$B$36,0)),$B$24:$AA$24,0)+1))","v":""},"",{"$f":"IF(INDEX($B$24:$AA$36,MATCH($AI14,$B$24:$B$36,0),MATCH(INDEX($B$25:$B$36,MATCH(OFFSET($AI$6,Z$6,0),$B$25:$B$36,0)),$B$24:$AA$24,0)+1)=\"\",\"\",INDEX($B$24:$AA$36,MATCH($AI14,$B$24:$B$36,0),MATCH(INDEX($B$25:$B$36,MATCH(OFFSET($AI$6,Z$6,0),$B$25:$B$36,0)),$B$24:$AA$24,0)+1))","v":""},0,0,0,0,0,0,0,8,null,null,null,null,null,null,null,null,null,null,null,null,null,null,null,null,null,null,null,null,null,null,null,null,null,null,null,null,null,null,null,null,null,null,null,null,null,null,null,null,null,null,null,null,null,null,null,null,null,null,null,null,null,null,null,null,null,null,null,null,null,null,null,null,null,{"$f":"CW6+2","v":3},null,null,null,null,"N°","R","B","SpNr w","SpNr s","Res w","Res s",null,null,null,{"$f":"DL6+2","v":4},null,null,null,null,"N°","R","B","SpNr w","SpNr s","Res w","Res s",null,null,null,{"$f":"CW14","v":3},null,{"$f":"IF(CW14=MAX(TeilnNr),\"-> Bretter drehen!\",\"\")","v":""},{"$f":"IF(ISNUMBER(DB14),IF(DB14>MAX(TeilnNr)-1,2,1),\"\")","v":""},null,null,{"$f":"IF(ISNUMBER(DE14),IF(DE14>MAX(TeilnNr)-1,2,1),\"\")","v":""},null,null,null,{"$f":"DL14","v":4},null,{"$f":"IF(DL14=MAX(TeilnNr),\"-> Bretter drehen!\",\"\")","v":""},{"$f":"IF(ISNUMBER(DQ14),IF(DQ14>MAX(TeilnNr)-1,IF(MOD(DS14,2)<>0,2,1),IF(MOD(DS14,2)<>0,1,2)),\"\")","v":""},null,null,{"$f":"IF(ISNUMBER(DO14),IF(DO14>MAX(TeilnNr)-1,2,1),\"\")","v":""}]
[null,"","Spieler 09","","","","","","","",{"$f":"IF(INDEX($B$24:$AA$36,MATCH($AI15,$B$24:$B$36,0),MATCH(INDEX($B$25:$B$36,MATCH(OFFSET($AI$6,J$6,0),$B$25:$B$36,0)),$B$24:$AA$24,0)+1)=\"\",\"\",INDEX($B$24:$AA$36,MATCH($AI15,$B$24:$B$36,0),MATCH(INDEX($B$25:$B$36,MATCH(OFFSET($AI$6,J$6,0),$B$25:$B$36,0)),$B$24:$AA$24,0)+1))","v":""},"",{"$f":"IF(INDEX($B$24:$AA$36,MATCH($AI15,$B$24:$B$36,0),MATCH(INDEX($B$25:$B$36,MATCH(OFFSET($AI$6,L$6,0),$B$25:$B$36,0)),$B$24:$AA$24,0)+1)=\"\",\"\",INDEX($B$24:$AA$36,MATCH($AI15,$B$24:$B$36,0),MATCH(INDEX($B$25:$B$36,MATCH(OFFSET($AI$6,L$6,0),$B$25:$B$36,0)),$B$24:$AA$24,0)+1))","v":""},"",{"$f":"IF(INDEX($B$24:$AA$36,MATCH($AI15,$B$24:$B$36,0),MATCH(INDEX($B$25:$B$36,MATCH(OFFSET($AI$6,N$6,0),$B$25:$B$36,0)),$B$24:$AA$24,0)+1)=\"\",\"\",INDEX($B$24:$AA$36,MATCH($AI15,$B$24:$B$36,0),MATCH(INDEX($B$25:$B$36,MATCH(OFFSET($AI$6,N$6,0),$B$25:$B$36,0)),$B$24:$AA$24,0)+1))","v":""},"",{"$f":"IF(INDEX($B$24:$AA$36,MATCH($AI15,$B$24:$B$36,0),MATCH(INDEX($B$25:$B$36,MATCH(OFFSET($AI$6,P$6,0),$B$25:$B$36,0)),$B$24:$AA$24,0)+1)=\"\",\"\",INDEX($B$24:$AA$36,MATCH($AI15,$B$24:$B$36,0),MATCH(INDEX($B$25:$B$36,MATCH(OFFSET($AI$6,P$6,0),$B$25:$B$36,0)),$B$24:$AA$24,0)+1))","v":""},"",{"$f":"IF(INDEX($B$24:$AA$36,MATCH($AI15,$B$24:$B$36,0),MATCH(INDEX($B$25:$B$36,MATCH(OFFSET($AI$6,R$6,0),$B$25:$B$36,0)),$B$24:$AA$24,0)+1)=\"\",\"\",INDEX($B$24:$AA$36,MATCH($AI15,$B$24:$B$36,0),MATCH(INDEX($B$25:$B$36,MATCH(OFFSET($AI$6,R$6,0),$B$25:$B$36,0)),$B$24:$AA$24,0)+1))","v":""},"",{"$f":"IF(INDEX($B$24:$AA$36,MATCH($AI15,$B$24:$B$36,0),MATCH(INDEX($B$25:$B$36,MATCH(OFFSET($AI$6,T$6,0),$B$25:$B$36,0)),$B$24:$AA$24,0)+1)=\"\",\"\",INDEX($B$24:$AA$36,MATCH($AI15,$B$24:$B$36,0),MATCH(INDEX($B$25:$B$36,MATCH(OFFSET($AI$6,T$6,0),$B$25:$B$36,0)),$B$24:$AA$24,0)+1))","v":""},"",{"$f":"IF(INDEX($B$24:$AA$36,MATCH($AI15,$B$24:$B$36,0),MATCH(INDEX($B$25:$B$36,MATCH(OFFSET($AI$6,V$6,0),$B$25:$B$36,0)),$B$24:$AA$24,0)+1)=\"\",\"\",INDEX($B$24:$AA$36,MATCH($AI15,$B$24:$B$36,0),MATCH(INDEX($B$25:$B$36,MATCH(OFFSET($AI$6,V$6,0),$B$25:$B$36,0)),$B$24:$AA$24,0)+1))","v":""},"",{"$f":"IF(INDEX($B$24:$AA$36,MATCH($AI15,$B$24:$B$36,0),MATCH(INDEX($B$25:$B$36,MATCH(OFFSET($AI$6,X$6,0),$B$25:$B$36,0)),$B$24:$AA$24,0)+1)=\"\",\"\",INDEX($B$24:$AA$36,MATCH($AI15,$B$24:$B$36,0),MATCH(INDEX($B$25:$B$36,MATCH(OFFSET($AI$6,X$6,0),$B$25:$B$36,0)),$B$24:$AA$24,0)+1))","v":""},"",{"$f":"IF(INDEX($B$24:$AA$36,MATCH($AI15,$B$24:$B$36,0),MATCH(INDEX($B$25:$B$36,MATCH(OFFSET($AI$6,Z$6,0),$B$25:$B$36,0)),$B$24:$AA$24,0)+1)=\"\",\"\",INDEX($B$24:$AA$36,MATCH($AI15,$B$24:$B$36,0),MATCH(INDEX($B$25:$B$36,MATCH(OFFSET($AI$6,Z$6,0),$B$25:$B$36,0)),$B$24:$AA$24,0)+1))","v":""},0,0,0,0,0,0,0,9,null,null,null,null,null,null,null,null,null,null,null,null,null,null,null,null,null,null,null,null,null,null,null,null,null,null,null,null,null,null,null,null,null,null,null,null,null,null,null,null,null,null,null,null,null,null,null,null,null,null,null,null,null,null,null,null,null,null,null,null,null,null,null,null,{"$f":"IF(OR(INDEX($CQ$25:$CQ$36,DE15),INDEX($CQ$25:$CQ$36,DF15)),0,1)","v":1},{"$f":"INDEX($CR$25:$CR$36,MATCH($DE15,TeilnNr,0))","v":"Spieler 10"},"-",{"$f":"INDEX($CR$25:$CR$36,MATCH($DF15,TeilnNr,0))","v":"Spieler 12"},null,null,{"$f":"CW14","v":3},{"$f":"IF(CW14>MAX(TeilnNr)-1,CW14-(MAX(TeilnNr)-1),CW14)","v":3},1,{"$f":"IF(AND(DD15=1,MOD(DC15,2)=IF(DB15>MAX(TeilnNr)-1,1,0)),MAX(TeilnNr),IF(MOD(DD15,2)=IF(DB15>MAX(TeilnNr)-1,1,0),IF(MAX(TeilnNr)/2-DD15+1-(DC15-MAX(TeilnNr)/2-1)>=1,MAX(TeilnNr)/2-DD15+1-(DC15-MAX(TeilnNr)/2-1),MAX(TeilnNr)/2-DD15+1-(DC15-MAX(TeilnNr)/2-1)+MAX(TeilnNr)-1),IF(DD15-(DC15-1)>=1,DD15-(DC15-1),DD15-(DC15-1)+MAX(TeilnNr)-1)))","v":10},{"$f":"IF(AND(DD15=1,MOD(DC15,2)<>IF(DB15>MAX(TeilnNr)-1,1,0)),MAX(TeilnNr),IF(MOD(DD15,2)<>IF(DB15>MAX(TeilnNr)-1,1,0),IF(MAX(TeilnNr)/2-DD15+1-(DC15-MAX(TeilnNr)/2-1)>=1,MAX(TeilnNr)/2-DD15+1-(DC15-MAX(TeilnNr)/2-1),MAX(TeilnNr)/2-DD15+1-(DC15-MAX(TeilnNr)/2-1)+MAX(TeilnNr)-1),IF(DD15-(DC15-1)>=1,DD15-(DC15-1),DD15-(DC15-1)+MAX(TeilnNr)-1)))","v":12},{"$f":"IF(LEFT(DA15,1)=\"V\",\"\",LEFT(DA15,1))","v":""},{"$f":"IF(RIGHT(DA15,1)=\"V\",\"\",RIGHT(DA15,1))","v":""},{"$f":"IF(DB15>MAX(TeilnNr)-1,ADDRESS(ROW(Teilnehmer)+DE15,COLUMN(Teilnehmer)+DF15+DF15),ADDRESS(ROW(Teilnehmer)+DE15,COLUMN(Teilnehmer)+DF15+DF15-1))","v":"$Z$34"},{"$f":"IF(DB15>MAX(TeilnNr)-1,ADDRESS(ROW(Teilnehmer)+DF15,COLUMN(Teilnehmer)+DE15+DE15),ADDRESS(ROW(Teilnehmer)+DF15,COLUMN(Teilnehmer)+DE15+DE15-1))","v":"$V$36"},{"$f":"IF(OR(INDEX($CQ$25:$CQ$36,DT15),INDEX($CQ$25:$CQ$36,DU15)),0,1)","v":1},{"$f":"INDEX($CR$25:$CR$36,MATCH($DT15,TeilnNr,0))","v":"Spieler 12"},"-",{"$f":"INDEX($CR$25:$CR$36,MATCH($DU15,TeilnNr,0))","v":"Spieler 09"},null,null,{"$f":"DL14","v":4},{"$f":"IF(DL14>MAX(TeilnNr)-1,DL14-(MAX(TeilnNr)-1),DL14)","v":4},1,{"$f":"IF(AND(DS15=1,MOD(DR15,2)=IF(DQ15>MAX(TeilnNr)-1,1,0)),MAX(TeilnNr),IF(MOD(DS15,2)=IF(DQ15>MAX(TeilnNr)-1,1,0),IF(MAX(TeilnNr)/2-DS15+1-(DR15-MAX(TeilnNr)/2-1)>=1,MAX(TeilnNr)/2-DS15+1-(DR15-MAX(TeilnNr)/2-1),MAX(TeilnNr)/2-DS15+1-(DR15-MAX(TeilnNr)/2-1)+MAX(TeilnNr)-1),IF(DS15-(DR15-1)>=1,DS15-(DR15-1),DS15-(DR15-1)+MAX(TeilnNr)-1)))","v":12},{"$f":"IF(AND(DS15=1,MOD(DR15,2)<>IF(DQ15>MAX(TeilnNr)-1,1,0)),MAX(TeilnNr),IF(MOD(DS15,2)<>IF(DQ15>MAX(TeilnNr)-1,1,0),IF(MAX(TeilnNr)/2-DS15+1-(DR15-MAX(TeilnNr)/2-1)>=1,MAX(TeilnNr)/2-DS15+1-(DR15-MAX(TeilnNr)/2-1),MAX(TeilnNr)/2-DS15+1-(DR15-MAX(TeilnNr)/2-1)+MAX(TeilnNr)-1),IF(DS15-(DR15-1)>=1,DS15-(DR15-1),DS15-(DR15-1)+MAX(TeilnNr)-1)))","v":9},{"$f":"IF(LEFT(DP15,1)=\"V\",\"\",LEFT(DP15,1))","v":""},{"$f":"IF(RIGHT(DP15,1)=\"V\",\"\",RIGHT(DP15,1))","v":""},{"$f":"IF(DQ15>MAX(TeilnNr)-1,ADDRESS(ROW(Teilnehmer)+DT15,COLUMN(Teilnehmer)+DU15+DU15),ADDRESS(ROW(Teilnehmer)+DT15,COLUMN(Teilnehmer)+DU15+DU15-1))","v":"$T$36"},{"$f":"IF(DQ15>MAX(TeilnNr)-1,ADDRESS(ROW(Teilnehmer)+DU15,COLUMN(Teilnehmer)+DT15+DT15),ADDRESS(ROW(Teilnehmer)+DU15,COLUMN(Teilnehmer)+DT15+DT15-1))","v":"$Z$33"},{"$f":"CV15","v":1},{"$f":"CW15","v":"Spieler 10"},"-",{"$f":"CY15","v":"Spieler 12"},{"$f":"IF(ISNUMBER(DB15),IF(DB15>MAX(TeilnNr)-1,IF(DD15=1,1,IF(MOD(DD15,2)<>0,2,1)),IF(DD15=1,1,IF(MOD(DD15,2)<>0,1,2))),\"\")","v":1},null,{"$f":"IF(ED15=1,2,1)","v":2},{"$f":"ED15","v":1},null,{"$f":"IF(DS15=1,EF15*10,EF15)","v":20},{"$f":"DK15","v":1},{"$f":"DN15","v":"Spieler 09"},"-",{"$f":"DL15","v":"Spieler 12"},{"$f":"IF(ISNUMBER(DQ15),IF(DQ15>MAX(TeilnNr)-1,IF(DS15=1,2,IF(MOD(DS15,2)<>0,2,1)),IF(DS15=1,2,IF(MOD(DS15,2)<>0,1,2))),\"\")","v":2},null,{"$f":"IF(EN15=1,2,1)","v":1},{"$f":"EN15","v":2},null,{"$f":"IF(DS15=1,EP15*10,EP15)","v":10}]
[null,"","Spieler 10","","","","","","","",{"$f":"IF(INDEX($B$24:$AA$36,MATCH($AI16,$B$24:$B$36,0),MATCH(INDEX($B$25:$B$36,MATCH(OFFSET($AI$6,J$6,0),$B$25:$B$36,0)),$B$24:$AA$24,0)+1)=\"\",\"\",INDEX($B$24:$AA$36,MATCH($AI16,$B$24:$B$36,0),MATCH(INDEX($B$25:$B$36,MATCH(OFFSET($AI$6,J$6,0),$B$25:$B$36,0)),$B$24:$AA$24,0)+1))","v":""},"",{"$f":"IF(INDEX($B$24:$AA$36,MATCH($AI16,$B$24:$B$36,0),MATCH(INDEX($B$25:$B$36,MATCH(OFFSET($AI$6,L$6,0),$B$25:$B$36,0)),$B$24:$AA$24,0)+1)=\"\",\"\",INDEX($B$24:$AA$36,MATCH($AI16,$B$24:$B$36,0),MATCH(INDEX($B$25:$B$36,MATCH(OFFSET($AI$6,L$6,0),$B$25:$B$36,0)),$B$24:$AA$24,0)+1))","v":""},"",{"$f":"IF(INDEX($B$24:$AA$36,MATCH($AI16,$B$24:$B$36,0),MATCH(INDEX($B$25:$B$36,MATCH(OFFSET($AI$6,N$6,0),$B$25:$B$36,0)),$B$24:$AA$24,0)+1)=\"\",\"\",INDEX($B$24:$AA$36,MATCH($AI16,$B$24:$B$36,0),MATCH(INDEX($B$25:$B$36,MATCH(OFFSET($AI$6,N$6,0),$B$25:$B$36,0)),$B$24:$AA$24,0)+1))","v":""},"",{"$f":"IF(INDEX($B$24:$AA$36,MATCH($AI16,$B$24:$B$36,0),MATCH(INDEX($B$25:$B$36,MATCH(OFFSET($AI$6,P$6,0),$B$25:$B$36,0)),$B$24:$AA$24,0)+1)=\"\",\"\",INDEX($B$24:$AA$36,MATCH($AI16,$B$24:$B$36,0),MATCH(INDEX($B$25:$B$36,MATCH(OFFSET($AI$6,P$6,0),$B$25:$B$36,0)),$B$24:$AA$24,0)+1))","v":""},"",{"$f":"IF(INDEX($B$24:$AA$36,MATCH($AI16,$B$24:$B$36,0),MATCH(INDEX($B$25:$B$36,MATCH(OFFSET($AI$6,R$6,0),$B$25:$B$36,0)),$B$24:$AA$24,0)+1)=\"\",\"\",INDEX($B$24:$AA$36,MATCH($AI16,$B$24:$B$36,0),MATCH(INDEX($B$25:$B$36,MATCH(OFFSET($AI$6,R$6,0),$B$25:$B$36,0)),$B$24:$AA$24,0)+1))","v":""},"",{"$f":"IF(INDEX($B$24:$AA$36,MATCH($AI16,$B$24:$B$36,0),MATCH(INDEX($B$25:$B$36,MATCH(OFFSET($AI$6,T$6,0),$B$25:$B$36,0)),$B$24:$AA$24,0)+1)=\"\",\"\",INDEX($B$24:$AA$36,MATCH($AI16,$B$24:$B$36,0),MATCH(INDEX($B$25:$B$36,MATCH(OFFSET($AI$6,T$6,0),$B$25:$B$36,0)),$B$24:$AA$24,0)+1))","v":""},"",{"$f":"IF(INDEX($B$24:$AA$36,MATCH($AI16,$B$24:$B$36,0),MATCH(INDEX($B$25:$B$36,MATCH(OFFSET($AI$6,V$6,0),$B$25:$B$36,0)),$B$24:$AA$24,0)+1)=\"\",\"\",INDEX($B$24:$AA$36,MATCH($AI16,$B$24:$B$36,0),MATCH(INDEX($B$25:$B$36,MATCH(OFFSET($AI$6,V$6,0),$B$25:$B$36,0)),$B$24:$AA$24,0)+1))","v":""},"",{"$f":"IF(INDEX($B$24:$AA$36,MATCH($AI16,$B$24:$B$36,0),MATCH(INDEX($B$25:$B$36,MATCH(OFFSET($AI$6,X$6,0),$B$25:$B$36,0)),$B$24:$AA$24,0)+1)=\"\",\"\",INDEX($B$24:$AA$36,MATCH($AI16,$B$24:$B$36,0),MATCH(INDEX($B$25:$B$36,MATCH(OFFSET($AI$6,X$6,0),$B$25:$B$36,0)),$B$24:$AA$24,0)+1))","v":""},"",{"$f":"IF(INDEX($B$24:$AA$36,MATCH($AI16,$B$24:$B$36,0),MATCH(INDEX($B$25:$B$36,MATCH(OFFSET($AI$6,Z$6,0),$B$25:$B$36,0)),$B$24:$AA$24,0)+1)=\"\",\"\",INDEX($B$24:$AA$36,MATCH($AI16,$B$24:$B$36,0),MATCH(INDEX($B$25:$B$36,MATCH(OFFSET($AI$6,Z$6,0),$B$25:$B$36,0)),$B$24:$AA$24,0)+1))","v":""},0,0,0,0,0,0,0,10,null,null,null,null,null,null,null,null,null,null,null,null,null,null,null,null,null,null,null,null,null,null,null,null,null,null,null,null,null,null,null,null,null,null,null,null,null,null,null,null,null,null,null,null,null,null,null,null,null,null,null,null,null,null,null,null,null,null,null,null,null,null,null,null,{"$f":"CV15+1","v":2},"Spieler 09","-","Spieler 11",null,null,{"$f":"DB15","v":3},{"$f":"DC15","v":3},{"$f":"DD15+1","v":2},9,11,"","","$X$33","$T$35",{"$f":"DK15+1","v":2},"Spieler 08","-","Spieler 10",null,null,{"$f":"DQ15","v":4},{"$f":"DR15","v":4},{"$f":"DS15+1","v":2},8,10,"","","$V$32","$R$34",2,{"$f":"IF(DB16>MAX(TeilnNr)-1,CW16,CY16)","v":"Spieler 11"},"-",{"$f":"IF(DB16>MAX(TeilnNr)-1,CY16,CW16)","v":"Spieler 09"},2,null,{"$f":"IF(ED16=1,2,1)","v":1},2,null,1,2,{"$f":"IF(DQ16>MAX(TeilnNr)-1,DL16,DN16)","v":"Spieler 10"},"-",{"$f":"IF(DQ16>MAX(TeilnNr)-1,DN16,DL16)","v":"Spieler 08"},2,null,1,2,null,1]
[null,"","Spieler 11","","","","","","","",{"$f":"IF(INDEX($B$24:$AA$36,MATCH($AI17,$B$24:$B$36,0),MATCH(INDEX($B$25:$B$36,MATCH(OFFSET($AI$6,J$6,0),$B$25:$B$36,0)),$B$24:$AA$24,0)+1)=\"\",\"\",INDEX($B$24:$AA$36,MATCH($AI17,$B$24:$B$36,0),MATCH(INDEX($B$25:$B$36,MATCH(OFFSET($AI$6,J$6,0),$B$25:$B$36,0)),$B$24:$AA$24,0)+1))","v":""},"",{"$f":"IF(INDEX($B$24:$AA$36,MATCH($AI17,$B$24:$B$36,0),MATCH(INDEX($B$25:$B$36,MATCH(OFFSET($AI$6,L$6,0),$B$25:$B$36,0)),$B$24:$AA$24,0)+1)=\"\",\"\",INDEX($B$24:$AA$36,MATCH($AI17,$B$24:$B$36,0),MATCH(INDEX($B$25:$B$36,MATCH(OFFSET($AI$6,L$6,0),$B$25:$B$36,0)),$B$24:$AA$24,0)+1))","v":""},"",{"$f":"IF(INDEX($B$24:$AA$36,MATCH($AI17,$B$24:$B$36,0),MATCH(INDEX($B$25:$B$36,MATCH(OFFSET($AI$6,N$6,0),$B$25:$B$36,0)),$B$24:$AA$24,0)+1)=\"\",\"\",INDEX($B$24:$AA$36,MATCH($AI17,$B$24:$B$36,0),MATCH(INDEX($B$25:$B$36,MATCH(OFFSET($AI$6,N$6,0),$B$25:$B$36,0)),$B$24:$AA$24,0)+1))","v":""},"",{"$f":"IF(INDEX($B$24:$AA$36,MATCH($AI17,$B$24:$B$36,0),MATCH(INDEX($B$25:$B$36,MATCH(OFFSET($AI$6,P$6,0),$B$25:$B$36,0)),$B$24:$AA$24,0)+1)=\"\",\"\",INDEX($B$24:$AA$36,MATCH($AI17,$B$24:$B$36,0),MATCH(INDEX($B$25:$B$36,MATCH(OFFSET($AI$6,P$6,0),$B$25:$B$36,0)),$B$24:$AA$24,0)+1))","v":""},"",{"$f":"IF(INDEX($B$24:$AA$36,MATCH($AI17,$B$24:$B$36,0),MATCH(INDEX($B$25:$B$36,MATCH(OFFSET($AI$6,R$6,0),$B$25:$B$36,0)),$B$24:$AA$24,0)+1)=\"\",\"\",INDEX($B$24:$AA$36,MATCH($AI17,$B$24:$B$36,0),MATCH(INDEX($B$25:$B$36,MATCH(OFFSET($AI$6,R$6,0),$B$25:$B$36,0)),$B$24:$AA$24,0)+1))","v":""},"",{"$f":"IF(INDEX($B$24:$AA$36,MATCH($AI17,$B$24:$B$36,0),MATCH(INDEX($B$25:$B$36,MATCH(OFFSET($AI$6,T$6,0),$B$25:$B$36,0)),$B$24:$AA$24,0)+1)=\"\",\"\",INDEX($B$24:$AA$36,MATCH($AI17,$B$24:$B$36,0),MATCH(INDEX($B$25:$B$36,MATCH(OFFSET($AI$6,T$6,0),$B$25:$B$36,0)),$B$24:$AA$24,0)+1))","v":""},"",{"$f":"IF(INDEX($B$24:$AA$36,MATCH($AI17,$B$24:$B$36,0),MATCH(INDEX($B$25:$B$36,MATCH(OFFSET($AI$6,V$6,0),$B$25:$B$36,0)),$B$24:$AA$24,0)+1)=\"\",\"\",INDEX($B$24:$AA$36,MATCH($AI17,$B$24:$B$36,0),MATCH(INDEX($B$25:$B$36,MATCH(OFFSET($AI$6,V$6,0),$B$25:$B$36,0)),$B$24:$AA$24,0)+1))","v":""},"",{"$f":"IF(INDEX($B$24:$AA$36,MATCH($AI17,$B$24:$B$36,0),MATCH(INDEX($B$25:$B$36,MATCH(OFFSET($AI$6,X$6,0),$B$25:$B$36,0)),$B$24:$AA$24,0)+1)=\"\",\"\",INDEX($B$24:$AA$36,MATCH($AI17,$B$24:$B$36,0),MATCH(INDEX($B$25:$B$36,MATCH(OFFSET($AI$6,X$6,0),$B$25:$B$36,0)),$B$24:$AA$24,0)+1))","v":""},"",{"$f":"IF(INDEX($B$24:$AA$36,MATCH($AI17,$B$24:$B$36,0),MATCH(INDEX($B$25:$B$36,MATCH(OFFSET($AI$6,Z$6,0),$B$25:$B$36,0)),$B$24:$AA$24,0)+1)=\"\",\"\",INDEX($B$24:$AA$36,MATCH($AI17,$B$24:$B$36,0),MATCH(INDEX($B$25:$B$36,MATCH(OFFSET($AI$6,Z$6,0),$B$25:$B$36,0)),$B$24:$AA$24,0)+1))","v":""},0,0,0,0,0,0,0,11,null,null,null,null,null,null,null,null,null,null,null,null,null,null,null,null,null,null,null,null,null,null,null,null,null,null,null,null,null,null,null,null,null,null,null,null,null,null,null,null,null,null,null,null,null,null,null,null,null,null,null,null,null,null,null,null,null,null,null,null,null,null,null,null,{"$f":"CV16+1","v":3},"Spieler 01","-","Spieler 08",null,null,{"$f":"DB16","v":3},{"$f":"DC16","v":3},{"$f":"DD16+1","v":3},1,8,"","","$R$25","$D$32",{"$f":"DK16+1","v":3},"Spieler 11","-","Spieler 07",null,null,{"$f":"DQ16","v":4},{"$f":"DR16","v":4},{"$f":"DS16+1","v":3},11,7,"","","$P$35","$X$31",3,{"$f":"IF(DB17>MAX(TeilnNr)-1,CY17,CW17)","v":"Spieler 01"},"-",{"$f":"IF(DB17>MAX(TeilnNr)-1,CW17,CY17)","v":"Spieler 08"},1,null,2,1,null,2,3,{"$f":"IF(DQ17>MAX(TeilnNr)-1,DN17,DL17)","v":"Spieler 11"},"-",{"$f":"IF(DQ17>MAX(TeilnNr)-1,DL17,DN17)","v":"Spieler 07"},1,null,2,1,null,2]
[null,{"$f":"IF(INDEX($CQ$25:$CQ$36,MATCH(B36,$CU$25:$CU$36,0)),\"--\",IF(INDEX($CP$25:$CP$36,MATCH(B36,$CU$25:$CU$36,0))<ROW()-ROW($B$6),\"\",INDEX($CP$25:$CP$36,MATCH(B36,$CU$25:$CU$36,0))))","v":""},"Spieler 12","","","","","","","",{"$f":"IF(INDEX($B$24:$AA$36,MATCH($AI18,$B$24:$B$36,0),MATCH(INDEX($B$25:$B$36,MATCH(OFFSET($AI$6,J$6,0),$B$25:$B$36,0)),$B$24:$AA$24,0)+1)=\"\",\"\",INDEX($B$24:$AA$36,MATCH($AI18,$B$24:$B$36,0),MATCH(INDEX($B$25:$B$36,MATCH(OFFSET($AI$6,J$6,0),$B$25:$B$36,0)),$B$24:$AA$24,0)+1))","v":""},"",{"$f":"IF(INDEX($B$24:$AA$36,MATCH($AI18,$B$24:$B$36,0),MATCH(INDEX($B$25:$B$36,MATCH(OFFSET($AI$6,L$6,0),$B$25:$B$36,0)),$B$24:$AA$24,0)+1)=\"\",\"\",INDEX($B$24:$AA$36,MATCH($AI18,$B$24:$B$36,0),MATCH(INDEX($B$25:$B$36,MATCH(OFFSET($AI$6,L$6,0),$B$25:$B$36,0)),$B$24:$AA$24,0)+1))","v":""},"",{"$f":"IF(INDEX($B$24:$AA$36,MATCH($AI18,$B$24:$B$36,0),MATCH(INDEX($B$25:$B$36,MATCH(OFFSET($AI$6,N$6,0),$B$25:$B$36,0)),$B$24:$AA$24,0)+1)=\"\",\"\",INDEX($B$24:$AA$36,MATCH($AI18,$B$24:$B$36,0),MATCH(INDEX($B$25:$B$36,MATCH(OFFSET($AI$6,N$6,0),$B$25:$B$36,0)),$B$24:$AA$24,0)+1))","v":""},"",{"$f":"IF(INDEX($B$24:$AA$36,MATCH($AI18,$B$24:$B$36,0),MATCH(INDEX($B$25:$B$36,MATCH(OFFSET($AI$6,P$6,0),$B$25:$B$36,0)),$B$24:$AA$24,0)+1)=\"\",\"\",INDEX($B$24:$AA$36,MATCH($AI18,$B$24:$B$36,0),MATCH(INDEX($B$25:$B$36,MATCH(OFFSET($AI$6,P$6,0),$B$25:$B$36,0)),$B$24:$AA$24,0)+1))","v":""},"",{"$f":"IF(INDEX($B$24:$AA$36,MATCH($AI18,$B$24:$B$36,0),MATCH(INDEX($B$25:$B$36,MATCH(OFFSET($AI$6,R$6,0),$B$25:$B$36,0)),$B$24:$AA$24,0)+1)=\"\",\"\",INDEX($B$24:$AA$36,MATCH($AI18,$B$24:$B$36,0),MATCH(INDEX($B$25:$B$36,MATCH(OFFSET($AI$6,R$6,0),$B$25:$B$36,0)),$B$24:$AA$24,0)+1))","v":""},"",{"$f":"IF(INDEX($B$24:$AA$36,MATCH($AI18,$B$24:$B$36,0),MATCH(INDEX($B$25:$B$36,MATCH(OFFSET($AI$6,T$6,0),$B$25:$B$36,0)),$B$24:$AA$24,0)+1)=\"\",\"\",INDEX($B$24:$AA$36,MATCH($AI18,$B$24:$B$36,0),MATCH(INDEX($B$25:$B$36,MATCH(OFFSET($AI$6,T$6,0),$B$25:$B$36,0)),$B$24:$AA$24,0)+1))","v":""},"",{"$f":"IF(INDEX($B$24:$AA$36,MATCH($AI18,$B$24:$B$36,0),MATCH(INDEX($B$25:$B$36,MATCH(OFFSET($AI$6,V$6,0),$B$25:$B$36,0)),$B$24:$AA$24,0)+1)=\"\",\"\",INDEX($B$24:$AA$36,MATCH($AI18,$B$24:$B$36,0),MATCH(INDEX($B$25:$B$36,MATCH(OFFSET($AI$6,V$6,0),$B$25:$B$36,0)),$B$24:$AA$24,0)+1))","v":""},"",{"$f":"IF(INDEX($B$24:$AA$36,MATCH($AI18,$B$24:$B$36,0),MATCH(INDEX($B$25:$B$36,MATCH(OFFSET($AI$6,X$6,0),$B$25:$B$36,0)),$B$24:$AA$24,0)+1)=\"\",\"\",INDEX($B$24:$AA$36,MATCH($AI18,$B$24:$B$36,0),MATCH(INDEX($B$25:$B$36,MATCH(OFFSET($AI$6,X$6,0),$B$25:$B$36,0)),$B$24:$AA$24,0)+1))","v":""},"",{"$f":"IF(INDEX($B$24:$AA$36,MATCH($AI18,$B$24:$B$36,0),MATCH(INDEX($B$25:$B$36,MATCH(OFFSET($AI$6,Z$6,0),$B$25:$B$36,0)),$B$24:$AA$24,0)+1)=\"\",\"\",INDEX($B$24:$AA$36,MATCH($AI18,$B$24:$B$36,0),MATCH(INDEX($B$25:$B$36,MATCH(OFFSET($AI$6,Z$6,0),$B$25:$B$36,0)),$B$24:$AA$24,0)+1))","v":""},0,0,0,0,0,0,0,12,null,null,null,null,null,null,null,null,null,null,null,null,null,null,null,null,null,null,null,null,null,null,null,null,null,null,null,null,null,null,null,null,null,null,null,null,null,null,null,null,null,null,null,null,null,null,null,null,null,null,null,null,null,null,null,null,null,null,null,null,null,null,null,null,4,"Spieler 07","-","Spieler 02",null,null,3,{"$f":"DC17","v":3},4,7,2,"","","$F$31","$P$26",4,"Spieler 06","-","Spieler 01",null,null,4,{"$f":"DR17","v":4},4,6,1,"","","$D$30","$N$25",4,{"$f":"IF(DB18>MAX(TeilnNr)-1,CW18,CY18)","v":"Spieler 02"},"-",{"$f":"IF(DB18>MAX(TeilnNr)-1,CY18,CW18)","v":"Spieler 07"},2,null,1,2,null,1,4,{"$f":"IF(DQ18>MAX(TeilnNr)-1,DL18,DN18)","v":"Spieler 01"},"-",{"$f":"IF(DQ18>MAX(TeilnNr)-1,DN18,DL18)","v":"Spieler 06"},2,null,1,2,null,1]
[null,"Wertungskriterien:",null,null,null,null,null,null,null,null,null,null,null,null,null,null,null,null,null,null,null,null,null,null,null,null,null,null,null,null,null,null,null,null,null,null,null,null,null,null,null,null,null,null,null,null,null,null,null,null,null,null,null,null,null,null,null,null,null,null,null,null,null,null,null,null,null,null,null,null,null,null,null,null,null,null,null,null,null,null,null,null,null,null,null,null,null,null,null,null,null,null,null,null,null,null,null,null,null,5,"Spieler 03","-","Spieler 06",null,null,3,3,5,3,6,"","","$N$27","$H$30",5,"Spieler 02","-","Spieler 05",null,null,4,4,5,2,5,"","","$L$26","$F$29",5,{"$f":"IF(DB19>MAX(TeilnNr)-1,CY19,CW19)","v":"Spieler 03"},"-",{"$f":"IF(DB19>MAX(TeilnNr)-1,CW19,CY19)","v":"Spieler 06"},1,null,2,1,null,2,5,{"$f":"IF(DQ19>MAX(TeilnNr)-1,DN19,DL19)","v":"Spieler 02"},"-",{"$f":"IF(DQ19>MAX(TeilnNr)-1,DL19,DN19)","v":"Spieler 05"},1,null,2,1,null,2]
[null,{"$f":"INDEX(Wertungskriterien,WertungskriterienA)","v":"1) Punkte 2) Anz. Partien 3) So-Be 4) direkte Begegnung 5) Manuelle Feinwertung "},null,null,null,null,null,null,null,null,null,null,null,null,null,null,null,null,null,null,null,null,null,null,null,null,null,null,null,null,null,null,null,null,null,null,null,null,null,null,null,null,null,null,null,null,null,null,null,null,null,null,null,null,null,null,null,null,null,null,null,null,null,null,null,null,null,null,null,null,null,null,null,null,null,null,null,null,null,null,null,null,null,null,null,null,null,null,null,null,null,null,null,null,null,null,null,null,null,6,"Spieler 05","-","Spieler 04",null,null,3,3,6,5,4,"","","$J$29","$L$28",6,"Spieler 04","-","Spieler 03",null,null,4,4,6,4,3,"","","$H$28","$J$27",6,{"$f":"IF(DB20>MAX(TeilnNr)-1,CW20,CY20)","v":"Spieler 04"},"-",{"$f":"IF(DB20>MAX(TeilnNr)-1,CY20,CW20)","v":"Spieler 05"},2,null,1,2,null,1,6,{"$f":"IF(DQ20>MAX(TeilnNr)-1,DL20,DN20)","v":"Spieler 03"},"-",{"$f":"IF(DQ20>MAX(TeilnNr)-1,DN20,DL20)","v":"Spieler 04"},2,null,1,2,null,1]
[null,null,null,null,null,null,null,null,null,null,null,null,null,null,null,null,null,null,null,null,null,null,null,null,null,null,null,null,null,null,null,null,null,null,null,null,null,null,null,null,null,null,null,null,null,null,null,null,null,null,null,null,null,null,null,null,null,null,null,null,null,null,null,null,null,null,null,null,null,null,null,null,null,null,null,null,null,null,null,null,null,null,null,null,null,null,null,null,null,null,null,null,null,null,null,null,null,null,null,null,null,null,null,null,null,null,null,null,null,null,null,null,null,null,null,null,null,null,null,null,null,null,null,null,null,null,null,null,null,null,null,null,null,{"$f":"IF(ISNUMBER(DB21),IF(DB21>MAX(TeilnNr)-1,2,1),\"\")","v":""},null,null,{"$f":"IF(ISNUMBER(DE21),IF(DE21>MAX(TeilnNr)-1,2,1),\"\")","v":""},null,null,null,null,null,null,{"$f":"IF(ISNUMBER(DQ21),IF(DQ21>MAX(TeilnNr)-1,IF(DS21=1,1,IF(MOD(DS21,2)<>0,2,1)),IF(DS21=1,2,IF(MOD(DS21,2)<>0,1,2))),\"\")","v":""},null,null,{"$f":"IF(ISNUMBER(DO21),IF(DO21>MAX(TeilnNr)-1,2,1),\"\")","v":""}]
[null,"+",null,null,null,null,null,null,null,null,null,null,null,null,null,null,null,null,null,null,null,null,null,null,null,null,null,null,null,null,{"$f":"IF(EinAusblenden=\"-\",\"\",IF(FWPlusMinus=\"+\",\"é\",\"ê\"))","v":"é"},null,null,null,null,null,null,null,null,null,null,null,null,null,null,null,null,null,null,null,null,null,null,null,null,null,null,null,null,null,null,null,null,null,null,null,null,null,null,null,null,null,null,null,null,null,null,null,null,null,null,null,null,null,null,null,null,null,null,null,null,null,null,null,null,null,null,null,null,null,{"$f":"CW14+2","v":5},null,null,null,null,"N°","R","B","SpNr w","SpNr s","Res w","Res s",null,null,null,{"$f":"DL14+2","v":6},null,null,null,null,"N°","R","B","SpNr w","SpNr s","Res w","Res s",null,null,null,{"$f":"CW22","v":5},null,{"$f":"IF(CW22=MAX(TeilnNr),\"-> Bretter drehen!\",\"\")","v":""},{"$f":"IF(ISNUMBER(DB22),IF(DB22>MAX(TeilnNr)-1,2,1),\"\")","v":""},null,null,{"$f":"IF(ISNUMBER(DE22),IF(DE22>MAX(TeilnNr)-1,2,1),\"\")","v":""},null,null,null,{"$f":"DL22","v":6},null,{"$f":"IF(DL22=MAX(TeilnNr),\"-> Bretter drehen!\",\"\")","v":""},{"$f":"IF(ISNUMBER(DQ22),IF(DQ22>MAX(TeilnNr)-1,IF(MOD(DS22,2)<>0,2,1),IF(MOD(DS22,2)<>0,1,2)),\"\")","v":""},null,null,{"$f":"IF(ISNUMBER(DO22),IF(DO22>MAX(TeilnNr)-1,2,1),\"\")","v":""}]
[null,"Turniertabelle",null,null,null,null,null,null,null,null,null,null,null,null,null,null,null,null,null,null,null,null,null,null,null,null,null,null,null,"manuelle Feinwertung: ","+","Partien",null,null,null,"Punkte",null,null,null,null,null,null,null,null,null,null,null,null,null,"Sonneborn-Berger-Berechnung",null,null,null,null,null,null,null,null,null,null,null,null,null,{"$f":"MAX(BL25:BL36)","v":0},null,null,null,null,{"$f":"FWPlusMinus=\"+\"","v":true},"Summierung Wertungskriterien vor direkter Begegnung",null,null,null,null,null,null,null,null,null,null,null,null,"Summierung Wertungskriterien nach direkter Begegnung",null,null,null,null,null,null,null,null,null,null,null,null,null,null,null,null,{"$f":"IF(OR(INDEX($CQ$25:$CQ$36,DE23),INDEX($CQ$25:$CQ$36,DF23)),0,1)","v":1},{"$f":"INDEX($CR$25:$CR$36,MATCH($DE23,TeilnNr,0))","v":"Spieler 08"},"-",{"$f":"INDEX($CR$25:$CR$36,MATCH($DF23,TeilnNr,0))","v":"Spieler 12"},null,null,{"$f":"CW22","v":5},{"$f":"IF(CW22>MAX(TeilnNr)-1,CW22-(MAX(TeilnNr)-1),CW22)","v":5},1,{"$f":"IF(AND(DD23=1,MOD(DC23,2)=IF(DB23>MAX(TeilnNr)-1,1,0)),MAX(TeilnNr),IF(MOD(DD23,2)=IF(DB23>MAX(TeilnNr)-1,1,0),IF(MAX(TeilnNr)/2-DD23+1-(DC23-MAX(TeilnNr)/2-1)>=1,MAX(TeilnNr)/2-DD23+1-(DC23-MAX(TeilnNr)/2-1),MAX(TeilnNr)/2-DD23+1-(DC23-MAX(TeilnNr)/2-1)+MAX(TeilnNr)-1),IF(DD23-(DC23-1)>=1,DD23-(DC23-1),DD23-(DC23-1)+MAX(TeilnNr)-1)))","v":8},{"$f":"IF(AND(DD23=1,MOD(DC23,2)<>IF(DB23>MAX(TeilnNr)-1,1,0)),MAX(TeilnNr),IF(MOD(DD23,2)<>IF(DB23>MAX(TeilnNr)-1,1,0),IF(MAX(TeilnNr)/2-DD23+1-(DC23-MAX(TeilnNr)/2-1)>=1,MAX(TeilnNr)/2-DD23+1-(DC23-MAX(TeilnNr)/2-1),MAX(TeilnNr)/2-DD23+1-(DC23-MAX(TeilnNr)/2-1)+MAX(TeilnNr)-1),IF(DD23-(DC23-1)>=1,DD23-(DC23-1),DD23-(DC23-1)+MAX(TeilnNr)-1)))","v":12},{"$f":"IF(LEFT(DA23,1)=\"V\",\"\",LEFT(DA23,1))","v":""},{"$f":"IF(RIGHT(DA23,1)=\"V\",\"\",RIGHT(DA23,1))","v":""},{"$f":"IF(DB23>MAX(TeilnNr)-1,ADDRESS(ROW(Teilnehmer)+DE23,COLUMN(Teilnehmer)+DF23+DF23),ADDRESS(ROW(Teilnehmer)+DE23,COLUMN(Teilnehmer)+DF23+DF23-1))","v":"$Z$32"},{"$f":"IF(DB23>MAX(TeilnNr)-1,ADDRESS(ROW(Teilnehmer)+DF23,COLUMN(Teilnehmer)+DE23+DE23),ADDRESS(ROW(Teilnehmer)+DF23,COLUMN(Teilnehmer)+DE23+DE23-1))","v":"$R$36"},{"$f":"IF(OR(INDEX($CQ$25:$CQ$36,DT23),INDEX($CQ$25:$CQ$36,DU23)),0,1)","v":1},{"$f":"INDEX($CR$25:$CR$36,MATCH($DT23,TeilnNr,0))","v":"Spieler 12"},"-",{"$f":"INDEX($CR$25:$CR$36,MATCH($DU23,TeilnNr,0))","v":"Spieler 07"},null,null,{"$f":"DL22","v":6},{"$f":"IF(DL22>MAX(TeilnNr)-1,DL22-(MAX(TeilnNr)-1),DL22)","v":6},1,{"$f":"IF(AND(DS23=1,MOD(DR23,2)=IF(DQ23>MAX(TeilnNr)-1,1,0)),MAX(TeilnNr),IF(MOD(DS23,2)=IF(DQ23>MAX(TeilnNr)-1,1,0),IF(MAX(TeilnNr)/2-DS23+1-(DR23-MAX(TeilnNr)/2-1)>=1,MAX(TeilnNr)/2-DS23+1-(DR23-MAX(TeilnNr)/2-1),MAX(TeilnNr)/2-DS23+1-(DR23-MAX(TeilnNr)/2-1)+MAX(TeilnNr)-1),IF(DS23-(DR23-1)>=1,DS23-(DR23-1),DS23-(DR23-1)+MAX(TeilnNr)-1)))","v":12},{"$f":"IF(AND(DS23=1,MOD(DR23,2)<>IF(DQ23>MAX(TeilnNr)-1,1,0)),MAX(TeilnNr),IF(MOD(DS23,2)<>IF(DQ23>MAX(TeilnNr)-1,1,0),IF(MAX(TeilnNr)/2-DS23+1-(DR23-MAX(TeilnNr)/2-1)>=1,MAX(TeilnNr)/2-DS23+1-(DR23-MAX(TeilnNr)/2-1),MAX(TeilnNr)/2-DS23+1-(DR23-MAX(TeilnNr)/2-1)+MAX(TeilnNr)-1),IF(DS23-(DR23-1)>=1,DS23-(DR23-1),DS23-(DR23-1)+MAX(TeilnNr)-1)))","v":7},{"$f":"IF(LEFT(DP23,1)=\"V\",\"\",LEFT(DP23,1))","v":""},{"$f":"IF(RIGHT(DP23,1)=\"V\",\"\",RIGHT(DP23,1))","v":""},{"$f":"IF(DQ23>MAX(TeilnNr)-1,ADDRESS(ROW(Teilnehmer)+DT23,COLUMN(Teilnehmer)+DU23+DU23),ADDRESS(ROW(Teilnehmer)+DT23,COLUMN(Teilnehmer)+DU23+DU23-1))","v":"$P$36"},{"$f":"IF(DQ23>MAX(TeilnNr)-1,ADDRESS(ROW(Teilnehmer)+DU23,COLUMN(Teilnehmer)+DT23+DT23),ADDRESS(ROW(Teilnehmer)+DU23,COLUMN(Teilnehmer)+DT23+DT23-1))","v":"$Z$31"},{"$f":"CV23","v":1},{"$f":"CW23","v":"Spieler 08"},"-",{"$f":"CY23","v":"Spieler 12"},{"$f":"IF(ISNUMBER(DB23),IF(DB23>MAX(TeilnNr)-1,IF(DD23=1,1,IF(MOD(DD23,2)<>0,2,1)),IF(DD23=1,1,IF(MOD(DD23,2)<>0,1,2))),\"\")","v":1},null,{"$f":"IF(ED23=1,2,1)","v":2},{"$f":"ED23","v":1},null,{"$f":"IF(DS23=1,EF23*10,EF23)","v":20},{"$f":"DK23","v":1},{"$f":"DN23","v":"Spieler 07"},"-",{"$f":"DL23","v":"Spieler 12"},{"$f":"IF(ISNUMBER(DQ23),IF(DQ23>MAX(TeilnNr)-1,IF(DS23=1,2,IF(MOD(DS23,2)<>0,2,1)),IF(DS23=1,2,IF(MOD(DS23,2)<>0,1,2))),\"\")","v":2},null,{"$f":"IF(EN23=1,2,1)","v":1},{"$f":"EN23","v":2},null,{"$f":"IF(DS23=1,EP23*10,EP23)","v":10}]
[null,"Nr.","Teilnehmer",1,null,2,null,3,null,4,null,5,null,6,null,7,null,8,null,9,null,10,null,11,null,12,null,"Punkte","Spiele","So-Be","FWx","weiss","schw.","Rang",null,1,2,3,4,5,6,7,8,9,10,11,12,"P",null,1,2,3,4,5,6,7,8,9,10,11,12,"So-Be",null,{"$f":"IF(AE24=\"\",\"FW2\",AE24)","v":"FWx"},"RangPt","RangAnz","RangSoBe","RangSw","RangFW","Wertung 1","Wertung 2","Wertung 3","Wertung 4","Wertung 5","Wertung 6","Wertung 7","Wertung 8","Wertung 9","Wertung 10","Wertung","direkte Begegnung","Rang dirBg","Wertung 1","Wertung 2","Wertung 3","Wertung 4","Wertung 5","Wertung 6","Wertung 7","Wertung 8","Wertung 9","Wertung 10","Wertung2","Rang","Platzhltr?","Name","Alphabet","Rang&Alph","Reihflge",{"$f":"CV23+1","v":2},"Spieler 07","-","Spieler 09",null,null,{"$f":"DB23","v":5},{"$f":"DC23","v":5},{"$f":"DD23+1","v":2},7,9,"","","$T$31","$P$33",{"$f":"DK23+1","v":2},"Spieler 06","-","Spieler 08",null,null,{"$f":"DQ23","v":6},{"$f":"DR23","v":6},{"$f":"DS23+1","v":2},6,8,"","","$R$30","$N$32",2,{"$f":"IF(DB24>MAX(TeilnNr)-1,CW24,CY24)","v":"Spieler 09"},"-",{"$f":"IF(DB24>MAX(TeilnNr)-1,CY24,CW24)","v":"Spieler 07"},2,null,1,2,null,1,2,{"$f":"IF(DQ24>MAX(TeilnNr)-1,DL24,DN24)","v":"Spieler 08"},"-",{"$f":"IF(DQ24>MAX(TeilnNr)-1,DN24,DL24)","v":"Spieler 06"},2,null,1,2,null,1]
[null,1,null,{"$f":"IF(ISNA(MATCH(ADDRESS(ROW(),COLUMN()),$DI:$DI,0)),\"\",INDEX($DG:$DG,MATCH(ADDRESS(ROW(),COLUMN()),$DI:$DI,0)))&IF(ISNA(MATCH(ADDRESS(ROW(),COLUMN()),$DJ:$DJ,0)),\"\",INDEX($DH:$DH,MATCH(ADDRESS(ROW(),COLUMN()),$DJ:$DJ,0)))&IF(ISNA(MATCH(ADDRESS(ROW(),COLUMN()),$DX:$DX,0)),\"\",INDEX($DV:$DV,MATCH(ADDRESS(ROW(),COLUMN()),$DX:$DX,0)))&IF(ISNA(MATCH(ADDRESS(ROW(),COLUMN()),$DY:$DY,0)),\"\",INDEX($DW:$DW,MATCH(ADDRESS(ROW(),COLUMN()),$DY:$DY,0)))","v":""},"","","","","","","","","",{"$f":"IF(ISNA(MATCH(ADDRESS(ROW(),COLUMN()),$DI:$DI,0)),\"\",INDEX($DG:$DG,MATCH(ADDRESS(ROW(),COLUMN()),$DI:$DI,0)))&IF(ISNA(MATCH(ADDRESS(ROW(),COLUMN()),$DJ:$DJ,0)),\"\",INDEX($DH:$DH,MATCH(ADDRESS(ROW(),COLUMN()),$DJ:$DJ,0)))&IF(ISNA(MATCH(ADDRESS(ROW(),COLUMN()),$DX:$DX,0)),\"\",INDEX($DV:$DV,MATCH(ADDRESS(ROW(),COLUMN()),$DX:$DX,0)))&IF(ISNA(MATCH(ADDRESS(ROW(),COLUMN()),$DY:$DY,0)),\"\",INDEX($DW:$DW,MATCH(ADDRESS(ROW(),COLUMN()),$DY:$DY,0)))","v":""},"","","","","","","","","","","","","",{"$f":"AV25","v":0},{"$f":"MAX($B$25:$B$36)*2-COUNTIF($D25:AA25,\"\")","v":0},{"$f":"BJ25","v":0},null,{"$f":"IF($CQ25,0,COUNTIFS($DE:$DE,$B25,$DA:$DA,\"<>\")+COUNTIFS($DT:$DT,$B25,$DP:$DP,\"<>\"))","v":0},{"$f":"IF($CQ25,0,COUNTIFS($DF:$DF,$B25,$DA:$DA,\"<>\")+COUNTIFS($DU:$DU,$B25,$DP:$DP,\"<>\"))","v":0},{"$f":"CP25","v":1},null,{"$f":"IF(D25=\"\",0,VLOOKUP(D25,Wertung,3,FALSE))+IF(E25=\"\",0,VLOOKUP(E25,Wertung,3,FALSE))","v":0},{"$f":"IF(F25=\"\",0,VLOOKUP(F25,Wertung,3,FALSE))+IF(G25=\"\",0,VLOOKUP(G25,Wertung,3,FALSE))","v":0},{"$f":"IF(H25=\"\",0,VLOOKUP(H25,Wertung,3,FALSE))+IF(I25=\"\",0,VLOOKUP(I25,Wertung,3,FALSE))","v":0},{"$f":"IF(J25=\"\",0,VLOOKUP(J25,Wertung,3,FALSE))+IF(K25=\"\",0,VLOOKUP(K25,Wertung,3,FALSE))","v":0},{"$f":"IF(L25=\"\",0,VLOOKUP(L25,Wertung,3,FALSE))+IF(M25=\"\",0,VLOOKUP(M25,Wertung,3,FALSE))","v":0},{"$f":"IF(N25=\"\",0,VLOOKUP(N25,Wertung,3,FALSE))+IF(O25=\"\",0,VLOOKUP(O25,Wertung,3,FALSE))","v":0},{"$f":"IF(P25=\"\",0,VLOOKUP(P25,Wertung,3,FALSE))+IF(Q25=\"\",0,VLOOKUP(Q25,Wertung,3,FALSE))","v":0},{"$f":"IF(R25=\"\",0,VLOOKUP(R25,Wertung,3,FALSE))+IF(S25=\"\",0,VLOOKUP(S25,Wertung,3,FALSE))","v":0},{"$f":"IF(T25=\"\",0,VLOOKUP(T25,Wertung,3,FALSE))+IF(U25=\"\",0,VLOOKUP(U25,Wertung,3,FALSE))","v":0},{"$f":"IF(V25=\"\",0,VLOOKUP(V25,Wertung,3,FALSE))+IF(W25=\"\",0,VLOOKUP(W25,Wertung,3,FALSE))","v":0},{"$f":"IF(X25=\"\",0,VLOOKUP(X25,Wertung,3,FALSE))+IF(Y25=\"\",0,VLOOKUP(Y25,Wertung,3,FALSE))","v":0},{"$f":"IF(Z25=\"\",0,VLOOKUP(Z25,Wertung,3,FALSE))+IF(AA25=\"\",0,VLOOKUP(AA25,Wertung,3,FALSE))","v":0},{"$f":"SUM(AJ25:AU25)","v":0},null,{"$f":"AJ25*INDEX($AV:$AV,ROW($AX$24)+AJ$24)","v":0},{"$f":"AK25*INDEX($AV:$AV,ROW($AX$24)+AK$24)","v":0},{"$f":"AL25*INDEX($AV:$AV,ROW($AX$24)+AL$24)","v":0},{"$f":"AM25*INDEX($AV:$AV,ROW($AX$24)+AM$24)","v":0},{"$f":"AN25*INDEX($AV:$AV,ROW($AX$24)+AN$24)","v":0},{"$f":"AO25*INDEX($AV:$AV,ROW($AX$24)+AO$24)","v":0},{"$f":"AP25*INDEX($AV:$AV,ROW($AX$24)+AP$24)","v":0},{"$f":"AQ25*INDEX($AV:$AV,ROW($AX$24)+AQ$24)","v":0},{"$f":"AR25*INDEX($AV:$AV,ROW($AX$24)+AR$24)","v":0},{"$f":"AS25*INDEX($AV:$AV,ROW($AX$24)+AS$24)","v":0},{"$f":"AT25*INDEX($AV:$AV,ROW($AX$24)+AT$24)","v":0},{"$f":"AU25*INDEX($AV:$AV,ROW($AX$24)+AU$24)","v":0},{"$f":"SUM(AX25:BI25)","v":0},null,{"$f":"AE25","v":0},{"$f":"RANK($AV25,$AV$25:$AV$36,0)","v":1},{"$f":"RANK($AC25,$AC$25:$AC$36,1)","v":1},{"$f":"RANK($BJ25,$BJ$25:$BJ$36,0)","v":1},{"$f":"RANK($AG25,$AG$25:$AG$36,0)","v":1},{"$f":"RANK($BL25,$BL$25:$BL$36,IF($BQ$23,0,1))","v":1},{"$f":"VALUE(CONCATENATE(IF(CQ25,\"1\",\"0\"),TEXT($BM25,\"00\"),TEXT($BO25,\"00\"),TEXT($BQ25,\"00\")))","v":10101},{"$f":"VALUE(CONCATENATE(IF(CQ25,\"1\",\"0\"),TEXT($BM25,\"00\"),TEXT($BO25,\"00\")))","v":101},{"$f":"VALUE(CONCATENATE(IF(CQ25,\"1\",\"0\"),TEXT($BM25,\"00\"),TEXT($BN25,\"00\"),TEXT($BO25,\"00\"),TEXT($BQ25,\"00\")))","v":1010101},{"$f":"VALUE(CONCATENATE(IF(CQ25,\"1\",\"0\"),TEXT($BM25,\"00\"),TEXT($BN25,\"00\"),TEXT($BO25,\"00\")))","v":10101},{"$f":"VALUE(CONCATENATE(IF(CQ25,\"1\",\"0\"),TEXT($BM25,\"00\"),TEXT($BN25,\"00\"),TEXT($BO25,\"00\")))","v":10101},{"$f":"VALUE(CONCATENATE(IF(CQ25,\"1\",\"0\"),TEXT($BM25,\"00\"),TEXT($BN25,\"00\"),TEXT($BO25,\"00\"),TEXT($BP25,\"00\")))","v":1010101},{"$f":"VALUE(CONCATENATE(IF(CQ25,\"1\",\"0\"),TEXT($BM25,\"00\"),TEXT($BN25,\"00\")))","v":101},{"$f":"VALUE(CONCATENATE(IF(CQ25,\"1\",\"0\"),TEXT($BM25,\"00\"),TEXT($BN25,\"00\")))","v":101},{"$f":"VALUE(CONCATENATE(IF(CQ25,\"1\",\"0\"),TEXT($BM25,\"00\"),TEXT($BN25,\"00\"),TEXT($BP25,\"00\"),TEXT($BO25,\"00\")))","v":1010101},{"$f":"VALUE(CONCATENATE(IF(CQ25,\"1\",\"0\"),TEXT($BM25,\"00\"),TEXT($BN25,\"00\"),TEXT($BP25,\"00\")))","v":10101},{"$f":"INDEX($BR25:$CA25,1,WertungskriterienA)","v":10101},{"$f":"SUM((TRANSPOSE($CB$25:$CB$36)=CB25)*$AJ25:$AU25)","v":0},{"$f":"RANK($CC25,$CC$25:$CC$36,0)","v":1},{"$f":"$CB25","v":10101},{"$f":"VALUE(CONCATENATE($CB25,TEXT($CD25,\"00\"),TEXT($BQ25,\"00\")))","v":101010101},{"$f":"$CB25","v":10101},{"$f":"VALUE(CONCATENATE($CB25,TEXT($CD25,\"00\"),TEXT($BQ25,\"00\")))","v":101010101},{"$f":"VALUE(CONCATENATE($CB25,TEXT($CD25,\"00\"),TEXT($BP25,\"00\"),TEXT($BQ25,\"00\")))","v":10101010101},{"$f":"VALUE(CONCATENATE($CB25,TEXT($CD25,\"00\"),TEXT($BQ25,\"00\")))","v":101010101},{"$f":"VALUE(CONCATENATE($CB25,TEXT($CD25,\"00\"),TEXT($BO25,\"00\"),TEXT($BP25,\"00\"),TEXT($BQ25,\"00\")))","v":1010101010101},{"$f":"VALUE(CONCATENATE($CB25,TEXT($CD25,\"00\"),TEXT($BP25,\"00\"),TEXT($BO25,\"00\"),TEXT($BQ25,\"00\")))","v":1010101010101},{"$f":"VALUE(CONCATENATE($CB25,TEXT($CD25,\"00\"),TEXT($BQ25,\"00\")))","v":101010101},{"$f":"VALUE(CONCATENATE($CB25,TEXT($CD25,\"00\"),TEXT($BO25,\"00\"),TEXT($BQ25,\"00\")))","v":10101010101},{"$f":"INDEX(CE25:CN25,1,WertungskriterienA)","v":101010101},{"$f":"RANK(CO25,$CO$25:$CO$36,1)","v":1},{"$f":"IF($C25=\"\",FALSE,AND(LEN($C25)=1,OR(CODE($C25)<65,CODE($C25)>122,AND(CODE($C25)>90,CODE($C25)<97)),NOT(AND(CODE($C25)>48,CODE($C25)<58))))","v":false},{"$f":"IF(CQ25,$C25,IF($C25=\"\",\"Spieler \"&TEXT($B25,\"00\"),$C25))","v":"Spieler 01"},{"$f":"IF(CQ25,MAX(TeilnNr),0)+SUMPRODUCT((CR25>$CR$25:$CR$36)*1)","v":0},{"$f":"CP25+CS25/1000+B25/1000000","v":1.0000009999999999},{"$f":"RANK(CT25,$CT$25:$CT$36,1)","v":1},{"$f":"CV24+1","v":3},"Spieler 10","-","Spieler 06",null,null,{"$f":"DB24","v":5},{"$f":"DC24","v":5},{"$f":"DD24+1","v":3},10,6,"","","$N$34","$V$30",{"$f":"DK24+1","v":3},"Spieler 09","-","Spieler 05",null,null,{"$f":"DQ24","v":6},{"$f":"DR24","v":6},{"$f":"DS24+1","v":3},9,5,"","","$L$33","$T$29",3,{"$f":"IF(DB25>MAX(TeilnNr)-1,CY25,CW25)","v":"Spieler 10"},"-",{"$f":"IF(DB25>MAX(TeilnNr)-1,CW25,CY25)","v":"Spieler 06"},1,null,2,1,null,2,3,{"$f":"IF(DQ25>MAX(TeilnNr)-1,DN25,DL25)","v":"Spieler 09"},"-",{"$f":"IF(DQ25>MAX(TeilnNr)-1,DL25,DN25)","v":"Spieler 05"},1,null,2,1,null,2]
[null,2,null,"","","","","","","","","","","","","","","","","","","","","","","","",0,{"$f":"MAX($B$25:$B$36)*2-COUNTIF($D26:AA26,\"\")","v":0},0,null,0,0,1,null,0,0,0,0,0,0,0,0,0,0,0,0,0,null,0,0,0,0,0,0,0,0,0,0,0,0,0,null,0,1,1,1,1,1,{"$f":"VALUE(CONCATENATE(IF(CQ26,\"1\",\"0\"),TEXT($BM26,\"00\"),TEXT($BO26,\"00\"),TEXT($BQ26,\"00\")))","v":10101},{"$f":"VALUE(CONCATENATE(IF(CQ26,\"1\",\"0\"),TEXT($BM26,\"00\"),TEXT($BO26,\"00\")))","v":101},{"$f":"VALUE(CONCATENATE(IF(CQ26,\"1\",\"0\"),TEXT($BM26,\"00\"),TEXT($BN26,\"00\"),TEXT($BO26,\"00\"),TEXT($BQ26,\"00\")))","v":1010101},{"$f":"VALUE(CONCATENATE(IF(CQ26,\"1\",\"0\"),TEXT($BM26,\"00\"),TEXT($BN26,\"00\"),TEXT($BO26,\"00\")))","v":10101},{"$f":"VALUE(CONCATENATE(IF(CQ26,\"1\",\"0\"),TEXT($BM26,\"00\"),TEXT($BN26,\"00\"),TEXT($BO26,\"00\")))","v":10101},{"$f":"VALUE(CONCATENATE(IF(CQ26,\"1\",\"0\"),TEXT($BM26,\"00\"),TEXT($BN26,\"00\"),TEXT($BO26,\"00\"),TEXT($BP26,\"00\")))","v":1010101},{"$f":"VALUE(CONCATENATE(IF(CQ26,\"1\",\"0\"),TEXT($BM26,\"00\"),TEXT($BN26,\"00\")))","v":101},{"$f":"VALUE(CONCATENATE(IF(CQ26,\"1\",\"0\"),TEXT($BM26,\"00\"),TEXT($BN26,\"00\")))","v":101},{"$f":"VALUE(CONCATENATE(IF(CQ26,\"1\",\"0\"),TEXT($BM26,\"00\"),TEXT($BN26,\"00\"),TEXT($BP26,\"00\"),TEXT($BO26,\"00\")))","v":1010101},{"$f":"VALUE(CONCATENATE(IF(CQ26,\"1\",\"0\"),TEXT($BM26,\"00\"),TEXT($BN26,\"00\"),TEXT($BP26,\"00\")))","v":10101},{"$f":"INDEX($BR26:$CA26,1,WertungskriterienA)","v":10101},{"$f":"SUM((TRANSPOSE($CB$25:$CB$36)=CB26)*$AJ26:$AU26)","v":0},1,10101,101010101,10101,101010101,10101010101,101010101,1010101010101,1010101010101,101010101,10101010101,{"$f":"INDEX(CE26:CN26,1,WertungskriterienA)","v":101010101},1,{"$f":"IF($C26=\"\",FALSE,AND(LEN($C26)=1,OR(CODE($C26)<65,CODE($C26)>122,AND(CODE($C26)>90,CODE($C26)<97)),NOT(AND(CODE($C26)>48,CODE($C26)<58))))","v":false},"Spieler 02",1,1.0010019999999999,2,4,"Spieler 05","-","Spieler 11",null,null,5,{"$f":"DC25","v":5},4,5,11,"","","$X$29","$L$35",4,"Spieler 04","-","Spieler 10",null,null,6,{"$f":"DR25","v":6},4,4,10,"","","$V$28","$J$34",4,{"$f":"IF(DB26>MAX(TeilnNr)-1,CW26,CY26)","v":"Spieler 11"},"-",{"$f":"IF(DB26>MAX(TeilnNr)-1,CY26,CW26)","v":"Spieler 05"},2,null,1,2,null,1,4,{"$f":"IF(DQ26>MAX(TeilnNr)-1,DL26,DN26)","v":"Spieler 10"},"-",{"$f":"IF(DQ26>MAX(TeilnNr)-1,DN26,DL26)","v":"Spieler 04"},2,null,1,2,null,1]
[null,3,null,"","","","","","","","","","","","","","","","","","","","","","","","",0,{"$f":"MAX($B$25:$B$36)*2-COUNTIF($D27:AA27,\"\")","v":0},0,null,0,0,1,null,0,0,0,0,0,0,0,0,0,0,0,0,0,null,0,0,0,0,0,0,0,0,0,0,0,0,0,null,0,1,1,1,1,1,10101,101,1010101,10101,10101,1010101,101,101,1010101,10101,{"$f":"INDEX($BR27:$CA27,1,WertungskriterienA)","v":10101},{"$f":"SUM((TRANSPOSE($CB$25:$CB$36)=CB27)*$AJ27:$AU27)","v":0},1,10101,101010101,10101,101010101,10101010101,101010101,1010101010101,1010101010101,101010101,10101010101,{"$f":"INDEX(CE27:CN27,1,WertungskriterienA)","v":101010101},1,false,"Spieler 03",2,1.002003,3,5,"Spieler 01","-","Spieler 04",null,null,5,{"$f":"DC26","v":5},5,1,4,"","","$J$25","$D$28",5,"Spieler 11","-","Spieler 03",null,null,6,6,5,11,3,"","","$H$35","$X$27",5,{"$f":"IF(DB27>MAX(TeilnNr)-1,CY27,CW27)","v":"Spieler 01"},"-",{"$f":"IF(DB27>MAX(TeilnNr)-1,CW27,CY27)","v":"Spieler 04"},1,null,2,1,null,2,5,{"$f":"IF(DQ27>MAX(TeilnNr)-1,DN27,DL27)","v":"Spieler 11"},"-",{"$f":"IF(DQ27>MAX(TeilnNr)-1,DL27,DN27)","v":"Spieler 03"},1,null,2,1,null,2]
[null,4,null,"","","","","","","","","","","","","","","","","","","","","","","","",0,{"$f":"MAX($B$25:$B$36)*2-COUNTIF($D28:AA28,\"\")","v":0},0,null,0,0,1,null,0,0,0,0,0,0,0,0,0,0,0,0,0,null,0,0,0,0,0,0,0,0,0,0,0,0,0,null,0,1,1,1,1,1,10101,101,1010101,10101,10101,1010101,101,101,1010101,10101,{"$f":"INDEX($BR28:$CA28,1,WertungskriterienA)","v":10101},{"$f":"SUM((TRANSPOSE($CB$25:$CB$36)=CB28)*$AJ28:$AU28)","v":0},1,10101,101010101,10101,101010101,10101010101,101010101,1010101010101,1010101010101,101010101,10101010101,{"$f":"INDEX(CE28:CN28,1,WertungskriterienA)","v":101010101},1,false,"Spieler 04",3,1.0030039999999998,4,6,"Spieler 03","-","Spieler 02",null,null,5,{"$f":"DC27","v":5},6,3,2,"","","$F$27","$H$26",6,"Spieler 02","-","Spieler 01",null,null,6,6,6,2,1,"","","$D$26","$F$25",6,{"$f":"IF(DB28>MAX(TeilnNr)-1,CW28,CY28)","v":"Spieler 02"},"-",{"$f":"IF(DB28>MAX(TeilnNr)-1,CY28,CW28)","v":"Spieler 03"},2,null,1,2,null,1,6,{"$f":"IF(DQ28>MAX(TeilnNr)-1,DL28,DN28)","v":"Spieler 01"},"-",{"$f":"IF(DQ28>MAX(TeilnNr)-1,DN28,DL28)","v":"Spieler 02"},2,null,1,2,null,1]
[null,5,null,"","","","","","","","","","","","","","","","","","","","","","","","",0,{"$f":"MAX($B$25:$B$36)*2-COUNTIF($D29:AA29,\"\")","v":0},0,null,0,0,1,null,0,0,0,0,0,0,0,0,0,0,0,0,0,null,0,0,0,0,0,0,0,0,0,0,0,0,0,null,0,1,1,1,1,1,10101,101,1010101,10101,10101,1010101,101,101,1010101,10101,{"$f":"INDEX($BR29:$CA29,1,WertungskriterienA)","v":10101},{"$f":"SUM((TRANSPOSE($CB$25:$CB$36)=CB29)*$AJ29:$AU29)","v":0},1,10101,101010101,10101,101010101,10101010101,101010101,1010101010101,1010101010101,101010101,10101010101,{"$f":"INDEX(CE29:CN29,1,WertungskriterienA)","v":101010101},1,false,"Spieler 05",4,1.004005,5,null,null,null,null,null,null,null,null,null,null,null,null,null,null,null,null,null,null,null,null,null,null,null,null,null,null,null,null,null,null,null,null,null,null,{"$f":"IF(ISNUMBER(DB29),IF(DB29>MAX(TeilnNr)-1,2,1),\"\")","v":""},null,null,{"$f":"IF(ISNUMBER(DE29),IF(DE29>MAX(TeilnNr)-1,2,1),\"\")","v":""},null,null,null,null,null,null,"",null,null,{"$f":"IF(ISNUMBER(DO29),IF(DO29>MAX(TeilnNr)-1,2,1),\"\")","v":""}]
[null,6,null,"","","","","","","","","","","","","","","","","","","","","","","","",0,{"$f":"MAX($B$25:$B$36)*2-COUNTIF($D30:AA30,\"\")","v":0},0,null,0,0,1,null,0,0,0,0,0,0,0,0,0,0,0,0,0,null,0,0,0,0,0,0,0,0,0,0,0,0,0,null,0,1,1,1,1,1,10101,101,1010101,10101,10101,1010101,101,101,1010101,10101,{"$f":"INDEX($BR30:$CA30,1,WertungskriterienA)","v":10101},{"$f":"SUM((TRANSPOSE($CB$25:$CB$36)=CB30)*$AJ30:$AU30)","v":0},1,10101,101010101,10101,101010101,10101010101,101010101,1010101010101,1010101010101,101010101,10101010101,{"$f":"INDEX(CE30:CN30,1,WertungskriterienA)","v":101010101},1,false,"Spieler 06",5,1.0050059999999998,6,null,{"$f":"CW22+2","v":7},null,null,null,null,"N°","R","B","SpNr w","SpNr s","Res w","Res s",null,null,null,{"$f":"DL22+2","v":8},null,null,null,null,"N°","R","B","SpNr w","SpNr s","Res w","Res s",null,null,null,{"$f":"CW30","v":7},null,{"$f":"IF(CW30=MAX(TeilnNr),\"-> Bretter drehen!\",\"\")","v":""},{"$f":"IF(ISNUMBER(DB30),IF(DB30>MAX(TeilnNr)-1,2,1),\"\")","v":""},null,null,{"$f":"IF(ISNUMBER(DE30),IF(DE30>MAX(TeilnNr)-1,2,1),\"\")","v":""},null,null,null,{"$f":"DL30","v":8},null,{"$f":"IF(DL30=MAX(TeilnNr),\"-> Bretter drehen!\",\"\")","v":""},{"$f":"IF(ISNUMBER(DQ30),IF(DQ30>MAX(TeilnNr)-1,IF(MOD(DS30,2)<>0,2,1),IF(MOD(DS30,2)<>0,1,2)),\"\")","v":""},null,null,{"$f":"IF(ISNUMBER(DO30),IF(DO30>MAX(TeilnNr)-1,2,1),\"\")","v":""}]
[null,7,null,"","","","","","","","","","","","","","","","","","","","","","","","",0,{"$f":"MAX($B$25:$B$36)*2-COUNTIF($D31:AA31,\"\")","v":0},0,null,0,0,1,null,0,0,0,0,0,0,0,0,0,0,0,0,0,null,0,0,0,0,0,0,0,0,0,0,0,0,0,null,0,1,1,1,1,1,10101,101,1010101,10101,10101,1010101,101,101,1010101,10101,{"$f":"INDEX($BR31:$CA31,1,WertungskriterienA)","v":10101},{"$f":"SUM((TRANSPOSE($CB$25:$CB$36)=CB31)*$AJ31:$AU31)","v":0},1,10101,101010101,10101,101010101,10101010101,101010101,1010101010101,1010101010101,101010101,10101010101,{"$f":"INDEX(CE31:CN31,1,WertungskriterienA)","v":101010101},1,false,"Spieler 07",6,1.0060070000000001,7,{"$f":"IF(OR(INDEX($CQ$25:$CQ$36,DE31),INDEX($CQ$25:$CQ$36,DF31)),0,1)","v":1},{"$f":"INDEX($CR$25:$CR$36,MATCH($DE31,TeilnNr,0))","v":"Spieler 06"},"-",{"$f":"INDEX($CR$25:$CR$36,MATCH($DF31,TeilnNr,0))","v":"Spieler 12"},null,null,{"$f":"CW30","v":7},{"$f":"IF(CW30>MAX(TeilnNr)-1,CW30-(MAX(TeilnNr)-1),CW30)","v":7},1,{"$f":"IF(AND(DD31=1,MOD(DC31,2)=IF(DB31>MAX(TeilnNr)-1,1,0)),MAX(TeilnNr),IF(MOD(DD31,2)=IF(DB31>MAX(TeilnNr)-1,1,0),IF(MAX(TeilnNr)/2-DD31+1-(DC31-MAX(TeilnNr)/2-1)>=1,MAX(TeilnNr)/2-DD31+1-(DC31-MAX(TeilnNr)/2-1),MAX(TeilnNr)/2-DD31+1-(DC31-MAX(TeilnNr)/2-1)+MAX(TeilnNr)-1),IF(DD31-(DC31-1)>=1,DD31-(DC31-1),DD31-(DC31-1)+MAX(TeilnNr)-1)))","v":6},{"$f":"IF(AND(DD31=1,MOD(DC31,2)<>IF(DB31>MAX(TeilnNr)-1,1,0)),MAX(TeilnNr),IF(MOD(DD31,2)<>IF(DB31>MAX(TeilnNr)-1,1,0),IF(MAX(TeilnNr)/2-DD31+1-(DC31-MAX(TeilnNr)/2-1)>=1,MAX(TeilnNr)/2-DD31+1-(DC31-MAX(TeilnNr)/2-1),MAX(TeilnNr)/2-DD31+1-(DC31-MAX(TeilnNr)/2-1)+MAX(TeilnNr)-1),IF(DD31-(DC31-1)>=1,DD31-(DC31-1),DD31-(DC31-1)+MAX(TeilnNr)-1)))","v":12},{"$f":"IF(LEFT(DA31,1)=\"V\",\"\",LEFT(DA31,1))","v":""},{"$f":"IF(RIGHT(DA31,1)=\"V\",\"\",RIGHT(DA31,1))","v":""},{"$f":"IF(DB31>MAX(TeilnNr)-1,ADDRESS(ROW(Teilnehmer)+DE31,COLUMN(Teilnehmer)+DF31+DF31),ADDRESS(ROW(Teilnehmer)+DE31,COLUMN(Teilnehmer)+DF31+DF31-1))","v":"$Z$30"},{"$f":"IF(DB31>MAX(TeilnNr)-1,ADDRESS(ROW(Teilnehmer)+DF31,COLUMN(Teilnehmer)+DE31+DE31),ADDRESS(ROW(Teilnehmer)+DF31,COLUMN(Teilnehmer)+DE31+DE31-1))","v":"$N$36"},{"$f":"IF(OR(INDEX($CQ$25:$CQ$36,DT31),INDEX($CQ$25:$CQ$36,DU31)),0,1)","v":1},{"$f":"INDEX($CR$25:$CR$36,MATCH($DT31,TeilnNr,0))","v":"Spieler 12"},"-",{"$f":"INDEX($CR$25:$CR$36,MATCH($DU31,TeilnNr,0))","v":"Spieler 05"},null,null,{"$f":"DL30","v":8},{"$f":"IF(DL30>MAX(TeilnNr)-1,DL30-(MAX(TeilnNr)-1),DL30)","v":8},1,{"$f":"IF(AND(DS31=1,MOD(DR31,2)=IF(DQ31>MAX(TeilnNr)-1,1,0)),MAX(TeilnNr),IF(MOD(DS31,2)=IF(DQ31>MAX(TeilnNr)-1,1,0),IF(MAX(TeilnNr)/2-DS31+1-(DR31-MAX(TeilnNr)/2-1)>=1,MAX(TeilnNr)/2-DS31+1-(DR31-MAX(TeilnNr)/2-1),MAX(TeilnNr)/2-DS31+1-(DR31-MAX(TeilnNr)/2-1)+MAX(TeilnNr)-1),IF(DS31-(DR31-1)>=1,DS31-(DR31-1),DS31-(DR31-1)+MAX(TeilnNr)-1)))","v":12},{"$f":"IF(AND(DS31=1,MOD(DR31,2)<>IF(DQ31>MAX(TeilnNr)-1,1,0)),MAX(TeilnNr),IF(MOD(DS31,2)<>IF(DQ31>MAX(TeilnNr)-1,1,0),IF(MAX(TeilnNr)/2-DS31+1-(DR31-MAX(TeilnNr)/2-1)>=1,MAX(TeilnNr)/2-DS31+1-(DR31-MAX(TeilnNr)/2-1),MAX(TeilnNr)/2-DS31+1-(DR31-MAX(TeilnNr)/2-1)+MAX(TeilnNr)-1),IF(DS31-(DR31-1)>=1,DS31-(DR31-1),DS31-(DR31-1)+MAX(TeilnNr)-1)))","v":5},{"$f":"IF(LEFT(DP31,1)=\"V\",\"\",LEFT(DP31,1))","v":""},{"$f":"IF(RIGHT(DP31,1)=\"V\",\"\",RIGHT(DP31,1))","v":""},{"$f":"IF(DQ31>MAX(TeilnNr)-1,ADDRESS(ROW(Teilnehmer)+DT31,COLUMN(Teilnehmer)+DU31+DU31),ADDRESS(ROW(Teilnehmer)+DT31,COLUMN(Teilnehmer)+DU31+DU31-1))","v":"$L$36"},{"$f":"IF(DQ31>MAX(TeilnNr)-1,ADDRESS(ROW(Teilnehmer)+DU31,COLUMN(Teilnehmer)+DT31+DT31),ADDRESS(ROW(Teilnehmer)+DU31,COLUMN(Teilnehmer)+DT31+DT31-1))","v":"$Z$29"},{"$f":"CV31","v":1},{"$f":"CW31","v":"Spieler 06"},"-",{"$f":"CY31","v":"Spieler 12"},{"$f":"IF(ISNUMBER(DB31),IF(DB31>MAX(TeilnNr)-1,IF(DD31=1,1,IF(MOD(DD31,2)<>0,2,1)),IF(DD31=1,1,IF(MOD(DD31,2)<>0,1,2))),\"\")","v":1},null,{"$f":"IF(ED31=1,2,1)","v":2},{"$f":"ED31","v":1},null,{"$f":"IF(DS31=1,EF31*10,EF31)","v":20},{"$f":"DK31","v":1},{"$f":"DN31","v":"Spieler 05"},"-",{"$f":"DL31","v":"Spieler 12"},{"$f":"IF(ISNUMBER(DQ31),IF(DQ31>MAX(TeilnNr)-1,IF(DS31=1,2,IF(MOD(DS31,2)<>0,2,1)),IF(DS31=1,2,IF(MOD(DS31,2)<>0,1,2))),\"\")","v":2},null,{"$f":"IF(EN31=1,2,1)","v":1},{"$f":"EN31","v":2},null,{"$f":"IF(DS31=1,EP31*10,EP31)","v":10}]
[null,8,null,"","","","","","","","","","","","","","","","","","","","","","","","",0,{"$f":"MAX($B$25:$B$36)*2-COUNTIF($D32:AA32,\"\")","v":0},0,null,0,0,1,null,0,0,0,0,0,0,0,0,0,0,0,0,0,null,0,0,0,0,0,0,0,0,0,0,0,0,0,null,0,1,1,1,1,1,10101,101,1010101,10101,10101,1010101,101,101,1010101,10101,{"$f":"INDEX($BR32:$CA32,1,WertungskriterienA)","v":10101},{"$f":"SUM((TRANSPOSE($CB$25:$CB$36)=CB32)*$AJ32:$AU32)","v":0},1,10101,101010101,10101,101010101,10101010101,101010101,1010101010101,1010101010101,101010101,10101010101,{"$f":"INDEX(CE32:CN32,1,WertungskriterienA)","v":101010101},1,false,"Spieler 08",7,1.0070079999999999,8,{"$f":"CV31+1","v":2},"Spieler 05","-","Spieler 07",null,null,{"$f":"DB31","v":7},{"$f":"DC31","v":7},{"$f":"DD31+1","v":2},5,7,"","","$P$29","$L$31",{"$f":"DK31+1","v":2},"Spieler 04","-","Spieler 06",null,null,{"$f":"DQ31","v":8},{"$f":"DR31","v":8},{"$f":"DS31+1","v":2},4,6,"","","$N$28","$J$30",2,{"$f":"IF(DB32>MAX(TeilnNr)-1,CW32,CY32)","v":"Spieler 07"},"-",{"$f":"IF(DB32>MAX(TeilnNr)-1,CY32,CW32)","v":"Spieler 05"},2,null,1,2,null,1,2,{"$f":"IF(DQ32>MAX(TeilnNr)-1,DL32,DN32)","v":"Spieler 06"},"-",{"$f":"IF(DQ32>MAX(TeilnNr)-1,DN32,DL32)","v":"Spieler 04"},2,null,1,2,null,1]
[null,9,null,"","","","","","","","","","","","","","","","","","","","","","","","",0,{"$f":"MAX($B$25:$B$36)*2-COUNTIF($D33:AA33,\"\")","v":0},0,null,0,0,1,null,0,0,0,0,0,0,0,0,0,0,0,0,0,null,0,0,0,0,0,0,0,0,0,0,0,0,0,null,0,1,1,1,1,1,10101,101,1010101,10101,10101,1010101,101,101,1010101,10101,{"$f":"INDEX($BR33:$CA33,1,WertungskriterienA)","v":10101},{"$f":"SUM((TRANSPOSE($CB$25:$CB$36)=CB33)*$AJ33:$AU33)","v":0},1,10101,101010101,10101,101010101,10101010101,101010101,1010101010101,1010101010101,101010101,10101010101,{"$f":"INDEX(CE33:CN33,1,WertungskriterienA)","v":101010101},1,false,"Spieler 09",8,1.0080089999999999,9,{"$f":"CV32+1","v":3},"Spieler 08","-","Spieler 04",null,null,{"$f":"DB32","v":7},{"$f":"DC32","v":7},{"$f":"DD32+1","v":3},8,4,"","","$J$32","$R$28",{"$f":"DK32+1","v":3},"Spieler 07","-","Spieler 03",null,null,{"$f":"DQ32","v":8},{"$f":"DR32","v":8},{"$f":"DS32+1","v":3},7,3,"","","$H$31","$P$27",3,{"$f":"IF(DB33>MAX(TeilnNr)-1,CY33,CW33)","v":"Spieler 08"},"-",{"$f":"IF(DB33>MAX(TeilnNr)-1,CW33,CY33)","v":"Spieler 04"},1,null,2,1,null,2,3,{"$f":"IF(DQ33>MAX(TeilnNr)-1,DN33,DL33)","v":"Spieler 07"},"-",{"$f":"IF(DQ33>MAX(TeilnNr)-1,DL33,DN33)","v":"Spieler 03"},1,null,2,1,null,2]
[null,10,null,"","","","","","","","","","","","","","","","","","","","","","","","",0,{"$f":"MAX($B$25:$B$36)*2-COUNTIF($D34:AA34,\"\")","v":0},0,null,0,0,1,null,0,0,0,0,0,0,0,0,0,0,0,0,0,null,0,0,0,0,0,0,0,0,0,0,0,0,0,null,0,1,1,1,1,1,10101,101,1010101,10101,10101,1010101,101,101,1010101,10101,{"$f":"INDEX($BR34:$CA34,1,WertungskriterienA)","v":10101},{"$f":"SUM((TRANSPOSE($CB$25:$CB$36)=CB34)*$AJ34:$AU34)","v":0},1,10101,101010101,10101,101010101,10101010101,101010101,1010101010101,1010101010101,101010101,10101010101,{"$f":"INDEX(CE34:CN34,1,WertungskriterienA)","v":101010101},1,false,"Spieler 10",9,1.00901,10,4,"Spieler 03","-","Spieler 09",null,null,7,{"$f":"DC33","v":7},4,3,9,"","","$T$27","$H$33",4,"Spieler 02","-","Spieler 08",null,null,8,{"$f":"DR33","v":8},4,2,8,"","","$R$26","$F$32",4,{"$f":"IF(DB34>MAX(TeilnNr)-1,CW34,CY34)","v":"Spieler 09"},"-",{"$f":"IF(DB34>MAX(TeilnNr)-1,CY34,CW34)","v":"Spieler 03"},2,null,1,2,null,1,4,{"$f":"IF(DQ34>MAX(TeilnNr)-1,DL34,DN34)","v":"Spieler 08"},"-",{"$f":"IF(DQ34>MAX(TeilnNr)-1,DN34,DL34)","v":"Spieler 02"},2,null,1,2,null,1]
[null,11,null,"","","","","","","","","","","","","","","","","","","","","","","","",0,{"$f":"MAX($B$25:$B$36)*2-COUNTIF($D35:AA35,\"\")","v":0},0,null,0,0,1,null,0,0,0,0,0,0,0,0,0,0,0,0,0,null,0,0,0,0,0,0,0,0,0,0,0,0,0,null,0,1,1,1,1,1,10101,101,1010101,10101,10101,1010101,101,101,1010101,10101,{"$f":"INDEX($BR35:$CA35,1,WertungskriterienA)","v":10101},{"$f":"SUM((TRANSPOSE($CB$25:$CB$36)=CB35)*$AJ35:$AU35)","v":0},1,10101,101010101,10101,101010101,10101010101,101010101,1010101010101,1010101010101,101010101,10101010101,{"$f":"INDEX(CE35:CN35,1,WertungskriterienA)","v":101010101},1,false,"Spieler 11",10,1.010011,11,5,"Spieler 10","-","Spieler 02",null,null,7,{"$f":"DC34","v":7},5,10,2,"","","$F$34","$V$26",5,"Spieler 09","-","Spieler 01",null,null,8,8,5,9,1,"","","$D$33","$T$25",5,{"$f":"IF(DB35>MAX(TeilnNr)-1,CY35,CW35)","v":"Spieler 10"},"-",{"$f":"IF(DB35>MAX(TeilnNr)-1,CW35,CY35)","v":"Spieler 02"},1,null,2,1,null,2,5,{"$f":"IF(DQ35>MAX(TeilnNr)-1,DN35,DL35)","v":"Spieler 09"},"-",{"$f":"IF(DQ35>MAX(TeilnNr)-1,DL35,DN35)","v":"Spieler 01"},1,null,2,1,null,2]
[null,12,null,"","","","","","","","","","","","","","","","","","","","","","","","",0,{"$f":"MAX($B$25:$B$36)*2-COUNTIF($D36:AA36,\"\")","v":0},0,null,0,0,1,null,0,0,0,0,0,0,0,0,0,0,0,0,0,null,0,0,0,0,0,0,0,0,0,0,0,0,0,null,0,1,1,1,1,1,10101,101,1010101,10101,10101,1010101,101,101,1010101,10101,{"$f":"INDEX($BR36:$CA36,1,WertungskriterienA)","v":10101},{"$f":"SUM((TRANSPOSE($CB$25:$CB$36)=CB36)*$AJ36:$AU36)","v":0},1,10101,101010101,10101,101010101,10101010101,101010101,1010101010101,1010101010101,101010101,10101010101,{"$f":"INDEX(CE36:CN36,1,WertungskriterienA)","v":101010101},1,false,"Spieler 12",11,1.0110119999999998,12,6,"Spieler 01","-","Spieler 11",null,null,7,{"$f":"DC35","v":7},6,1,11,"","","$X$25","$D$35",6,"Spieler 11","-","Spieler 10",null,null,8,8,6,11,10,"","","$V$35","$X$34",6,{"$f":"IF(DB36>MAX(TeilnNr)-1,CW36,CY36)","v":"Spieler 11"},"-",{"$f":"IF(DB36>MAX(TeilnNr)-1,CY36,CW36)","v":"Spieler 01"},2,null,1,2,null,1,6,{"$f":"IF(DQ36>MAX(TeilnNr)-1,DL36,DN36)","v":"Spieler 10"},"-",{"$f":"IF(DQ36>MAX(TeilnNr)-1,DN36,DL36)","v":"Spieler 11"},2,null,1,2,null,1]
[null,null,{"$f":"\"-> bei nur \"&MAX(TeilnNr)-1&\" Spielern an Pos. \"&MAX(TeilnNr)&\" einen Stern (*) eintragen\"","v":"-> bei nur 11 Spielern an Pos. 12 einen Stern (*) eintragen"},null,null,null,null,null,null,null,null,null,null,null,null,null,null,null,null,null,null,null,null,null,null,null,null,null,{"$f":"SUM(AC25:AC36)","v":0},null,null,{"$f":"SUM(AF25:AF36)","v":0},{"$f":"SUM(AG25:AG36)","v":0},null,null,null,null,null,null,null,null,null,null,null,null,null,null,null,null,null,null,null,null,null,null,null,null,null,null,null,null,null,null,null,null,null,null,null,null,null,null,null,null,null,null,null,null,null,null,null,null,null,null,null,null,null,null,null,null,null,null,null,null,null,null,null,null,null,null,null,null,null,null,null,null,null,null,null,null,null,null,null,null,null,null,null,null,null,null,null,null,null,null,null,null,null,null,null,null,null,null,null,null,{"$f":"IF(ISNUMBER(DB37),IF(DB37>MAX(TeilnNr)-1,2,1),\"\")","v":""},null,null,{"$f":"IF(ISNUMBER(DE37),IF(DE37>MAX(TeilnNr)-1,2,1),\"\")","v":""},null,null,null,null,null,null,"",null,null,{"$f":"IF(ISNUMBER(DO37),IF(DO37>MAX(TeilnNr)-1,2,1),\"\")","v":""}]
[null,null,null,null,null,null,null,null,null,null,null,null,null,null,null,null,null,null,null,null,null,null,null,null,null,null,null,null,null,null,null,null,null,null,null,null,null,null,null,null,null,null,null,null,null,null,null,null,null,null,null,null,null,null,null,null,null,null,null,null,null,null,null,null,null,null,null,null,null,null,null,null,null,null,null,null,null,null,null,null,null,null,null,null,null,null,null,null,null,null,null,null,null,null,null,null,null,null,null,null,{"$f":"CW30+2","v":9},null,null,null,null,"N°","R","B","SpNr w","SpNr s","Res w","Res s",null,null,null,{"$f":"DL30+2","v":10},null,null,null,null,"N°","R","B","SpNr w","SpNr s","Res w","Res s",null,null,null,{"$f":"CW38","v":9},null,{"$f":"IF(CW38=MAX(TeilnNr),\"-> Bretter drehen!\",\"\")","v":""},{"$f":"IF(ISNUMBER(DB38),IF(DB38>MAX(TeilnNr)-1,2,1),\"\")","v":""},null,null,{"$f":"IF(ISNUMBER(DE38),IF(DE38>MAX(TeilnNr)-1,2,1),\"\")","v":""},null,null,null,{"$f":"DL38","v":10},null,{"$f":"IF(DL38=MAX(TeilnNr),\"-> Bretter drehen!\",\"\")","v":""},{"$f":"IF(ISNUMBER(DQ38),IF(DQ38>MAX(TeilnNr)-1,IF(MOD(DS38,2)<>0,2,1),IF(MOD(DS38,2)<>0,1,2)),\"\")","v":""},null,null,{"$f":"IF(ISNUMBER(DO38),IF(DO38>MAX(TeilnNr)-1,2,1),\"\")","v":""}]
[null,null,null,null,null,null,null,null,null,null,null,null,null,null,null,null,null,null,null,null,null,null,null,null,null,null,null,null,null,null,null,null,null,null,null,null,null,null,null,null,null,null,null,null,null,null,null,null,null,null,null,null,null,null,null,null,null,null,null,null,null,null,null,null,null,null,null,null,null,null,null,null,null,null,null,null,null,null,null,null,null,null,null,null,null,null,null,null,null,null,null,null,null,null,null,null,null,null,null,{"$f":"IF(OR(INDEX($CQ$25:$CQ$36,DE39),INDEX($CQ$25:$CQ$36,DF39)),0,1)","v":1},{"$f":"INDEX($CR$25:$CR$36,MATCH($DE39,TeilnNr,0))","v":"Spieler 04"},"-",{"$f":"INDEX($CR$25:$CR$36,MATCH($DF39,TeilnNr,0))","v":"Spieler 12"},null,null,{"$f":"CW38","v":9},{"$f":"IF(CW38>MAX(TeilnNr)-1,CW38-(MAX(TeilnNr)-1),CW38)","v":9},1,{"$f":"IF(AND(DD39=1,MOD(DC39,2)=IF(DB39>MAX(TeilnNr)-1,1,0)),MAX(TeilnNr),IF(MOD(DD39,2)=IF(DB39>MAX(TeilnNr)-1,1,0),IF(MAX(TeilnNr)/2-DD39+1-(DC39-MAX(TeilnNr)/2-1)>=1,MAX(TeilnNr)/2-DD39+1-(DC39-MAX(TeilnNr)/2-1),MAX(TeilnNr)/2-DD39+1-(DC39-MAX(TeilnNr)/2-1)+MAX(TeilnNr)-1),IF(DD39-(DC39-1)>=1,DD39-(DC39-1),DD39-(DC39-1)+MAX(TeilnNr)-1)))","v":4},{"$f":"IF(AND(DD39=1,MOD(DC39,2)<>IF(DB39>MAX(TeilnNr)-1,1,0)),MAX(TeilnNr),IF(MOD(DD39,2)<>IF(DB39>MAX(TeilnNr)-1,1,0),IF(MAX(TeilnNr)/2-DD39+1-(DC39-MAX(TeilnNr)/2-1)>=1,MAX(TeilnNr)/2-DD39+1-(DC39-MAX(TeilnNr)/2-1),MAX(TeilnNr)/2-DD39+1-(DC39-MAX(TeilnNr)/2-1)+MAX(TeilnNr)-1),IF(DD39-(DC39-1)>=1,DD39-(DC39-1),DD39-(DC39-1)+MAX(TeilnNr)-1)))","v":12},{"$f":"IF(LEFT(DA39,1)=\"V\",\"\",LEFT(DA39,1))","v":""},{"$f":"IF(RIGHT(DA39,1)=\"V\",\"\",RIGHT(DA39,1))","v":""},{"$f":"IF(DB39>MAX(TeilnNr)-1,ADDRESS(ROW(Teilnehmer)+DE39,COLUMN(Teilnehmer)+DF39+DF39),ADDRESS(ROW(Teilnehmer)+DE39,COLUMN(Teilnehmer)+DF39+DF39-1))","v":"$Z$28"},{"$f":"IF(DB39>MAX(TeilnNr)-1,ADDRESS(ROW(Teilnehmer)+DF39,COLUMN(Teilnehmer)+DE39+DE39),ADDRESS(ROW(Teilnehmer)+DF39,COLUMN(Teilnehmer)+DE39+DE39-1))","v":"$J$36"},{"$f":"IF(OR(INDEX($CQ$25:$CQ$36,DT39),INDEX($CQ$25:$CQ$36,DU39)),0,1)","v":1},{"$f":"INDEX($CR$25:$CR$36,MATCH($DT39,TeilnNr,0))","v":"Spieler 12"},"-",{"$f":"INDEX($CR$25:$CR$36,MATCH($DU39,TeilnNr,0))","v":"Spieler 03"},null,null,{"$f":"DL38","v":10},{"$f":"DL38","v":10},1,{"$f":"IF(AND(DS39=1,MOD(DR39,2)=IF(DQ39>MAX(TeilnNr)-1,1,0)),MAX(TeilnNr),IF(MOD(DS39,2)=IF(DQ39>MAX(TeilnNr)-1,1,0),IF(MAX(TeilnNr)/2-DS39+1-(DR39-MAX(TeilnNr)/2-1)>=1,MAX(TeilnNr)/2-DS39+1-(DR39-MAX(TeilnNr)/2-1),MAX(TeilnNr)/2-DS39+1-(DR39-MAX(TeilnNr)/2-1)+MAX(TeilnNr)-1),IF(DS39-(DR39-1)>=1,DS39-(DR39-1),DS39-(DR39-1)+MAX(TeilnNr)-1)))","v":12},{"$f":"IF(AND(DS39=1,MOD(DR39,2)<>IF(DQ39>MAX(TeilnNr)-1,1,0)),MAX(TeilnNr),IF(MOD(DS39,2)<>IF(DQ39>MAX(TeilnNr)-1,1,0),IF(MAX(TeilnNr)/2-DS39+1-(DR39-MAX(TeilnNr)/2-1)>=1,MAX(TeilnNr)/2-DS39+1-(DR39-MAX(TeilnNr)/2-1),MAX(TeilnNr)/2-DS39+1-(DR39-MAX(TeilnNr)/2-1)+MAX(TeilnNr)-1),IF(DS39-(DR39-1)>=1,DS39-(DR39-1),DS39-(DR39-1)+MAX(TeilnNr)-1)))","v":3},{"$f":"IF(LEFT(DP39,1)=\"V\",\"\",LEFT(DP39,1))","v":""},{"$f":"IF(RIGHT(DP39,1)=\"V\",\"\",RIGHT(DP39,1))","v":""},{"$f":"IF(DQ39>MAX(TeilnNr)-1,ADDRESS(ROW(Teilnehmer)+DT39,COLUMN(Teilnehmer)+DU39+DU39),ADDRESS(ROW(Teilnehmer)+DT39,COLUMN(Teilnehmer)+DU39+DU39-1))","v":"$H$36"},{"$f":"IF(DQ39>MAX(TeilnNr)-1,ADDRESS(ROW(Teilnehmer)+DU39,COLUMN(Teilnehmer)+DT39+DT39),ADDRESS(ROW(Teilnehmer)+DU39,COLUMN(Teilnehmer)+DT39+DT39-1))","v":"$Z$27"},{"$f":"CV39","v":1},{"$f":"CW39","v":"Spieler 04"},"-",{"$f":"CY39","v":"Spieler 12"},{"$f":"IF(ISNUMBER(DB39),IF(DB39>MAX(TeilnNr)-1,IF(DD39=1,1,IF(MOD(DD39,2)<>0,2,1)),IF(DD39=1,1,IF(MOD(DD39,2)<>0,1,2))),\"\")","v":1},null,{"$f":"IF(ED39=1,2,1)","v":2},{"$f":"ED39","v":1},null,{"$f":"IF(DS39=1,EF39*10,EF39)","v":20},{"$f":"DK39","v":1},{"$f":"DN39","v":"Spieler 03"},"-",{"$f":"DL39","v":"Spieler 12"},{"$f":"IF(ISNUMBER(DQ39),IF(DQ39>MAX(TeilnNr)-1,IF(DS39=1,2,IF(MOD(DS39,2)<>0,2,1)),IF(DS39=1,2,IF(MOD(DS39,2)<>0,1,2))),\"\")","v":2},null,{"$f":"IF(EN39=1,2,1)","v":1},{"$f":"EN39","v":2},null,{"$f":"IF(DS39=1,EP39*10,EP39)","v":10}]
[null,null,null,null,null,null,null,null,null,null,null,null,null,null,null,null,null,null,null,null,null,null,null,null,null,null,null,null,null,null,null,null,null,null,null,null,null,null,null,null,null,null,null,null,null,null,null,null,null,null,null,null,null,null,null,null,null,null,null,null,null,null,null,null,null,null,null,null,null,null,null,null,null,null,null,null,null,null,null,null,null,null,null,null,null,null,null,null,null,null,null,null,null,null,null,null,null,null,null,{"$f":"CV39+1","v":2},"Spieler 03","-","Spieler 05",null,null,{"$f":"DB39","v":9},{"$f":"DC39","v":9},{"$f":"DD39+1","v":2},3,5,"","","$L$27","$H$29",{"$f":"DK39+1","v":2},"Spieler 02","-","Spieler 04",null,null,{"$f":"DQ39","v":10},{"$f":"DR39","v":10},{"$f":"DS39+1","v":2},2,4,"","","$J$26","$F$28",2,{"$f":"IF(DB40>MAX(TeilnNr)-1,CW40,CY40)","v":"Spieler 05"},"-",{"$f":"IF(DB40>MAX(TeilnNr)-1,CY40,CW40)","v":"Spieler 03"},2,null,1,2,null,1,2,{"$f":"IF(DQ40>MAX(TeilnNr)-1,DL40,DN40)","v":"Spieler 04"},"-",{"$f":"IF(DQ40>MAX(TeilnNr)-1,DN40,DL40)","v":"Spieler 02"},2,null,1,2,null,1]
[null,null,null,null,null,null,null,null,null,null,null,null,null,null,null,null,null,null,null,null,null,null,null,null,null,null,null,null,null,null,null,null,null,null,null,null,null,null,null,null,null,null,null,null,null,null,null,null,null,null,null,null,null,null,null,null,null,null,null,null,null,null,null,null,null,null,null,null,null,null,null,null,null,null,null,null,null,null,null,null,null,null,null,null,null,null,null,null,null,null,null,null,null,null,null,null,null,null,null,{"$f":"CV40+1","v":3},"Spieler 06","-","Spieler 02",null,null,{"$f":"DB40","v":9},{"$f":"DC40","v":9},{"$f":"DD40+1","v":3},6,2,"","","$F$30","$N$26",{"$f":"DK40+1","v":3},"Spieler 05","-","Spieler 01",null,null,{"$f":"DQ40","v":10},{"$f":"DR40","v":10},{"$f":"DS40+1","v":3},5,1,"","","$D$29","$L$25",3,{"$f":"IF(DB41>MAX(TeilnNr)-1,CY41,CW41)","v":"Spieler 06"},"-",{"$f":"IF(DB41>MAX(TeilnNr)-1,CW41,CY41)","v":"Spieler 02"},1,null,2,1,null,2,3,{"$f":"IF(DQ41>MAX(TeilnNr)-1,DN41,DL41)","v":"Spieler 05"},"-",{"$f":"IF(DQ41>MAX(TeilnNr)-1,DL41,DN41)","v":"Spieler 01"},1,null,2,1,null,2]
[null,null,null,null,null,null,null,null,null,null,null,null,null,null,null,null,null,null,null,null,null,null,null,null,null,null,null,null,null,null,null,null,null,null,null,null,null,null,null,null,null,null,null,null,null,null,null,null,null,null,null,null,null,null,null,null,null,null,null,null,null,null,null,null,null,null,null,null,null,null,null,null,null,null,null,null,null,null,null,null,null,null,null,null,null,null,null,null,null,null,null,null,null,null,null,null,null,null,null,4,"Spieler 01","-","Spieler 07",null,null,9,{"$f":"DC41","v":9},4,1,7,"","","$P$25","$D$31",4,"Spieler 11","-","Spieler 06",null,null,10,{"$f":"DR41","v":10},4,11,6,"","","$N$35","$X$30",4,{"$f":"IF(DB42>MAX(TeilnNr)-1,CW42,CY42)","v":"Spieler 07"},"-",{"$f":"IF(DB42>MAX(TeilnNr)-1,CY42,CW42)","v":"Spieler 01"},2,null,1,2,null,1,4,{"$f":"IF(DQ42>MAX(TeilnNr)-1,DL42,DN42)","v":"Spieler 06"},"-",{"$f":"IF(DQ42>MAX(TeilnNr)-1,DN42,DL42)","v":"Spieler 11"},2,null,1,2,null,1]
[null,null,null,null,null,null,null,null,null,null,null,null,null,null,null,null,null,null,null,null,null,null,null,null,null,null,null,null,null,null,null,null,null,null,null,null,null,null,null,null,null,null,null,null,null,null,null,null,null,null,null,null,null,null,null,null,null,null,null,null,null,null,null,null,null,null,null,null,null,null,null,null,null,null,null,null,null,null,null,null,null,null,null,null,null,null,null,null,null,null,null,null,null,null,null,null,null,null,null,5,"Spieler 08","-","Spieler 11",null,null,9,{"$f":"DC42","v":9},5,8,11,"","","$X$32","$R$35",5,"Spieler 07","-","Spieler 10",null,null,10,10,5,7,10,"","","$V$31","$P$34",5,{"$f":"IF(DB43>MAX(TeilnNr)-1,CY43,CW43)","v":"Spieler 08"},"-",{"$f":"IF(DB43>MAX(TeilnNr)-1,CW43,CY43)","v":"Spieler 11"},1,null,2,1,null,2,5,{"$f":"IF(DQ43>MAX(TeilnNr)-1,DN43,DL43)","v":"Spieler 07"},"-",{"$f":"IF(DQ43>MAX(TeilnNr)-1,DL43,DN43)","v":"Spieler 10"},1,null,2,1,null,2]
[null,null,null,null,null,null,null,null,null,null,null,null,null,null,null,null,null,null,null,null,null,null,null,null,null,null,null,null,null,null,null,null,null,null,null,null,null,null,null,null,null,null,null,null,null,null,null,null,null,null,null,null,null,null,null,null,null,null,null,null,null,null,null,null,null,null,null,null,null,null,null,null,null,null,null,null,null,null,null,null,null,null,null,null,null,null,null,null,null,null,null,null,null,null,null,null,null,null,null,6,"Spieler 10","-","Spieler 09",null,null,9,{"$f":"DC43","v":9},6,10,9,"","","$T$34","$V$33",6,"Spieler 09","-","Spieler 08",null,null,10,10,6,9,8,"","","$R$33","$T$32",6,{"$f":"IF(DB44>MAX(TeilnNr)-1,CW44,CY44)","v":"Spieler 09"},"-",{"$f":"IF(DB44>MAX(TeilnNr)-1,CY44,CW44)","v":"Spieler 10"},2,null,1,2,null,1,6,{"$f":"IF(DQ44>MAX(TeilnNr)-1,DL44,DN44)","v":"Spieler 08"},"-",{"$f":"IF(DQ44>MAX(TeilnNr)-1,DN44,DL44)","v":"Spieler 09"},2,null,1,2,null,1]
[null,null,null,null,null,null,null,null,null,null,null,null,null,null,null,null,null,null,null,null,null,null,null,null,null,null,null,null,null,null,null,null,null,null,null,null,null,null,null,null,null,null,null,null,null,null,null,null,null,null,null,null,null,null,null,null,null,null,null,null,null,null,null,null,null,null,null,null,null,null,null,null,null,null,null,null,null,null,null,null,null,null,null,null,null,null,null,null,null,null,null,null,null,null,null,null,null,null,null,null,null,null,null,null,null,null,null,null,null,null,null,null,null,null,null,null,null,null,null,null,null,null,null,null,null,null,null,null,null,null,null,null,null,{"$f":"IF(ISNUMBER(DB45),IF(DB45>MAX(TeilnNr)-1,2,1),\"\")","v":""},null,null,{"$f":"IF(ISNUMBER(DE45),IF(DE45>MAX(TeilnNr)-1,2,1),\"\")","v":""},null,null,null,null,null,null,"",null,null,{"$f":"IF(ISNUMBER(DO45),IF(DO45>MAX(TeilnNr)-1,2,1),\"\")","v":""}]
[null,null,null,null,null,null,null,null,null,null,null,null,null,null,null,null,null,null,null,null,null,null,null,null,null,null,null,null,null,null,null,null,null,null,null,null,null,null,null,null,null,null,null,null,null,null,null,null,null,null,null,null,null,null,null,null,null,null,null,null,null,null,null,null,null,null,null,null,null,null,null,null,null,null,null,null,null,null,null,null,null,null,null,null,null,null,null,null,null,null,null,null,null,null,null,null,null,null,null,null,{"$f":"CW38+2","v":11},null,null,null,null,"N°","R","B","SpNr w","SpNr s","Res w","Res s",null,null,null,{"$f":"DL38+2","v":12},null,null,null,null,"N°","R","B","SpNr w","SpNr s","Res w","Res s",null,null,null,{"$f":"CW46","v":11},null,{"$f":"IF(CW46=MAX(TeilnNr),\"-> Bretter drehen!\",\"\")","v":""},{"$f":"IF(ISNUMBER(DB46),IF(DB46>MAX(TeilnNr)-1,2,1),\"\")","v":""},null,null,{"$f":"IF(ISNUMBER(DE46),IF(DE46>MAX(TeilnNr)-1,2,1),\"\")","v":""},null,null,null,{"$f":"DL46","v":12},null,{"$f":"IF(DL46=MAX(TeilnNr),\"-> Bretter drehen!\",\"\")","v":"-> Bretter drehen!"},{"$f":"IF(ISNUMBER(DQ46),IF(DQ46>MAX(TeilnNr)-1,IF(MOD(DS46,2)<>0,2,1),IF(MOD(DS46,2)<>0,1,2)),\"\")","v":""},null,null,{"$f":"IF(ISNUMBER(DO46),IF(DO46>MAX(TeilnNr)-1,2,1),\"\")","v":""}]
[null,null,null,null,null,null,null,null,null,null,null,null,null,null,null,null,null,null,null,null,null,null,null,null,null,null,null,null,null,null,null,null,null,null,null,null,null,null,null,null,null,null,null,null,null,null,null,null,null,null,null,null,null,null,null,null,null,null,null,null,null,null,null,null,null,null,null,null,null,null,null,null,null,null,null,null,null,null,null,null,null,null,null,null,null,null,null,null,null,null,null,null,null,null,null,null,null,null,null,{"$f":"IF(OR(INDEX($CQ$25:$CQ$36,DE47),INDEX($CQ$25:$CQ$36,DF47)),0,1)","v":1},{"$f":"INDEX($CR$25:$CR$36,MATCH($DE47,TeilnNr,0))","v":"Spieler 02"},"-",{"$f":"INDEX($CR$25:$CR$36,MATCH($DF47,TeilnNr,0))","v":"Spieler 12"},null,null,{"$f":"CW46","v":11},{"$f":"IF(CW46>MAX(TeilnNr)-1,CW46-(MAX(TeilnNr)-1),CW46)","v":11},1,{"$f":"IF(AND(DD47=1,MOD(DC47,2)=IF(DB47>MAX(TeilnNr)-1,1,0)),MAX(TeilnNr),IF(MOD(DD47,2)=IF(DB47>MAX(TeilnNr)-1,1,0),IF(MAX(TeilnNr)/2-DD47+1-(DC47-MAX(TeilnNr)/2-1)>=1,MAX(TeilnNr)/2-DD47+1-(DC47-MAX(TeilnNr)/2-1),MAX(TeilnNr)/2-DD47+1-(DC47-MAX(TeilnNr)/2-1)+MAX(TeilnNr)-1),IF(DD47-(DC47-1)>=1,DD47-(DC47-1),DD47-(DC47-1)+MAX(TeilnNr)-1)))","v":2},{"$f":"IF(AND(DD47=1,MOD(DC47,2)<>IF(DB47>MAX(TeilnNr)-1,1,0)),MAX(TeilnNr),IF(MOD(DD47,2)<>IF(DB47>MAX(TeilnNr)-1,1,0),IF(MAX(TeilnNr)/2-DD47+1-(DC47-MAX(TeilnNr)/2-1)>=1,MAX(TeilnNr)/2-DD47+1-(DC47-MAX(TeilnNr)/2-1),MAX(TeilnNr)/2-DD47+1-(DC47-MAX(TeilnNr)/2-1)+MAX(TeilnNr)-1),IF(DD47-(DC47-1)>=1,DD47-(DC47-1),DD47-(DC47-1)+MAX(TeilnNr)-1)))","v":12},{"$f":"IF(LEFT(DA47,1)=\"V\",\"\",LEFT(DA47,1))","v":""},{"$f":"IF(RIGHT(DA47,1)=\"V\",\"\",RIGHT(DA47,1))","v":""},{"$f":"IF(DB47>MAX(TeilnNr)-1,ADDRESS(ROW(Teilnehmer)+DE47,COLUMN(Teilnehmer)+DF47+DF47),ADDRESS(ROW(Teilnehmer)+DE47,COLUMN(Teilnehmer)+DF47+DF47-1))","v":"$Z$26"},{"$f":"IF(DB47>MAX(TeilnNr)-1,ADDRESS(ROW(Teilnehmer)+DF47,COLUMN(Teilnehmer)+DE47+DE47),ADDRESS(ROW(Teilnehmer)+DF47,COLUMN(Teilnehmer)+DE47+DE47-1))","v":"$F$36"},{"$f":"IF(OR(INDEX($CQ$25:$CQ$36,DT47),INDEX($CQ$25:$CQ$36,DU47)),0,1)","v":1},{"$f":"INDEX($CR$25:$CR$36,MATCH($DT47,TeilnNr,0))","v":"Spieler 12"},"-",{"$f":"INDEX($CR$25:$CR$36,MATCH($DU47,TeilnNr,0))","v":"Spieler 01"},null,null,{"$f":"DL46","v":12},{"$f":"IF(DL46>MAX(TeilnNr)-1,DL46-(MAX(TeilnNr)-1),DL46)","v":1},1,{"$f":"IF(AND(DS47=1,MOD(DR47,2)=IF(DQ47>MAX(TeilnNr)-1,1,0)),MAX(TeilnNr),IF(MOD(DS47,2)=IF(DQ47>MAX(TeilnNr)-1,1,0),IF(MAX(TeilnNr)/2-DS47+1-(DR47-MAX(TeilnNr)/2-1)>=1,MAX(TeilnNr)/2-DS47+1-(DR47-MAX(TeilnNr)/2-1),MAX(TeilnNr)/2-DS47+1-(DR47-MAX(TeilnNr)/2-1)+MAX(TeilnNr)-1),IF(DS47-(DR47-1)>=1,DS47-(DR47-1),DS47-(DR47-1)+MAX(TeilnNr)-1)))","v":12},{"$f":"IF(AND(DS47=1,MOD(DR47,2)<>IF(DQ47>MAX(TeilnNr)-1,1,0)),MAX(TeilnNr),IF(MOD(DS47,2)<>IF(DQ47>MAX(TeilnNr)-1,1,0),IF(MAX(TeilnNr)/2-DS47+1-(DR47-MAX(TeilnNr)/2-1)>=1,MAX(TeilnNr)/2-DS47+1-(DR47-MAX(TeilnNr)/2-1),MAX(TeilnNr)/2-DS47+1-(DR47-MAX(TeilnNr)/2-1)+MAX(TeilnNr)-1),IF(DS47-(DR47-1)>=1,DS47-(DR47-1),DS47-(DR47-1)+MAX(TeilnNr)-1)))","v":1},{"$f":"IF(LEFT(DP47,1)=\"V\",\"\",LEFT(DP47,1))","v":""},{"$f":"IF(RIGHT(DP47,1)=\"V\",\"\",RIGHT(DP47,1))","v":""},{"$f":"IF(DQ47>MAX(TeilnNr)-1,ADDRESS(ROW(Teilnehmer)+DT47,COLUMN(Teilnehmer)+DU47+DU47),ADDRESS(ROW(Teilnehmer)+DT47,COLUMN(Teilnehmer)+DU47+DU47-1))","v":"$E$36"},{"$f":"IF(DQ47>MAX(TeilnNr)-1,ADDRESS(ROW(Teilnehmer)+DU47,COLUMN(Teilnehmer)+DT47+DT47),ADDRESS(ROW(Teilnehmer)+DU47,COLUMN(Teilnehmer)+DT47+DT47-1))","v":"$AA$25"},{"$f":"CV47","v":1},{"$f":"CW47","v":"Spieler 02"},"-",{"$f":"CY47","v":"Spieler 12"},{"$f":"IF(ISNUMBER(DB47),IF(DB47>MAX(TeilnNr)-1,IF(DD47=1,1,IF(MOD(DD47,2)<>0,2,1)),IF(DD47=1,1,IF(MOD(DD47,2)<>0,1,2))),\"\")","v":1},null,{"$f":"IF(ED47=1,2,1)","v":2},{"$f":"ED47","v":1},null,{"$f":"IF(DS47=1,EF47*10,EF47)","v":20},{"$f":"DK47","v":1},{"$f":"DN47","v":"Spieler 01"},"-",{"$f":"DL47","v":"Spieler 12"},{"$f":"IF(ISNUMBER(DQ47),IF(DQ47>MAX(TeilnNr)-1,IF(DS47=1,2,IF(MOD(DS47,2)<>0,2,1)),IF(DS47=1,2,IF(MOD(DS47,2)<>0,1,2))),\"\")","v":2},null,{"$f":"IF(EN47=1,2,1)","v":1},{"$f":"EN47","v":2},null,{"$f":"IF(DS47=1,EP47*10,EP47)","v":10}]
[null,null,null,null,null,null,null,null,null,null,null,null,null,null,null,null,null,null,null,null,null,null,null,null,null,null,null,null,null,null,null,null,null,null,null,null,null,null,null,null,null,null,null,null,null,null,null,null,null,null,null,null,null,null,null,null,null,null,null,null,null,null,null,null,null,null,null,null,null,null,null,null,null,null,null,null,null,null,null,null,null,null,null,null,null,null,null,null,null,null,null,null,null,null,null,null,null,null,null,{"$f":"CV47+1","v":2},"Spieler 01","-","Spieler 03",null,null,{"$f":"DB47","v":11},{"$f":"DC47","v":11},{"$f":"DD47+1","v":2},1,3,"","","$H$25","$D$27",{"$f":"DK47+1","v":2},"Spieler 02","-","Spieler 11",null,null,{"$f":"DQ47","v":12},{"$f":"DR47","v":1},{"$f":"DS47+1","v":2},2,11,"","","$Y$26","$G$35",2,{"$f":"IF(DB48>MAX(TeilnNr)-1,CW48,CY48)","v":"Spieler 03"},"-",{"$f":"IF(DB48>MAX(TeilnNr)-1,CY48,CW48)","v":"Spieler 01"},2,null,1,2,null,1,2,{"$f":"IF(DQ48>MAX(TeilnNr)-1,DL48,DN48)","v":"Spieler 02"},"-",{"$f":"IF(DQ48>MAX(TeilnNr)-1,DN48,DL48)","v":"Spieler 11"},1,null,2,1,null,2]
[null,null,null,null,null,null,null,null,null,null,null,null,null,null,null,null,null,null,null,null,null,null,null,null,null,null,null,null,null,null,null,null,null,null,null,null,null,null,null,null,null,null,null,null,null,null,null,null,null,null,null,null,null,null,null,null,null,null,null,null,null,null,null,null,null,null,null,null,null,null,null,null,null,null,null,null,null,null,null,null,null,null,null,null,null,null,null,null,null,null,null,null,null,null,null,null,null,null,null,{"$f":"CV48+1","v":3},"Spieler 04","-","Spieler 11",null,null,{"$f":"DB48","v":11},{"$f":"DC48","v":11},{"$f":"DD48+1","v":3},4,11,"","","$X$28","$J$35",{"$f":"DK48+1","v":3},"Spieler 10","-","Spieler 03",null,null,{"$f":"DQ48","v":12},{"$f":"DR48","v":1},{"$f":"DS48+1","v":3},10,3,"","","$I$34","$W$27",3,{"$f":"IF(DB49>MAX(TeilnNr)-1,CY49,CW49)","v":"Spieler 04"},"-",{"$f":"IF(DB49>MAX(TeilnNr)-1,CW49,CY49)","v":"Spieler 11"},1,null,2,1,null,2,3,{"$f":"IF(DQ49>MAX(TeilnNr)-1,DN49,DL49)","v":"Spieler 03"},"-",{"$f":"IF(DQ49>MAX(TeilnNr)-1,DL49,DN49)","v":"Spieler 10"},2,null,1,2,null,1]
[null,null,null,null,null,null,null,null,null,null,null,null,null,null,null,null,null,null,null,null,null,null,null,null,null,null,null,null,null,null,null,null,null,null,null,null,null,null,null,null,null,null,null,null,null,null,null,null,null,null,null,null,null,null,null,null,null,null,null,null,null,null,null,null,null,null,null,null,null,null,null,null,null,null,null,null,null,null,null,null,null,null,null,null,null,null,null,null,null,null,null,null,null,null,null,null,null,null,null,4,"Spieler 10","-","Spieler 05",null,null,11,{"$f":"DC49","v":11},4,10,5,"","","$L$34","$V$29",4,"Spieler 04","-","Spieler 09",null,null,12,{"$f":"DR49","v":1},4,4,9,"","","$U$28","$K$33",4,{"$f":"IF(DB50>MAX(TeilnNr)-1,CW50,CY50)","v":"Spieler 05"},"-",{"$f":"IF(DB50>MAX(TeilnNr)-1,CY50,CW50)","v":"Spieler 10"},2,null,1,2,null,1,4,{"$f":"IF(DQ50>MAX(TeilnNr)-1,DL50,DN50)","v":"Spieler 04"},"-",{"$f":"IF(DQ50>MAX(TeilnNr)-1,DN50,DL50)","v":"Spieler 09"},1,null,2,1,null,2]
[null,null,null,null,null,null,null,null,null,null,null,null,null,null,null,null,null,null,null,null,null,null,null,null,null,null,null,null,null,null,null,null,null,null,null,null,null,null,null,null,null,null,null,null,null,null,null,null,null,null,null,null,null,null,null,null,null,null,null,null,null,null,null,null,null,null,null,null,null,null,null,null,null,null,null,null,null,null,null,null,null,null,null,null,null,null,null,null,null,null,null,null,null,null,null,null,null,null,null,5,"Spieler 06","-","Spieler 09",null,null,11,{"$f":"DC50","v":11},5,6,9,"","","$T$30","$N$33",5,"Spieler 08","-","Spieler 05",null,null,12,1,5,8,5,"","","$M$32","$S$29",5,{"$f":"IF(DB51>MAX(TeilnNr)-1,CY51,CW51)","v":"Spieler 06"},"-",{"$f":"IF(DB51>MAX(TeilnNr)-1,CW51,CY51)","v":"Spieler 09"},1,null,2,1,null,2,5,{"$f":"IF(DQ51>MAX(TeilnNr)-1,DN51,DL51)","v":"Spieler 05"},"-",{"$f":"IF(DQ51>MAX(TeilnNr)-1,DL51,DN51)","v":"Spieler 08"},2,null,1,2,null,1]
[null,null,null,null,null,null,null,null,null,null,null,null,null,null,null,null,null,null,null,null,null,null,null,null,null,null,null,null,null,null,null,null,null,null,null,null,null,null,null,null,null,null,null,null,null,null,null,null,null,null,null,null,null,null,null,null,null,null,null,null,null,null,null,null,null,null,null,null,null,null,null,null,null,null,null,null,null,null,null,null,null,null,null,null,null,null,null,null,null,null,null,null,null,null,null,null,null,null,null,6,"Spieler 08","-","Spieler 07",null,null,11,{"$f":"DC51","v":11},6,8,7,"","","$P$32","$R$31",6,"Spieler 06","-","Spieler 07",null,null,12,1,6,6,7,"","","$Q$30","$O$31",6,{"$f":"IF(DB52>MAX(TeilnNr)-1,CW52,CY52)","v":"Spieler 07"},"-",{"$f":"IF(DB52>MAX(TeilnNr)-1,CY52,CW52)","v":"Spieler 08"},2,null,1,2,null,1,6,{"$f":"IF(DQ52>MAX(TeilnNr)-1,DL52,DN52)","v":"Spieler 06"},"-",{"$f":"IF(DQ52>MAX(TeilnNr)-1,DN52,DL52)","v":"Spieler 07"},1,null,2,1,null,2]
[null,null,null,null,null,null,null,null,null,null,null,null,null,null,null,null,null,null,null,null,null,null,null,null,null,null,null,null,null,null,null,null,null,null,null,null,null,null,null,null,null,null,null,null,null,null,null,null,null,null,null,null,null,null,null,null,null,null,null,null,null,null,null,null,null,null,null,null,null,null,null,null,null,null,null,null,null,null,null,null,null,null,null,null,null,null,null,null,null,null,null,null,null,null,null,null,null,null,null,null,null,null,null,null,null,null,null,null,null,null,null,null,null,null,null,null,null,null,null,null,null,null,null,null,null,null,null,null,null,null,null,null,null,{"$f":"IF(ISNUMBER(DB53),IF(DB53>MAX(TeilnNr)-1,2,1),\"\")","v":""},null,null,{"$f":"IF(ISNUMBER(DE53),IF(DE53>MAX(TeilnNr)-1,2,1),\"\")","v":""},null,null,null,null,null,null,"",null,null,{"$f":"IF(ISNUMBER(DO53),IF(DO53>MAX(TeilnNr)-1,2,1),\"\")","v":""}]
[null,null,null,null,null,null,null,null,null,null,null,null,null,null,null,null,null,null,null,null,null,null,null,null,null,null,null,null,null,null,null,null,null,null,null,null,null,null,null,null,null,null,null,null,null,null,null,null,null,null,null,null,null,null,null,null,null,null,null,null,null,null,null,null,null,null,null,null,null,null,null,null,null,null,null,null,null,null,null,null,null,null,null,null,null,null,null,null,null,null,null,null,null,null,null,null,null,null,null,null,{"$f":"CW46+2","v":13},null,null,null,null,"N°","R","B","SpNr w","SpNr s","Res w","Res s",null,null,null,{"$f":"DL46+2","v":14},null,null,null,null,"N°","R","B","SpNr w","SpNr s","Res w","Res s",null,null,null,{"$f":"CW54","v":13},null,{"$f":"IF(CW54=MAX(TeilnNr),\"-> Bretter drehen!\",\"\")","v":""},{"$f":"IF(ISNUMBER(DB54),IF(DB54>MAX(TeilnNr)-1,2,1),\"\")","v":""},null,null,{"$f":"IF(ISNUMBER(DE54),IF(DE54>MAX(TeilnNr)-1,2,1),\"\")","v":""},null,null,null,{"$f":"DL54","v":14},null,{"$f":"IF(DL54=MAX(TeilnNr),\"-> Bretter drehen!\",\"\")","v":""},{"$f":"IF(ISNUMBER(DQ54),IF(DQ54>MAX(TeilnNr)-1,IF(MOD(DS54,2)<>0,2,1),IF(MOD(DS54,2)<>0,1,2)),\"\")","v":""},null,null,{"$f":"IF(ISNUMBER(DO54),IF(DO54>MAX(TeilnNr)-1,2,1),\"\")","v":""}]
[null,null,null,null,null,null,null,null,null,null,null,null,null,null,null,null,null,null,null,null,null,null,null,null,null,null,null,null,null,null,null,null,null,null,null,null,null,null,null,null,null,null,null,null,null,null,null,null,null,null,null,null,null,null,null,null,null,null,null,null,null,null,null,null,null,null,null,null,null,null,null,null,null,null,null,null,null,null,null,null,null,null,null,null,null,null,null,null,null,null,null,null,null,null,null,null,null,null,null,{"$f":"IF(OR(INDEX($CQ$25:$CQ$36,DE55),INDEX($CQ$25:$CQ$36,DF55)),0,1)","v":1},{"$f":"INDEX($CR$25:$CR$36,MATCH($DE55,TeilnNr,0))","v":"Spieler 11"},"-",{"$f":"INDEX($CR$25:$CR$36,MATCH($DF55,TeilnNr,0))","v":"Spieler 12"},null,null,{"$f":"CW54","v":13},{"$f":"IF(CW54>MAX(TeilnNr)-1,CW54-(MAX(TeilnNr)-1),CW54)","v":2},1,{"$f":"IF(AND(DD55=1,MOD(DC55,2)=IF(DB55>MAX(TeilnNr)-1,1,0)),MAX(TeilnNr),IF(MOD(DD55,2)=IF(DB55>MAX(TeilnNr)-1,1,0),IF(MAX(TeilnNr)/2-DD55+1-(DC55-MAX(TeilnNr)/2-1)>=1,MAX(TeilnNr)/2-DD55+1-(DC55-MAX(TeilnNr)/2-1),MAX(TeilnNr)/2-DD55+1-(DC55-MAX(TeilnNr)/2-1)+MAX(TeilnNr)-1),IF(DD55-(DC55-1)>=1,DD55-(DC55-1),DD55-(DC55-1)+MAX(TeilnNr)-1)))","v":11},{"$f":"IF(AND(DD55=1,MOD(DC55,2)<>IF(DB55>MAX(TeilnNr)-1,1,0)),MAX(TeilnNr),IF(MOD(DD55,2)<>IF(DB55>MAX(TeilnNr)-1,1,0),IF(MAX(TeilnNr)/2-DD55+1-(DC55-MAX(TeilnNr)/2-1)>=1,MAX(TeilnNr)/2-DD55+1-(DC55-MAX(TeilnNr)/2-1),MAX(TeilnNr)/2-DD55+1-(DC55-MAX(TeilnNr)/2-1)+MAX(TeilnNr)-1),IF(DD55-(DC55-1)>=1,DD55-(DC55-1),DD55-(DC55-1)+MAX(TeilnNr)-1)))","v":12},{"$f":"IF(LEFT(DA55,1)=\"V\",\"\",LEFT(DA55,1))","v":""},{"$f":"IF(RIGHT(DA55,1)=\"V\",\"\",RIGHT(DA55,1))","v":""},{"$f":"IF(DB55>MAX(TeilnNr)-1,ADDRESS(ROW(Teilnehmer)+DE55,COLUMN(Teilnehmer)+DF55+DF55),ADDRESS(ROW(Teilnehmer)+DE55,COLUMN(Teilnehmer)+DF55+DF55-1))","v":"$AA$35"},{"$f":"IF(DB55>MAX(TeilnNr)-1,ADDRESS(ROW(Teilnehmer)+DF55,COLUMN(Teilnehmer)+DE55+DE55),ADDRESS(ROW(Teilnehmer)+DF55,COLUMN(Teilnehmer)+DE55+DE55-1))","v":"$Y$36"},{"$f":"IF(OR(INDEX($CQ$25:$CQ$36,DT55),INDEX($CQ$25:$CQ$36,DU55)),0,1)","v":1},{"$f":"INDEX($CR$25:$CR$36,MATCH($DT55,TeilnNr,0))","v":"Spieler 12"},"-",{"$f":"INDEX($CR$25:$CR$36,MATCH($DU55,TeilnNr,0))","v":"Spieler 10"},null,null,{"$f":"DL54","v":14},{"$f":"IF(DL54>MAX(TeilnNr)-1,DL54-(MAX(TeilnNr)-1),DL54)","v":3},1,{"$f":"IF(AND(DS55=1,MOD(DR55,2)=IF(DQ55>MAX(TeilnNr)-1,1,0)),MAX(TeilnNr),IF(MOD(DS55,2)=IF(DQ55>MAX(TeilnNr)-1,1,0),IF(MAX(TeilnNr)/2-DS55+1-(DR55-MAX(TeilnNr)/2-1)>=1,MAX(TeilnNr)/2-DS55+1-(DR55-MAX(TeilnNr)/2-1),MAX(TeilnNr)/2-DS55+1-(DR55-MAX(TeilnNr)/2-1)+MAX(TeilnNr)-1),IF(DS55-(DR55-1)>=1,DS55-(DR55-1),DS55-(DR55-1)+MAX(TeilnNr)-1)))","v":12},{"$f":"IF(AND(DS55=1,MOD(DR55,2)<>IF(DQ55>MAX(TeilnNr)-1,1,0)),MAX(TeilnNr),IF(MOD(DS55,2)<>IF(DQ55>MAX(TeilnNr)-1,1,0),IF(MAX(TeilnNr)/2-DS55+1-(DR55-MAX(TeilnNr)/2-1)>=1,MAX(TeilnNr)/2-DS55+1-(DR55-MAX(TeilnNr)/2-1),MAX(TeilnNr)/2-DS55+1-(DR55-MAX(TeilnNr)/2-1)+MAX(TeilnNr)-1),IF(DS55-(DR55-1)>=1,DS55-(DR55-1),DS55-(DR55-1)+MAX(TeilnNr)-1)))","v":10},{"$f":"IF(LEFT(DP55,1)=\"V\",\"\",LEFT(DP55,1))","v":""},{"$f":"IF(RIGHT(DP55,1)=\"V\",\"\",RIGHT(DP55,1))","v":""},{"$f":"IF(DQ55>MAX(TeilnNr)-1,ADDRESS(ROW(Teilnehmer)+DT55,COLUMN(Teilnehmer)+DU55+DU55),ADDRESS(ROW(Teilnehmer)+DT55,COLUMN(Teilnehmer)+DU55+DU55-1))","v":"$W$36"},{"$f":"IF(DQ55>MAX(TeilnNr)-1,ADDRESS(ROW(Teilnehmer)+DU55,COLUMN(Teilnehmer)+DT55+DT55),ADDRESS(ROW(Teilnehmer)+DU55,COLUMN(Teilnehmer)+DT55+DT55-1))","v":"$AA$34"},{"$f":"CV55","v":1},{"$f":"CW55","v":"Spieler 11"},"-",{"$f":"CY55","v":"Spieler 12"},{"$f":"IF(ISNUMBER(DB55),IF(DB55>MAX(TeilnNr)-1,IF(DD55=1,1,IF(MOD(DD55,2)<>0,2,1)),IF(DD55=1,1,IF(MOD(DD55,2)<>0,1,2))),\"\")","v":1},null,{"$f":"IF(ED55=1,2,1)","v":2},{"$f":"ED55","v":1},null,{"$f":"IF(DS55=1,EF55*10,EF55)","v":20},{"$f":"DK55","v":1},{"$f":"DN55","v":"Spieler 10"},"-",{"$f":"DL55","v":"Spieler 12"},{"$f":"IF(ISNUMBER(DQ55),IF(DQ55>MAX(TeilnNr)-1,IF(DS55=1,2,IF(MOD(DS55,2)<>0,2,1)),IF(DS55=1,2,IF(MOD(DS55,2)<>0,1,2))),\"\")","v":2},null,{"$f":"IF(EN55=1,2,1)","v":1},{"$f":"EN55","v":2},null,{"$f":"IF(DS55=1,EP55*10,EP55)","v":10}]
[null,null,null,null,null,null,null,null,null,null,null,null,null,null,null,null,null,null,null,null,null,null,null,null,null,null,null,null,null,null,null,null,null,null,null,null,null,null,null,null,null,null,null,null,null,null,null,null,null,null,null,null,null,null,null,null,null,null,null,null,null,null,null,null,null,null,null,null,null,null,null,null,null,null,null,null,null,null,null,null,null,null,null,null,null,null,null,null,null,null,null,null,null,null,null,null,null,null,null,{"$f":"CV55+1","v":2},"Spieler 01","-","Spieler 10",null,null,{"$f":"DB55","v":13},{"$f":"DC55","v":2},{"$f":"DD55+1","v":2},1,10,"","","$W$25","$E$34",{"$f":"DK55+1","v":2},"Spieler 11","-","Spieler 09",null,null,{"$f":"DQ55","v":14},{"$f":"DR55","v":3},{"$f":"DS55+1","v":2},11,9,"","","$U$35","$Y$33",2,{"$f":"IF(DB56>MAX(TeilnNr)-1,CW56,CY56)","v":"Spieler 01"},"-",{"$f":"IF(DB56>MAX(TeilnNr)-1,CY56,CW56)","v":"Spieler 10"},1,null,2,1,null,2,2,{"$f":"IF(DQ56>MAX(TeilnNr)-1,DL56,DN56)","v":"Spieler 11"},"-",{"$f":"IF(DQ56>MAX(TeilnNr)-1,DN56,DL56)","v":"Spieler 09"},1,null,2,1,null,2]
[null,null,null,null,null,null,null,null,null,null,null,null,null,null,null,null,null,null,null,null,null,null,null,null,null,null,null,null,null,null,null,null,null,null,null,null,null,null,null,null,null,null,null,null,null,null,null,null,null,null,null,null,null,null,null,null,null,null,null,null,null,null,null,null,null,null,null,null,null,null,null,null,null,null,null,null,null,null,null,null,null,null,null,null,null,null,null,null,null,null,null,null,null,null,null,null,null,null,null,{"$f":"CV56+1","v":3},"Spieler 09","-","Spieler 02",null,null,{"$f":"DB56","v":13},{"$f":"DC56","v":2},{"$f":"DD56+1","v":3},9,2,"","","$G$33","$U$26",{"$f":"DK56+1","v":3},"Spieler 08","-","Spieler 01",null,null,{"$f":"DQ56","v":14},{"$f":"DR56","v":3},{"$f":"DS56+1","v":3},8,1,"","","$E$32","$S$25",3,{"$f":"IF(DB57>MAX(TeilnNr)-1,CY57,CW57)","v":"Spieler 02"},"-",{"$f":"IF(DB57>MAX(TeilnNr)-1,CW57,CY57)","v":"Spieler 09"},2,null,1,2,null,1,3,{"$f":"IF(DQ57>MAX(TeilnNr)-1,DN57,DL57)","v":"Spieler 01"},"-",{"$f":"IF(DQ57>MAX(TeilnNr)-1,DL57,DN57)","v":"Spieler 08"},2,null,1,2,null,1]
[null,null,{"$f":"COUNTIF(CW:DP,C41)","v":0},null,null,null,null,null,null,null,null,null,null,null,null,null,null,null,null,null,null,null,null,null,null,null,null,null,null,null,null,null,null,null,null,null,null,null,null,null,null,null,null,null,null,null,null,null,null,null,null,null,null,null,null,null,null,null,null,null,null,null,null,null,null,null,null,null,null,null,null,null,null,null,null,null,null,null,null,null,null,null,null,null,null,null,null,null,null,null,null,null,null,null,null,null,null,null,null,4,"Spieler 03","-","Spieler 08",null,null,13,{"$f":"DC57","v":2},4,3,8,"","","$S$27","$I$32",4,"Spieler 02","-","Spieler 07",null,null,14,{"$f":"DR57","v":3},4,2,7,"","","$Q$26","$G$31",4,{"$f":"IF(DB58>MAX(TeilnNr)-1,CW58,CY58)","v":"Spieler 03"},"-",{"$f":"IF(DB58>MAX(TeilnNr)-1,CY58,CW58)","v":"Spieler 08"},1,null,2,1,null,2,4,{"$f":"IF(DQ58>MAX(TeilnNr)-1,DL58,DN58)","v":"Spieler 02"},"-",{"$f":"IF(DQ58>MAX(TeilnNr)-1,DN58,DL58)","v":"Spieler 07"},1,null,2,1,null,2]
[null,null,null,null,null,null,null,null,null,null,null,null,null,null,null,null,null,null,null,null,null,null,null,null,null,null,null,null,null,null,null,null,null,null,null,null,null,null,null,null,null,null,null,null,null,null,null,null,null,null,null,null,null,null,null,null,null,null,null,null,null,null,null,null,null,null,null,null,null,null,null,null,null,null,null,null,null,null,null,null,null,null,null,null,null,null,null,null,null,null,null,null,null,null,null,null,null,null,null,5,"Spieler 07","-","Spieler 04",null,null,13,{"$f":"DC58","v":2},5,7,4,"","","$K$31","$Q$28",5,"Spieler 06","-","Spieler 03",null,null,14,3,5,6,3,"","","$I$30","$O$27",5,{"$f":"IF(DB59>MAX(TeilnNr)-1,CY59,CW59)","v":"Spieler 04"},"-",{"$f":"IF(DB59>MAX(TeilnNr)-1,CW59,CY59)","v":"Spieler 07"},2,null,1,2,null,1,5,{"$f":"IF(DQ59>MAX(TeilnNr)-1,DN59,DL59)","v":"Spieler 03"},"-",{"$f":"IF(DQ59>MAX(TeilnNr)-1,DL59,DN59)","v":"Spieler 06"},2,null,1,2,null,1]
[null,null,null,null,null,null,null,null,null,null,null,null,null,null,null,null,null,null,null,null,null,null,null,null,null,null,null,null,null,null,null,null,null,null,null,null,null,null,null,null,null,null,null,null,null,null,null,null,null,null,null,null,null,null,null,null,null,null,null,null,null,null,null,null,null,null,null,null,null,null,null,null,null,null,null,null,null,null,null,null,null,null,null,null,null,null,null,null,null,null,null,null,null,null,null,null,null,null,null,6,"Spieler 05","-","Spieler 06",null,null,13,{"$f":"DC59","v":2},6,5,6,"","","$O$29","$M$30",6,"Spieler 04","-","Spieler 05",null,null,14,3,6,4,5,"","","$M$28","$K$29",6,{"$f":"IF(DB60>MAX(TeilnNr)-1,CW60,CY60)","v":"Spieler 05"},"-",{"$f":"IF(DB60>MAX(TeilnNr)-1,CY60,CW60)","v":"Spieler 06"},1,null,2,1,null,2,6,{"$f":"IF(DQ60>MAX(TeilnNr)-1,DL60,DN60)","v":"Spieler 04"},"-",{"$f":"IF(DQ60>MAX(TeilnNr)-1,DN60,DL60)","v":"Spieler 05"},1,null,2,1,null,2]
[null,null,null,null,null,null,null,null,null,null,null,null,null,null,null,null,null,null,null,null,null,null,null,null,null,null,null,null,null,null,null,null,null,null,null,null,null,null,null,null,null,null,null,null,null,null,null,null,null,null,null,null,null,null,null,null,null,null,null,null,null,null,null,null,null,null,null,null,null,null,null,null,null,null,null,null,null,null,null,null,null,null,null,null,null,null,null,null,null,null,null,null,null,null,null,null,null,null,null,null,null,null,null,null,null,null,null,null,null,null,null,null,null,null,null,null,null,null,null,null,null,null,null,null,null,null,null,null,null,null,null,null,null,{"$f":"IF(ISNUMBER(DB61),IF(DB61>MAX(TeilnNr)-1,2,1),\"\")","v":""},null,null,{"$f":"IF(ISNUMBER(DE61),IF(DE61>MAX(TeilnNr)-1,2,1),\"\")","v":""},null,null,null,null,null,null,"",null,null,{"$f":"IF(ISNUMBER(DO61),IF(DO61>MAX(TeilnNr)-1,2,1),\"\")","v":""}]
[null,null,null,null,null,null,null,null,null,null,null,null,null,null,null,null,null,null,null,null,null,null,null,null,null,null,null,null,null,null,null,null,null,null,null,null,null,null,null,null,null,null,null,null,null,null,null,null,null,null,null,null,null,null,null,null,null,null,null,null,null,null,null,null,null,null,null,null,null,null,null,null,null,null,null,null,null,null,null,null,null,null,null,null,null,null,null,null,null,null,null,null,null,null,null,null,null,null,null,null,{"$f":"CW54+2","v":15},null,null,null,null,"N°","R","B","SpNr w","SpNr s","Res w","Res s",null,null,null,{"$f":"DL54+2","v":16},null,null,null,null,"N°","R","B","SpNr w","SpNr s","Res w","Res s",null,null,null,{"$f":"CW62","v":15},null,{"$f":"IF(CW62=MAX(TeilnNr),\"-> Bretter drehen!\",\"\")","v":""},{"$f":"IF(ISNUMBER(DB62),IF(DB62>MAX(TeilnNr)-1,2,1),\"\")","v":""},null,null,{"$f":"IF(ISNUMBER(DE62),IF(DE62>MAX(TeilnNr)-1,2,1),\"\")","v":""},null,null,null,{"$f":"DL62","v":16},null,{"$f":"IF(DL62=MAX(TeilnNr),\"-> Bretter drehen!\",\"\")","v":""},{"$f":"IF(ISNUMBER(DQ62),IF(DQ62>MAX(TeilnNr)-1,IF(MOD(DS62,2)<>0,2,1),IF(MOD(DS62,2)<>0,1,2)),\"\")","v":""},null,null,{"$f":"IF(ISNUMBER(DO62),IF(DO62>MAX(TeilnNr)-1,2,1),\"\")","v":""}]
[null,null,null,null,null,null,null,null,null,null,null,null,null,null,null,null,null,null,null,null,null,null,null,null,null,null,null,null,null,null,null,null,null,null,null,null,null,null,null,null,null,null,null,null,null,null,null,null,null,null,null,null,null,null,null,null,null,null,null,null,null,null,null,null,null,null,null,null,null,null,null,null,null,null,null,null,null,null,null,null,null,null,null,null,null,null,null,null,null,null,null,null,null,null,null,null,null,null,null,{"$f":"IF(OR(INDEX($CQ$25:$CQ$36,DE63),INDEX($CQ$25:$CQ$36,DF63)),0,1)","v":1},{"$f":"INDEX($CR$25:$CR$36,MATCH($DE63,TeilnNr,0))","v":"Spieler 09"},"-",{"$f":"INDEX($CR$25:$CR$36,MATCH($DF63,TeilnNr,0))","v":"Spieler 12"},null,null,{"$f":"CW62","v":15},{"$f":"IF(CW62>MAX(TeilnNr)-1,CW62-(MAX(TeilnNr)-1),CW62)","v":4},1,{"$f":"IF(AND(DD63=1,MOD(DC63,2)=IF(DB63>MAX(TeilnNr)-1,1,0)),MAX(TeilnNr),IF(MOD(DD63,2)=IF(DB63>MAX(TeilnNr)-1,1,0),IF(MAX(TeilnNr)/2-DD63+1-(DC63-MAX(TeilnNr)/2-1)>=1,MAX(TeilnNr)/2-DD63+1-(DC63-MAX(TeilnNr)/2-1),MAX(TeilnNr)/2-DD63+1-(DC63-MAX(TeilnNr)/2-1)+MAX(TeilnNr)-1),IF(DD63-(DC63-1)>=1,DD63-(DC63-1),DD63-(DC63-1)+MAX(TeilnNr)-1)))","v":9},{"$f":"IF(AND(DD63=1,MOD(DC63,2)<>IF(DB63>MAX(TeilnNr)-1,1,0)),MAX(TeilnNr),IF(MOD(DD63,2)<>IF(DB63>MAX(TeilnNr)-1,1,0),IF(MAX(TeilnNr)/2-DD63+1-(DC63-MAX(TeilnNr)/2-1)>=1,MAX(TeilnNr)/2-DD63+1-(DC63-MAX(TeilnNr)/2-1),MAX(TeilnNr)/2-DD63+1-(DC63-MAX(TeilnNr)/2-1)+MAX(TeilnNr)-1),IF(DD63-(DC63-1)>=1,DD63-(DC63-1),DD63-(DC63-1)+MAX(TeilnNr)-1)))","v":12},{"$f":"IF(LEFT(DA63,1)=\"V\",\"\",LEFT(DA63,1))","v":""},{"$f":"IF(RIGHT(DA63,1)=\"V\",\"\",RIGHT(DA63,1))","v":""},{"$f":"IF(DB63>MAX(TeilnNr)-1,ADDRESS(ROW(Teilnehmer)+DE63,COLUMN(Teilnehmer)+DF63+DF63),ADDRESS(ROW(Teilnehmer)+DE63,COLUMN(Teilnehmer)+DF63+DF63-1))","v":"$AA$33"},{"$f":"IF(DB63>MAX(TeilnNr)-1,ADDRESS(ROW(Teilnehmer)+DF63,COLUMN(Teilnehmer)+DE63+DE63),ADDRESS(ROW(Teilnehmer)+DF63,COLUMN(Teilnehmer)+DE63+DE63-1))","v":"$U$36"},{"$f":"IF(OR(INDEX($CQ$25:$CQ$36,DT63),INDEX($CQ$25:$CQ$36,DU63)),0,1)","v":1},{"$f":"INDEX($CR$25:$CR$36,MATCH($DT63,TeilnNr,0))","v":"Spieler 12"},"-",{"$f":"INDEX($CR$25:$CR$36,MATCH($DU63,TeilnNr,0))","v":"Spieler 08"},null,null,{"$f":"DL62","v":16},{"$f":"IF(DL62>MAX(TeilnNr)-1,DL62-(MAX(TeilnNr)-1),DL62)","v":5},1,{"$f":"IF(AND(DS63=1,MOD(DR63,2)=IF(DQ63>MAX(TeilnNr)-1,1,0)),MAX(TeilnNr),IF(MOD(DS63,2)=IF(DQ63>MAX(TeilnNr)-1,1,0),IF(MAX(TeilnNr)/2-DS63+1-(DR63-MAX(TeilnNr)/2-1)>=1,MAX(TeilnNr)/2-DS63+1-(DR63-MAX(TeilnNr)/2-1),MAX(TeilnNr)/2-DS63+1-(DR63-MAX(TeilnNr)/2-1)+MAX(TeilnNr)-1),IF(DS63-(DR63-1)>=1,DS63-(DR63-1),DS63-(DR63-1)+MAX(TeilnNr)-1)))","v":12},{"$f":"IF(AND(DS63=1,MOD(DR63,2)<>IF(DQ63>MAX(TeilnNr)-1,1,0)),MAX(TeilnNr),IF(MOD(DS63,2)<>IF(DQ63>MAX(TeilnNr)-1,1,0),IF(MAX(TeilnNr)/2-DS63+1-(DR63-MAX(TeilnNr)/2-1)>=1,MAX(TeilnNr)/2-DS63+1-(DR63-MAX(TeilnNr)/2-1),MAX(TeilnNr)/2-DS63+1-(DR63-MAX(TeilnNr)/2-1)+MAX(TeilnNr)-1),IF(DS63-(DR63-1)>=1,DS63-(DR63-1),DS63-(DR63-1)+MAX(TeilnNr)-1)))","v":8},{"$f":"IF(LEFT(DP63,1)=\"V\",\"\",LEFT(DP63,1))","v":""},{"$f":"IF(RIGHT(DP63,1)=\"V\",\"\",RIGHT(DP63,1))","v":""},{"$f":"IF(DQ63>MAX(TeilnNr)-1,ADDRESS(ROW(Teilnehmer)+DT63,COLUMN(Teilnehmer)+DU63+DU63),ADDRESS(ROW(Teilnehmer)+DT63,COLUMN(Teilnehmer)+DU63+DU63-1))","v":"$S$36"},{"$f":"IF(DQ63>MAX(TeilnNr)-1,ADDRESS(ROW(Teilnehmer)+DU63,COLUMN(Teilnehmer)+DT63+DT63),ADDRESS(ROW(Teilnehmer)+DU63,COLUMN(Teilnehmer)+DT63+DT63-1))","v":"$AA$32"},{"$f":"CV63","v":1},{"$f":"CW63","v":"Spieler 09"},"-",{"$f":"CY63","v":"Spieler 12"},{"$f":"IF(ISNUMBER(DB63),IF(DB63>MAX(TeilnNr)-1,IF(DD63=1,1,IF(MOD(DD63,2)<>0,2,1)),IF(DD63=1,1,IF(MOD(DD63,2)<>0,1,2))),\"\")","v":1},null,{"$f":"IF(ED63=1,2,1)","v":2},{"$f":"ED63","v":1},null,{"$f":"IF(DS63=1,EF63*10,EF63)","v":20},{"$f":"DK63","v":1},{"$f":"DN63","v":"Spieler 08"},"-",{"$f":"DL63","v":"Spieler 12"},{"$f":"IF(ISNUMBER(DQ63),IF(DQ63>MAX(TeilnNr)-1,IF(DS63=1,2,IF(MOD(DS63,2)<>0,2,1)),IF(DS63=1,2,IF(MOD(DS63,2)<>0,1,2))),\"\")","v":2},null,{"$f":"IF(EN63=1,2,1)","v":1},{"$f":"EN63","v":2},null,{"$f":"IF(DS63=1,EP63*10,EP63)","v":10}]
[null,null,null,null,null,null,null,null,null,null,null,null,null,null,null,null,null,null,null,null,null,null,null,null,null,null,null,null,null,null,null,null,null,null,null,null,null,null,null,null,null,null,null,null,null,null,null,null,null,null,null,null,null,null,null,null,null,null,null,null,null,null,null,null,null,null,null,null,null,null,null,null,null,null,null,null,null,null,null,null,null,null,null,null,null,null,null,null,null,null,null,null,null,null,null,null,null,null,null,{"$f":"CV63+1","v":2},"Spieler 10","-","Spieler 08",null,null,{"$f":"DB63","v":15},{"$f":"DC63","v":4},{"$f":"DD63+1","v":2},10,8,"","","$S$34","$W$32",{"$f":"DK63+1","v":2},"Spieler 09","-","Spieler 07",null,null,{"$f":"DQ63","v":16},{"$f":"DR63","v":5},{"$f":"DS63+1","v":2},9,7,"","","$Q$33","$U$31",2,{"$f":"IF(DB64>MAX(TeilnNr)-1,CW64,CY64)","v":"Spieler 10"},"-",{"$f":"IF(DB64>MAX(TeilnNr)-1,CY64,CW64)","v":"Spieler 08"},1,null,2,1,null,2,2,{"$f":"IF(DQ64>MAX(TeilnNr)-1,DL64,DN64)","v":"Spieler 09"},"-",{"$f":"IF(DQ64>MAX(TeilnNr)-1,DN64,DL64)","v":"Spieler 07"},1,null,2,1,null,2]
[null,null,null,null,null,null,null,null,null,null,null,null,null,null,null,null,null,null,null,null,null,null,null,null,null,null,null,null,null,null,null,null,null,null,null,null,null,null,null,null,null,null,null,null,null,null,null,null,null,null,null,null,null,null,null,null,null,null,null,null,null,null,null,null,null,null,null,null,null,null,null,null,null,null,null,null,null,null,null,null,null,null,null,null,null,null,null,null,null,null,null,null,null,null,null,null,null,null,null,{"$f":"CV64+1","v":3},"Spieler 07","-","Spieler 11",null,null,{"$f":"DB64","v":15},{"$f":"DC64","v":4},{"$f":"DD64+1","v":3},7,11,"","","$Y$31","$Q$35",{"$f":"DK64+1","v":3},"Spieler 06","-","Spieler 10",null,null,{"$f":"DQ64","v":16},{"$f":"DR64","v":5},{"$f":"DS64+1","v":3},6,10,"","","$W$30","$O$34",3,{"$f":"IF(DB65>MAX(TeilnNr)-1,CY65,CW65)","v":"Spieler 11"},"-",{"$f":"IF(DB65>MAX(TeilnNr)-1,CW65,CY65)","v":"Spieler 07"},2,null,1,2,null,1,3,{"$f":"IF(DQ65>MAX(TeilnNr)-1,DN65,DL65)","v":"Spieler 10"},"-",{"$f":"IF(DQ65>MAX(TeilnNr)-1,DL65,DN65)","v":"Spieler 06"},2,null,1,2,null,1]
[null,null,null,null,null,null,null,null,null,null,null,null,null,null,null,null,null,null,null,null,null,null,null,null,null,null,null,null,null,null,null,null,null,null,null,null,null,null,null,null,null,null,null,null,null,null,null,null,null,null,null,null,null,null,null,null,null,null,null,null,null,null,null,null,null,null,null,null,null,null,null,null,null,null,null,null,null,null,null,null,null,null,null,null,null,null,null,null,null,null,null,null,null,null,null,null,null,null,null,4,"Spieler 01","-","Spieler 06",null,null,15,{"$f":"DC65","v":4},4,1,6,"","","$O$25","$E$30",4,"Spieler 11","-","Spieler 05",null,null,16,{"$f":"DR65","v":5},4,11,5,"","","$M$35","$Y$29",4,{"$f":"IF(DB66>MAX(TeilnNr)-1,CW66,CY66)","v":"Spieler 01"},"-",{"$f":"IF(DB66>MAX(TeilnNr)-1,CY66,CW66)","v":"Spieler 06"},1,null,2,1,null,2,4,{"$f":"IF(DQ66>MAX(TeilnNr)-1,DL66,DN66)","v":"Spieler 11"},"-",{"$f":"IF(DQ66>MAX(TeilnNr)-1,DN66,DL66)","v":"Spieler 05"},1,null,2,1,null,2]
[null,null,null,null,null,null,null,null,null,null,null,null,null,null,null,null,null,null,null,null,null,null,null,null,null,null,null,null,null,null,null,null,null,null,null,null,null,null,null,null,null,null,null,null,null,null,null,null,null,null,null,null,null,null,null,null,null,null,null,null,null,null,null,null,null,null,null,null,null,null,null,null,null,null,null,null,null,null,null,null,null,null,null,null,null,null,null,null,null,null,null,null,null,null,null,null,null,null,null,5,"Spieler 05","-","Spieler 02",null,null,15,{"$f":"DC66","v":4},5,5,2,"","","$G$29","$M$26",5,"Spieler 04","-","Spieler 01",null,null,16,5,5,4,1,"","","$E$28","$K$25",5,{"$f":"IF(DB67>MAX(TeilnNr)-1,CY67,CW67)","v":"Spieler 02"},"-",{"$f":"IF(DB67>MAX(TeilnNr)-1,CW67,CY67)","v":"Spieler 05"},2,null,1,2,null,1,5,{"$f":"IF(DQ67>MAX(TeilnNr)-1,DN67,DL67)","v":"Spieler 01"},"-",{"$f":"IF(DQ67>MAX(TeilnNr)-1,DL67,DN67)","v":"Spieler 04"},2,null,1,2,null,1]
[null,null,null,null,null,null,null,null,null,null,null,null,null,null,null,null,null,null,null,null,null,null,null,null,null,null,null,null,null,null,null,null,null,null,null,null,null,null,null,null,null,null,null,null,null,null,null,null,null,null,null,null,null,null,null,null,null,null,null,null,null,null,null,null,null,null,null,null,null,null,null,null,null,null,null,null,null,null,null,null,null,null,null,null,null,null,null,null,null,null,null,null,null,null,null,null,null,null,null,6,"Spieler 03","-","Spieler 04",null,null,15,{"$f":"DC67","v":4},6,3,4,"","","$K$27","$I$28",6,"Spieler 02","-","Spieler 03",null,null,16,5,6,2,3,"","","$I$26","$G$27",6,{"$f":"IF(DB68>MAX(TeilnNr)-1,CW68,CY68)","v":"Spieler 03"},"-",{"$f":"IF(DB68>MAX(TeilnNr)-1,CY68,CW68)","v":"Spieler 04"},1,null,2,1,null,2,6,{"$f":"IF(DQ68>MAX(TeilnNr)-1,DL68,DN68)","v":"Spieler 02"},"-",{"$f":"IF(DQ68>MAX(TeilnNr)-1,DN68,DL68)","v":"Spieler 03"},1,null,2,1,null,2]
[null,null,null,null,null,null,null,null,null,null,null,null,null,null,null,null,null,null,null,null,null,null,null,null,null,null,null,null,null,null,null,null,null,null,null,null,null,null,null,null,null,null,null,null,null,null,null,null,null,null,null,null,null,null,null,null,null,null,null,null,null,null,null,null,null,null,null,null,null,null,null,null,null,null,null,null,null,null,null,null,null,null,null,null,null,null,null,null,null,null,null,null,null,null,null,null,null,null,null,null,null,null,null,null,null,null,null,null,null,null,null,null,null,null,null,null,null,null,null,null,null,null,null,null,null,null,null,null,null,null,null,null,null,{"$f":"IF(ISNUMBER(DB69),IF(DB69>MAX(TeilnNr)-1,2,1),\"\")","v":""},null,null,{"$f":"IF(ISNUMBER(DE69),IF(DE69>MAX(TeilnNr)-1,2,1),\"\")","v":""},null,null,null,null,null,null,"",null,null,{"$f":"IF(ISNUMBER(DO69),IF(DO69>MAX(TeilnNr)-1,2,1),\"\")","v":""}]
[null,null,null,null,null,null,null,null,null,null,null,null,null,null,null,null,null,null,null,null,null,null,null,null,null,null,null,null,null,null,null,null,null,null,null,null,null,null,null,null,null,null,null,null,null,null,null,null,null,null,null,null,null,null,null,null,null,null,null,null,null,null,null,null,null,null,null,null,null,null,null,null,null,null,null,null,null,null,null,null,null,null,null,null,null,null,null,null,null,null,null,null,null,null,null,null,null,null,null,null,{"$f":"CW62+2","v":17},null,null,null,null,"N°","R","B","SpNr w","SpNr s","Res w","Res s",null,null,null,{"$f":"DL62+2","v":18},null,null,null,null,"N°","R","B","SpNr w","SpNr s","Res w","Res s",null,null,null,{"$f":"CW70","v":17},null,{"$f":"IF(CW70=MAX(TeilnNr),\"-> Bretter drehen!\",\"\")","v":""},{"$f":"IF(ISNUMBER(DB70),IF(DB70>MAX(TeilnNr)-1,2,1),\"\")","v":""},null,null,{"$f":"IF(ISNUMBER(DE70),IF(DE70>MAX(TeilnNr)-1,2,1),\"\")","v":""},null,null,null,{"$f":"DL70","v":18},null,{"$f":"IF(DL70=MAX(TeilnNr),\"-> Bretter drehen!\",\"\")","v":""},{"$f":"IF(ISNUMBER(DQ70),IF(DQ70>MAX(TeilnNr)-1,IF(MOD(DS70,2)<>0,2,1),IF(MOD(DS70,2)<>0,1,2)),\"\")","v":""},null,null,{"$f":"IF(ISNUMBER(DO70),IF(DO70>MAX(TeilnNr)-1,2,1),\"\")","v":""}]
[null,null,null,null,null,null,null,null,null,null,null,null,null,null,null,null,null,null,null,null,null,null,null,null,null,null,null,null,null,null,null,null,null,null,null,null,null,null,null,null,null,null,null,null,null,null,null,null,null,null,null,null,null,null,null,null,null,null,null,null,null,null,null,null,null,null,null,null,null,null,null,null,null,null,null,null,null,null,null,null,null,null,null,null,null,null,null,null,null,null,null,null,null,null,null,null,null,null,null,{"$f":"IF(OR(INDEX($CQ$25:$CQ$36,DE71),INDEX($CQ$25:$CQ$36,DF71)),0,1)","v":1},{"$f":"INDEX($CR$25:$CR$36,MATCH($DE71,TeilnNr,0))","v":"Spieler 07"},"-",{"$f":"INDEX($CR$25:$CR$36,MATCH($DF71,TeilnNr,0))","v":"Spieler 12"},null,null,{"$f":"CW70","v":17},{"$f":"IF(CW70>MAX(TeilnNr)-1,CW70-(MAX(TeilnNr)-1),CW70)","v":6},1,{"$f":"IF(AND(DD71=1,MOD(DC71,2)=IF(DB71>MAX(TeilnNr)-1,1,0)),MAX(TeilnNr),IF(MOD(DD71,2)=IF(DB71>MAX(TeilnNr)-1,1,0),IF(MAX(TeilnNr)/2-DD71+1-(DC71-MAX(TeilnNr)/2-1)>=1,MAX(TeilnNr)/2-DD71+1-(DC71-MAX(TeilnNr)/2-1),MAX(TeilnNr)/2-DD71+1-(DC71-MAX(TeilnNr)/2-1)+MAX(TeilnNr)-1),IF(DD71-(DC71-1)>=1,DD71-(DC71-1),DD71-(DC71-1)+MAX(TeilnNr)-1)))","v":7},{"$f":"IF(AND(DD71=1,MOD(DC71,2)<>IF(DB71>MAX(TeilnNr)-1,1,0)),MAX(TeilnNr),IF(MOD(DD71,2)<>IF(DB71>MAX(TeilnNr)-1,1,0),IF(MAX(TeilnNr)/2-DD71+1-(DC71-MAX(TeilnNr)/2-1)>=1,MAX(TeilnNr)/2-DD71+1-(DC71-MAX(TeilnNr)/2-1),MAX(TeilnNr)/2-DD71+1-(DC71-MAX(TeilnNr)/2-1)+MAX(TeilnNr)-1),IF(DD71-(DC71-1)>=1,DD71-(DC71-1),DD71-(DC71-1)+MAX(TeilnNr)-1)))","v":12},{"$f":"IF(LEFT(DA71,1)=\"V\",\"\",LEFT(DA71,1))","v":""},{"$f":"IF(RIGHT(DA71,1)=\"V\",\"\",RIGHT(DA71,1))","v":""},{"$f":"IF(DB71>MAX(TeilnNr)-1,ADDRESS(ROW(Teilnehmer)+DE71,COLUMN(Teilnehmer)+DF71+DF71),ADDRESS(ROW(Teilnehmer)+DE71,COLUMN(Teilnehmer)+DF71+DF71-1))","v":"$AA$31"},{"$f":"IF(DB71>MAX(TeilnNr)-1,ADDRESS(ROW(Teilnehmer)+DF71,COLUMN(Teilnehmer)+DE71+DE71),ADDRESS(ROW(Teilnehmer)+DF71,COLUMN(Teilnehmer)+DE71+DE71-1))","v":"$Q$36"},{"$f":"IF(OR(INDEX($CQ$25:$CQ$36,DT71),INDEX($CQ$25:$CQ$36,DU71)),0,1)","v":1},{"$f":"INDEX($CR$25:$CR$36,MATCH($DT71,TeilnNr,0))","v":"Spieler 12"},"-",{"$f":"INDEX($CR$25:$CR$36,MATCH($DU71,TeilnNr,0))","v":"Spieler 06"},null,null,{"$f":"DL70","v":18},{"$f":"IF(DL70>MAX(TeilnNr)-1,DL70-(MAX(TeilnNr)-1),DL70)","v":7},1,{"$f":"IF(AND(DS71=1,MOD(DR71,2)=IF(DQ71>MAX(TeilnNr)-1,1,0)),MAX(TeilnNr),IF(MOD(DS71,2)=IF(DQ71>MAX(TeilnNr)-1,1,0),IF(MAX(TeilnNr)/2-DS71+1-(DR71-MAX(TeilnNr)/2-1)>=1,MAX(TeilnNr)/2-DS71+1-(DR71-MAX(TeilnNr)/2-1),MAX(TeilnNr)/2-DS71+1-(DR71-MAX(TeilnNr)/2-1)+MAX(TeilnNr)-1),IF(DS71-(DR71-1)>=1,DS71-(DR71-1),DS71-(DR71-1)+MAX(TeilnNr)-1)))","v":12},{"$f":"IF(AND(DS71=1,MOD(DR71,2)<>IF(DQ71>MAX(TeilnNr)-1,1,0)),MAX(TeilnNr),IF(MOD(DS71,2)<>IF(DQ71>MAX(TeilnNr)-1,1,0),IF(MAX(TeilnNr)/2-DS71+1-(DR71-MAX(TeilnNr)/2-1)>=1,MAX(TeilnNr)/2-DS71+1-(DR71-MAX(TeilnNr)/2-1),MAX(TeilnNr)/2-DS71+1-(DR71-MAX(TeilnNr)/2-1)+MAX(TeilnNr)-1),IF(DS71-(DR71-1)>=1,DS71-(DR71-1),DS71-(DR71-1)+MAX(TeilnNr)-1)))","v":6},{"$f":"IF(LEFT(DP71,1)=\"V\",\"\",LEFT(DP71,1))","v":""},{"$f":"IF(RIGHT(DP71,1)=\"V\",\"\",RIGHT(DP71,1))","v":""},{"$f":"IF(DQ71>MAX(TeilnNr)-1,ADDRESS(ROW(Teilnehmer)+DT71,COLUMN(Teilnehmer)+DU71+DU71),ADDRESS(ROW(Teilnehmer)+DT71,COLUMN(Teilnehmer)+DU71+DU71-1))","v":"$O$36"},{"$f":"IF(DQ71>MAX(TeilnNr)-1,ADDRESS(ROW(Teilnehmer)+DU71,COLUMN(Teilnehmer)+DT71+DT71),ADDRESS(ROW(Teilnehmer)+DU71,COLUMN(Teilnehmer)+DT71+DT71-1))","v":"$AA$30"},{"$f":"CV71","v":1},{"$f":"CW71","v":"Spieler 07"},"-",{"$f":"CY71","v":"Spieler 12"},{"$f":"IF(ISNUMBER(DB71),IF(DB71>MAX(TeilnNr)-1,IF(DD71=1,1,IF(MOD(DD71,2)<>0,2,1)),IF(DD71=1,1,IF(MOD(DD71,2)<>0,1,2))),\"\")","v":1},null,{"$f":"IF(ED71=1,2,1)","v":2},{"$f":"ED71","v":1},null,{"$f":"IF(DS71=1,EF71*10,EF71)","v":20},{"$f":"DK71","v":1},{"$f":"DN71","v":"Spieler 06"},"-",{"$f":"DL71","v":"Spieler 12"},{"$f":"IF(ISNUMBER(DQ71),IF(DQ71>MAX(TeilnNr)-1,IF(DS71=1,2,IF(MOD(DS71,2)<>0,2,1)),IF(DS71=1,2,IF(MOD(DS71,2)<>0,1,2))),\"\")","v":2},null,{"$f":"IF(EN71=1,2,1)","v":1},{"$f":"EN71","v":2},null,{"$f":"IF(DS71=1,EP71*10,EP71)","v":10}]
[null,null,null,null,null,null,null,null,null,null,null,null,null,null,null,null,null,null,null,null,null,null,null,null,null,null,null,null,null,null,null,null,null,null,null,null,null,null,null,null,null,null,null,null,null,null,null,null,null,null,null,null,null,null,null,null,null,null,null,null,null,null,null,null,null,null,null,null,null,null,null,null,null,null,null,null,null,null,null,null,null,null,null,null,null,null,null,null,null,null,null,null,null,null,null,null,null,null,null,{"$f":"CV71+1","v":2},"Spieler 08","-","Spieler 06",null,null,{"$f":"DB71","v":17},{"$f":"DC71","v":6},{"$f":"DD71+1","v":2},8,6,"","","$O$32","$S$30",{"$f":"DK71+1","v":2},"Spieler 07","-","Spieler 05",null,null,{"$f":"DQ71","v":18},{"$f":"DR71","v":7},{"$f":"DS71+1","v":2},7,5,"","","$M$31","$Q$29",2,{"$f":"IF(DB72>MAX(TeilnNr)-1,CW72,CY72)","v":"Spieler 08"},"-",{"$f":"IF(DB72>MAX(TeilnNr)-1,CY72,CW72)","v":"Spieler 06"},1,null,2,1,null,2,2,{"$f":"IF(DQ72>MAX(TeilnNr)-1,DL72,DN72)","v":"Spieler 07"},"-",{"$f":"IF(DQ72>MAX(TeilnNr)-1,DN72,DL72)","v":"Spieler 05"},1,null,2,1,null,2]
[null,null,null,null,null,null,null,null,null,null,null,null,null,null,null,null,null,null,null,null,null,null,null,null,null,null,null,null,null,null,null,null,null,null,null,null,null,null,null,null,null,null,null,null,null,null,null,null,null,null,null,null,null,null,null,null,null,null,null,null,null,null,null,null,null,null,null,null,null,null,null,null,null,null,null,null,null,null,null,null,null,null,null,null,null,null,null,null,null,null,null,null,null,null,null,null,null,null,null,{"$f":"CV72+1","v":3},"Spieler 05","-","Spieler 09",null,null,{"$f":"DB72","v":17},{"$f":"DC72","v":6},{"$f":"DD72+1","v":3},5,9,"","","$U$29","$M$33",{"$f":"DK72+1","v":3},"Spieler 04","-","Spieler 08",null,null,{"$f":"DQ72","v":18},{"$f":"DR72","v":7},{"$f":"DS72+1","v":3},4,8,"","","$S$28","$K$32",3,{"$f":"IF(DB73>MAX(TeilnNr)-1,CY73,CW73)","v":"Spieler 09"},"-",{"$f":"IF(DB73>MAX(TeilnNr)-1,CW73,CY73)","v":"Spieler 05"},2,null,1,2,null,1,3,{"$f":"IF(DQ73>MAX(TeilnNr)-1,DN73,DL73)","v":"Spieler 08"},"-",{"$f":"IF(DQ73>MAX(TeilnNr)-1,DL73,DN73)","v":"Spieler 04"},2,null,1,2,null,1]
[null,null,null,null,null,null,null,null,null,null,null,null,null,null,null,null,null,null,null,null,null,null,null,null,null,null,null,null,null,null,null,null,null,null,null,null,null,null,null,null,null,null,null,null,null,null,null,null,null,null,null,null,null,null,null,null,null,null,null,null,null,null,null,null,null,null,null,null,null,null,null,null,null,null,null,null,null,null,null,null,null,null,null,null,null,null,null,null,null,null,null,null,null,null,null,null,null,null,null,4,"Spieler 10","-","Spieler 04",null,null,17,{"$f":"DC73","v":6},4,10,4,"","","$K$34","$W$28",4,"Spieler 09","-","Spieler 03",null,null,18,{"$f":"DR73","v":7},4,9,3,"","","$I$33","$U$27",4,{"$f":"IF(DB74>MAX(TeilnNr)-1,CW74,CY74)","v":"Spieler 10"},"-",{"$f":"IF(DB74>MAX(TeilnNr)-1,CY74,CW74)","v":"Spieler 04"},1,null,2,1,null,2,4,{"$f":"IF(DQ74>MAX(TeilnNr)-1,DL74,DN74)","v":"Spieler 09"},"-",{"$f":"IF(DQ74>MAX(TeilnNr)-1,DN74,DL74)","v":"Spieler 03"},1,null,2,1,null,2]
[null,null,null,null,null,null,null,null,null,null,null,null,null,null,null,null,null,null,null,null,null,null,null,null,null,null,null,null,null,null,null,null,null,null,null,null,null,null,null,null,null,null,null,null,null,null,null,null,null,null,null,null,null,null,null,null,null,null,null,null,null,null,null,null,null,null,null,null,null,null,null,null,null,null,null,null,null,null,null,null,null,null,null,null,null,null,null,null,null,null,null,null,null,null,null,null,null,null,null,5,"Spieler 03","-","Spieler 11",null,null,17,{"$f":"DC74","v":6},5,3,11,"","","$Y$27","$I$35",5,"Spieler 02","-","Spieler 10",null,null,18,7,5,2,10,"","","$W$26","$G$34",5,{"$f":"IF(DB75>MAX(TeilnNr)-1,CY75,CW75)","v":"Spieler 11"},"-",{"$f":"IF(DB75>MAX(TeilnNr)-1,CW75,CY75)","v":"Spieler 03"},2,null,1,2,null,1,5,{"$f":"IF(DQ75>MAX(TeilnNr)-1,DN75,DL75)","v":"Spieler 10"},"-",{"$f":"IF(DQ75>MAX(TeilnNr)-1,DL75,DN75)","v":"Spieler 02"},2,null,1,2,null,1]
[null,null,null,null,null,null,null,null,null,null,null,null,null,null,null,null,null,null,null,null,null,null,null,null,null,null,null,null,null,null,null,null,null,null,null,null,null,null,null,null,null,null,null,null,null,null,null,null,null,null,null,null,null,null,null,null,null,null,null,null,null,null,null,null,null,null,null,null,null,null,null,null,null,null,null,null,null,null,null,null,null,null,null,null,null,null,null,null,null,null,null,null,null,null,null,null,null,null,null,6,"Spieler 01","-","Spieler 02",null,null,17,{"$f":"DC75","v":6},6,1,2,"","","$G$25","$E$26",6,"Spieler 11","-","Spieler 01",null,null,18,7,6,11,1,"","","$E$35","$Y$25",6,{"$f":"IF(DB76>MAX(TeilnNr)-1,CW76,CY76)","v":"Spieler 01"},"-",{"$f":"IF(DB76>MAX(TeilnNr)-1,CY76,CW76)","v":"Spieler 02"},1,null,2,1,null,2,6,{"$f":"IF(DQ76>MAX(TeilnNr)-1,DL76,DN76)","v":"Spieler 11"},"-",{"$f":"IF(DQ76>MAX(TeilnNr)-1,DN76,DL76)","v":"Spieler 01"},1,null,2,1,null,2]
[null,null,null,null,null,null,null,null,null,null,null,null,null,null,null,null,null,null,null,null,null,null,null,null,null,null,null,null,null,null,null,null,null,null,null,null,null,null,null,null,null,null,null,null,null,null,null,null,null,null,null,null,null,null,null,null,null,null,null,null,null,null,null,null,null,null,null,null,null,null,null,null,null,null,null,null,null,null,null,null,null,null,null,null,null,null,null,null,null,null,null,null,null,null,null,null,null,null,null,null,null,null,null,null,null,null,null,null,null,null,null,null,null,null,null,null,null,null,null,null,null,null,null,null,null,null,null,null,null,null,null,null,null,{"$f":"IF(ISNUMBER(DB77),IF(DB77>MAX(TeilnNr)-1,2,1),\"\")","v":""},null,null,{"$f":"IF(ISNUMBER(DE77),IF(DE77>MAX(TeilnNr)-1,2,1),\"\")","v":""},null,null,null,null,null,null,"",null,null,{"$f":"IF(ISNUMBER(DO77),IF(DO77>MAX(TeilnNr)-1,2,1),\"\")","v":""}]
[null,null,null,null,null,null,null,null,null,null,null,null,null,null,null,null,null,null,null,null,null,null,null,null,null,null,null,null,null,null,null,null,null,null,null,null,null,null,null,null,null,null,null,null,null,null,null,null,null,null,null,null,null,null,null,null,null,null,null,null,null,null,null,null,null,null,null,null,null,null,null,null,null,null,null,null,null,null,null,null,null,null,null,null,null,null,null,null,null,null,null,null,null,null,null,null,null,null,null,null,{"$f":"CW70+2","v":19},null,null,null,null,"N°","R","B","SpNr w","SpNr s","Res w","Res s",null,null,null,{"$f":"DL70+2","v":20},null,null,null,null,"N°","R","B","SpNr w","SpNr s","Res w","Res s",null,null,null,{"$f":"CW78","v":19},null,{"$f":"IF(CW78=MAX(TeilnNr),\"-> Bretter drehen!\",\"\")","v":""},{"$f":"IF(ISNUMBER(DB78),IF(DB78>MAX(TeilnNr)-1,2,1),\"\")","v":""},null,null,{"$f":"IF(ISNUMBER(DE78),IF(DE78>MAX(TeilnNr)-1,2,1),\"\")","v":""},null,null,null,{"$f":"DL78","v":20},null,{"$f":"IF(DL78=MAX(TeilnNr),\"-> Bretter drehen!\",\"\")","v":""},{"$f":"IF(ISNUMBER(DQ78),IF(DQ78>MAX(TeilnNr)-1,IF(MOD(DS78,2)<>0,2,1),IF(MOD(DS78,2)<>0,1,2)),\"\")","v":""},null,null,{"$f":"IF(ISNUMBER(DO78),IF(DO78>MAX(TeilnNr)-1,2,1),\"\")","v":""}]
[null,null,null,null,null,null,null,null,null,null,null,null,null,null,null,null,null,null,null,null,null,null,null,null,null,null,null,null,null,null,null,null,null,null,null,null,null,null,null,null,null,null,null,null,null,null,null,null,null,null,null,null,null,null,null,null,null,null,null,null,null,null,null,null,null,null,null,null,null,null,null,null,null,null,null,null,null,null,null,null,null,null,null,null,null,null,null,null,null,null,null,null,null,null,null,null,null,null,null,{"$f":"IF(OR(INDEX($CQ$25:$CQ$36,DE79),INDEX($CQ$25:$CQ$36,DF79)),0,1)","v":1},{"$f":"INDEX($CR$25:$CR$36,MATCH($DE79,TeilnNr,0))","v":"Spieler 05"},"-",{"$f":"INDEX($CR$25:$CR$36,MATCH($DF79,TeilnNr,0))","v":"Spieler 12"},null,null,{"$f":"CW78","v":19},{"$f":"IF(CW78>MAX(TeilnNr)-1,CW78-(MAX(TeilnNr)-1),CW78)","v":8},1,{"$f":"IF(AND(DD79=1,MOD(DC79,2)=IF(DB79>MAX(TeilnNr)-1,1,0)),MAX(TeilnNr),IF(MOD(DD79,2)=IF(DB79>MAX(TeilnNr)-1,1,0),IF(MAX(TeilnNr)/2-DD79+1-(DC79-MAX(TeilnNr)/2-1)>=1,MAX(TeilnNr)/2-DD79+1-(DC79-MAX(TeilnNr)/2-1),MAX(TeilnNr)/2-DD79+1-(DC79-MAX(TeilnNr)/2-1)+MAX(TeilnNr)-1),IF(DD79-(DC79-1)>=1,DD79-(DC79-1),DD79-(DC79-1)+MAX(TeilnNr)-1)))","v":5},{"$f":"IF(AND(DD79=1,MOD(DC79,2)<>IF(DB79>MAX(TeilnNr)-1,1,0)),MAX(TeilnNr),IF(MOD(DD79,2)<>IF(DB79>MAX(TeilnNr)-1,1,0),IF(MAX(TeilnNr)/2-DD79+1-(DC79-MAX(TeilnNr)/2-1)>=1,MAX(TeilnNr)/2-DD79+1-(DC79-MAX(TeilnNr)/2-1),MAX(TeilnNr)/2-DD79+1-(DC79-MAX(TeilnNr)/2-1)+MAX(TeilnNr)-1),IF(DD79-(DC79-1)>=1,DD79-(DC79-1),DD79-(DC79-1)+MAX(TeilnNr)-1)))","v":12},{"$f":"IF(LEFT(DA79,1)=\"V\",\"\",LEFT(DA79,1))","v":""},{"$f":"IF(RIGHT(DA79,1)=\"V\",\"\",RIGHT(DA79,1))","v":""},{"$f":"IF(DB79>MAX(TeilnNr)-1,ADDRESS(ROW(Teilnehmer)+DE79,COLUMN(Teilnehmer)+DF79+DF79),ADDRESS(ROW(Teilnehmer)+DE79,COLUMN(Teilnehmer)+DF79+DF79-1))","v":"$AA$29"},{"$f":"IF(DB79>MAX(TeilnNr)-1,ADDRESS(ROW(Teilnehmer)+DF79,COLUMN(Teilnehmer)+DE79+DE79),ADDRESS(ROW(Teilnehmer)+DF79,COLUMN(Teilnehmer)+DE79+DE79-1))","v":"$M$36"},{"$f":"IF(OR(INDEX($CQ$25:$CQ$36,DT79),INDEX($CQ$25:$CQ$36,DU79)),0,1)","v":1},{"$f":"INDEX($CR$25:$CR$36,MATCH($DT79,TeilnNr,0))","v":"Spieler 12"},"-",{"$f":"INDEX($CR$25:$CR$36,MATCH($DU79,TeilnNr,0))","v":"Spieler 04"},null,null,{"$f":"DL78","v":20},{"$f":"IF(DL78>MAX(TeilnNr)-1,DL78-(MAX(TeilnNr)-1),DL78)","v":9},1,{"$f":"IF(AND(DS79=1,MOD(DR79,2)=IF(DQ79>MAX(TeilnNr)-1,1,0)),MAX(TeilnNr),IF(MOD(DS79,2)=IF(DQ79>MAX(TeilnNr)-1,1,0),IF(MAX(TeilnNr)/2-DS79+1-(DR79-MAX(TeilnNr)/2-1)>=1,MAX(TeilnNr)/2-DS79+1-(DR79-MAX(TeilnNr)/2-1),MAX(TeilnNr)/2-DS79+1-(DR79-MAX(TeilnNr)/2-1)+MAX(TeilnNr)-1),IF(DS79-(DR79-1)>=1,DS79-(DR79-1),DS79-(DR79-1)+MAX(TeilnNr)-1)))","v":12},{"$f":"IF(AND(DS79=1,MOD(DR79,2)<>IF(DQ79>MAX(TeilnNr)-1,1,0)),MAX(TeilnNr),IF(MOD(DS79,2)<>IF(DQ79>MAX(TeilnNr)-1,1,0),IF(MAX(TeilnNr)/2-DS79+1-(DR79-MAX(TeilnNr)/2-1)>=1,MAX(TeilnNr)/2-DS79+1-(DR79-MAX(TeilnNr)/2-1),MAX(TeilnNr)/2-DS79+1-(DR79-MAX(TeilnNr)/2-1)+MAX(TeilnNr)-1),IF(DS79-(DR79-1)>=1,DS79-(DR79-1),DS79-(DR79-1)+MAX(TeilnNr)-1)))","v":4},{"$f":"IF(LEFT(DP79,1)=\"V\",\"\",LEFT(DP79,1))","v":""},{"$f":"IF(RIGHT(DP79,1)=\"V\",\"\",RIGHT(DP79,1))","v":""},{"$f":"IF(DQ79>MAX(TeilnNr)-1,ADDRESS(ROW(Teilnehmer)+DT79,COLUMN(Teilnehmer)+DU79+DU79),ADDRESS(ROW(Teilnehmer)+DT79,COLUMN(Teilnehmer)+DU79+DU79-1))","v":"$K$36"},{"$f":"IF(DQ79>MAX(TeilnNr)-1,ADDRESS(ROW(Teilnehmer)+DU79,COLUMN(Teilnehmer)+DT79+DT79),ADDRESS(ROW(Teilnehmer)+DU79,COLUMN(Teilnehmer)+DT79+DT79-1))","v":"$AA$28"},{"$f":"CV79","v":1},{"$f":"CW79","v":"Spieler 05"},"-",{"$f":"CY79","v":"Spieler 12"},{"$f":"IF(ISNUMBER(DB79),IF(DB79>MAX(TeilnNr)-1,IF(DD79=1,1,IF(MOD(DD79,2)<>0,2,1)),IF(DD79=1,1,IF(MOD(DD79,2)<>0,1,2))),\"\")","v":1},null,{"$f":"IF(ED79=1,2,1)","v":2},{"$f":"ED79","v":1},null,{"$f":"IF(DS79=1,EF79*10,EF79)","v":20},{"$f":"DK79","v":1},{"$f":"DN79","v":"Spieler 04"},"-",{"$f":"DL79","v":"Spieler 12"},{"$f":"IF(ISNUMBER(DQ79),IF(DQ79>MAX(TeilnNr)-1,IF(DS79=1,2,IF(MOD(DS79,2)<>0,2,1)),IF(DS79=1,2,IF(MOD(DS79,2)<>0,1,2))),\"\")","v":2},null,{"$f":"IF(EN79=1,2,1)","v":1},{"$f":"EN79","v":2},null,{"$f":"IF(DS79=1,EP79*10,EP79)","v":10}]
[null,null,null,null,null,null,null,null,null,null,null,null,null,null,null,null,null,null,null,null,null,null,null,null,null,null,null,null,null,null,null,null,null,null,null,null,null,null,null,null,null,null,null,null,null,null,null,null,null,null,null,null,null,null,null,null,null,null,null,null,null,null,null,null,null,null,null,null,null,null,null,null,null,null,null,null,null,null,null,null,null,null,null,null,null,null,null,null,null,null,null,null,null,null,null,null,null,null,null,{"$f":"CV79+1","v":2},"Spieler 06","-","Spieler 04",null,null,{"$f":"DB79","v":19},{"$f":"DC79","v":8},{"$f":"DD79+1","v":2},6,4,"","","$K$30","$O$28",{"$f":"DK79+1","v":2},"Spieler 05","-","Spieler 03",null,null,{"$f":"DQ79","v":20},{"$f":"DR79","v":9},{"$f":"DS79+1","v":2},5,3,"","","$I$29","$M$27",2,{"$f":"IF(DB80>MAX(TeilnNr)-1,CW80,CY80)","v":"Spieler 06"},"-",{"$f":"IF(DB80>MAX(TeilnNr)-1,CY80,CW80)","v":"Spieler 04"},1,null,2,1,null,2,2,{"$f":"IF(DQ80>MAX(TeilnNr)-1,DL80,DN80)","v":"Spieler 05"},"-",{"$f":"IF(DQ80>MAX(TeilnNr)-1,DN80,DL80)","v":"Spieler 03"},1,null,2,1,null,2]
[null,null,null,null,null,null,null,null,null,null,null,null,null,null,null,null,null,null,null,null,null,null,null,null,null,null,null,null,null,null,null,null,null,null,null,null,null,null,null,null,null,null,null,null,null,null,null,null,null,null,null,null,null,null,null,null,null,null,null,null,null,null,null,null,null,null,null,null,null,null,null,null,null,null,null,null,null,null,null,null,null,null,null,null,null,null,null,null,null,null,null,null,null,null,null,null,null,null,null,{"$f":"CV80+1","v":3},"Spieler 03","-","Spieler 07",null,null,{"$f":"DB80","v":19},{"$f":"DC80","v":8},{"$f":"DD80+1","v":3},3,7,"","","$Q$27","$I$31",{"$f":"DK80+1","v":3},"Spieler 02","-","Spieler 06",null,null,{"$f":"DQ80","v":20},{"$f":"DR80","v":9},{"$f":"DS80+1","v":3},2,6,"","","$O$26","$G$30",3,{"$f":"IF(DB81>MAX(TeilnNr)-1,CY81,CW81)","v":"Spieler 07"},"-",{"$f":"IF(DB81>MAX(TeilnNr)-1,CW81,CY81)","v":"Spieler 03"},2,null,1,2,null,1,3,{"$f":"IF(DQ81>MAX(TeilnNr)-1,DN81,DL81)","v":"Spieler 06"},"-",{"$f":"IF(DQ81>MAX(TeilnNr)-1,DL81,DN81)","v":"Spieler 02"},2,null,1,2,null,1]
[null,null,null,null,null,null,null,null,null,null,null,null,null,null,null,null,null,null,null,null,null,null,null,null,null,null,null,null,null,null,null,null,null,null,null,null,null,null,null,null,null,null,null,null,null,null,null,null,null,null,null,null,null,null,null,null,null,null,null,null,null,null,null,null,null,null,null,null,null,null,null,null,null,null,null,null,null,null,null,null,null,null,null,null,null,null,null,null,null,null,null,null,null,null,null,null,null,null,null,4,"Spieler 08","-","Spieler 02",null,null,19,{"$f":"DC81","v":8},4,8,2,"","","$G$32","$S$26",4,"Spieler 07","-","Spieler 01",null,null,20,{"$f":"DR81","v":9},4,7,1,"","","$E$31","$Q$25",4,{"$f":"IF(DB82>MAX(TeilnNr)-1,CW82,CY82)","v":"Spieler 08"},"-",{"$f":"IF(DB82>MAX(TeilnNr)-1,CY82,CW82)","v":"Spieler 02"},1,null,2,1,null,2,4,{"$f":"IF(DQ82>MAX(TeilnNr)-1,DL82,DN82)","v":"Spieler 07"},"-",{"$f":"IF(DQ82>MAX(TeilnNr)-1,DN82,DL82)","v":"Spieler 01"},1,null,2,1,null,2]
[null,null,null,null,null,null,null,null,null,null,null,null,null,null,null,null,null,null,null,null,null,null,null,null,null,null,null,null,null,null,null,null,null,null,null,null,null,null,null,null,null,null,null,null,null,null,null,null,null,null,null,null,null,null,null,null,null,null,null,null,null,null,null,null,null,null,null,null,null,null,null,null,null,null,null,null,null,null,null,null,null,null,null,null,null,null,null,null,null,null,null,null,null,null,null,null,null,null,null,5,"Spieler 01","-","Spieler 09",null,null,19,{"$f":"DC82","v":8},5,1,9,"","","$U$25","$E$33",5,"Spieler 11","-","Spieler 08",null,null,20,9,5,11,8,"","","$S$35","$Y$32",5,{"$f":"IF(DB83>MAX(TeilnNr)-1,CY83,CW83)","v":"Spieler 09"},"-",{"$f":"IF(DB83>MAX(TeilnNr)-1,CW83,CY83)","v":"Spieler 01"},2,null,1,2,null,1,5,{"$f":"IF(DQ83>MAX(TeilnNr)-1,DN83,DL83)","v":"Spieler 08"},"-",{"$f":"IF(DQ83>MAX(TeilnNr)-1,DL83,DN83)","v":"Spieler 11"},2,null,1,2,null,1]
[null,null,null,null,null,null,null,null,null,null,null,null,null,null,null,null,null,null,null,null,null,null,null,null,null,null,null,null,null,null,null,null,null,null,null,null,null,null,null,null,null,null,null,null,null,null,null,null,null,null,null,null,null,null,null,null,null,null,null,null,null,null,null,null,null,null,null,null,null,null,null,null,null,null,null,null,null,null,null,null,null,null,null,null,null,null,null,null,null,null,null,null,null,null,null,null,null,null,null,6,"Spieler 10","-","Spieler 11",null,null,19,{"$f":"DC83","v":8},6,10,11,"","","$Y$34","$W$35",6,"Spieler 09","-","Spieler 10",null,null,20,9,6,9,10,"","","$W$33","$U$34",6,{"$f":"IF(DB84>MAX(TeilnNr)-1,CW84,CY84)","v":"Spieler 10"},"-",{"$f":"IF(DB84>MAX(TeilnNr)-1,CY84,CW84)","v":"Spieler 11"},1,null,2,1,null,2,6,{"$f":"IF(DQ84>MAX(TeilnNr)-1,DL84,DN84)","v":"Spieler 09"},"-",{"$f":"IF(DQ84>MAX(TeilnNr)-1,DN84,DL84)","v":"Spieler 10"},1,null,2,1,null,2]
[null,null,null,null,null,null,null,null,null,null,null,null,null,null,null,null,null,null,null,null,null,null,null,null,null,null,null,null,null,null,null,null,null,null,null,null,null,null,null,null,null,null,null,null,null,null,null,null,null,null,null,null,null,null,null,null,null,null,null,null,null,null,null,null,null,null,null,null,null,null,null,null,null,null,null,null,null,null,null,null,null,null,null,null,null,null,null,null,null,null,null,null,null,null,null,null,null,null,null,null,null,null,null,null,null,null,null,null,null,null,null,null,null,null,null,null,null,null,null,null,null,null,null,null,null,null,null,null,null,null,null,null,null,{"$f":"IF(ISNUMBER(DB85),IF(DB85>MAX(TeilnNr)-1,2,1),\"\")","v":""},null,null,{"$f":"IF(ISNUMBER(DE85),IF(DE85>MAX(TeilnNr)-1,2,1),\"\")","v":""},null,null,null,null,null,null,{"$f":"IF(ISNUMBER(DQ85),IF(DQ85>MAX(TeilnNr)-1,IF(DS85=1,1,IF(MOD(DS85,2)<>0,2,1)),IF(DS85=1,2,IF(MOD(DS85,2)<>0,1,2))),\"\")","v":""},null,null,{"$f":"IF(ISNUMBER(DO85),IF(DO85>MAX(TeilnNr)-1,2,1),\"\")","v":""}]
[null,null,null,null,null,null,null,null,null,null,null,null,null,null,null,null,null,null,null,null,null,null,null,null,null,null,null,null,null,null,null,null,null,null,null,null,null,null,null,null,null,null,null,null,null,null,null,null,null,null,null,null,null,null,null,null,null,null,null,null,null,null,null,null,null,null,null,null,null,null,null,null,null,null,null,null,null,null,null,null,null,null,null,null,null,null,null,null,null,null,null,null,null,null,null,null,null,null,null,null,{"$f":"CW78+2","v":21},null,null,null,null,"N°","R","B","SpNr w","SpNr s","Res w","Res s",null,null,null,{"$f":"DL78+2","v":22},null,null,null,null,"N°","R","B","SpNr w","SpNr s","Res w","Res s",null,null,null,{"$f":"CW86","v":21},null,{"$f":"IF(CW86=MAX(TeilnNr),\"-> Bretter drehen!\",\"\")","v":""},{"$f":"IF(ISNUMBER(DB86),IF(DB86>MAX(TeilnNr)-1,2,1),\"\")","v":""},null,null,{"$f":"IF(ISNUMBER(DE86),IF(DE86>MAX(TeilnNr)-1,2,1),\"\")","v":""},null,null,null,{"$f":"DL86","v":22},null,{"$f":"IF(DL86=MAX(TeilnNr),\"-> Bretter drehen!\",\"\")","v":""},{"$f":"IF(ISNUMBER(DQ86),IF(DQ86>MAX(TeilnNr)-1,IF(MOD(DS86,2)<>0,2,1),IF(MOD(DS86,2)<>0,1,2)),\"\")","v":""},null,null,{"$f":"IF(ISNUMBER(DO86),IF(DO86>MAX(TeilnNr)-1,2,1),\"\")","v":""}]
[null,null,null,null,null,null,null,null,null,null,null,null,null,null,null,null,null,null,null,null,null,null,null,null,null,null,null,null,null,null,null,null,null,null,null,null,null,null,null,null,null,null,null,null,null,null,null,null,null,null,null,null,null,null,null,null,null,null,null,null,null,null,null,null,null,null,null,null,null,null,null,null,null,null,null,null,null,null,null,null,null,null,null,null,null,null,null,null,null,null,null,null,null,null,null,null,null,null,null,{"$f":"IF(OR(INDEX($CQ$25:$CQ$36,DE87),INDEX($CQ$25:$CQ$36,DF87)),0,1)","v":1},{"$f":"INDEX($CR$25:$CR$36,MATCH($DE87,TeilnNr,0))","v":"Spieler 03"},"-",{"$f":"INDEX($CR$25:$CR$36,MATCH($DF87,TeilnNr,0))","v":"Spieler 12"},null,null,{"$f":"CW86","v":21},{"$f":"IF(CW86>MAX(TeilnNr)-1,CW86-(MAX(TeilnNr)-1),CW86)","v":10},1,{"$f":"IF(AND(DD87=1,MOD(DC87,2)=IF(DB87>MAX(TeilnNr)-1,1,0)),MAX(TeilnNr),IF(MOD(DD87,2)=IF(DB87>MAX(TeilnNr)-1,1,0),IF(MAX(TeilnNr)/2-DD87+1-(DC87-MAX(TeilnNr)/2-1)>=1,MAX(TeilnNr)/2-DD87+1-(DC87-MAX(TeilnNr)/2-1),MAX(TeilnNr)/2-DD87+1-(DC87-MAX(TeilnNr)/2-1)+MAX(TeilnNr)-1),IF(DD87-(DC87-1)>=1,DD87-(DC87-1),DD87-(DC87-1)+MAX(TeilnNr)-1)))","v":3},{"$f":"IF(AND(DD87=1,MOD(DC87,2)<>IF(DB87>MAX(TeilnNr)-1,1,0)),MAX(TeilnNr),IF(MOD(DD87,2)<>IF(DB87>MAX(TeilnNr)-1,1,0),IF(MAX(TeilnNr)/2-DD87+1-(DC87-MAX(TeilnNr)/2-1)>=1,MAX(TeilnNr)/2-DD87+1-(DC87-MAX(TeilnNr)/2-1),MAX(TeilnNr)/2-DD87+1-(DC87-MAX(TeilnNr)/2-1)+MAX(TeilnNr)-1),IF(DD87-(DC87-1)>=1,DD87-(DC87-1),DD87-(DC87-1)+MAX(TeilnNr)-1)))","v":12},{"$f":"IF(LEFT(DA87,1)=\"V\",\"\",LEFT(DA87,1))","v":""},{"$f":"IF(RIGHT(DA87,1)=\"V\",\"\",RIGHT(DA87,1))","v":""},{"$f":"IF(DB87>MAX(TeilnNr)-1,ADDRESS(ROW(Teilnehmer)+DE87,COLUMN(Teilnehmer)+DF87+DF87),ADDRESS(ROW(Teilnehmer)+DE87,COLUMN(Teilnehmer)+DF87+DF87-1))","v":"$AA$27"},{"$f":"IF(DB87>MAX(TeilnNr)-1,ADDRESS(ROW(Teilnehmer)+DF87,COLUMN(Teilnehmer)+DE87+DE87),ADDRESS(ROW(Teilnehmer)+DF87,COLUMN(Teilnehmer)+DE87+DE87-1))","v":"$I$36"},{"$f":"IF(OR(INDEX($CQ$25:$CQ$36,DT87),INDEX($CQ$25:$CQ$36,DU87)),0,1)","v":1},{"$f":"INDEX($CR$25:$CR$36,MATCH($DT87,TeilnNr,0))","v":"Spieler 12"},"-",{"$f":"INDEX($CR$25:$CR$36,MATCH($DU87,TeilnNr,0))","v":"Spieler 02"},null,null,{"$f":"DL86","v":22},{"$f":"IF(DL86>MAX(TeilnNr)-1,DL86-(MAX(TeilnNr)-1),DL86)","v":11},1,{"$f":"IF(AND(DS87=1,MOD(DR87,2)=IF(DQ87>MAX(TeilnNr)-1,1,0)),MAX(TeilnNr),IF(MOD(DS87,2)=IF(DQ87>MAX(TeilnNr)-1,1,0),IF(MAX(TeilnNr)/2-DS87+1-(DR87-MAX(TeilnNr)/2-1)>=1,MAX(TeilnNr)/2-DS87+1-(DR87-MAX(TeilnNr)/2-1),MAX(TeilnNr)/2-DS87+1-(DR87-MAX(TeilnNr)/2-1)+MAX(TeilnNr)-1),IF(DS87-(DR87-1)>=1,DS87-(DR87-1),DS87-(DR87-1)+MAX(TeilnNr)-1)))","v":12},{"$f":"IF(AND(DS87=1,MOD(DR87,2)<>IF(DQ87>MAX(TeilnNr)-1,1,0)),MAX(TeilnNr),IF(MOD(DS87,2)<>IF(DQ87>MAX(TeilnNr)-1,1,0),IF(MAX(TeilnNr)/2-DS87+1-(DR87-MAX(TeilnNr)/2-1)>=1,MAX(TeilnNr)/2-DS87+1-(DR87-MAX(TeilnNr)/2-1),MAX(TeilnNr)/2-DS87+1-(DR87-MAX(TeilnNr)/2-1)+MAX(TeilnNr)-1),IF(DS87-(DR87-1)>=1,DS87-(DR87-1),DS87-(DR87-1)+MAX(TeilnNr)-1)))","v":2},{"$f":"IF(LEFT(DP87,1)=\"V\",\"\",LEFT(DP87,1))","v":""},{"$f":"IF(RIGHT(DP87,1)=\"V\",\"\",RIGHT(DP87,1))","v":""},{"$f":"IF(DQ87>MAX(TeilnNr)-1,ADDRESS(ROW(Teilnehmer)+DT87,COLUMN(Teilnehmer)+DU87+DU87),ADDRESS(ROW(Teilnehmer)+DT87,COLUMN(Teilnehmer)+DU87+DU87-1))","v":"$G$36"},{"$f":"IF(DQ87>MAX(TeilnNr)-1,ADDRESS(ROW(Teilnehmer)+DU87,COLUMN(Teilnehmer)+DT87+DT87),ADDRESS(ROW(Teilnehmer)+DU87,COLUMN(Teilnehmer)+DT87+DT87-1))","v":"$AA$26"},{"$f":"CV87","v":1},{"$f":"CW87","v":"Spieler 03"},"-",{"$f":"CY87","v":"Spieler 12"},{"$f":"IF(ISNUMBER(DB87),IF(DB87>MAX(TeilnNr)-1,IF(DD87=1,1,IF(MOD(DD87,2)<>0,2,1)),IF(DD87=1,1,IF(MOD(DD87,2)<>0,1,2))),\"\")","v":1},null,{"$f":"IF(ED87=1,2,1)","v":2},{"$f":"ED87","v":1},null,{"$f":"IF(DS87=1,EF87*10,EF87)","v":20},{"$f":"DK87","v":1},{"$f":"DN87","v":"Spieler 02"},"-",{"$f":"DL87","v":"Spieler 12"},{"$f":"IF(ISNUMBER(DQ87),IF(DQ87>MAX(TeilnNr)-1,IF(DS87=1,2,IF(MOD(DS87,2)<>0,2,1)),IF(DS87=1,2,IF(MOD(DS87,2)<>0,1,2))),\"\")","v":2},null,{"$f":"IF(EN87=1,2,1)","v":1},{"$f":"EN87","v":2},null,{"$f":"IF(DS87=1,EP87*10,EP87)","v":10}]
[null,null,null,null,null,null,null,null,null,null,null,null,null,null,null,null,null,null,null,null,null,null,null,null,null,null,null,null,null,null,null,null,null,null,null,null,null,null,null,null,null,null,null,null,null,null,null,null,null,null,null,null,null,null,null,null,null,null,null,null,null,null,null,null,null,null,null,null,null,null,null,null,null,null,null,null,null,null,null,null,null,null,null,null,null,null,null,null,null,null,null,null,null,null,null,null,null,null,null,{"$f":"CV87+1","v":2},"Spieler 04","-","Spieler 02",null,null,{"$f":"DB87","v":21},{"$f":"DC87","v":10},{"$f":"DD87+1","v":2},4,2,"","","$G$28","$K$26",{"$f":"DK87+1","v":2},"Spieler 03","-","Spieler 01",null,null,{"$f":"DQ87","v":22},{"$f":"DR87","v":11},{"$f":"DS87+1","v":2},3,1,"","","$E$27","$I$25",2,{"$f":"IF(DB88>MAX(TeilnNr)-1,CW88,CY88)","v":"Spieler 04"},"-",{"$f":"IF(DB88>MAX(TeilnNr)-1,CY88,CW88)","v":"Spieler 02"},1,null,2,1,null,2,2,{"$f":"IF(DQ88>MAX(TeilnNr)-1,DL88,DN88)","v":"Spieler 03"},"-",{"$f":"IF(DQ88>MAX(TeilnNr)-1,DN88,DL88)","v":"Spieler 01"},1,null,2,1,null,2]
[null,null,null,null,null,null,null,null,null,null,null,null,null,null,null,null,null,null,null,null,null,null,null,null,null,null,null,null,null,null,null,null,null,null,null,null,null,null,null,null,null,null,null,null,null,null,null,null,null,null,null,null,null,null,null,null,null,null,null,null,null,null,null,null,null,null,null,null,null,null,null,null,null,null,null,null,null,null,null,null,null,null,null,null,null,null,null,null,null,null,null,null,null,null,null,null,null,null,null,{"$f":"CV88+1","v":3},"Spieler 01","-","Spieler 05",null,null,{"$f":"DB88","v":21},{"$f":"DC88","v":10},{"$f":"DD88+1","v":3},1,5,"","","$M$25","$E$29",{"$f":"DK88+1","v":3},"Spieler 11","-","Spieler 04",null,null,{"$f":"DQ88","v":22},{"$f":"DR88","v":11},{"$f":"DS88+1","v":3},11,4,"","","$K$35","$Y$28",3,{"$f":"IF(DB89>MAX(TeilnNr)-1,CY89,CW89)","v":"Spieler 05"},"-",{"$f":"IF(DB89>MAX(TeilnNr)-1,CW89,CY89)","v":"Spieler 01"},2,null,1,2,null,1,3,{"$f":"IF(DQ89>MAX(TeilnNr)-1,DN89,DL89)","v":"Spieler 04"},"-",{"$f":"IF(DQ89>MAX(TeilnNr)-1,DL89,DN89)","v":"Spieler 11"},2,null,1,2,null,1]
[null,null,null,null,null,null,null,null,null,null,null,null,null,null,null,null,null,null,null,null,null,null,null,null,null,null,null,null,null,null,null,null,null,null,null,null,null,null,null,null,null,null,null,null,null,null,null,null,null,null,null,null,null,null,null,null,null,null,null,null,null,null,null,null,null,null,null,null,null,null,null,null,null,null,null,null,null,null,null,null,null,null,null,null,null,null,null,null,null,null,null,null,null,null,null,null,null,null,null,4,"Spieler 06","-","Spieler 11",null,null,21,{"$f":"DC89","v":10},4,6,11,"","","$Y$30","$O$35",4,"Spieler 05","-","Spieler 10",null,null,22,{"$f":"DR89","v":11},4,5,10,"","","$W$29","$M$34",4,{"$f":"IF(DB90>MAX(TeilnNr)-1,CW90,CY90)","v":"Spieler 06"},"-",{"$f":"IF(DB90>MAX(TeilnNr)-1,CY90,CW90)","v":"Spieler 11"},1,null,2,1,null,2,4,{"$f":"IF(DQ90>MAX(TeilnNr)-1,DL90,DN90)","v":"Spieler 05"},"-",{"$f":"IF(DQ90>MAX(TeilnNr)-1,DN90,DL90)","v":"Spieler 10"},1,null,2,1,null,2]
[null,null,null,null,null,null,null,null,null,null,null,null,null,null,null,null,null,null,null,null,null,null,null,null,null,null,null,null,null,null,null,null,null,null,null,null,null,null,null,null,null,null,null,null,null,null,null,null,null,null,null,null,null,null,null,null,null,null,null,null,null,null,null,null,null,null,null,null,null,null,null,null,null,null,null,null,null,null,null,null,null,null,null,null,null,null,null,null,null,null,null,null,null,null,null,null,null,null,null,5,"Spieler 10","-","Spieler 07",null,null,21,{"$f":"DC90","v":10},5,10,7,"","","$Q$34","$W$31",5,"Spieler 09","-","Spieler 06",null,null,22,11,5,9,6,"","","$O$33","$U$30",5,{"$f":"IF(DB91>MAX(TeilnNr)-1,CY91,CW91)","v":"Spieler 07"},"-",{"$f":"IF(DB91>MAX(TeilnNr)-1,CW91,CY91)","v":"Spieler 10"},2,null,1,2,null,1,5,{"$f":"IF(DQ91>MAX(TeilnNr)-1,DN91,DL91)","v":"Spieler 06"},"-",{"$f":"IF(DQ91>MAX(TeilnNr)-1,DL91,DN91)","v":"Spieler 09"},2,null,1,2,null,1]
[null,null,null,null,null,null,null,null,null,null,null,null,null,null,null,null,null,null,null,null,null,null,null,null,null,null,null,null,null,null,null,null,null,null,null,null,null,null,null,null,null,null,null,null,null,null,null,null,null,null,null,null,null,null,null,null,null,null,null,null,null,null,null,null,null,null,null,null,null,null,null,null,null,null,null,null,null,null,null,null,null,null,null,null,null,null,null,null,null,null,null,null,null,null,null,null,null,null,null,6,"Spieler 08","-","Spieler 09",null,null,21,{"$f":"DC91","v":10},6,8,9,"","","$U$32","$S$33",6,"Spieler 07","-","Spieler 08",null,null,22,11,6,7,8,"","","$S$31","$Q$32",6,{"$f":"IF(DB92>MAX(TeilnNr)-1,CW92,CY92)","v":"Spieler 08"},"-",{"$f":"IF(DB92>MAX(TeilnNr)-1,CY92,CW92)","v":"Spieler 09"},1,null,2,1,null,2,6,{"$f":"IF(DQ92>MAX(TeilnNr)-1,DL92,DN92)","v":"Spieler 07"},"-",{"$f":"IF(DQ92>MAX(TeilnNr)-1,DN92,DL92)","v":"Spieler 08"},1,null,2,1,null,2]
[null,null,null,null,null,null,null,null,null,null,null,null,null,null,null,null,null,null,null,null,null,null,null,null,null,null,null,null,null,null,null,null,null,null,null,null,null,null,null,null,null,null,null,null,null,null,null,null,null,null,null,null,null,null,null,null,null,null,null,null,null,null,null,null,null,null,null,null,null,null,null,null,null,null,null,null,null,null,null,null,null,null,null,null,null,null,null,null,null,null,null,null,null,null,null,null,null,null,null,null,null,null,null,null,null,null,null,null,null,null,null,null,null,null,null,null,null,null,null,null,null,null,null,null,null,null,null,null,null,null,null,null,null,{"$f":"IF(ISNUMBER(DB93),IF(DB93>MAX(TeilnNr)-1,2,1),\"\")","v":""},null,null,{"$f":"IF(ISNUMBER(DE93),IF(DE93>MAX(TeilnNr)-1,2,1),\"\")","v":""},null,null,null,null,null,null,"",null,null,{"$f":"IF(ISNUMBER(DO93),IF(DO93>MAX(TeilnNr)-1,2,1),\"\")","v":""}]
[null,null,null,null,null,null,null,null,null,null,null,null,null,null,null,null,null,null,null,null,null,null,null,null,null,null,null,null,null,null,null,null,null,null,null,null,null,null,null,null,null,null,null,null,null,null,null,null,null,null,null,null,null,null,null,null,null,null,null,null,null,null,null,null,null,null,null,null,null,null,null,null,null,null,null,null,null,null,null,null,null,null,null,null,null,null,null,null,null,null,null,null,null,null,null,null,null,null,null,null,null,null,null,null,null,null,null,null,null,null,null,null,null,null,null,null,null,null,null,null,null,null,null,null,null,null,null,null,null,null,null,null,null,{"$f":"IF(ISNUMBER(DB94),IF(DB94>MAX(TeilnNr)-1,2,1),\"\")","v":""},null,null,{"$f":"IF(ISNUMBER(DE94),IF(DE94>MAX(TeilnNr)-1,2,1),\"\")","v":""},null,null,null,null,null,null,{"$f":"IF(ISNUMBER(DQ94),IF(DQ94>MAX(TeilnNr)-1,IF(MOD(DS94,2)<>0,2,1),IF(MOD(DS94,2)<>0,1,2)),\"\")","v":""},null,null,{"$f":"IF(ISNUMBER(DO94),IF(DO94>MAX(TeilnNr)-1,2,1),\"\")","v":""}]

{"sheet":"10DR","index":13,"n_rows":69,"n_cols":141,"rows_kept":69,"cut":false,"hidden":false,"merged":[[0,1,0,29],[1,109,1,111],[3,94,3,111],[5,3,5,4],[5,5,5,6],[5,7,5,8],[5,9,5,10],[5,11,5,12],[5,13,5,14],[5,15,5,16],[5,109,5,111],[5,17,5,18],[5,19,5,20],[5,21,5,22],[5,94,5,96],[12,94,12,96],[12,109,12,111],[19,94,19,96],[19,109,19,111],[21,15,21,16],[21,17,21,18],[21,19,21,20],[21,21,21,22],[20,27,20,28],[21,3,21,4],[21,5,21,6],[21,7,21,8],[21,9,21,10],[21,11,21,12],[21,13,21,14],[26,94,26,96],[26,109,26,111],[33,94,33,96],[33,109,33,111],[61,94,61,96],[61,109,61,111],[40,94,40,96],[40,109,40,111],[47,94,47,96],[47,109,47,111],[54,94,54,96],[54,109,54,111]]}
[null,"Turniername",null,null,null,null,null,null,null,null,null,null,null,null,null,null,null,null,null,null,null,null,null,null,null,null,null,null,null,null,null,null,null,null,null,null,null,null,null,null,null,null,null,null,null,1,"1) Punkte 2) So-Be 3) Manuelle Feinwertung ",null,null,null,null,null,null,null,null,null,null,null,null,null,null,null,null,null,null,null,null,null,null,null,null,null,null,null,null,"Wiederholung Kriterien:",null,null,null,null,null,null,null,null,null,null,null,null,null,null,null,null,{"$f":"\"Paarungsliste und Resultate \"&IF(Turnier=\"\",\"\",Turnier)","v":"Paarungsliste und Resultate Turniername"},null,null,null,null,null,null,null,null,null,null,null,null,null,null,null,null,null,null,null,null,null,null,null,null,null,null,null,null,null,"Paarungsliste Darstellung Rutschsystem",null,null,null,null,null,null,null,null,null,null,{"$f":"IF(Datum=\"\",\"\",\"Datum:\")","v":""}]
[null,null,null,null,null,null,null,null,null,null,null,null,null,null,null,null,null,null,null,null,null,null,null,null,null,null,null,null,null,null,null,null,null,null,null,null,null,null,null,null,null,null,"a","b","P",2,"1) Punkte 2) So-Be 3) direkte Begegnung 4) Manuelle Feinwertung ",null,null,null,null,null,null,null,null,null,null,null,null,null,null,null,null,null,null,null,null,null,null,null,null,null,null,null,1,{"$f":"AU1","v":"1) Punkte 2) So-Be 3) Manuelle Feinwertung "},null,null,null,null,null,null,null,null,null,null,null,null,null,null,null,null,{"$f":"IF(Turnier=\"\",\"\",\"Turniername:\")","v":"Turniername:"},null,{"$f":"IF(Turnier=\"\",\"\",Turnier)","v":"Turniername"},null,null,null,null,null,null,null,null,null,null,null,null,null,"Datum:",null,null,null,null,null,null,null,null,null,null,null,null,null,{"$f":"IF(Turnier=\"\",\"\",\"Turniername:\")","v":"Turniername:"},null,{"$f":"IF(Turnier=\"\",\"\",Turnier)&IF(Datum=\"\",\"\",\", \"&TEXT(Datum,\"TT.MM.JJJJ\"))","v":"Turniername"}]
[null,null,null,null,null,null,null,null,null,null,null,null,null,null,null,null,null,null,null,null,null,null,null,null,null,null,null,null,null,null,null,null,null,null,null,null,null,null,null,null,null,null,"1","0",1,3,"1) Punkte 2) Anz. Partien 3) So-Be 4) Manuelle Feinwertung "]
[null,"Rangliste",null,null,null,null,null,null,null,null,null,null,null,null,null,null,null,null,null,null,null,null,null,null,null,null,null,null,null,null,null,null,null,null,null,null,null,null,null,null,null,null,"0","1",0,4,"1) Punkte 2) Anz. Partien 3) So-Be 4) direkte Begegnung 5) Manuelle Feinwertung ",null,null,null,null,null,null,null,null,null,null,null,null,null,null,null,null,null,null,null,null,null,null,null,null,null,null,null,2,{"$f":"AU2","v":"1) Punkte 2) So-Be 3) direkte Begegnung 4) Manuelle Feinwertung "},null,null,null,null,null,null,null,null,null,null,null,null,null,null,null,null,"Turnierleitung:",null,null,null,null,null,null,null,null,null,null,null,null,null,null,null,null,null,null,null,null,null,null,null,null,null,null,null,null,null,{"$f":"IF(Turnierleitung=\"\",\"\",\"Turnierleitung:\")","v":""},null,{"$f":"IF(Turnierleitung=\"\",\"\",Turnierleitung)","v":""}]
[null,null,null,null,null,null,null,null,null,null,null,null,null,null,null,null,null,null,null,null,null,null,null,null,null,null,null,null,null,null,null,null,null,null,null,null,null,null,null,null,null,null,"½","½",0.5,5,"1) Punkte 2) Anz. Partien 3) So-Be 4) direkte Begegnung 5) Anz.Schwarzpartien 6) Manuelle Feinwertung ",null,null,null,null,null,null,null,null,null,null,null,null,null,null,null,null,null,null,null,null,null,null,null,null,null,null,null,3,"1) Punkte 2) Anz. Partien 3) So-Be 4) Manuelle Feinwertung "]
[null,"Rang","Teilnehmer",1,null,2,null,3,null,4,null,5,null,6,null,7,null,8,null,9,null,10,null,"Punkte","Spiele","So-Be",{"$f":"IF(AA22=\"\",\"FWm\",AA22)","v":"FWx"},1,"½",0,"Nr",null,null,null,null,null,null,null,null,null,null,null,"+","-",1,6,"1) Punkte 2) Anz. Partien 3) So-Be 4) Anz.Schwarzpartien 5) direkte Begegnung 6) Manuelle Feinwertung ",null,null,null,null,null,null,null,null,null,null,null,null,null,null,null,null,null,null,null,null,null,null,null,null,null,null,null,4,"1) Punkte 2) Anz. Partien 3) So-Be 4) direkte Begegnung 5) Manuelle Feinwertung ",null,null,null,null,null,null,null,null,null,null,null,null,null,null,null,null,1,null,null,null,null,"N°","R","B","SpNr w","SpNr s","Res w","Res s","AdrTTw","AdrTTs",null,{"$f":"CO6+1","v":2},null,null,null,null,"N°","R","B","SpNr w","SpNr s","Res w","Res s","AdrTTw","AdrTTs",null,{"$f":"CO6","v":1},null,{"$f":"IF(CO6=MAX(TeilnNr),\"-> Bretter drehen!\",\"\")","v":""},null,null,null,null,null,null,null,{"$f":"DD6","v":2},null,{"$f":"IF(DD6=MAX(TeilnNr),\"-> Bretter drehen!\",\"\")","v":""}]
[null,{"$f":"IF(INDEX($CI$23:$CI$32,MATCH(B23,$CM$23:$CM$32,0)),\"-\",IF(INDEX($CH$23:$CH$32,MATCH(B23,$CM$23:$CM$32,0))<ROW()-ROW($B$6),\"\",INDEX($CH$23:$CH$32,MATCH(B23,$CM$23:$CM$32,0))))","v":1},{"$f":"IF(INDEX($C$23:$C$32,MATCH(B23,$CM$23:$CM$32,0))=0,\"Spieler \"&TEXT(AE7,\"00\"),INDEX($C$23:$C$32,MATCH(B23,$CM$23:$CM$32,0)))","v":"Spieler 01"},{"$f":"IF(INDEX($B$22:$W$32,MATCH($AE7,$B$22:$B$32,0),MATCH(INDEX($B$23:$B$32,MATCH(OFFSET($AE$6,D$6,0),$B$23:$B$32,0)),$B$22:$W$22,0))=\"\",\"\",INDEX($B$22:$W$32,MATCH($AE7,$B$22:$B$32,0),MATCH(INDEX($B$23:$B$32,MATCH(OFFSET($AE$6,D$6,0),$B$23:$B$32,0)),$B$22:$W$22,0)))","v":""},{"$f":"IF(INDEX($B$22:$W$32,MATCH($AE7,$B$22:$B$32,0),MATCH(INDEX($B$23:$B$32,MATCH(OFFSET($AE$6,D$6,0),$B$23:$B$32,0)),$B$22:$W$22,0)+1)=\"\",\"\",INDEX($B$22:$W$32,MATCH($AE7,$B$22:$B$32,0),MATCH(INDEX($B$23:$B$32,MATCH(OFFSET($AE$6,D$6,0),$B$23:$B$32,0)),$B$22:$W$22,0)+1))","v":""},{"$f":"IF(INDEX($B$22:$W$32,MATCH($AE7,$B$22:$B$32,0),MATCH(INDEX($B$23:$B$32,MATCH(OFFSET($AE$6,F$6,0),$B$23:$B$32,0)),$B$22:$W$22,0))=\"\",\"\",INDEX($B$22:$W$32,MATCH($AE7,$B$22:$B$32,0),MATCH(INDEX($B$23:$B$32,MATCH(OFFSET($AE$6,F$6,0),$B$23:$B$32,0)),$B$22:$W$22,0)))","v":""},{"$f":"IF(INDEX($B$22:$W$32,MATCH($AE7,$B$22:$B$32,0),MATCH(INDEX($B$23:$B$32,MATCH(OFFSET($AE$6,F$6,0),$B$23:$B$32,0)),$B$22:$W$22,0)+1)=\"\",\"\",INDEX($B$22:$W$32,MATCH($AE7,$B$22:$B$32,0),MATCH(INDEX($B$23:$B$32,MATCH(OFFSET($AE$6,F$6,0),$B$23:$B$32,0)),$B$22:$W$22,0)+1))","v":""},{"$f":"IF(INDEX($B$22:$W$32,MATCH($AE7,$B$22:$B$32,0),MATCH(INDEX($B$23:$B$32,MATCH(OFFSET($AE$6,H$6,0),$B$23:$B$32,0)),$B$22:$W$22,0))=\"\",\"\",INDEX($B$22:$W$32,MATCH($AE7,$B$22:$B$32,0),MATCH(INDEX($B$23:$B$32,MATCH(OFFSET($AE$6,H$6,0),$B$23:$B$32,0)),$B$22:$W$22,0)))","v":""},{"$f":"IF(INDEX($B$22:$W$32,MATCH($AE7,$B$22:$B$32,0),MATCH(INDEX($B$23:$B$32,MATCH(OFFSET($AE$6,H$6,0),$B$23:$B$32,0)),$B$22:$W$22,0)+1)=\"\",\"\",INDEX($B$22:$W$32,MATCH($AE7,$B$22:$B$32,0),MATCH(INDEX($B$23:$B$32,MATCH(OFFSET($AE$6,H$6,0),$B$23:$B$32,0)),$B$22:$W$22,0)+1))","v":""},{"$f":"IF(INDEX($B$22:$W$32,MATCH($AE7,$B$22:$B$32,0),MATCH(INDEX($B$23:$B$32,MATCH(OFFSET($AE$6,J$6,0),$B$23:$B$32,0)),$B$22:$W$22,0))=\"\",\"\",INDEX($B$22:$W$32,MATCH($AE7,$B$22:$B$32,0),MATCH(INDEX($B$23:$B$32,MATCH(OFFSET($AE$6,J$6,0),$B$23:$B$32,0)),$B$22:$W$22,0)))","v":""},{"$f":"IF(INDEX($B$22:$W$32,MATCH($AE7,$B$22:$B$32,0),MATCH(INDEX($B$23:$B$32,MATCH(OFFSET($AE$6,J$6,0),$B$23:$B$32,0)),$B$22:$W$22,0)+1)=\"\",\"\",INDEX($B$22:$W$32,MATCH($AE7,$B$22:$B$32,0),MATCH(INDEX($B$23:$B$32,MATCH(OFFSET($AE$6,J$6,0),$B$23:$B$32,0)),$B$22:$W$22,0)+1))","v":""},{"$f":"IF(INDEX($B$22:$W$32,MATCH($AE7,$B$22:$B$32,0),MATCH(INDEX($B$23:$B$32,MATCH(OFFSET($AE$6,L$6,0),$B$23:$B$32,0)),$B$22:$W$22,0))=\"\",\"\",INDEX($B$22:$W$32,MATCH($AE7,$B$22:$B$32,0),MATCH(INDEX($B$23:$B$32,MATCH(OFFSET($AE$6,L$6,0),$B$23:$B$32,0)),$B$22:$W$22,0)))","v":""},{"$f":"IF(INDEX($B$22:$W$32,MATCH($AE7,$B$22:$B$32,0),MATCH(INDEX($B$23:$B$32,MATCH(OFFSET($AE$6,L$6,0),$B$23:$B$32,0)),$B$22:$W$22,0)+1)=\"\",\"\",INDEX($B$22:$W$32,MATCH($AE7,$B$22:$B$32,0),MATCH(INDEX($B$23:$B$32,MATCH(OFFSET($AE$6,L$6,0),$B$23:$B$32,0)),$B$22:$W$22,0)+1))","v":""},{"$f":"IF(INDEX($B$22:$W$32,MATCH($AE7,$B$22:$B$32,0),MATCH(INDEX($B$23:$B$32,MATCH(OFFSET($AE$6,N$6,0),$B$23:$B$32,0)),$B$22:$W$22,0))=\"\",\"\",INDEX($B$22:$W$32,MATCH($AE7,$B$22:$B$32,0),MATCH(INDEX($B$23:$B$32,MATCH(OFFSET($AE$6,N$6,0),$B$23:$B$32,0)),$B$22:$W$22,0)))","v":""},{"$f":"IF(INDEX($B$22:$W$32,MATCH($AE7,$B$22:$B$32,0),MATCH(INDEX($B$23:$B$32,MATCH(OFFSET($AE$6,N$6,0),$B$23:$B$32,0)),$B$22:$W$22,0)+1)=\"\",\"\",INDEX($B$22:$W$32,MATCH($AE7,$B$22:$B$32,0),MATCH(INDEX($B$23:$B$32,MATCH(OFFSET($AE$6,N$6,0),$B$23:$B$32,0)),$B$22:$W$22,0)+1))","v":""},{"$f":"IF(INDEX($B$22:$W$32,MATCH($AE7,$B$22:$B$32,0),MATCH(INDEX($B$23:$B$32,MATCH(OFFSET($AE$6,P$6,0),$B$23:$B$32,0)),$B$22:$W$22,0))=\"\",\"\",INDEX($B$22:$W$32,MATCH($AE7,$B$22:$B$32,0),MATCH(INDEX($B$23:$B$32,MATCH(OFFSET($AE$6,P$6,0),$B$23:$B$32,0)),$B$22:$W$22,0)))","v":""},{"$f":"IF(INDEX($B$22:$W$32,MATCH($AE7,$B$22:$B$32,0),MATCH(INDEX($B$23:$B$32,MATCH(OFFSET($AE$6,P$6,0),$B$23:$B$32,0)),$B$22:$W$22,0)+1)=\"\",\"\",INDEX($B$22:$W$32,MATCH($AE7,$B$22:$B$32,0),MATCH(INDEX($B$23:$B$32,MATCH(OFFSET($AE$6,P$6,0),$B$23:$B$32,0)),$B$22:$W$22,0)+1))","v":""},{"$f":"IF(INDEX($B$22:$W$32,MATCH($AE7,$B$22:$B$32,0),MATCH(INDEX($B$23:$B$32,MATCH(OFFSET($AE$6,R$6,0),$B$23:$B$32,0)),$B$22:$W$22,0))=\"\",\"\",INDEX($B$22:$W$32,MATCH($AE7,$B$22:$B$32,0),MATCH(INDEX($B$23:$B$32,MATCH(OFFSET($AE$6,R$6,0),$B$23:$B$32,0)),$B$22:$W$22,0)))","v":""},{"$f":"IF(INDEX($B$22:$W$32,MATCH($AE7,$B$22:$B$32,0),MATCH(INDEX($B$23:$B$32,MATCH(OFFSET($AE$6,R$6,0),$B$23:$B$32,0)),$B$22:$W$22,0)+1)=\"\",\"\",INDEX($B$22:$W$32,MATCH($AE7,$B$22:$B$32,0),MATCH(INDEX($B$23:$B$32,MATCH(OFFSET($AE$6,R$6,0),$B$23:$B$32,0)),$B$22:$W$22,0)+1))","v":""},{"$f":"IF(INDEX($B$22:$W$32,MATCH($AE7,$B$22:$B$32,0),MATCH(INDEX($B$23:$B$32,MATCH(OFFSET($AE$6,T$6,0),$B$23:$B$32,0)),$B$22:$W$22,0))=\"\",\"\",INDEX($B$22:$W$32,MATCH($AE7,$B$22:$B$32,0),MATCH(INDEX($B$23:$B$32,MATCH(OFFSET($AE$6,T$6,0),$B$23:$B$32,0)),$B$22:$W$22,0)))","v":""},{"$f":"IF(INDEX($B$22:$W$32,MATCH($AE7,$B$22:$B$32,0),MATCH(INDEX($B$23:$B$32,MATCH(OFFSET($AE$6,T$6,0),$B$23:$B$32,0)),$B$22:$W$22,0)+1)=\"\",\"\",INDEX($B$22:$W$32,MATCH($AE7,$B$22:$B$32,0),MATCH(INDEX($B$23:$B$32,MATCH(OFFSET($AE$6,T$6,0),$B$23:$B$32,0)),$B$22:$W$22,0)+1))","v":""},{"$f":"IF(INDEX($B$22:$W$32,MATCH($AE7,$B$22:$B$32,0),MATCH(INDEX($B$23:$B$32,MATCH(OFFSET($AE$6,V$6,0),$B$23:$B$32,0)),$B$22:$W$22,0))=\"\",\"\",INDEX($B$22:$W$32,MATCH($AE7,$B$22:$B$32,0),MATCH(INDEX($B$23:$B$32,MATCH(OFFSET($AE$6,V$6,0),$B$23:$B$32,0)),$B$22:$W$22,0)))","v":""},{"$f":"IF(INDEX($B$22:$W$32,MATCH($AE7,$B$22:$B$32,0),MATCH(INDEX($B$23:$B$32,MATCH(OFFSET($AE$6,V$6,0),$B$23:$B$32,0)),$B$22:$W$22,0)+1)=\"\",\"\",INDEX($B$22:$W$32,MATCH($AE7,$B$22:$B$32,0),MATCH(INDEX($B$23:$B$32,MATCH(OFFSET($AE$6,V$6,0),$B$23:$B$32,0)),$B$22:$W$22,0)+1))","v":""},{"$f":"INDEX($AP$23:$AP$32,MATCH(AE7,$B$23:$B$32,0))","v":0},{"$f":"INDEX($Y$23:$Y$32,MATCH(AE7,$B$23:$B$32,0))","v":0},{"$f":"INDEX($Z$23:$Z$32,MATCH(AE7,$B$23:$B$32,0))","v":0},{"$f":"INDEX($AA$23:$AA$32,MATCH(AE7,$B$23:$B$32,0))","v":0},{"$f":"COUNTIF($D7:$W7,1)+COUNTIF($D7:$W7,\"+\")","v":0},{"$f":"COUNTIF($D7:$W7,\"½\")","v":0},{"$f":"COUNTIF($D7:$W7,0)+COUNTIF($D7:$W7,\"-\")","v":0},{"$f":"INDEX($B$23:$B$32,MATCH(B23,$CM$23:$CM$32,0))","v":1},null,null,null,null,null,null,null,null,null,null,null,"-","+",0,7,"1) Punkte 2) Anz. Partien 3) direkte Begegnung 4) So-Be 5) Anz.Schwarzpartien 6) Manuelle Feinwertung ",null,null,null,null,null,null,null,null,null,null,null,null,null,null,null,null,null,null,null,null,null,null,null,null,null,null,null,5,"1) Punkte 2) Anz. Partien 3) So-Be 4) direkte Begegnung 5) Anz.Schwarzpartien 6) Manuelle Feinwertung ",null,null,null,null,null,null,null,null,null,null,null,null,null,null,null,{"$f":"IF(OR(INDEX($CI$23:$CI$32,CW7),INDEX($CI$23:$CI$32,CX7)),0,1)","v":1},{"$f":"INDEX($CJ$23:$CJ$32,MATCH($CW7,TeilnNr,0))","v":"Spieler 01"},"-",{"$f":"INDEX($CJ$23:$CJ$32,MATCH($CX7,TeilnNr,0))","v":"Spieler 10"},null,null,{"$f":"CO6","v":1},{"$f":"IF(CO6>MAX(TeilnNr)-1,CO6-(MAX(TeilnNr)-1),CO6)","v":1},1,{"$f":"IF(AND(CV7=1,MOD(CU7,2)=IF(CT7>MAX(TeilnNr)-1,1,0)),MAX(TeilnNr),IF(MOD(CV7,2)=IF(CT7>MAX(TeilnNr)-1,1,0),IF(MAX(TeilnNr)/2-CV7+1-(CU7-MAX(TeilnNr)/2-1)>=1,MAX(TeilnNr)/2-CV7+1-(CU7-MAX(TeilnNr)/2-1),MAX(TeilnNr)/2-CV7+1-(CU7-MAX(TeilnNr)/2-1)+MAX(TeilnNr)-1),IF(CV7-(CU7-1)>=1,CV7-(CU7-1),CV7-(CU7-1)+MAX(TeilnNr)-1)))","v":1},{"$f":"IF(AND(CV7=1,MOD(CU7,2)<>IF(CT7>MAX(TeilnNr)-1,1,0)),MAX(TeilnNr),IF(MOD(CV7,2)<>IF(CT7>MAX(TeilnNr)-1,1,0),IF(MAX(TeilnNr)/2-CV7+1-(CU7-MAX(TeilnNr)/2-1)>=1,MAX(TeilnNr)/2-CV7+1-(CU7-MAX(TeilnNr)/2-1),MAX(TeilnNr)/2-CV7+1-(CU7-MAX(TeilnNr)/2-1)+MAX(TeilnNr)-1),IF(CV7-(CU7-1)>=1,CV7-(CU7-1),CV7-(CU7-1)+MAX(TeilnNr)-1)))","v":10},{"$f":"IF(LEFT(CS7,1)=\"V\",\"\",LEFT(CS7,1))","v":""},{"$f":"IF(RIGHT(CS7,1)=\"V\",\"\",RIGHT(CS7,1))","v":""},{"$f":"IF(CT7>MAX(TeilnNr)-1,ADDRESS(ROW(Teilnehmer)+CW7,COLUMN(Teilnehmer)+CX7+CX7),ADDRESS(ROW(Teilnehmer)+CW7,COLUMN(Teilnehmer)+CX7+CX7-1))","v":"$V$23"},{"$f":"IF(CT7>MAX(TeilnNr)-1,ADDRESS(ROW(Teilnehmer)+CX7,COLUMN(Teilnehmer)+CW7+CW7),ADDRESS(ROW(Teilnehmer)+CX7,COLUMN(Teilnehmer)+CW7+CW7-1))","v":"$D$32"},{"$f":"IF(OR(INDEX($CI$23:$CI$32,DL7),INDEX($CI$23:$CI$32,DM7)),0,1)","v":1},{"$f":"INDEX($CJ$23:$CJ$32,MATCH($DL7,TeilnNr,0))","v":"Spieler 10"},"-",{"$f":"INDEX($CJ$23:$CJ$32,MATCH($DM7,TeilnNr,0))","v":"Spieler 09"},null,null,{"$f":"DD6","v":2},{"$f":"IF(DD6>MAX(TeilnNr)-1,DD6-(MAX(TeilnNr)-1),DD6)","v":2},1,{"$f":"IF(AND(DK7=1,MOD(DJ7,2)=IF(DI7>MAX(TeilnNr)-1,1,0)),MAX(TeilnNr),IF(MOD(DK7,2)=IF(DI7>MAX(TeilnNr)-1,1,0),IF(MAX(TeilnNr)/2-DK7+1-(DJ7-MAX(TeilnNr)/2-1)>=1,MAX(TeilnNr)/2-DK7+1-(DJ7-MAX(TeilnNr)/2-1),MAX(TeilnNr)/2-DK7+1-(DJ7-MAX(TeilnNr)/2-1)+MAX(TeilnNr)-1),IF(DK7-(DJ7-1)>=1,DK7-(DJ7-1),DK7-(DJ7-1)+MAX(TeilnNr)-1)))","v":10},{"$f":"IF(AND(DK7=1,MOD(DJ7,2)<>IF(DI7>MAX(TeilnNr)-1,1,0)),MAX(TeilnNr),IF(MOD(DK7,2)<>IF(DI7>MAX(TeilnNr)-1,1,0),IF(MAX(TeilnNr)/2-DK7+1-(DJ7-MAX(TeilnNr)/2-1)>=1,MAX(TeilnNr)/2-DK7+1-(DJ7-MAX(TeilnNr)/2-1),MAX(TeilnNr)/2-DK7+1-(DJ7-MAX(TeilnNr)/2-1)+MAX(TeilnNr)-1),IF(DK7-(DJ7-1)>=1,DK7-(DJ7-1),DK7-(DJ7-1)+MAX(TeilnNr)-1)))","v":9},{"$f":"IF(LEFT(DH7,1)=\"V\",\"\",LEFT(DH7,1))","v":""},{"$f":"IF(RIGHT(DH7,1)=\"V\",\"\",RIGHT(DH7,1))","v":""},{"$f":"IF(DI7>MAX(TeilnNr)-1,ADDRESS(ROW(Teilnehmer)+DL7,COLUMN(Teilnehmer)+DM7+DM7),ADDRESS(ROW(Teilnehmer)+DL7,COLUMN(Teilnehmer)+DM7+DM7-1))","v":"$T$32"},{"$f":"IF(DI7>MAX(TeilnNr)-1,ADDRESS(ROW(Teilnehmer)+DM7,COLUMN(Teilnehmer)+DL7+DL7),ADDRESS(ROW(Teilnehmer)+DM7,COLUMN(Teilnehmer)+DL7+DL7-1))","v":"$V$31"},{"$f":"CN7","v":1},{"$f":"CO7","v":"Spieler 01"},"-",{"$f":"CQ7","v":"Spieler 10"},{"$f":"IF(ISNUMBER(CT7),IF(CT7>MAX(TeilnNr)-1,IF(CV7=1,1,IF(MOD(CV7,2)<>0,2,1)),IF(CV7=1,1,IF(MOD(CV7,2)<>0,1,2))),\"\")","v":1},null,{"$f":"IF(DV7=1,2,1)","v":2},{"$f":"DV7","v":1},null,{"$f":"IF(DK7=1,DX7*10,DX7)","v":20},{"$f":"DC7","v":1},{"$f":"DF7","v":"Spieler 09"},"-",{"$f":"DD7","v":"Spieler 10"},{"$f":"IF(ISNUMBER(DI7),IF(DI7>MAX(TeilnNr)-1,IF(DK7=1,2,IF(MOD(DK7,2)<>0,2,1)),IF(DK7=1,2,IF(MOD(DK7,2)<>0,1,2))),\"\")","v":2},null,{"$f":"IF(EF7=1,2,1)","v":1},{"$f":"EF7","v":2},null,{"$f":"IF(DK7=1,EH7*10,EH7)","v":10}]
[null,"","Spieler 02","","","","","","","","","","","","","","","","","","","","",0,0,0,0,0,0,0,2,null,null,null,null,null,null,null,null,null,null,null,null,null,null,8,"1) Punkte 2) Anz. Partien 3) direkte Begegnung 4) Anz.Schwarzpartien 5) So-Be 6) Manuelle Feinwertung ",null,null,null,null,null,null,null,null,null,null,null,null,null,null,null,null,null,null,null,null,null,null,null,null,null,null,null,6,"1) Punkte 2) Anz. Partien 3) So-Be 4) Anz.Schwarzpartien 5) direkte Begegnung 6) Manuelle Feinwertung ",null,null,null,null,null,null,null,null,null,null,null,null,null,null,null,{"$f":"CN7+1","v":2},{"$f":"INDEX($CJ$23:$CJ$32,MATCH($CW8,TeilnNr,0))","v":"Spieler 09"},"-",{"$f":"INDEX($CJ$23:$CJ$32,MATCH($CX8,TeilnNr,0))","v":"Spieler 02"},null,null,{"$f":"CT7","v":1},{"$f":"CU7","v":1},{"$f":"CV7+1","v":2},9,2,{"$f":"IF(LEFT(CS8,1)=\"V\",\"\",LEFT(CS8,1))","v":""},{"$f":"IF(RIGHT(CS8,1)=\"V\",\"\",RIGHT(CS8,1))","v":""},"$F$31","$T$24",{"$f":"DC7+1","v":2},{"$f":"INDEX($CJ$23:$CJ$32,MATCH($DL8,TeilnNr,0))","v":"Spieler 08"},"-",{"$f":"INDEX($CJ$23:$CJ$32,MATCH($DM8,TeilnNr,0))","v":"Spieler 01"},null,null,{"$f":"DI7","v":2},{"$f":"DJ7","v":2},{"$f":"DK7+1","v":2},8,1,{"$f":"IF(LEFT(DH8,1)=\"V\",\"\",LEFT(DH8,1))","v":""},{"$f":"IF(RIGHT(DH8,1)=\"V\",\"\",RIGHT(DH8,1))","v":""},"$D$30","$R$23",2,{"$f":"IF(CT8>MAX(TeilnNr)-1,CO8,CQ8)","v":"Spieler 02"},"-",{"$f":"IF(CT8>MAX(TeilnNr)-1,CQ8,CO8)","v":"Spieler 09"},{"$f":"IF(ISNUMBER(CT8),IF(CT8>MAX(TeilnNr)-1,IF(CV8=1,1,IF(MOD(CV8,2)<>0,2,1)),IF(CV8=1,1,IF(MOD(CV8,2)<>0,1,2))),\"\")","v":2},null,{"$f":"IF(DV8=1,2,1)","v":1},{"$f":"DV8","v":2},null,{"$f":"IF(DK8=1,DX8*10,DX8)","v":1},2,{"$f":"IF(DI8>MAX(TeilnNr)-1,DD8,DF8)","v":"Spieler 01"},"-",{"$f":"IF(DI8>MAX(TeilnNr)-1,DF8,DD8)","v":"Spieler 08"},{"$f":"IF(ISNUMBER(DI8),IF(DI8>MAX(TeilnNr)-1,IF(DK8=1,2,IF(MOD(DK8,2)<>0,2,1)),IF(DK8=1,2,IF(MOD(DK8,2)<>0,1,2))),\"\")","v":2},null,{"$f":"IF(EF8=1,2,1)","v":1},{"$f":"EF8","v":2},null,{"$f":"IF(DK8=1,EH8*10,EH8)","v":1}]
[null,"","Spieler 03","","","","","","","","","","","","","","","","","","","","",0,0,0,0,0,0,0,3,null,null,null,null,null,null,null,null,null,null,null,null,null,null,9,"1) Punkte 2) Anz. Partien 3) Anz.Schwarzpartien 4) So-Be 5) direkte Begegnung 6) Manuelle Feinwertung ",null,null,null,null,null,null,null,null,null,null,null,null,null,null,null,null,null,null,null,null,null,null,null,null,null,null,null,7,"1) Punkte 2) Anz. Partien 3) direkte Begegnung 4) So-Be 5) Anz.Schwarzpartien 6) Manuelle Feinwertung ",null,null,null,null,null,null,null,null,null,null,null,null,null,null,null,{"$f":"CN8+1","v":3},{"$f":"INDEX($CJ$23:$CJ$32,MATCH($CW9,TeilnNr,0))","v":"Spieler 03"},"-",{"$f":"INDEX($CJ$23:$CJ$32,MATCH($CX9,TeilnNr,0))","v":"Spieler 08"},null,null,{"$f":"CT8","v":1},{"$f":"CU8","v":1},{"$f":"CV8+1","v":3},3,8,{"$f":"IF(LEFT(CS9,1)=\"V\",\"\",LEFT(CS9,1))","v":""},{"$f":"IF(RIGHT(CS9,1)=\"V\",\"\",RIGHT(CS9,1))","v":""},"$R$25","$H$30",{"$f":"DC8+1","v":3},{"$f":"INDEX($CJ$23:$CJ$32,MATCH($DL9,TeilnNr,0))","v":"Spieler 02"},"-",{"$f":"INDEX($CJ$23:$CJ$32,MATCH($DM9,TeilnNr,0))","v":"Spieler 07"},null,null,{"$f":"DI8","v":2},{"$f":"DJ8","v":2},{"$f":"DK8+1","v":3},2,7,{"$f":"IF(LEFT(DH9,1)=\"V\",\"\",LEFT(DH9,1))","v":""},{"$f":"IF(RIGHT(DH9,1)=\"V\",\"\",RIGHT(DH9,1))","v":""},"$P$24","$F$29",3,{"$f":"IF(CT9>MAX(TeilnNr)-1,CQ9,CO9)","v":"Spieler 03"},"-",{"$f":"IF(CT9>MAX(TeilnNr)-1,CO9,CQ9)","v":"Spieler 08"},{"$f":"IF(ISNUMBER(CT9),IF(CT9>MAX(TeilnNr)-1,IF(CV9=1,1,IF(MOD(CV9,2)<>0,2,1)),IF(CV9=1,1,IF(MOD(CV9,2)<>0,1,2))),\"\")","v":1},null,2,1,null,2,3,{"$f":"IF(DI9>MAX(TeilnNr)-1,DF9,DD9)","v":"Spieler 02"},"-",{"$f":"IF(DI9>MAX(TeilnNr)-1,DD9,DF9)","v":"Spieler 07"},{"$f":"IF(ISNUMBER(DI9),IF(DI9>MAX(TeilnNr)-1,IF(DK9=1,2,IF(MOD(DK9,2)<>0,2,1)),IF(DK9=1,2,IF(MOD(DK9,2)<>0,1,2))),\"\")","v":1},null,2,1,null,2]
[null,"","Spieler 04","","","","","","","","","","","","","","","","","","","","",0,0,0,0,0,0,0,4,null,null,null,null,null,null,null,null,null,null,null,null,null,4,10,"1) Punkte 2) Anz. Partien 3) Anz.Schwarzpartien 4) direkte Begegnung 5) So-Be 6) Manuelle Feinwertung ",null,null,null,null,null,null,null,null,null,null,null,null,null,null,null,null,null,null,null,null,null,null,null,null,null,null,null,8,"1) Punkte 2) Anz. Partien 3) direkte Begegnung 4) Anz.Schwarzpartien 5) So-Be 6) Manuelle Feinwertung ",null,null,null,null,null,null,null,null,null,null,null,null,null,null,null,4,{"$f":"INDEX($CJ$23:$CJ$32,MATCH($CW10,TeilnNr,0))","v":"Spieler 07"},"-",{"$f":"INDEX($CJ$23:$CJ$32,MATCH($CX10,TeilnNr,0))","v":"Spieler 04"},null,null,1,1,4,7,4,{"$f":"IF(LEFT(CS10,1)=\"V\",\"\",LEFT(CS10,1))","v":""},{"$f":"IF(RIGHT(CS10,1)=\"V\",\"\",RIGHT(CS10,1))","v":""},"$J$29","$P$26",4,{"$f":"INDEX($CJ$23:$CJ$32,MATCH($DL10,TeilnNr,0))","v":"Spieler 06"},"-",{"$f":"INDEX($CJ$23:$CJ$32,MATCH($DM10,TeilnNr,0))","v":"Spieler 03"},null,null,2,2,4,6,3,{"$f":"IF(LEFT(DH10,1)=\"V\",\"\",LEFT(DH10,1))","v":""},{"$f":"IF(RIGHT(DH10,1)=\"V\",\"\",RIGHT(DH10,1))","v":""},"$H$28","$N$25",4,{"$f":"IF(CT10>MAX(TeilnNr)-1,CO10,CQ10)","v":"Spieler 04"},"-",{"$f":"IF(CT10>MAX(TeilnNr)-1,CQ10,CO10)","v":"Spieler 07"},{"$f":"IF(ISNUMBER(CT10),IF(CT10>MAX(TeilnNr)-1,IF(CV10=1,1,IF(MOD(CV10,2)<>0,2,1)),IF(CV10=1,1,IF(MOD(CV10,2)<>0,1,2))),\"\")","v":2},null,1,2,null,1,4,{"$f":"IF(DI10>MAX(TeilnNr)-1,DD10,DF10)","v":"Spieler 03"},"-",{"$f":"IF(DI10>MAX(TeilnNr)-1,DF10,DD10)","v":"Spieler 06"},{"$f":"IF(ISNUMBER(DI10),IF(DI10>MAX(TeilnNr)-1,IF(DK10=1,2,IF(MOD(DK10,2)<>0,2,1)),IF(DK10=1,2,IF(MOD(DK10,2)<>0,1,2))),\"\")","v":2},null,1,2,null,1]
[null,"","Spieler 05","","","","","","","","","","","","","","","","","","","","",0,0,0,0,0,0,0,5,null,null,null,null,null,null,null,null,null,null,null,null,null,null,null,null,null,null,null,null,null,null,null,null,null,null,null,null,null,null,null,null,null,null,null,null,null,null,null,null,null,null,null,9,"1) Punkte 2) Anz. Partien 3) Anz.Schwarzpartien 4) So-Be 5) direkte Begegnung 6) Manuelle Feinwertung ",null,null,null,null,null,null,null,null,null,null,null,null,null,null,null,5,{"$f":"INDEX($CJ$23:$CJ$32,MATCH($CW11,TeilnNr,0))","v":"Spieler 05"},"-",{"$f":"INDEX($CJ$23:$CJ$32,MATCH($CX11,TeilnNr,0))","v":"Spieler 06"},null,null,1,1,5,5,6,{"$f":"IF(LEFT(CS11,1)=\"V\",\"\",LEFT(CS11,1))","v":""},{"$f":"IF(RIGHT(CS11,1)=\"V\",\"\",RIGHT(CS11,1))","v":""},"$N$27","$L$28",5,{"$f":"INDEX($CJ$23:$CJ$32,MATCH($DL11,TeilnNr,0))","v":"Spieler 04"},"-",{"$f":"INDEX($CJ$23:$CJ$32,MATCH($DM11,TeilnNr,0))","v":"Spieler 05"},null,null,2,2,5,4,5,{"$f":"IF(LEFT(DH11,1)=\"V\",\"\",LEFT(DH11,1))","v":""},{"$f":"IF(RIGHT(DH11,1)=\"V\",\"\",RIGHT(DH11,1))","v":""},"$L$26","$J$27",5,{"$f":"IF(CT11>MAX(TeilnNr)-1,CQ11,CO11)","v":"Spieler 05"},"-",{"$f":"IF(CT11>MAX(TeilnNr)-1,CO11,CQ11)","v":"Spieler 06"},{"$f":"IF(ISNUMBER(CT11),IF(CT11>MAX(TeilnNr)-1,IF(CV11=1,1,IF(MOD(CV11,2)<>0,2,1)),IF(CV11=1,1,IF(MOD(CV11,2)<>0,1,2))),\"\")","v":1},null,2,1,null,2,5,{"$f":"IF(DI11>MAX(TeilnNr)-1,DF11,DD11)","v":"Spieler 04"},"-",{"$f":"IF(DI11>MAX(TeilnNr)-1,DD11,DF11)","v":"Spieler 05"},{"$f":"IF(ISNUMBER(DI11),IF(DI11>MAX(TeilnNr)-1,IF(DK11=1,2,IF(MOD(DK11,2)<>0,2,1)),IF(DK11=1,2,IF(MOD(DK11,2)<>0,1,2))),\"\")","v":1},null,2,1,null,2]
[null,"","Spieler 06","","","","","","","","","","","","","","","","","","","","",0,0,0,0,0,0,0,6,null,null,null,null,null,null,null,null,null,null,null,null,null,null,null,null,null,null,null,null,null,null,null,null,null,null,null,null,null,null,null,null,null,null,null,null,null,null,null,null,null,null,null,10,"1) Punkte 2) Anz. Partien 3) Anz.Schwarzpartien 4) direkte Begegnung 5) So-Be 6) Manuelle Feinwertung ",null,null,null,null,null,null,null,null,null,null,null,null,null,null,null,null,null,null,null,null,null,null,null,null,null,null,null,null,null,null,null,null,null,null,null,null,null,null,null,null,null,null,null,null,null,null,null,null,null,{"$f":"IF(ISNUMBER(CT12),IF(CT12>MAX(TeilnNr)-1,2,1),\"\")","v":""},null,null,{"$f":"IF(ISNUMBER(CW12),IF(CW12>MAX(TeilnNr)-1,2,1),\"\")","v":""},null,null,null,null,null,null,{"$f":"IF(ISNUMBER(DI12),IF(DI12>MAX(TeilnNr)-1,IF(DK12=1,1,IF(MOD(DK12,2)<>0,2,1)),IF(DK12=1,2,IF(MOD(DK12,2)<>0,1,2))),\"\")","v":""},null,null,{"$f":"IF(ISNUMBER(DG12),IF(DG12>MAX(TeilnNr)-1,2,1),\"\")","v":""}]
[null,"","Spieler 07","","","","","","","","","","","","","","","","","","","","",0,0,0,0,0,0,0,7,null,null,null,null,null,null,null,null,null,null,null,null,null,null,null,null,null,null,null,null,null,null,null,null,null,null,null,null,null,null,null,null,null,null,null,null,null,null,null,null,null,null,null,null,null,null,null,null,null,null,null,null,null,null,null,null,null,null,null,null,null,{"$f":"CO6+2","v":3},null,null,null,null,"N°","R","B","SpNr w","SpNr s","Res w","Res s",null,null,null,{"$f":"DD6+2","v":4},null,null,null,null,"N°","R","B","SpNr w","SpNr s","Res w","Res s",null,null,null,{"$f":"CO13","v":3},null,{"$f":"IF(CO13=MAX(TeilnNr),\"-> Bretter drehen!\",\"\")","v":""},{"$f":"IF(ISNUMBER(CT13),IF(CT13>MAX(TeilnNr)-1,2,1),\"\")","v":""},null,null,{"$f":"IF(ISNUMBER(CW13),IF(CW13>MAX(TeilnNr)-1,2,1),\"\")","v":""},null,null,null,{"$f":"DD13","v":4},null,{"$f":"IF(DD13=MAX(TeilnNr),\"-> Bretter drehen!\",\"\")","v":""},{"$f":"IF(ISNUMBER(DI13),IF(DI13>MAX(TeilnNr)-1,IF(MOD(DK13,2)<>0,2,1),IF(MOD(DK13,2)<>0,1,2)),\"\")","v":""},null,null,{"$f":"IF(ISNUMBER(DG13),IF(DG13>MAX(TeilnNr)-1,2,1),\"\")","v":""}]
[null,"","Spieler 08","","","","","","","","","","","","","","","","","","","","",0,0,0,0,0,0,0,8,null,null,null,null,null,null,null,null,null,null,null,null,null,null,null,null,null,null,null,null,null,null,null,null,null,null,null,null,null,null,null,null,null,null,null,null,null,null,null,null,null,null,null,null,null,null,null,null,null,null,null,null,null,null,null,null,null,null,null,null,{"$f":"IF(OR(INDEX($CI$23:$CI$32,CW14),INDEX($CI$23:$CI$32,CX14)),0,1)","v":1},{"$f":"INDEX($CJ$23:$CJ$32,MATCH($CW14,TeilnNr,0))","v":"Spieler 08"},"-",{"$f":"INDEX($CJ$23:$CJ$32,MATCH($CX14,TeilnNr,0))","v":"Spieler 10"},null,null,{"$f":"CO13","v":3},{"$f":"IF(CO13>MAX(TeilnNr)-1,CO13-(MAX(TeilnNr)-1),CO13)","v":3},1,{"$f":"IF(AND(CV14=1,MOD(CU14,2)=IF(CT14>MAX(TeilnNr)-1,1,0)),MAX(TeilnNr),IF(MOD(CV14,2)=IF(CT14>MAX(TeilnNr)-1,1,0),IF(MAX(TeilnNr)/2-CV14+1-(CU14-MAX(TeilnNr)/2-1)>=1,MAX(TeilnNr)/2-CV14+1-(CU14-MAX(TeilnNr)/2-1),MAX(TeilnNr)/2-CV14+1-(CU14-MAX(TeilnNr)/2-1)+MAX(TeilnNr)-1),IF(CV14-(CU14-1)>=1,CV14-(CU14-1),CV14-(CU14-1)+MAX(TeilnNr)-1)))","v":8},{"$f":"IF(AND(CV14=1,MOD(CU14,2)<>IF(CT14>MAX(TeilnNr)-1,1,0)),MAX(TeilnNr),IF(MOD(CV14,2)<>IF(CT14>MAX(TeilnNr)-1,1,0),IF(MAX(TeilnNr)/2-CV14+1-(CU14-MAX(TeilnNr)/2-1)>=1,MAX(TeilnNr)/2-CV14+1-(CU14-MAX(TeilnNr)/2-1),MAX(TeilnNr)/2-CV14+1-(CU14-MAX(TeilnNr)/2-1)+MAX(TeilnNr)-1),IF(CV14-(CU14-1)>=1,CV14-(CU14-1),CV14-(CU14-1)+MAX(TeilnNr)-1)))","v":10},{"$f":"IF(LEFT(CS14,1)=\"V\",\"\",LEFT(CS14,1))","v":""},{"$f":"IF(RIGHT(CS14,1)=\"V\",\"\",RIGHT(CS14,1))","v":""},{"$f":"IF(CT14>MAX(TeilnNr)-1,ADDRESS(ROW(Teilnehmer)+CW14,COLUMN(Teilnehmer)+CX14+CX14),ADDRESS(ROW(Teilnehmer)+CW14,COLUMN(Teilnehmer)+CX14+CX14-1))","v":"$V$30"},{"$f":"IF(CT14>MAX(TeilnNr)-1,ADDRESS(ROW(Teilnehmer)+CX14,COLUMN(Teilnehmer)+CW14+CW14),ADDRESS(ROW(Teilnehmer)+CX14,COLUMN(Teilnehmer)+CW14+CW14-1))","v":"$R$32"},{"$f":"IF(OR(INDEX($CI$23:$CI$32,DL14),INDEX($CI$23:$CI$32,DM14)),0,1)","v":1},{"$f":"INDEX($CJ$23:$CJ$32,MATCH($DL14,TeilnNr,0))","v":"Spieler 10"},"-",{"$f":"INDEX($CJ$23:$CJ$32,MATCH($DM14,TeilnNr,0))","v":"Spieler 07"},null,null,{"$f":"DD13","v":4},{"$f":"IF(DD13>MAX(TeilnNr)-1,DD13-(MAX(TeilnNr)-1),DD13)","v":4},1,{"$f":"IF(AND(DK14=1,MOD(DJ14,2)=IF(DI14>MAX(TeilnNr)-1,1,0)),MAX(TeilnNr),IF(MOD(DK14,2)=IF(DI14>MAX(TeilnNr)-1,1,0),IF(MAX(TeilnNr)/2-DK14+1-(DJ14-MAX(TeilnNr)/2-1)>=1,MAX(TeilnNr)/2-DK14+1-(DJ14-MAX(TeilnNr)/2-1),MAX(TeilnNr)/2-DK14+1-(DJ14-MAX(TeilnNr)/2-1)+MAX(TeilnNr)-1),IF(DK14-(DJ14-1)>=1,DK14-(DJ14-1),DK14-(DJ14-1)+MAX(TeilnNr)-1)))","v":10},{"$f":"IF(AND(DK14=1,MOD(DJ14,2)<>IF(DI14>MAX(TeilnNr)-1,1,0)),MAX(TeilnNr),IF(MOD(DK14,2)<>IF(DI14>MAX(TeilnNr)-1,1,0),IF(MAX(TeilnNr)/2-DK14+1-(DJ14-MAX(TeilnNr)/2-1)>=1,MAX(TeilnNr)/2-DK14+1-(DJ14-MAX(TeilnNr)/2-1),MAX(TeilnNr)/2-DK14+1-(DJ14-MAX(TeilnNr)/2-1)+MAX(TeilnNr)-1),IF(DK14-(DJ14-1)>=1,DK14-(DJ14-1),DK14-(DJ14-1)+MAX(TeilnNr)-1)))","v":7},{"$f":"IF(LEFT(DH14,1)=\"V\",\"\",LEFT(DH14,1))","v":""},{"$f":"IF(RIGHT(DH14,1)=\"V\",\"\",RIGHT(DH14,1))","v":""},{"$f":"IF(DI14>MAX(TeilnNr)-1,ADDRESS(ROW(Teilnehmer)+DL14,COLUMN(Teilnehmer)+DM14+DM14),ADDRESS(ROW(Teilnehmer)+DL14,COLUMN(Teilnehmer)+DM14+DM14-1))","v":"$P$32"},{"$f":"IF(DI14>MAX(TeilnNr)-1,ADDRESS(ROW(Teilnehmer)+DM14,COLUMN(Teilnehmer)+DL14+DL14),ADDRESS(ROW(Teilnehmer)+DM14,COLUMN(Teilnehmer)+DL14+DL14-1))","v":"$V$29"},{"$f":"CN14","v":1},{"$f":"CO14","v":"Spieler 08"},"-",{"$f":"CQ14","v":"Spieler 10"},{"$f":"IF(ISNUMBER(CT14),IF(CT14>MAX(TeilnNr)-1,IF(CV14=1,1,IF(MOD(CV14,2)<>0,2,1)),IF(CV14=1,1,IF(MOD(CV14,2)<>0,1,2))),\"\")","v":1},null,{"$f":"IF(DV14=1,2,1)","v":2},{"$f":"DV14","v":1},null,{"$f":"IF(DK14=1,DX14*10,DX14)","v":20},{"$f":"DC14","v":1},{"$f":"DF14","v":"Spieler 07"},"-",{"$f":"DD14","v":"Spieler 10"},{"$f":"IF(ISNUMBER(DI14),IF(DI14>MAX(TeilnNr)-1,IF(DK14=1,2,IF(MOD(DK14,2)<>0,2,1)),IF(DK14=1,2,IF(MOD(DK14,2)<>0,1,2))),\"\")","v":2},null,{"$f":"IF(EF14=1,2,1)","v":1},{"$f":"EF14","v":2},null,{"$f":"IF(DK14=1,EH14*10,EH14)","v":10}]
[null,"","Spieler 09","","","","","","","","","","","","","","","","","","","","",0,0,0,0,0,0,0,9,null,null,null,null,null,null,null,null,null,null,null,null,null,null,null,null,null,null,null,null,null,null,null,null,null,null,null,null,null,null,null,null,null,null,null,null,null,null,null,null,null,null,null,null,null,null,null,null,null,null,null,null,null,null,null,null,null,null,null,null,{"$f":"CN14+1","v":2},{"$f":"INDEX($CJ$23:$CJ$32,MATCH($CW15,TeilnNr,0))","v":"Spieler 07"},"-",{"$f":"INDEX($CJ$23:$CJ$32,MATCH($CX15,TeilnNr,0))","v":"Spieler 09"},null,null,{"$f":"CT14","v":3},{"$f":"CU14","v":3},{"$f":"CV14+1","v":2},7,9,{"$f":"IF(LEFT(CS15,1)=\"V\",\"\",LEFT(CS15,1))","v":""},{"$f":"IF(RIGHT(CS15,1)=\"V\",\"\",RIGHT(CS15,1))","v":""},"$T$29","$P$31",{"$f":"DC14+1","v":2},{"$f":"INDEX($CJ$23:$CJ$32,MATCH($DL15,TeilnNr,0))","v":"Spieler 06"},"-",{"$f":"INDEX($CJ$23:$CJ$32,MATCH($DM15,TeilnNr,0))","v":"Spieler 08"},null,null,{"$f":"DI14","v":4},{"$f":"DJ14","v":4},{"$f":"DK14+1","v":2},6,8,{"$f":"IF(LEFT(DH15,1)=\"V\",\"\",LEFT(DH15,1))","v":""},{"$f":"IF(RIGHT(DH15,1)=\"V\",\"\",RIGHT(DH15,1))","v":""},"$R$28","$N$30",2,{"$f":"IF(CT15>MAX(TeilnNr)-1,CO15,CQ15)","v":"Spieler 09"},"-",{"$f":"IF(CT15>MAX(TeilnNr)-1,CQ15,CO15)","v":"Spieler 07"},{"$f":"IF(ISNUMBER(CT15),IF(CT15>MAX(TeilnNr)-1,IF(CV15=1,1,IF(MOD(CV15,2)<>0,2,1)),IF(CV15=1,1,IF(MOD(CV15,2)<>0,1,2))),\"\")","v":2},null,{"$f":"IF(DV15=1,2,1)","v":1},2,null,1,2,{"$f":"IF(DI15>MAX(TeilnNr)-1,DD15,DF15)","v":"Spieler 08"},"-",{"$f":"IF(DI15>MAX(TeilnNr)-1,DF15,DD15)","v":"Spieler 06"},{"$f":"IF(ISNUMBER(DI15),IF(DI15>MAX(TeilnNr)-1,IF(DK15=1,2,IF(MOD(DK15,2)<>0,2,1)),IF(DK15=1,2,IF(MOD(DK15,2)<>0,1,2))),\"\")","v":2},null,1,2,null,1]
[null,"","Spieler 10","","","","","","","","","","","","","","","","","","","","",0,0,0,0,0,0,0,10,null,null,null,null,null,null,null,null,null,null,null,null,null,null,null,null,null,null,null,null,null,null,null,null,null,null,null,null,null,null,null,null,null,null,null,null,null,null,null,null,null,null,null,null,null,null,null,null,null,null,null,null,null,null,null,null,null,null,null,null,{"$f":"CN15+1","v":3},{"$f":"INDEX($CJ$23:$CJ$32,MATCH($CW16,TeilnNr,0))","v":"Spieler 01"},"-",{"$f":"INDEX($CJ$23:$CJ$32,MATCH($CX16,TeilnNr,0))","v":"Spieler 06"},null,null,{"$f":"CT15","v":3},{"$f":"CU15","v":3},{"$f":"CV15+1","v":3},1,6,{"$f":"IF(LEFT(CS16,1)=\"V\",\"\",LEFT(CS16,1))","v":""},{"$f":"IF(RIGHT(CS16,1)=\"V\",\"\",RIGHT(CS16,1))","v":""},"$N$23","$D$28",{"$f":"DC15+1","v":3},{"$f":"INDEX($CJ$23:$CJ$32,MATCH($DL16,TeilnNr,0))","v":"Spieler 09"},"-",{"$f":"INDEX($CJ$23:$CJ$32,MATCH($DM16,TeilnNr,0))","v":"Spieler 05"},null,null,{"$f":"DI15","v":4},{"$f":"DJ15","v":4},{"$f":"DK15+1","v":3},9,5,{"$f":"IF(LEFT(DH16,1)=\"V\",\"\",LEFT(DH16,1))","v":""},{"$f":"IF(RIGHT(DH16,1)=\"V\",\"\",RIGHT(DH16,1))","v":""},"$L$31","$T$27",3,{"$f":"IF(CT16>MAX(TeilnNr)-1,CQ16,CO16)","v":"Spieler 01"},"-",{"$f":"IF(CT16>MAX(TeilnNr)-1,CO16,CQ16)","v":"Spieler 06"},{"$f":"IF(ISNUMBER(CT16),IF(CT16>MAX(TeilnNr)-1,IF(CV16=1,1,IF(MOD(CV16,2)<>0,2,1)),IF(CV16=1,1,IF(MOD(CV16,2)<>0,1,2))),\"\")","v":1},null,2,1,null,2,3,{"$f":"IF(DI16>MAX(TeilnNr)-1,DF16,DD16)","v":"Spieler 09"},"-",{"$f":"IF(DI16>MAX(TeilnNr)-1,DD16,DF16)","v":"Spieler 05"},{"$f":"IF(ISNUMBER(DI16),IF(DI16>MAX(TeilnNr)-1,IF(DK16=1,2,IF(MOD(DK16,2)<>0,2,1)),IF(DK16=1,2,IF(MOD(DK16,2)<>0,1,2))),\"\")","v":1},null,2,1,null,2]
[null,"Wertungskriterien:",null,null,null,null,null,null,null,null,null,null,null,null,null,null,null,null,null,null,null,null,null,null,null,null,null,null,null,null,null,null,null,null,null,null,null,null,null,null,null,null,null,null,null,null,null,null,null,null,null,null,null,null,null,null,null,null,null,null,null,null,null,null,null,null,null,null,null,null,null,null,null,null,null,null,null,null,null,null,null,null,null,null,null,null,null,null,null,null,null,4,{"$f":"INDEX($CJ$23:$CJ$32,MATCH($CW17,TeilnNr,0))","v":"Spieler 05"},"-",{"$f":"INDEX($CJ$23:$CJ$32,MATCH($CX17,TeilnNr,0))","v":"Spieler 02"},null,null,3,3,4,5,2,{"$f":"IF(LEFT(CS17,1)=\"V\",\"\",LEFT(CS17,1))","v":""},{"$f":"IF(RIGHT(CS17,1)=\"V\",\"\",RIGHT(CS17,1))","v":""},"$F$27","$L$24",4,{"$f":"INDEX($CJ$23:$CJ$32,MATCH($DL17,TeilnNr,0))","v":"Spieler 04"},"-",{"$f":"INDEX($CJ$23:$CJ$32,MATCH($DM17,TeilnNr,0))","v":"Spieler 01"},null,null,4,4,4,4,1,{"$f":"IF(LEFT(DH17,1)=\"V\",\"\",LEFT(DH17,1))","v":""},{"$f":"IF(RIGHT(DH17,1)=\"V\",\"\",RIGHT(DH17,1))","v":""},"$D$26","$J$23",4,{"$f":"IF(CT17>MAX(TeilnNr)-1,CO17,CQ17)","v":"Spieler 02"},"-",{"$f":"IF(CT17>MAX(TeilnNr)-1,CQ17,CO17)","v":"Spieler 05"},{"$f":"IF(ISNUMBER(CT17),IF(CT17>MAX(TeilnNr)-1,IF(CV17=1,1,IF(MOD(CV17,2)<>0,2,1)),IF(CV17=1,1,IF(MOD(CV17,2)<>0,1,2))),\"\")","v":2},null,1,2,null,1,4,{"$f":"IF(DI17>MAX(TeilnNr)-1,DD17,DF17)","v":"Spieler 01"},"-",{"$f":"IF(DI17>MAX(TeilnNr)-1,DF17,DD17)","v":"Spieler 04"},{"$f":"IF(ISNUMBER(DI17),IF(DI17>MAX(TeilnNr)-1,IF(DK17=1,2,IF(MOD(DK17,2)<>0,2,1)),IF(DK17=1,2,IF(MOD(DK17,2)<>0,1,2))),\"\")","v":2},null,1,2,null,1]
[null,{"$f":"INDEX(Wertungskriterien,WertungskriterienA)","v":"1) Punkte 2) Anz. Partien 3) So-Be 4) direkte Begegnung 5) Manuelle Feinwertung "},null,null,null,null,null,null,null,null,null,null,null,null,null,null,null,null,null,null,null,null,null,null,null,null,null,null,null,null,null,null,null,null,null,null,null,null,null,null,null,null,null,null,null,null,null,null,null,null,null,null,null,null,null,null,null,null,null,null,null,null,null,null,null,null,null,null,null,null,null,null,null,null,null,null,null,null,null,null,null,null,null,null,null,null,null,null,null,null,null,5,{"$f":"INDEX($CJ$23:$CJ$32,MATCH($CW18,TeilnNr,0))","v":"Spieler 03"},"-",{"$f":"INDEX($CJ$23:$CJ$32,MATCH($CX18,TeilnNr,0))","v":"Spieler 04"},null,null,3,3,5,3,4,{"$f":"IF(LEFT(CS18,1)=\"V\",\"\",LEFT(CS18,1))","v":""},{"$f":"IF(RIGHT(CS18,1)=\"V\",\"\",RIGHT(CS18,1))","v":""},"$J$25","$H$26",5,{"$f":"INDEX($CJ$23:$CJ$32,MATCH($DL18,TeilnNr,0))","v":"Spieler 02"},"-",{"$f":"INDEX($CJ$23:$CJ$32,MATCH($DM18,TeilnNr,0))","v":"Spieler 03"},null,null,4,4,5,2,3,{"$f":"IF(LEFT(DH18,1)=\"V\",\"\",LEFT(DH18,1))","v":""},{"$f":"IF(RIGHT(DH18,1)=\"V\",\"\",RIGHT(DH18,1))","v":""},"$H$24","$F$25",5,{"$f":"IF(CT18>MAX(TeilnNr)-1,CQ18,CO18)","v":"Spieler 03"},"-",{"$f":"IF(CT18>MAX(TeilnNr)-1,CO18,CQ18)","v":"Spieler 04"},{"$f":"IF(ISNUMBER(CT18),IF(CT18>MAX(TeilnNr)-1,IF(CV18=1,1,IF(MOD(CV18,2)<>0,2,1)),IF(CV18=1,1,IF(MOD(CV18,2)<>0,1,2))),\"\")","v":1},null,2,1,null,2,5,{"$f":"IF(DI18>MAX(TeilnNr)-1,DF18,DD18)","v":"Spieler 02"},"-",{"$f":"IF(DI18>MAX(TeilnNr)-1,DD18,DF18)","v":"Spieler 03"},{"$f":"IF(ISNUMBER(DI18),IF(DI18>MAX(TeilnNr)-1,IF(DK18=1,2,IF(MOD(DK18,2)<>0,2,1)),IF(DK18=1,2,IF(MOD(DK18,2)<>0,1,2))),\"\")","v":1},null,2,1,null,2]
[null,null,null,null,null,null,null,null,null,null,null,null,null,null,null,null,null,null,null,null,null,null,null,null,null,null,null,null,null,null,null,null,null,null,null,null,null,null,null,null,null,null,null,null,null,null,null,null,null,null,null,null,null,null,null,null,null,null,null,null,null,null,null,null,null,null,null,null,null,null,null,null,null,null,null,null,null,null,null,null,null,null,null,null,null,null,null,null,null,null,null,null,null,null,null,null,null,null,null,null,null,null,null,null,null,null,null,null,null,null,null,null,null,null,null,null,null,null,null,null,null,null,null,null,null,{"$f":"IF(ISNUMBER(CT19),IF(CT19>MAX(TeilnNr)-1,2,1),\"\")","v":""},null,null,{"$f":"IF(ISNUMBER(CW19),IF(CW19>MAX(TeilnNr)-1,2,1),\"\")","v":""},null,null,null,null,null,null,{"$f":"IF(ISNUMBER(DI19),IF(DI19>MAX(TeilnNr)-1,IF(DK19=1,1,IF(MOD(DK19,2)<>0,2,1)),IF(DK19=1,2,IF(MOD(DK19,2)<>0,1,2))),\"\")","v":""},null,null,{"$f":"IF(ISNUMBER(DG19),IF(DG19>MAX(TeilnNr)-1,2,1),\"\")","v":""}]
[null,"+",null,null,null,null,null,null,null,null,null,null,null,null,null,null,null,null,null,null,null,null,null,null,null,null,{"$f":"IF(EinAusblenden=\"-\",\"\",IF(FWPlusMinus=\"+\",\"é\",\"ê\"))","v":"é"},null,null,null,null,null,null,null,null,null,null,null,null,null,null,null,null,null,null,null,null,null,null,null,null,null,null,null,null,null,null,null,null,null,null,null,null,null,null,null,null,null,null,null,null,null,null,null,null,null,null,null,null,null,null,null,null,null,null,null,null,null,null,null,null,null,{"$f":"CO13+2","v":5},null,null,null,null,"N°","R","B","SpNr w","SpNr s","Res w","Res s",null,null,null,{"$f":"DD13+2","v":6},null,null,null,null,"N°","R","B","SpNr w","SpNr s","Res w","Res s",null,null,null,{"$f":"CO20","v":5},null,{"$f":"IF(CO20=MAX(TeilnNr),\"-> Bretter drehen!\",\"\")","v":""},{"$f":"IF(ISNUMBER(CT20),IF(CT20>MAX(TeilnNr)-1,2,1),\"\")","v":""},null,null,{"$f":"IF(ISNUMBER(CW20),IF(CW20>MAX(TeilnNr)-1,2,1),\"\")","v":""},null,null,null,{"$f":"DD20","v":6},null,{"$f":"IF(DD20=MAX(TeilnNr),\"-> Bretter drehen!\",\"\")","v":""},{"$f":"IF(ISNUMBER(DI20),IF(DI20>MAX(TeilnNr)-1,IF(MOD(DK20,2)<>0,2,1),IF(MOD(DK20,2)<>0,1,2)),\"\")","v":""},null,null,{"$f":"IF(ISNUMBER(DG20),IF(DG20>MAX(TeilnNr)-1,2,1),\"\")","v":""}]
[null,"Turniertabelle",null,null,null,null,null,null,null,null,null,null,null,null,null,null,null,null,null,null,null,null,null,null,null,"manuelle Feinwertung: ","+","Partien",null,null,null,"Punkte",null,null,null,null,null,null,null,null,null,null,null,"Sonneborn-Berger-Berechnung",null,null,null,null,null,null,null,null,null,null,null,{"$f":"MAX(BD23:BD32)","v":0},null,null,null,null,{"$f":"FWPlusMinus=\"+\"","v":true},"Summierung Wertungskriterien vor direkter Begegnung",null,null,null,null,null,null,null,null,null,null,null,null,"Summierung Wertungskriterien nach direkter Begegnung",null,null,null,null,null,null,null,null,null,null,null,null,null,null,null,null,{"$f":"IF(OR(INDEX($CI$23:$CI$32,CW21),INDEX($CI$23:$CI$32,CX21)),0,1)","v":1},{"$f":"INDEX($CJ$23:$CJ$32,MATCH($CW21,TeilnNr,0))","v":"Spieler 06"},"-",{"$f":"INDEX($CJ$23:$CJ$32,MATCH($CX21,TeilnNr,0))","v":"Spieler 10"},null,null,{"$f":"CO20","v":5},{"$f":"IF(CO20>MAX(TeilnNr)-1,CO20-(MAX(TeilnNr)-1),CO20)","v":5},1,{"$f":"IF(AND(CV21=1,MOD(CU21,2)=IF(CT21>MAX(TeilnNr)-1,1,0)),MAX(TeilnNr),IF(MOD(CV21,2)=IF(CT21>MAX(TeilnNr)-1,1,0),IF(MAX(TeilnNr)/2-CV21+1-(CU21-MAX(TeilnNr)/2-1)>=1,MAX(TeilnNr)/2-CV21+1-(CU21-MAX(TeilnNr)/2-1),MAX(TeilnNr)/2-CV21+1-(CU21-MAX(TeilnNr)/2-1)+MAX(TeilnNr)-1),IF(CV21-(CU21-1)>=1,CV21-(CU21-1),CV21-(CU21-1)+MAX(TeilnNr)-1)))","v":6},{"$f":"IF(AND(CV21=1,MOD(CU21,2)<>IF(CT21>MAX(TeilnNr)-1,1,0)),MAX(TeilnNr),IF(MOD(CV21,2)<>IF(CT21>MAX(TeilnNr)-1,1,0),IF(MAX(TeilnNr)/2-CV21+1-(CU21-MAX(TeilnNr)/2-1)>=1,MAX(TeilnNr)/2-CV21+1-(CU21-MAX(TeilnNr)/2-1),MAX(TeilnNr)/2-CV21+1-(CU21-MAX(TeilnNr)/2-1)+MAX(TeilnNr)-1),IF(CV21-(CU21-1)>=1,CV21-(CU21-1),CV21-(CU21-1)+MAX(TeilnNr)-1)))","v":10},{"$f":"IF(LEFT(CS21,1)=\"V\",\"\",LEFT(CS21,1))","v":""},{"$f":"IF(RIGHT(CS21,1)=\"V\",\"\",RIGHT(CS21,1))","v":""},{"$f":"IF(CT21>MAX(TeilnNr)-1,ADDRESS(ROW(Teilnehmer)+CW21,COLUMN(Teilnehmer)+CX21+CX21),ADDRESS(ROW(Teilnehmer)+CW21,COLUMN(Teilnehmer)+CX21+CX21-1))","v":"$V$28"},{"$f":"IF(CT21>MAX(TeilnNr)-1,ADDRESS(ROW(Teilnehmer)+CX21,COLUMN(Teilnehmer)+CW21+CW21),ADDRESS(ROW(Teilnehmer)+CX21,COLUMN(Teilnehmer)+CW21+CW21-1))","v":"$N$32"},{"$f":"IF(OR(INDEX($CI$23:$CI$32,DL21),INDEX($CI$23:$CI$32,DM21)),0,1)","v":1},{"$f":"INDEX($CJ$23:$CJ$32,MATCH($DL21,TeilnNr,0))","v":"Spieler 10"},"-",{"$f":"INDEX($CJ$23:$CJ$32,MATCH($DM21,TeilnNr,0))","v":"Spieler 05"},null,null,{"$f":"DD20","v":6},{"$f":"IF(DD20>MAX(TeilnNr)-1,DD20-(MAX(TeilnNr)-1),DD20)","v":6},1,{"$f":"IF(AND(DK21=1,MOD(DJ21,2)=IF(DI21>MAX(TeilnNr)-1,1,0)),MAX(TeilnNr),IF(MOD(DK21,2)=IF(DI21>MAX(TeilnNr)-1,1,0),IF(MAX(TeilnNr)/2-DK21+1-(DJ21-MAX(TeilnNr)/2-1)>=1,MAX(TeilnNr)/2-DK21+1-(DJ21-MAX(TeilnNr)/2-1),MAX(TeilnNr)/2-DK21+1-(DJ21-MAX(TeilnNr)/2-1)+MAX(TeilnNr)-1),IF(DK21-(DJ21-1)>=1,DK21-(DJ21-1),DK21-(DJ21-1)+MAX(TeilnNr)-1)))","v":10},{"$f":"IF(AND(DK21=1,MOD(DJ21,2)<>IF(DI21>MAX(TeilnNr)-1,1,0)),MAX(TeilnNr),IF(MOD(DK21,2)<>IF(DI21>MAX(TeilnNr)-1,1,0),IF(MAX(TeilnNr)/2-DK21+1-(DJ21-MAX(TeilnNr)/2-1)>=1,MAX(TeilnNr)/2-DK21+1-(DJ21-MAX(TeilnNr)/2-1),MAX(TeilnNr)/2-DK21+1-(DJ21-MAX(TeilnNr)/2-1)+MAX(TeilnNr)-1),IF(DK21-(DJ21-1)>=1,DK21-(DJ21-1),DK21-(DJ21-1)+MAX(TeilnNr)-1)))","v":5},{"$f":"IF(LEFT(DH21,1)=\"V\",\"\",LEFT(DH21,1))","v":""},{"$f":"IF(RIGHT(DH21,1)=\"V\",\"\",RIGHT(DH21,1))","v":""},{"$f":"IF(DI21>MAX(TeilnNr)-1,ADDRESS(ROW(Teilnehmer)+DL21,COLUMN(Teilnehmer)+DM21+DM21),ADDRESS(ROW(Teilnehmer)+DL21,COLUMN(Teilnehmer)+DM21+DM21-1))","v":"$L$32"},{"$f":"IF(DI21>MAX(TeilnNr)-1,ADDRESS(ROW(Teilnehmer)+DM21,COLUMN(Teilnehmer)+DL21+DL21),ADDRESS(ROW(Teilnehmer)+DM21,COLUMN(Teilnehmer)+DL21+DL21-1))","v":"$V$27"},{"$f":"CN21","v":1},{"$f":"CO21","v":"Spieler 06"},"-",{"$f":"CQ21","v":"Spieler 10"},{"$f":"IF(ISNUMBER(CT21),IF(CT21>MAX(TeilnNr)-1,IF(CV21=1,1,IF(MOD(CV21,2)<>0,2,1)),IF(CV21=1,1,IF(MOD(CV21,2)<>0,1,2))),\"\")","v":1},null,{"$f":"IF(DV21=1,2,1)","v":2},{"$f":"DV21","v":1},null,{"$f":"IF(DK21=1,DX21*10,DX21)","v":20},{"$f":"DC21","v":1},{"$f":"DF21","v":"Spieler 05"},"-",{"$f":"DD21","v":"Spieler 10"},{"$f":"IF(ISNUMBER(DI21),IF(DI21>MAX(TeilnNr)-1,IF(DK21=1,2,IF(MOD(DK21,2)<>0,2,1)),IF(DK21=1,2,IF(MOD(DK21,2)<>0,1,2))),\"\")","v":2},null,{"$f":"IF(EF21=1,2,1)","v":1},{"$f":"EF21","v":2},null,{"$f":"IF(DK21=1,EH21*10,EH21)","v":10}]
[null,"Nr.","Teilnehmer",1,null,2,null,3,null,4,null,5,null,6,null,7,null,8,null,9,null,10,null,"Punkte","Spiele","So-Be","FWx","weiss","schw.","Rang",null,1,2,3,4,5,6,7,8,9,10,"P",null,1,2,3,4,5,6,7,8,9,10,"So-Be",null,{"$f":"IF(AA22=\"\",\"FW2\",AA22)","v":"FWx"},"RangPt","RangAnz","RangSoBe","RangSw","RangFW","Wertung 1","Wertung 2","Wertung 3","Wertung 4","Wertung 5","Wertung 6","Wertung 7","Wertung 8","Wertung 9","Wertung 10","Wertung","direkte Begegnung","Rang dirBg","Wertung 1","Wertung 2","Wertung 3","Wertung 4","Wertung 5","Wertung 6","Wertung 7","Wertung 8","Wertung 9","Wertung 10","Wertung2","Rang","Platzhltr?","Name","Alphabet","Rang&Alph","Reihflge",{"$f":"CN21+1","v":2},{"$f":"INDEX($CJ$23:$CJ$32,MATCH($CW22,TeilnNr,0))","v":"Spieler 05"},"-",{"$f":"INDEX($CJ$23:$CJ$32,MATCH($CX22,TeilnNr,0))","v":"Spieler 07"},null,null,{"$f":"CT21","v":5},{"$f":"CU21","v":5},{"$f":"CV21+1","v":2},5,7,{"$f":"IF(LEFT(CS22,1)=\"V\",\"\",LEFT(CS22,1))","v":""},{"$f":"IF(RIGHT(CS22,1)=\"V\",\"\",RIGHT(CS22,1))","v":""},"$P$27","$L$29",{"$f":"DC21+1","v":2},{"$f":"INDEX($CJ$23:$CJ$32,MATCH($DL22,TeilnNr,0))","v":"Spieler 04"},"-",{"$f":"INDEX($CJ$23:$CJ$32,MATCH($DM22,TeilnNr,0))","v":"Spieler 06"},null,null,{"$f":"DI21","v":6},{"$f":"DJ21","v":6},{"$f":"DK21+1","v":2},4,6,{"$f":"IF(LEFT(DH22,1)=\"V\",\"\",LEFT(DH22,1))","v":""},{"$f":"IF(RIGHT(DH22,1)=\"V\",\"\",RIGHT(DH22,1))","v":""},"$N$26","$J$28",2,{"$f":"IF(CT22>MAX(TeilnNr)-1,CO22,CQ22)","v":"Spieler 07"},"-",{"$f":"IF(CT22>MAX(TeilnNr)-1,CQ22,CO22)","v":"Spieler 05"},{"$f":"IF(ISNUMBER(CT22),IF(CT22>MAX(TeilnNr)-1,IF(CV22=1,1,IF(MOD(CV22,2)<>0,2,1)),IF(CV22=1,1,IF(MOD(CV22,2)<>0,1,2))),\"\")","v":2},null,1,2,null,1,2,{"$f":"IF(DI22>MAX(TeilnNr)-1,DD22,DF22)","v":"Spieler 06"},"-",{"$f":"IF(DI22>MAX(TeilnNr)-1,DF22,DD22)","v":"Spieler 04"},{"$f":"IF(ISNUMBER(DI22),IF(DI22>MAX(TeilnNr)-1,IF(DK22=1,2,IF(MOD(DK22,2)<>0,2,1)),IF(DK22=1,2,IF(MOD(DK22,2)<>0,1,2))),\"\")","v":2},null,1,2,null,1]
[null,1,null,{"$f":"IF(ISNA(MATCH(ADDRESS(ROW(),COLUMN()),$DA:$DA,0)),\"\",INDEX($CY:$CY,MATCH(ADDRESS(ROW(),COLUMN()),$DA:$DA,0)))&IF(ISNA(MATCH(ADDRESS(ROW(),COLUMN()),$DB:$DB,0)),\"\",INDEX($CZ:$CZ,MATCH(ADDRESS(ROW(),COLUMN()),$DB:$DB,0)))&IF(ISNA(MATCH(ADDRESS(ROW(),COLUMN()),$DP:$DP,0)),\"\",INDEX($DN:$DN,MATCH(ADDRESS(ROW(),COLUMN()),$DP:$DP,0)))&IF(ISNA(MATCH(ADDRESS(ROW(),COLUMN()),$DQ:$DQ,0)),\"\",INDEX($DO:$DO,MATCH(ADDRESS(ROW(),COLUMN()),$DQ:$DQ,0)))","v":""},"","","","","","","","","",{"$f":"IF(ISNA(MATCH(ADDRESS(ROW(),COLUMN()),$DA:$DA,0)),\"\",INDEX($CY:$CY,MATCH(ADDRESS(ROW(),COLUMN()),$DA:$DA,0)))&IF(ISNA(MATCH(ADDRESS(ROW(),COLUMN()),$DB:$DB,0)),\"\",INDEX($CZ:$CZ,MATCH(ADDRESS(ROW(),COLUMN()),$DB:$DB,0)))&IF(ISNA(MATCH(ADDRESS(ROW(),COLUMN()),$DP:$DP,0)),\"\",INDEX($DN:$DN,MATCH(ADDRESS(ROW(),COLUMN()),$DP:$DP,0)))&IF(ISNA(MATCH(ADDRESS(ROW(),COLUMN()),$DQ:$DQ,0)),\"\",INDEX($DO:$DO,MATCH(ADDRESS(ROW(),COLUMN()),$DQ:$DQ,0)))","v":""},"","","","","","","","","",{"$f":"AP23","v":0},{"$f":"MAX($B$23:$B$32)*2-COUNTIF($D23:W23,\"\")","v":0},{"$f":"BB23","v":0},null,{"$f":"IF($CI23,0,COUNTIFS($CW:$CW,$B23,$CS:$CS,\"<>\")+COUNTIFS($DL:$DL,$B23,$DH:$DH,\"<>\"))","v":0},{"$f":"IF($CI23,0,COUNTIFS($CX:$CX,$B23,$CS:$CS,\"<>\")+COUNTIFS($DM:$DM,$B23,$DH:$DH,\"<>\"))","v":0},{"$f":"CH23","v":1},null,{"$f":"IF(D23=\"\",0,VLOOKUP(D23,Wertung,3,FALSE))+IF(E23=\"\",0,VLOOKUP(E23,Wertung,3,FALSE))","v":0},{"$f":"IF(F23=\"\",0,VLOOKUP(F23,Wertung,3,FALSE))+IF(G23=\"\",0,VLOOKUP(G23,Wertung,3,FALSE))","v":0},{"$f":"IF(H23=\"\",0,VLOOKUP(H23,Wertung,3,FALSE))+IF(I23=\"\",0,VLOOKUP(I23,Wertung,3,FALSE))","v":0},{"$f":"IF(J23=\"\",0,VLOOKUP(J23,Wertung,3,FALSE))+IF(K23=\"\",0,VLOOKUP(K23,Wertung,3,FALSE))","v":0},{"$f":"IF(L23=\"\",0,VLOOKUP(L23,Wertung,3,FALSE))+IF(M23=\"\",0,VLOOKUP(M23,Wertung,3,FALSE))","v":0},{"$f":"IF(N23=\"\",0,VLOOKUP(N23,Wertung,3,FALSE))+IF(O23=\"\",0,VLOOKUP(O23,Wertung,3,FALSE))","v":0},{"$f":"IF(P23=\"\",0,VLOOKUP(P23,Wertung,3,FALSE))+IF(Q23=\"\",0,VLOOKUP(Q23,Wertung,3,FALSE))","v":0},{"$f":"IF(R23=\"\",0,VLOOKUP(R23,Wertung,3,FALSE))+IF(S23=\"\",0,VLOOKUP(S23,Wertung,3,FALSE))","v":0},{"$f":"IF(T23=\"\",0,VLOOKUP(T23,Wertung,3,FALSE))+IF(U23=\"\",0,VLOOKUP(U23,Wertung,3,FALSE))","v":0},{"$f":"IF(V23=\"\",0,VLOOKUP(V23,Wertung,3,FALSE))+IF(W23=\"\",0,VLOOKUP(W23,Wertung,3,FALSE))","v":0},{"$f":"SUM(AF23:AO23)","v":0},null,{"$f":"AF23*INDEX($AP:$AP,ROW($AR$22)+AF$22)","v":0},{"$f":"AG23*INDEX($AP:$AP,ROW($AR$22)+AG$22)","v":0},{"$f":"AH23*INDEX($AP:$AP,ROW($AR$22)+AH$22)","v":0},{"$f":"AI23*INDEX($AP:$AP,ROW($AR$22)+AI$22)","v":0},{"$f":"AJ23*INDEX($AP:$AP,ROW($AR$22)+AJ$22)","v":0},{"$f":"AK23*INDEX($AP:$AP,ROW($AR$22)+AK$22)","v":0},{"$f":"AL23*INDEX($AP:$AP,ROW($AR$22)+AL$22)","v":0},{"$f":"AM23*INDEX($AP:$AP,ROW($AR$22)+AM$22)","v":0},{"$f":"AN23*INDEX($AP:$AP,ROW($AR$22)+AN$22)","v":0},{"$f":"AO23*INDEX($AP:$AP,ROW($AR$22)+AO$22)","v":0},{"$f":"SUM(AR23:BA23)","v":0},null,{"$f":"AA23","v":0},{"$f":"RANK($AP23,$AP$23:$AP$32,0)","v":1},{"$f":"RANK($Y23,$Y$23:$Y$32,1)","v":1},{"$f":"RANK($BB23,$BB$23:$BB$32,0)","v":1},{"$f":"RANK($AC23,$AC$23:$AC$32,0)","v":1},{"$f":"RANK($BD23,$BD$23:$BD$32,IF($BI$21,0,1))","v":1},{"$f":"VALUE(CONCATENATE(IF(CI23,\"1\",\"0\"),TEXT($BE23,\"00\"),TEXT($BG23,\"00\"),TEXT($BI23,\"00\")))","v":10101},{"$f":"VALUE(CONCATENATE(IF(CI23,\"1\",\"0\"),TEXT($BE23,\"00\"),TEXT($BG23,\"00\")))","v":101},{"$f":"VALUE(CONCATENATE(IF(CI23,\"1\",\"0\"),TEXT($BE23,\"00\"),TEXT($BF23,\"00\"),TEXT($BG23,\"00\"),TEXT($BI23,\"00\")))","v":1010101},{"$f":"VALUE(CONCATENATE(IF(CI23,\"1\",\"0\"),TEXT($BE23,\"00\"),TEXT($BF23,\"00\"),TEXT($BG23,\"00\")))","v":10101},{"$f":"VALUE(CONCATENATE(IF(CI23,\"1\",\"0\"),TEXT($BE23,\"00\"),TEXT($BF23,\"00\"),TEXT($BG23,\"00\")))","v":10101},{"$f":"VALUE(CONCATENATE(IF(CI23,\"1\",\"0\"),TEXT($BE23,\"00\"),TEXT($BF23,\"00\"),TEXT($BG23,\"00\"),TEXT($BH23,\"00\")))","v":1010101},{"$f":"VALUE(CONCATENATE(IF(CI23,\"1\",\"0\"),TEXT($BE23,\"00\"),TEXT($BF23,\"00\")))","v":101},{"$f":"VALUE(CONCATENATE(IF(CI23,\"1\",\"0\"),TEXT($BE23,\"00\"),TEXT($BF23,\"00\")))","v":101},{"$f":"VALUE(CONCATENATE(IF(CI23,\"1\",\"0\"),TEXT($BE23,\"00\"),TEXT($BF23,\"00\"),TEXT($BH23,\"00\"),TEXT($BG23,\"00\")))","v":1010101},{"$f":"VALUE(CONCATENATE(IF(CI23,\"1\",\"0\"),TEXT($BE23,\"00\"),TEXT($BF23,\"00\"),TEXT($BH23,\"00\")))","v":10101},{"$f":"INDEX($BJ23:$BS23,1,WertungskriterienA)","v":10101},{"$f":"SUM((TRANSPOSE($BT$23:$BT$32)=BT23)*$AF23:$AO23)","v":0},{"$f":"RANK($BU23,$BU$23:$BU$32,0)","v":1},{"$f":"$BT23","v":10101},{"$f":"VALUE(CONCATENATE($BT23,TEXT($BV23,\"00\"),TEXT($BI23,\"00\")))","v":101010101},{"$f":"$BT23","v":10101},{"$f":"VALUE(CONCATENATE($BT23,TEXT($BV23,\"00\"),TEXT($BI23,\"00\")))","v":101010101},{"$f":"VALUE(CONCATENATE($BT23,TEXT($BV23,\"00\"),TEXT($BH23,\"00\"),TEXT($BI23,\"00\")))","v":10101010101},{"$f":"VALUE(CONCATENATE($BT23,TEXT($BV23,\"00\"),TEXT($BI23,\"00\")))","v":101010101},{"$f":"VALUE(CONCATENATE($BT23,TEXT($BV23,\"00\"),TEXT($BG23,\"00\"),TEXT($BH23,\"00\"),TEXT($BI23,\"00\")))","v":1010101010101},{"$f":"VALUE(CONCATENATE($BT23,TEXT($BV23,\"00\"),TEXT($BH23,\"00\"),TEXT($BG23,\"00\"),TEXT($BI23,\"00\")))","v":1010101010101},{"$f":"VALUE(CONCATENATE($BT23,TEXT($BV23,\"00\"),TEXT($BI23,\"00\")))","v":101010101},{"$f":"VALUE(CONCATENATE($BT23,TEXT($BV23,\"00\"),TEXT($BG23,\"00\"),TEXT($BI23,\"00\")))","v":10101010101},{"$f":"INDEX(BW23:CF23,1,WertungskriterienA)","v":101010101},{"$f":"RANK(CG23,$CG$23:$CG$32,1)","v":1},{"$f":"IF($C23=\"\",FALSE,AND(LEN($C23)=1,OR(CODE($C23)<65,CODE($C23)>122,AND(CODE($C23)>90,CODE($C23)<97)),NOT(AND(CODE($C23)>48,CODE($C23)<58))))","v":false},{"$f":"IF(CI23,$C23,IF($C23=\"\",\"Spieler \"&TEXT($B23,\"00\"),$C23))","v":"Spieler 01"},{"$f":"IF(CI23,MAX(TeilnNr),0)+SUMPRODUCT((CJ23>$CJ$23:$CJ$32)*1)","v":0},{"$f":"CH23+CK23/1000+B23/1000000","v":1.0000009999999999},{"$f":"RANK(CL23,$CL$23:$CL$32,1)","v":1},{"$f":"CN22+1","v":3},{"$f":"INDEX($CJ$23:$CJ$32,MATCH($CW23,TeilnNr,0))","v":"Spieler 08"},"-",{"$f":"INDEX($CJ$23:$CJ$32,MATCH($CX23,TeilnNr,0))","v":"Spieler 04"},null,null,{"$f":"CT22","v":5},{"$f":"CU22","v":5},{"$f":"CV22+1","v":3},{"$f":"IF(AND(CV23=1,MOD(CU23,2)=IF(CT23>MAX(TeilnNr)-1,1,0)),MAX(TeilnNr),IF(MOD(CV23,2)=IF(CT23>MAX(TeilnNr)-1,1,0),IF(MAX(TeilnNr)/2-CV23+1-(CU23-MAX(TeilnNr)/2-1)>=1,MAX(TeilnNr)/2-CV23+1-(CU23-MAX(TeilnNr)/2-1),MAX(TeilnNr)/2-CV23+1-(CU23-MAX(TeilnNr)/2-1)+MAX(TeilnNr)-1),IF(CV23-(CU23-1)>=1,CV23-(CU23-1),CV23-(CU23-1)+MAX(TeilnNr)-1)))","v":8},{"$f":"IF(AND(CV23=1,MOD(CU23,2)<>IF(CT23>MAX(TeilnNr)-1,1,0)),MAX(TeilnNr),IF(MOD(CV23,2)<>IF(CT23>MAX(TeilnNr)-1,1,0),IF(MAX(TeilnNr)/2-CV23+1-(CU23-MAX(TeilnNr)/2-1)>=1,MAX(TeilnNr)/2-CV23+1-(CU23-MAX(TeilnNr)/2-1),MAX(TeilnNr)/2-CV23+1-(CU23-MAX(TeilnNr)/2-1)+MAX(TeilnNr)-1),IF(CV23-(CU23-1)>=1,CV23-(CU23-1),CV23-(CU23-1)+MAX(TeilnNr)-1)))","v":4},{"$f":"IF(LEFT(CS23,1)=\"V\",\"\",LEFT(CS23,1))","v":""},{"$f":"IF(RIGHT(CS23,1)=\"V\",\"\",RIGHT(CS23,1))","v":""},{"$f":"IF(CT23>MAX(TeilnNr)-1,ADDRESS(ROW(Teilnehmer)+CW23,COLUMN(Teilnehmer)+CX23+CX23),ADDRESS(ROW(Teilnehmer)+CW23,COLUMN(Teilnehmer)+CX23+CX23-1))","v":"$J$30"},{"$f":"IF(CT23>MAX(TeilnNr)-1,ADDRESS(ROW(Teilnehmer)+CX23,COLUMN(Teilnehmer)+CW23+CW23),ADDRESS(ROW(Teilnehmer)+CX23,COLUMN(Teilnehmer)+CW23+CW23-1))","v":"$R$26"},{"$f":"DC22+1","v":3},{"$f":"INDEX($CJ$23:$CJ$32,MATCH($DL23,TeilnNr,0))","v":"Spieler 07"},"-",{"$f":"INDEX($CJ$23:$CJ$32,MATCH($DM23,TeilnNr,0))","v":"Spieler 03"},null,null,{"$f":"DI22","v":6},{"$f":"DJ22","v":6},{"$f":"DK22+1","v":3},{"$f":"IF(AND(DK23=1,MOD(DJ23,2)=IF(DI23>MAX(TeilnNr)-1,1,0)),MAX(TeilnNr),IF(MOD(DK23,2)=IF(DI23>MAX(TeilnNr)-1,1,0),IF(MAX(TeilnNr)/2-DK23+1-(DJ23-MAX(TeilnNr)/2-1)>=1,MAX(TeilnNr)/2-DK23+1-(DJ23-MAX(TeilnNr)/2-1),MAX(TeilnNr)/2-DK23+1-(DJ23-MAX(TeilnNr)/2-1)+MAX(TeilnNr)-1),IF(DK23-(DJ23-1)>=1,DK23-(DJ23-1),DK23-(DJ23-1)+MAX(TeilnNr)-1)))","v":7},{"$f":"IF(AND(DK23=1,MOD(DJ23,2)<>IF(DI23>MAX(TeilnNr)-1,1,0)),MAX(TeilnNr),IF(MOD(DK23,2)<>IF(DI23>MAX(TeilnNr)-1,1,0),IF(MAX(TeilnNr)/2-DK23+1-(DJ23-MAX(TeilnNr)/2-1)>=1,MAX(TeilnNr)/2-DK23+1-(DJ23-MAX(TeilnNr)/2-1),MAX(TeilnNr)/2-DK23+1-(DJ23-MAX(TeilnNr)/2-1)+MAX(TeilnNr)-1),IF(DK23-(DJ23-1)>=1,DK23-(DJ23-1),DK23-(DJ23-1)+MAX(TeilnNr)-1)))","v":3},{"$f":"IF(LEFT(DH23,1)=\"V\",\"\",LEFT(DH23,1))","v":""},{"$f":"IF(RIGHT(DH23,1)=\"V\",\"\",RIGHT(DH23,1))","v":""},{"$f":"IF(DI23>MAX(TeilnNr)-1,ADDRESS(ROW(Teilnehmer)+DL23,COLUMN(Teilnehmer)+DM23+DM23),ADDRESS(ROW(Teilnehmer)+DL23,COLUMN(Teilnehmer)+DM23+DM23-1))","v":"$H$29"},{"$f":"IF(DI23>MAX(TeilnNr)-1,ADDRESS(ROW(Teilnehmer)+DM23,COLUMN(Teilnehmer)+DL23+DL23),ADDRESS(ROW(Teilnehmer)+DM23,COLUMN(Teilnehmer)+DL23+DL23-1))","v":"$P$25"},3,{"$f":"IF(CT23>MAX(TeilnNr)-1,CQ23,CO23)","v":"Spieler 08"},"-",{"$f":"IF(CT23>MAX(TeilnNr)-1,CO23,CQ23)","v":"Spieler 04"},{"$f":"IF(ISNUMBER(CT23),IF(CT23>MAX(TeilnNr)-1,IF(CV23=1,1,IF(MOD(CV23,2)<>0,2,1)),IF(CV23=1,1,IF(MOD(CV23,2)<>0,1,2))),\"\")","v":1},null,2,1,null,2,3,{"$f":"IF(DI23>MAX(TeilnNr)-1,DF23,DD23)","v":"Spieler 07"},"-",{"$f":"IF(DI23>MAX(TeilnNr)-1,DD23,DF23)","v":"Spieler 03"},{"$f":"IF(ISNUMBER(DI23),IF(DI23>MAX(TeilnNr)-1,IF(DK23=1,2,IF(MOD(DK23,2)<>0,2,1)),IF(DK23=1,2,IF(MOD(DK23,2)<>0,1,2))),\"\")","v":1},null,2,1,null,2]
[null,2,null,"","","","","","","","","","","","","","","","","","","","",0,{"$f":"MAX($B$23:$B$32)*2-COUNTIF($D24:W24,\"\")","v":0},0,null,0,0,1,null,0,0,0,0,0,0,0,0,0,0,0,null,0,0,0,0,0,0,0,0,0,0,0,null,0,1,1,1,1,1,{"$f":"VALUE(CONCATENATE(IF(CI24,\"1\",\"0\"),TEXT($BE24,\"00\"),TEXT($BG24,\"00\"),TEXT($BI24,\"00\")))","v":10101},{"$f":"VALUE(CONCATENATE(IF(CI24,\"1\",\"0\"),TEXT($BE24,\"00\"),TEXT($BG24,\"00\")))","v":101},{"$f":"VALUE(CONCATENATE(IF(CI24,\"1\",\"0\"),TEXT($BE24,\"00\"),TEXT($BF24,\"00\"),TEXT($BG24,\"00\"),TEXT($BI24,\"00\")))","v":1010101},{"$f":"VALUE(CONCATENATE(IF(CI24,\"1\",\"0\"),TEXT($BE24,\"00\"),TEXT($BF24,\"00\"),TEXT($BG24,\"00\")))","v":10101},{"$f":"VALUE(CONCATENATE(IF(CI24,\"1\",\"0\"),TEXT($BE24,\"00\"),TEXT($BF24,\"00\"),TEXT($BG24,\"00\")))","v":10101},{"$f":"VALUE(CONCATENATE(IF(CI24,\"1\",\"0\"),TEXT($BE24,\"00\"),TEXT($BF24,\"00\"),TEXT($BG24,\"00\"),TEXT($BH24,\"00\")))","v":1010101},{"$f":"VALUE(CONCATENATE(IF(CI24,\"1\",\"0\"),TEXT($BE24,\"00\"),TEXT($BF24,\"00\")))","v":101},{"$f":"VALUE(CONCATENATE(IF(CI24,\"1\",\"0\"),TEXT($BE24,\"00\"),TEXT($BF24,\"00\")))","v":101},{"$f":"VALUE(CONCATENATE(IF(CI24,\"1\",\"0\"),TEXT($BE24,\"00\"),TEXT($BF24,\"00\"),TEXT($BH24,\"00\"),TEXT($BG24,\"00\")))","v":1010101},{"$f":"VALUE(CONCATENATE(IF(CI24,\"1\",\"0\"),TEXT($BE24,\"00\"),TEXT($BF24,\"00\"),TEXT($BH24,\"00\")))","v":10101},{"$f":"INDEX($BJ24:$BS24,1,WertungskriterienA)","v":10101},{"$f":"SUM((TRANSPOSE($BT$23:$BT$32)=BT24)*$AF24:$AO24)","v":0},1,10101,101010101,10101,101010101,10101010101,101010101,1010101010101,1010101010101,101010101,10101010101,{"$f":"INDEX(BW24:CF24,1,WertungskriterienA)","v":101010101},1,{"$f":"IF($C24=\"\",FALSE,AND(LEN($C24)=1,OR(CODE($C24)<65,CODE($C24)>122,AND(CODE($C24)>90,CODE($C24)<97)),NOT(AND(CODE($C24)>48,CODE($C24)<58))))","v":false},"Spieler 02",1,1.0010019999999999,2,4,{"$f":"INDEX($CJ$23:$CJ$32,MATCH($CW24,TeilnNr,0))","v":"Spieler 03"},"-",{"$f":"INDEX($CJ$23:$CJ$32,MATCH($CX24,TeilnNr,0))","v":"Spieler 09"},null,null,5,{"$f":"CU23","v":5},4,{"$f":"IF(AND(CV24=1,MOD(CU24,2)=IF(CT24>MAX(TeilnNr)-1,1,0)),MAX(TeilnNr),IF(MOD(CV24,2)=IF(CT24>MAX(TeilnNr)-1,1,0),IF(MAX(TeilnNr)/2-CV24+1-(CU24-MAX(TeilnNr)/2-1)>=1,MAX(TeilnNr)/2-CV24+1-(CU24-MAX(TeilnNr)/2-1),MAX(TeilnNr)/2-CV24+1-(CU24-MAX(TeilnNr)/2-1)+MAX(TeilnNr)-1),IF(CV24-(CU24-1)>=1,CV24-(CU24-1),CV24-(CU24-1)+MAX(TeilnNr)-1)))","v":3},{"$f":"IF(AND(CV24=1,MOD(CU24,2)<>IF(CT24>MAX(TeilnNr)-1,1,0)),MAX(TeilnNr),IF(MOD(CV24,2)<>IF(CT24>MAX(TeilnNr)-1,1,0),IF(MAX(TeilnNr)/2-CV24+1-(CU24-MAX(TeilnNr)/2-1)>=1,MAX(TeilnNr)/2-CV24+1-(CU24-MAX(TeilnNr)/2-1),MAX(TeilnNr)/2-CV24+1-(CU24-MAX(TeilnNr)/2-1)+MAX(TeilnNr)-1),IF(CV24-(CU24-1)>=1,CV24-(CU24-1),CV24-(CU24-1)+MAX(TeilnNr)-1)))","v":9},{"$f":"IF(LEFT(CS24,1)=\"V\",\"\",LEFT(CS24,1))","v":""},{"$f":"IF(RIGHT(CS24,1)=\"V\",\"\",RIGHT(CS24,1))","v":""},{"$f":"IF(CT24>MAX(TeilnNr)-1,ADDRESS(ROW(Teilnehmer)+CW24,COLUMN(Teilnehmer)+CX24+CX24),ADDRESS(ROW(Teilnehmer)+CW24,COLUMN(Teilnehmer)+CX24+CX24-1))","v":"$T$25"},{"$f":"IF(CT24>MAX(TeilnNr)-1,ADDRESS(ROW(Teilnehmer)+CX24,COLUMN(Teilnehmer)+CW24+CW24),ADDRESS(ROW(Teilnehmer)+CX24,COLUMN(Teilnehmer)+CW24+CW24-1))","v":"$H$31"},4,{"$f":"INDEX($CJ$23:$CJ$32,MATCH($DL24,TeilnNr,0))","v":"Spieler 02"},"-",{"$f":"INDEX($CJ$23:$CJ$32,MATCH($DM24,TeilnNr,0))","v":"Spieler 08"},null,null,6,6,4,{"$f":"IF(AND(DK24=1,MOD(DJ24,2)=IF(DI24>MAX(TeilnNr)-1,1,0)),MAX(TeilnNr),IF(MOD(DK24,2)=IF(DI24>MAX(TeilnNr)-1,1,0),IF(MAX(TeilnNr)/2-DK24+1-(DJ24-MAX(TeilnNr)/2-1)>=1,MAX(TeilnNr)/2-DK24+1-(DJ24-MAX(TeilnNr)/2-1),MAX(TeilnNr)/2-DK24+1-(DJ24-MAX(TeilnNr)/2-1)+MAX(TeilnNr)-1),IF(DK24-(DJ24-1)>=1,DK24-(DJ24-1),DK24-(DJ24-1)+MAX(TeilnNr)-1)))","v":2},{"$f":"IF(AND(DK24=1,MOD(DJ24,2)<>IF(DI24>MAX(TeilnNr)-1,1,0)),MAX(TeilnNr),IF(MOD(DK24,2)<>IF(DI24>MAX(TeilnNr)-1,1,0),IF(MAX(TeilnNr)/2-DK24+1-(DJ24-MAX(TeilnNr)/2-1)>=1,MAX(TeilnNr)/2-DK24+1-(DJ24-MAX(TeilnNr)/2-1),MAX(TeilnNr)/2-DK24+1-(DJ24-MAX(TeilnNr)/2-1)+MAX(TeilnNr)-1),IF(DK24-(DJ24-1)>=1,DK24-(DJ24-1),DK24-(DJ24-1)+MAX(TeilnNr)-1)))","v":8},{"$f":"IF(LEFT(DH24,1)=\"V\",\"\",LEFT(DH24,1))","v":""},{"$f":"IF(RIGHT(DH24,1)=\"V\",\"\",RIGHT(DH24,1))","v":""},{"$f":"IF(DI24>MAX(TeilnNr)-1,ADDRESS(ROW(Teilnehmer)+DL24,COLUMN(Teilnehmer)+DM24+DM24),ADDRESS(ROW(Teilnehmer)+DL24,COLUMN(Teilnehmer)+DM24+DM24-1))","v":"$R$24"},{"$f":"IF(DI24>MAX(TeilnNr)-1,ADDRESS(ROW(Teilnehmer)+DM24,COLUMN(Teilnehmer)+DL24+DL24),ADDRESS(ROW(Teilnehmer)+DM24,COLUMN(Teilnehmer)+DL24+DL24-1))","v":"$F$30"},4,{"$f":"IF(CT24>MAX(TeilnNr)-1,CO24,CQ24)","v":"Spieler 09"},"-",{"$f":"IF(CT24>MAX(TeilnNr)-1,CQ24,CO24)","v":"Spieler 03"},{"$f":"IF(ISNUMBER(CT24),IF(CT24>MAX(TeilnNr)-1,IF(CV24=1,1,IF(MOD(CV24,2)<>0,2,1)),IF(CV24=1,1,IF(MOD(CV24,2)<>0,1,2))),\"\")","v":2},null,1,2,null,1,4,{"$f":"IF(DI24>MAX(TeilnNr)-1,DD24,DF24)","v":"Spieler 08"},"-",{"$f":"IF(DI24>MAX(TeilnNr)-1,DF24,DD24)","v":"Spieler 02"},{"$f":"IF(ISNUMBER(DI24),IF(DI24>MAX(TeilnNr)-1,IF(DK24=1,2,IF(MOD(DK24,2)<>0,2,1)),IF(DK24=1,2,IF(MOD(DK24,2)<>0,1,2))),\"\")","v":2},null,1,2,null,1]
[null,3,null,"","","","","","","","","","","","","","","","","","","","",0,{"$f":"MAX($B$23:$B$32)*2-COUNTIF($D25:W25,\"\")","v":0},0,null,0,0,1,null,0,0,0,0,0,0,0,0,0,0,0,null,0,0,0,0,0,0,0,0,0,0,0,null,0,1,1,1,1,1,10101,101,1010101,10101,10101,1010101,101,101,1010101,10101,{"$f":"INDEX($BJ25:$BS25,1,WertungskriterienA)","v":10101},{"$f":"SUM((TRANSPOSE($BT$23:$BT$32)=BT25)*$AF25:$AO25)","v":0},1,10101,101010101,10101,101010101,10101010101,101010101,1010101010101,1010101010101,101010101,10101010101,{"$f":"INDEX(BW25:CF25,1,WertungskriterienA)","v":101010101},1,false,"Spieler 03",2,1.002003,3,5,{"$f":"INDEX($CJ$23:$CJ$32,MATCH($CW25,TeilnNr,0))","v":"Spieler 01"},"-",{"$f":"INDEX($CJ$23:$CJ$32,MATCH($CX25,TeilnNr,0))","v":"Spieler 02"},null,null,5,{"$f":"CU24","v":5},5,{"$f":"IF(AND(CV25=1,MOD(CU25,2)=IF(CT25>MAX(TeilnNr)-1,1,0)),MAX(TeilnNr),IF(MOD(CV25,2)=IF(CT25>MAX(TeilnNr)-1,1,0),IF(MAX(TeilnNr)/2-CV25+1-(CU25-MAX(TeilnNr)/2-1)>=1,MAX(TeilnNr)/2-CV25+1-(CU25-MAX(TeilnNr)/2-1),MAX(TeilnNr)/2-CV25+1-(CU25-MAX(TeilnNr)/2-1)+MAX(TeilnNr)-1),IF(CV25-(CU25-1)>=1,CV25-(CU25-1),CV25-(CU25-1)+MAX(TeilnNr)-1)))","v":1},{"$f":"IF(AND(CV25=1,MOD(CU25,2)<>IF(CT25>MAX(TeilnNr)-1,1,0)),MAX(TeilnNr),IF(MOD(CV25,2)<>IF(CT25>MAX(TeilnNr)-1,1,0),IF(MAX(TeilnNr)/2-CV25+1-(CU25-MAX(TeilnNr)/2-1)>=1,MAX(TeilnNr)/2-CV25+1-(CU25-MAX(TeilnNr)/2-1),MAX(TeilnNr)/2-CV25+1-(CU25-MAX(TeilnNr)/2-1)+MAX(TeilnNr)-1),IF(CV25-(CU25-1)>=1,CV25-(CU25-1),CV25-(CU25-1)+MAX(TeilnNr)-1)))","v":2},{"$f":"IF(LEFT(CS25,1)=\"V\",\"\",LEFT(CS25,1))","v":""},{"$f":"IF(RIGHT(CS25,1)=\"V\",\"\",RIGHT(CS25,1))","v":""},{"$f":"IF(CT25>MAX(TeilnNr)-1,ADDRESS(ROW(Teilnehmer)+CW25,COLUMN(Teilnehmer)+CX25+CX25),ADDRESS(ROW(Teilnehmer)+CW25,COLUMN(Teilnehmer)+CX25+CX25-1))","v":"$F$23"},{"$f":"IF(CT25>MAX(TeilnNr)-1,ADDRESS(ROW(Teilnehmer)+CX25,COLUMN(Teilnehmer)+CW25+CW25),ADDRESS(ROW(Teilnehmer)+CX25,COLUMN(Teilnehmer)+CW25+CW25-1))","v":"$D$24"},5,{"$f":"INDEX($CJ$23:$CJ$32,MATCH($DL25,TeilnNr,0))","v":"Spieler 09"},"-",{"$f":"INDEX($CJ$23:$CJ$32,MATCH($DM25,TeilnNr,0))","v":"Spieler 01"},null,null,6,6,5,{"$f":"IF(AND(DK25=1,MOD(DJ25,2)=IF(DI25>MAX(TeilnNr)-1,1,0)),MAX(TeilnNr),IF(MOD(DK25,2)=IF(DI25>MAX(TeilnNr)-1,1,0),IF(MAX(TeilnNr)/2-DK25+1-(DJ25-MAX(TeilnNr)/2-1)>=1,MAX(TeilnNr)/2-DK25+1-(DJ25-MAX(TeilnNr)/2-1),MAX(TeilnNr)/2-DK25+1-(DJ25-MAX(TeilnNr)/2-1)+MAX(TeilnNr)-1),IF(DK25-(DJ25-1)>=1,DK25-(DJ25-1),DK25-(DJ25-1)+MAX(TeilnNr)-1)))","v":9},{"$f":"IF(AND(DK25=1,MOD(DJ25,2)<>IF(DI25>MAX(TeilnNr)-1,1,0)),MAX(TeilnNr),IF(MOD(DK25,2)<>IF(DI25>MAX(TeilnNr)-1,1,0),IF(MAX(TeilnNr)/2-DK25+1-(DJ25-MAX(TeilnNr)/2-1)>=1,MAX(TeilnNr)/2-DK25+1-(DJ25-MAX(TeilnNr)/2-1),MAX(TeilnNr)/2-DK25+1-(DJ25-MAX(TeilnNr)/2-1)+MAX(TeilnNr)-1),IF(DK25-(DJ25-1)>=1,DK25-(DJ25-1),DK25-(DJ25-1)+MAX(TeilnNr)-1)))","v":1},{"$f":"IF(LEFT(DH25,1)=\"V\",\"\",LEFT(DH25,1))","v":""},{"$f":"IF(RIGHT(DH25,1)=\"V\",\"\",RIGHT(DH25,1))","v":""},{"$f":"IF(DI25>MAX(TeilnNr)-1,ADDRESS(ROW(Teilnehmer)+DL25,COLUMN(Teilnehmer)+DM25+DM25),ADDRESS(ROW(Teilnehmer)+DL25,COLUMN(Teilnehmer)+DM25+DM25-1))","v":"$D$31"},{"$f":"IF(DI25>MAX(TeilnNr)-1,ADDRESS(ROW(Teilnehmer)+DM25,COLUMN(Teilnehmer)+DL25+DL25),ADDRESS(ROW(Teilnehmer)+DM25,COLUMN(Teilnehmer)+DL25+DL25-1))","v":"$T$23"},5,{"$f":"IF(CT25>MAX(TeilnNr)-1,CQ25,CO25)","v":"Spieler 01"},"-",{"$f":"IF(CT25>MAX(TeilnNr)-1,CO25,CQ25)","v":"Spieler 02"},{"$f":"IF(ISNUMBER(CT25),IF(CT25>MAX(TeilnNr)-1,IF(CV25=1,1,IF(MOD(CV25,2)<>0,2,1)),IF(CV25=1,1,IF(MOD(CV25,2)<>0,1,2))),\"\")","v":1},null,2,1,null,2,5,{"$f":"IF(DI25>MAX(TeilnNr)-1,DF25,DD25)","v":"Spieler 09"},"-",{"$f":"IF(DI25>MAX(TeilnNr)-1,DD25,DF25)","v":"Spieler 01"},{"$f":"IF(ISNUMBER(DI25),IF(DI25>MAX(TeilnNr)-1,IF(DK25=1,2,IF(MOD(DK25,2)<>0,2,1)),IF(DK25=1,2,IF(MOD(DK25,2)<>0,1,2))),\"\")","v":1},null,2,1,null,2]
[null,4,null,"","","","","","","","","","","","","","","","","","","","",0,{"$f":"MAX($B$23:$B$32)*2-COUNTIF($D26:W26,\"\")","v":0},0,null,0,0,1,null,0,0,0,0,0,0,0,0,0,0,0,null,0,0,0,0,0,0,0,0,0,0,0,null,0,1,1,1,1,1,10101,101,1010101,10101,10101,1010101,101,101,1010101,10101,{"$f":"INDEX($BJ26:$BS26,1,WertungskriterienA)","v":10101},{"$f":"SUM((TRANSPOSE($BT$23:$BT$32)=BT26)*$AF26:$AO26)","v":0},1,10101,101010101,10101,101010101,10101010101,101010101,1010101010101,1010101010101,101010101,10101010101,{"$f":"INDEX(BW26:CF26,1,WertungskriterienA)","v":101010101},1,false,"Spieler 04",3,1.0030039999999998,4,null,null,null,null,null,null,null,null,null,null,null,null,null,null,null,null,null,null,null,null,null,null,null,null,null,null,null,null,null,null,null,null,null,null,{"$f":"IF(ISNUMBER(CT26),IF(CT26>MAX(TeilnNr)-1,2,1),\"\")","v":""},null,null,{"$f":"IF(ISNUMBER(CW26),IF(CW26>MAX(TeilnNr)-1,2,1),\"\")","v":""},null,null,null,null,null,null,{"$f":"IF(ISNUMBER(DI26),IF(DI26>MAX(TeilnNr)-1,IF(DK26=1,1,IF(MOD(DK26,2)<>0,2,1)),IF(DK26=1,2,IF(MOD(DK26,2)<>0,1,2))),\"\")","v":""},null,null,{"$f":"IF(ISNUMBER(DG26),IF(DG26>MAX(TeilnNr)-1,2,1),\"\")","v":""}]
[null,5,null,"","","","","","","","","","","","","","","","","","","","",0,{"$f":"MAX($B$23:$B$32)*2-COUNTIF($D27:W27,\"\")","v":0},0,null,0,0,1,null,0,0,0,0,0,0,0,0,0,0,0,null,0,0,0,0,0,0,0,0,0,0,0,null,0,1,1,1,1,1,10101,101,1010101,10101,10101,1010101,101,101,1010101,10101,{"$f":"INDEX($BJ27:$BS27,1,WertungskriterienA)","v":10101},{"$f":"SUM((TRANSPOSE($BT$23:$BT$32)=BT27)*$AF27:$AO27)","v":0},1,10101,101010101,10101,101010101,10101010101,101010101,1010101010101,1010101010101,101010101,10101010101,{"$f":"INDEX(BW27:CF27,1,WertungskriterienA)","v":101010101},1,false,"Spieler 05",4,1.004005,5,null,{"$f":"CO20+2","v":7},null,null,null,null,"N°","R","B","SpNr w","SpNr s","Res w","Res s",null,null,null,{"$f":"DD20+2","v":8},null,null,null,null,"N°","R","B","SpNr w","SpNr s","Res w","Res s",null,null,null,{"$f":"CO27","v":7},null,{"$f":"IF(CO27=MAX(TeilnNr),\"-> Bretter drehen!\",\"\")","v":""},{"$f":"IF(ISNUMBER(CT27),IF(CT27>MAX(TeilnNr)-1,2,1),\"\")","v":""},null,null,{"$f":"IF(ISNUMBER(CW27),IF(CW27>MAX(TeilnNr)-1,2,1),\"\")","v":""},null,null,null,{"$f":"DD27","v":8},null,{"$f":"IF(DD27=MAX(TeilnNr),\"-> Bretter drehen!\",\"\")","v":""},{"$f":"IF(ISNUMBER(DI27),IF(DI27>MAX(TeilnNr)-1,IF(MOD(DK27,2)<>0,2,1),IF(MOD(DK27,2)<>0,1,2)),\"\")","v":""},null,null,{"$f":"IF(ISNUMBER(DG27),IF(DG27>MAX(TeilnNr)-1,2,1),\"\")","v":""}]
[null,6,null,"","","","","","","","","","","","","","","","","","","","",0,{"$f":"MAX($B$23:$B$32)*2-COUNTIF($D28:W28,\"\")","v":0},0,null,0,0,1,null,0,0,0,0,0,0,0,0,0,0,0,null,0,0,0,0,0,0,0,0,0,0,0,null,0,1,1,1,1,1,10101,101,1010101,10101,10101,1010101,101,101,1010101,10101,{"$f":"INDEX($BJ28:$BS28,1,WertungskriterienA)","v":10101},{"$f":"SUM((TRANSPOSE($BT$23:$BT$32)=BT28)*$AF28:$AO28)","v":0},1,10101,101010101,10101,101010101,10101010101,101010101,1010101010101,1010101010101,101010101,10101010101,{"$f":"INDEX(BW28:CF28,1,WertungskriterienA)","v":101010101},1,false,"Spieler 06",5,1.0050059999999998,6,{"$f":"IF(OR(INDEX($CI$23:$CI$32,CW28),INDEX($CI$23:$CI$32,CX28)),0,1)","v":1},{"$f":"INDEX($CJ$23:$CJ$32,MATCH($CW28,TeilnNr,0))","v":"Spieler 04"},"-",{"$f":"INDEX($CJ$23:$CJ$32,MATCH($CX28,TeilnNr,0))","v":"Spieler 10"},null,null,{"$f":"CO27","v":7},{"$f":"IF(CO27>MAX(TeilnNr)-1,CO27-(MAX(TeilnNr)-1),CO27)","v":7},1,{"$f":"IF(AND(CV28=1,MOD(CU28,2)=IF(CT28>MAX(TeilnNr)-1,1,0)),MAX(TeilnNr),IF(MOD(CV28,2)=IF(CT28>MAX(TeilnNr)-1,1,0),IF(MAX(TeilnNr)/2-CV28+1-(CU28-MAX(TeilnNr)/2-1)>=1,MAX(TeilnNr)/2-CV28+1-(CU28-MAX(TeilnNr)/2-1),MAX(TeilnNr)/2-CV28+1-(CU28-MAX(TeilnNr)/2-1)+MAX(TeilnNr)-1),IF(CV28-(CU28-1)>=1,CV28-(CU28-1),CV28-(CU28-1)+MAX(TeilnNr)-1)))","v":4},{"$f":"IF(AND(CV28=1,MOD(CU28,2)<>IF(CT28>MAX(TeilnNr)-1,1,0)),MAX(TeilnNr),IF(MOD(CV28,2)<>IF(CT28>MAX(TeilnNr)-1,1,0),IF(MAX(TeilnNr)/2-CV28+1-(CU28-MAX(TeilnNr)/2-1)>=1,MAX(TeilnNr)/2-CV28+1-(CU28-MAX(TeilnNr)/2-1),MAX(TeilnNr)/2-CV28+1-(CU28-MAX(TeilnNr)/2-1)+MAX(TeilnNr)-1),IF(CV28-(CU28-1)>=1,CV28-(CU28-1),CV28-(CU28-1)+MAX(TeilnNr)-1)))","v":10},{"$f":"IF(LEFT(CS28,1)=\"V\",\"\",LEFT(CS28,1))","v":""},{"$f":"IF(RIGHT(CS28,1)=\"V\",\"\",RIGHT(CS28,1))","v":""},{"$f":"IF(CT28>MAX(TeilnNr)-1,ADDRESS(ROW(Teilnehmer)+CW28,COLUMN(Teilnehmer)+CX28+CX28),ADDRESS(ROW(Teilnehmer)+CW28,COLUMN(Teilnehmer)+CX28+CX28-1))","v":"$V$26"},{"$f":"IF(CT28>MAX(TeilnNr)-1,ADDRESS(ROW(Teilnehmer)+CX28,COLUMN(Teilnehmer)+CW28+CW28),ADDRESS(ROW(Teilnehmer)+CX28,COLUMN(Teilnehmer)+CW28+CW28-1))","v":"$J$32"},{"$f":"IF(OR(INDEX($CI$23:$CI$32,DL28),INDEX($CI$23:$CI$32,DM28)),0,1)","v":1},{"$f":"INDEX($CJ$23:$CJ$32,MATCH($DL28,TeilnNr,0))","v":"Spieler 10"},"-",{"$f":"INDEX($CJ$23:$CJ$32,MATCH($DM28,TeilnNr,0))","v":"Spieler 03"},null,null,{"$f":"DD27","v":8},{"$f":"IF(DD27>MAX(TeilnNr)-1,DD27-(MAX(TeilnNr)-1),DD27)","v":8},1,{"$f":"IF(AND(DK28=1,MOD(DJ28,2)=IF(DI28>MAX(TeilnNr)-1,1,0)),MAX(TeilnNr),IF(MOD(DK28,2)=IF(DI28>MAX(TeilnNr)-1,1,0),IF(MAX(TeilnNr)/2-DK28+1-(DJ28-MAX(TeilnNr)/2-1)>=1,MAX(TeilnNr)/2-DK28+1-(DJ28-MAX(TeilnNr)/2-1),MAX(TeilnNr)/2-DK28+1-(DJ28-MAX(TeilnNr)/2-1)+MAX(TeilnNr)-1),IF(DK28-(DJ28-1)>=1,DK28-(DJ28-1),DK28-(DJ28-1)+MAX(TeilnNr)-1)))","v":10},{"$f":"IF(AND(DK28=1,MOD(DJ28,2)<>IF(DI28>MAX(TeilnNr)-1,1,0)),MAX(TeilnNr),IF(MOD(DK28,2)<>IF(DI28>MAX(TeilnNr)-1,1,0),IF(MAX(TeilnNr)/2-DK28+1-(DJ28-MAX(TeilnNr)/2-1)>=1,MAX(TeilnNr)/2-DK28+1-(DJ28-MAX(TeilnNr)/2-1),MAX(TeilnNr)/2-DK28+1-(DJ28-MAX(TeilnNr)/2-1)+MAX(TeilnNr)-1),IF(DK28-(DJ28-1)>=1,DK28-(DJ28-1),DK28-(DJ28-1)+MAX(TeilnNr)-1)))","v":3},{"$f":"IF(LEFT(DH28,1)=\"V\",\"\",LEFT(DH28,1))","v":""},{"$f":"IF(RIGHT(DH28,1)=\"V\",\"\",RIGHT(DH28,1))","v":""},{"$f":"IF(DI28>MAX(TeilnNr)-1,ADDRESS(ROW(Teilnehmer)+DL28,COLUMN(Teilnehmer)+DM28+DM28),ADDRESS(ROW(Teilnehmer)+DL28,COLUMN(Teilnehmer)+DM28+DM28-1))","v":"$H$32"},{"$f":"IF(DI28>MAX(TeilnNr)-1,ADDRESS(ROW(Teilnehmer)+DM28,COLUMN(Teilnehmer)+DL28+DL28),ADDRESS(ROW(Teilnehmer)+DM28,COLUMN(Teilnehmer)+DL28+DL28-1))","v":"$V$25"},{"$f":"CN28","v":1},{"$f":"CO28","v":"Spieler 04"},"-",{"$f":"CQ28","v":"Spieler 10"},{"$f":"IF(ISNUMBER(CT28),IF(CT28>MAX(TeilnNr)-1,IF(CV28=1,1,IF(MOD(CV28,2)<>0,2,1)),IF(CV28=1,1,IF(MOD(CV28,2)<>0,1,2))),\"\")","v":1},null,{"$f":"IF(DV28=1,2,1)","v":2},{"$f":"DV28","v":1},null,{"$f":"IF(DK28=1,DX28*10,DX28)","v":20},{"$f":"DC28","v":1},{"$f":"DF28","v":"Spieler 03"},"-",{"$f":"DD28","v":"Spieler 10"},{"$f":"IF(ISNUMBER(DI28),IF(DI28>MAX(TeilnNr)-1,IF(DK28=1,2,IF(MOD(DK28,2)<>0,2,1)),IF(DK28=1,2,IF(MOD(DK28,2)<>0,1,2))),\"\")","v":2},null,{"$f":"IF(EF28=1,2,1)","v":1},{"$f":"EF28","v":2},null,{"$f":"IF(DK28=1,EH28*10,EH28)","v":10}]
[null,7,null,"","","","","","","","","","","","","","","","","","","","",0,{"$f":"MAX($B$23:$B$32)*2-COUNTIF($D29:W29,\"\")","v":0},0,null,0,0,1,null,0,0,0,0,0,0,0,0,0,0,0,null,0,0,0,0,0,0,0,0,0,0,0,null,0,1,1,1,1,1,10101,101,1010101,10101,10101,1010101,101,101,1010101,10101,{"$f":"INDEX($BJ29:$BS29,1,WertungskriterienA)","v":10101},{"$f":"SUM((TRANSPOSE($BT$23:$BT$32)=BT29)*$AF29:$AO29)","v":0},1,10101,101010101,10101,101010101,10101010101,101010101,1010101010101,1010101010101,101010101,10101010101,{"$f":"INDEX(BW29:CF29,1,WertungskriterienA)","v":101010101},1,false,"Spieler 07",6,1.0060070000000001,7,{"$f":"CN28+1","v":2},{"$f":"INDEX($CJ$23:$CJ$32,MATCH($CW29,TeilnNr,0))","v":"Spieler 03"},"-",{"$f":"INDEX($CJ$23:$CJ$32,MATCH($CX29,TeilnNr,0))","v":"Spieler 05"},null,null,{"$f":"CT28","v":7},{"$f":"CU28","v":7},{"$f":"CV28+1","v":2},{"$f":"IF(AND(CV29=1,MOD(CU29,2)=IF(CT29>MAX(TeilnNr)-1,1,0)),MAX(TeilnNr),IF(MOD(CV29,2)=IF(CT29>MAX(TeilnNr)-1,1,0),IF(MAX(TeilnNr)/2-CV29+1-(CU29-MAX(TeilnNr)/2-1)>=1,MAX(TeilnNr)/2-CV29+1-(CU29-MAX(TeilnNr)/2-1),MAX(TeilnNr)/2-CV29+1-(CU29-MAX(TeilnNr)/2-1)+MAX(TeilnNr)-1),IF(CV29-(CU29-1)>=1,CV29-(CU29-1),CV29-(CU29-1)+MAX(TeilnNr)-1)))","v":3},{"$f":"IF(AND(CV29=1,MOD(CU29,2)<>IF(CT29>MAX(TeilnNr)-1,1,0)),MAX(TeilnNr),IF(MOD(CV29,2)<>IF(CT29>MAX(TeilnNr)-1,1,0),IF(MAX(TeilnNr)/2-CV29+1-(CU29-MAX(TeilnNr)/2-1)>=1,MAX(TeilnNr)/2-CV29+1-(CU29-MAX(TeilnNr)/2-1),MAX(TeilnNr)/2-CV29+1-(CU29-MAX(TeilnNr)/2-1)+MAX(TeilnNr)-1),IF(CV29-(CU29-1)>=1,CV29-(CU29-1),CV29-(CU29-1)+MAX(TeilnNr)-1)))","v":5},{"$f":"IF(LEFT(CS29,1)=\"V\",\"\",LEFT(CS29,1))","v":""},{"$f":"IF(RIGHT(CS29,1)=\"V\",\"\",RIGHT(CS29,1))","v":""},{"$f":"IF(CT29>MAX(TeilnNr)-1,ADDRESS(ROW(Teilnehmer)+CW29,COLUMN(Teilnehmer)+CX29+CX29),ADDRESS(ROW(Teilnehmer)+CW29,COLUMN(Teilnehmer)+CX29+CX29-1))","v":"$L$25"},{"$f":"IF(CT29>MAX(TeilnNr)-1,ADDRESS(ROW(Teilnehmer)+CX29,COLUMN(Teilnehmer)+CW29+CW29),ADDRESS(ROW(Teilnehmer)+CX29,COLUMN(Teilnehmer)+CW29+CW29-1))","v":"$H$27"},{"$f":"DC28+1","v":2},{"$f":"INDEX($CJ$23:$CJ$32,MATCH($DL29,TeilnNr,0))","v":"Spieler 02"},"-",{"$f":"INDEX($CJ$23:$CJ$32,MATCH($DM29,TeilnNr,0))","v":"Spieler 04"},null,null,{"$f":"DI28","v":8},{"$f":"DJ28","v":8},{"$f":"DK28+1","v":2},{"$f":"IF(AND(DK29=1,MOD(DJ29,2)=IF(DI29>MAX(TeilnNr)-1,1,0)),MAX(TeilnNr),IF(MOD(DK29,2)=IF(DI29>MAX(TeilnNr)-1,1,0),IF(MAX(TeilnNr)/2-DK29+1-(DJ29-MAX(TeilnNr)/2-1)>=1,MAX(TeilnNr)/2-DK29+1-(DJ29-MAX(TeilnNr)/2-1),MAX(TeilnNr)/2-DK29+1-(DJ29-MAX(TeilnNr)/2-1)+MAX(TeilnNr)-1),IF(DK29-(DJ29-1)>=1,DK29-(DJ29-1),DK29-(DJ29-1)+MAX(TeilnNr)-1)))","v":2},{"$f":"IF(AND(DK29=1,MOD(DJ29,2)<>IF(DI29>MAX(TeilnNr)-1,1,0)),MAX(TeilnNr),IF(MOD(DK29,2)<>IF(DI29>MAX(TeilnNr)-1,1,0),IF(MAX(TeilnNr)/2-DK29+1-(DJ29-MAX(TeilnNr)/2-1)>=1,MAX(TeilnNr)/2-DK29+1-(DJ29-MAX(TeilnNr)/2-1),MAX(TeilnNr)/2-DK29+1-(DJ29-MAX(TeilnNr)/2-1)+MAX(TeilnNr)-1),IF(DK29-(DJ29-1)>=1,DK29-(DJ29-1),DK29-(DJ29-1)+MAX(TeilnNr)-1)))","v":4},{"$f":"IF(LEFT(DH29,1)=\"V\",\"\",LEFT(DH29,1))","v":""},{"$f":"IF(RIGHT(DH29,1)=\"V\",\"\",RIGHT(DH29,1))","v":""},{"$f":"IF(DI29>MAX(TeilnNr)-1,ADDRESS(ROW(Teilnehmer)+DL29,COLUMN(Teilnehmer)+DM29+DM29),ADDRESS(ROW(Teilnehmer)+DL29,COLUMN(Teilnehmer)+DM29+DM29-1))","v":"$J$24"},{"$f":"IF(DI29>MAX(TeilnNr)-1,ADDRESS(ROW(Teilnehmer)+DM29,COLUMN(Teilnehmer)+DL29+DL29),ADDRESS(ROW(Teilnehmer)+DM29,COLUMN(Teilnehmer)+DL29+DL29-1))","v":"$F$26"},2,{"$f":"IF(CT29>MAX(TeilnNr)-1,CO29,CQ29)","v":"Spieler 05"},"-",{"$f":"IF(CT29>MAX(TeilnNr)-1,CQ29,CO29)","v":"Spieler 03"},{"$f":"IF(ISNUMBER(CT29),IF(CT29>MAX(TeilnNr)-1,IF(CV29=1,1,IF(MOD(CV29,2)<>0,2,1)),IF(CV29=1,1,IF(MOD(CV29,2)<>0,1,2))),\"\")","v":2},null,1,2,null,1,2,{"$f":"IF(DI29>MAX(TeilnNr)-1,DD29,DF29)","v":"Spieler 04"},"-",{"$f":"IF(DI29>MAX(TeilnNr)-1,DF29,DD29)","v":"Spieler 02"},{"$f":"IF(ISNUMBER(DI29),IF(DI29>MAX(TeilnNr)-1,IF(DK29=1,2,IF(MOD(DK29,2)<>0,2,1)),IF(DK29=1,2,IF(MOD(DK29,2)<>0,1,2))),\"\")","v":2},null,1,2,null,1]
[null,8,null,"","","","","","","","","","","","","","","","","","","","",0,{"$f":"MAX($B$23:$B$32)*2-COUNTIF($D30:W30,\"\")","v":0},0,null,0,0,1,null,0,0,0,0,0,0,0,0,0,0,0,null,0,0,0,0,0,0,0,0,0,0,0,null,0,1,1,1,1,1,10101,101,1010101,10101,10101,1010101,101,101,1010101,10101,{"$f":"INDEX($BJ30:$BS30,1,WertungskriterienA)","v":10101},{"$f":"SUM((TRANSPOSE($BT$23:$BT$32)=BT30)*$AF30:$AO30)","v":0},1,10101,101010101,10101,101010101,10101010101,101010101,1010101010101,1010101010101,101010101,10101010101,{"$f":"INDEX(BW30:CF30,1,WertungskriterienA)","v":101010101},1,false,"Spieler 08",7,1.0070079999999999,8,{"$f":"CN29+1","v":3},{"$f":"INDEX($CJ$23:$CJ$32,MATCH($CW30,TeilnNr,0))","v":"Spieler 06"},"-",{"$f":"INDEX($CJ$23:$CJ$32,MATCH($CX30,TeilnNr,0))","v":"Spieler 02"},null,null,{"$f":"CT29","v":7},{"$f":"CU29","v":7},{"$f":"CV29+1","v":3},{"$f":"IF(AND(CV30=1,MOD(CU30,2)=IF(CT30>MAX(TeilnNr)-1,1,0)),MAX(TeilnNr),IF(MOD(CV30,2)=IF(CT30>MAX(TeilnNr)-1,1,0),IF(MAX(TeilnNr)/2-CV30+1-(CU30-MAX(TeilnNr)/2-1)>=1,MAX(TeilnNr)/2-CV30+1-(CU30-MAX(TeilnNr)/2-1),MAX(TeilnNr)/2-CV30+1-(CU30-MAX(TeilnNr)/2-1)+MAX(TeilnNr)-1),IF(CV30-(CU30-1)>=1,CV30-(CU30-1),CV30-(CU30-1)+MAX(TeilnNr)-1)))","v":6},{"$f":"IF(AND(CV30=1,MOD(CU30,2)<>IF(CT30>MAX(TeilnNr)-1,1,0)),MAX(TeilnNr),IF(MOD(CV30,2)<>IF(CT30>MAX(TeilnNr)-1,1,0),IF(MAX(TeilnNr)/2-CV30+1-(CU30-MAX(TeilnNr)/2-1)>=1,MAX(TeilnNr)/2-CV30+1-(CU30-MAX(TeilnNr)/2-1),MAX(TeilnNr)/2-CV30+1-(CU30-MAX(TeilnNr)/2-1)+MAX(TeilnNr)-1),IF(CV30-(CU30-1)>=1,CV30-(CU30-1),CV30-(CU30-1)+MAX(TeilnNr)-1)))","v":2},{"$f":"IF(LEFT(CS30,1)=\"V\",\"\",LEFT(CS30,1))","v":""},{"$f":"IF(RIGHT(CS30,1)=\"V\",\"\",RIGHT(CS30,1))","v":""},{"$f":"IF(CT30>MAX(TeilnNr)-1,ADDRESS(ROW(Teilnehmer)+CW30,COLUMN(Teilnehmer)+CX30+CX30),ADDRESS(ROW(Teilnehmer)+CW30,COLUMN(Teilnehmer)+CX30+CX30-1))","v":"$F$28"},{"$f":"IF(CT30>MAX(TeilnNr)-1,ADDRESS(ROW(Teilnehmer)+CX30,COLUMN(Teilnehmer)+CW30+CW30),ADDRESS(ROW(Teilnehmer)+CX30,COLUMN(Teilnehmer)+CW30+CW30-1))","v":"$N$24"},{"$f":"DC29+1","v":3},{"$f":"INDEX($CJ$23:$CJ$32,MATCH($DL30,TeilnNr,0))","v":"Spieler 05"},"-",{"$f":"INDEX($CJ$23:$CJ$32,MATCH($DM30,TeilnNr,0))","v":"Spieler 01"},null,null,{"$f":"DI29","v":8},{"$f":"DJ29","v":8},{"$f":"DK29+1","v":3},{"$f":"IF(AND(DK30=1,MOD(DJ30,2)=IF(DI30>MAX(TeilnNr)-1,1,0)),MAX(TeilnNr),IF(MOD(DK30,2)=IF(DI30>MAX(TeilnNr)-1,1,0),IF(MAX(TeilnNr)/2-DK30+1-(DJ30-MAX(TeilnNr)/2-1)>=1,MAX(TeilnNr)/2-DK30+1-(DJ30-MAX(TeilnNr)/2-1),MAX(TeilnNr)/2-DK30+1-(DJ30-MAX(TeilnNr)/2-1)+MAX(TeilnNr)-1),IF(DK30-(DJ30-1)>=1,DK30-(DJ30-1),DK30-(DJ30-1)+MAX(TeilnNr)-1)))","v":5},{"$f":"IF(AND(DK30=1,MOD(DJ30,2)<>IF(DI30>MAX(TeilnNr)-1,1,0)),MAX(TeilnNr),IF(MOD(DK30,2)<>IF(DI30>MAX(TeilnNr)-1,1,0),IF(MAX(TeilnNr)/2-DK30+1-(DJ30-MAX(TeilnNr)/2-1)>=1,MAX(TeilnNr)/2-DK30+1-(DJ30-MAX(TeilnNr)/2-1),MAX(TeilnNr)/2-DK30+1-(DJ30-MAX(TeilnNr)/2-1)+MAX(TeilnNr)-1),IF(DK30-(DJ30-1)>=1,DK30-(DJ30-1),DK30-(DJ30-1)+MAX(TeilnNr)-1)))","v":1},{"$f":"IF(LEFT(DH30,1)=\"V\",\"\",LEFT(DH30,1))","v":""},{"$f":"IF(RIGHT(DH30,1)=\"V\",\"\",RIGHT(DH30,1))","v":""},{"$f":"IF(DI30>MAX(TeilnNr)-1,ADDRESS(ROW(Teilnehmer)+DL30,COLUMN(Teilnehmer)+DM30+DM30),ADDRESS(ROW(Teilnehmer)+DL30,COLUMN(Teilnehmer)+DM30+DM30-1))","v":"$D$27"},{"$f":"IF(DI30>MAX(TeilnNr)-1,ADDRESS(ROW(Teilnehmer)+DM30,COLUMN(Teilnehmer)+DL30+DL30),ADDRESS(ROW(Teilnehmer)+DM30,COLUMN(Teilnehmer)+DL30+DL30-1))","v":"$L$23"},3,{"$f":"IF(CT30>MAX(TeilnNr)-1,CQ30,CO30)","v":"Spieler 06"},"-",{"$f":"IF(CT30>MAX(TeilnNr)-1,CO30,CQ30)","v":"Spieler 02"},{"$f":"IF(ISNUMBER(CT30),IF(CT30>MAX(TeilnNr)-1,IF(CV30=1,1,IF(MOD(CV30,2)<>0,2,1)),IF(CV30=1,1,IF(MOD(CV30,2)<>0,1,2))),\"\")","v":1},null,2,1,null,2,3,{"$f":"IF(DI30>MAX(TeilnNr)-1,DF30,DD30)","v":"Spieler 05"},"-",{"$f":"IF(DI30>MAX(TeilnNr)-1,DD30,DF30)","v":"Spieler 01"},{"$f":"IF(ISNUMBER(DI30),IF(DI30>MAX(TeilnNr)-1,IF(DK30=1,2,IF(MOD(DK30,2)<>0,2,1)),IF(DK30=1,2,IF(MOD(DK30,2)<>0,1,2))),\"\")","v":1},null,2,1,null,2]
[null,9,null,"","","","","","","","","","","","","","","","","","","","",0,{"$f":"MAX($B$23:$B$32)*2-COUNTIF($D31:W31,\"\")","v":0},0,null,0,0,1,null,0,0,0,0,0,0,0,0,0,0,0,null,0,0,0,0,0,0,0,0,0,0,0,null,0,1,1,1,1,1,10101,101,1010101,10101,10101,1010101,101,101,1010101,10101,{"$f":"INDEX($BJ31:$BS31,1,WertungskriterienA)","v":10101},{"$f":"SUM((TRANSPOSE($BT$23:$BT$32)=BT31)*$AF31:$AO31)","v":0},1,10101,101010101,10101,101010101,10101010101,101010101,1010101010101,1010101010101,101010101,10101010101,{"$f":"INDEX(BW31:CF31,1,WertungskriterienA)","v":101010101},1,false,"Spieler 09",8,1.0080089999999999,9,4,{"$f":"INDEX($CJ$23:$CJ$32,MATCH($CW31,TeilnNr,0))","v":"Spieler 01"},"-",{"$f":"INDEX($CJ$23:$CJ$32,MATCH($CX31,TeilnNr,0))","v":"Spieler 07"},null,null,7,{"$f":"CU30","v":7},4,{"$f":"IF(AND(CV31=1,MOD(CU31,2)=IF(CT31>MAX(TeilnNr)-1,1,0)),MAX(TeilnNr),IF(MOD(CV31,2)=IF(CT31>MAX(TeilnNr)-1,1,0),IF(MAX(TeilnNr)/2-CV31+1-(CU31-MAX(TeilnNr)/2-1)>=1,MAX(TeilnNr)/2-CV31+1-(CU31-MAX(TeilnNr)/2-1),MAX(TeilnNr)/2-CV31+1-(CU31-MAX(TeilnNr)/2-1)+MAX(TeilnNr)-1),IF(CV31-(CU31-1)>=1,CV31-(CU31-1),CV31-(CU31-1)+MAX(TeilnNr)-1)))","v":1},{"$f":"IF(AND(CV31=1,MOD(CU31,2)<>IF(CT31>MAX(TeilnNr)-1,1,0)),MAX(TeilnNr),IF(MOD(CV31,2)<>IF(CT31>MAX(TeilnNr)-1,1,0),IF(MAX(TeilnNr)/2-CV31+1-(CU31-MAX(TeilnNr)/2-1)>=1,MAX(TeilnNr)/2-CV31+1-(CU31-MAX(TeilnNr)/2-1),MAX(TeilnNr)/2-CV31+1-(CU31-MAX(TeilnNr)/2-1)+MAX(TeilnNr)-1),IF(CV31-(CU31-1)>=1,CV31-(CU31-1),CV31-(CU31-1)+MAX(TeilnNr)-1)))","v":7},{"$f":"IF(LEFT(CS31,1)=\"V\",\"\",LEFT(CS31,1))","v":""},{"$f":"IF(RIGHT(CS31,1)=\"V\",\"\",RIGHT(CS31,1))","v":""},{"$f":"IF(CT31>MAX(TeilnNr)-1,ADDRESS(ROW(Teilnehmer)+CW31,COLUMN(Teilnehmer)+CX31+CX31),ADDRESS(ROW(Teilnehmer)+CW31,COLUMN(Teilnehmer)+CX31+CX31-1))","v":"$P$23"},{"$f":"IF(CT31>MAX(TeilnNr)-1,ADDRESS(ROW(Teilnehmer)+CX31,COLUMN(Teilnehmer)+CW31+CW31),ADDRESS(ROW(Teilnehmer)+CX31,COLUMN(Teilnehmer)+CW31+CW31-1))","v":"$D$29"},4,{"$f":"INDEX($CJ$23:$CJ$32,MATCH($DL31,TeilnNr,0))","v":"Spieler 09"},"-",{"$f":"INDEX($CJ$23:$CJ$32,MATCH($DM31,TeilnNr,0))","v":"Spieler 06"},null,null,8,8,4,{"$f":"IF(AND(DK31=1,MOD(DJ31,2)=IF(DI31>MAX(TeilnNr)-1,1,0)),MAX(TeilnNr),IF(MOD(DK31,2)=IF(DI31>MAX(TeilnNr)-1,1,0),IF(MAX(TeilnNr)/2-DK31+1-(DJ31-MAX(TeilnNr)/2-1)>=1,MAX(TeilnNr)/2-DK31+1-(DJ31-MAX(TeilnNr)/2-1),MAX(TeilnNr)/2-DK31+1-(DJ31-MAX(TeilnNr)/2-1)+MAX(TeilnNr)-1),IF(DK31-(DJ31-1)>=1,DK31-(DJ31-1),DK31-(DJ31-1)+MAX(TeilnNr)-1)))","v":9},{"$f":"IF(AND(DK31=1,MOD(DJ31,2)<>IF(DI31>MAX(TeilnNr)-1,1,0)),MAX(TeilnNr),IF(MOD(DK31,2)<>IF(DI31>MAX(TeilnNr)-1,1,0),IF(MAX(TeilnNr)/2-DK31+1-(DJ31-MAX(TeilnNr)/2-1)>=1,MAX(TeilnNr)/2-DK31+1-(DJ31-MAX(TeilnNr)/2-1),MAX(TeilnNr)/2-DK31+1-(DJ31-MAX(TeilnNr)/2-1)+MAX(TeilnNr)-1),IF(DK31-(DJ31-1)>=1,DK31-(DJ31-1),DK31-(DJ31-1)+MAX(TeilnNr)-1)))","v":6},{"$f":"IF(LEFT(DH31,1)=\"V\",\"\",LEFT(DH31,1))","v":""},{"$f":"IF(RIGHT(DH31,1)=\"V\",\"\",RIGHT(DH31,1))","v":""},{"$f":"IF(DI31>MAX(TeilnNr)-1,ADDRESS(ROW(Teilnehmer)+DL31,COLUMN(Teilnehmer)+DM31+DM31),ADDRESS(ROW(Teilnehmer)+DL31,COLUMN(Teilnehmer)+DM31+DM31-1))","v":"$N$31"},{"$f":"IF(DI31>MAX(TeilnNr)-1,ADDRESS(ROW(Teilnehmer)+DM31,COLUMN(Teilnehmer)+DL31+DL31),ADDRESS(ROW(Teilnehmer)+DM31,COLUMN(Teilnehmer)+DL31+DL31-1))","v":"$T$28"},4,{"$f":"IF(CT31>MAX(TeilnNr)-1,CO31,CQ31)","v":"Spieler 07"},"-",{"$f":"IF(CT31>MAX(TeilnNr)-1,CQ31,CO31)","v":"Spieler 01"},{"$f":"IF(ISNUMBER(CT31),IF(CT31>MAX(TeilnNr)-1,IF(CV31=1,1,IF(MOD(CV31,2)<>0,2,1)),IF(CV31=1,1,IF(MOD(CV31,2)<>0,1,2))),\"\")","v":2},null,1,2,null,1,4,{"$f":"IF(DI31>MAX(TeilnNr)-1,DD31,DF31)","v":"Spieler 06"},"-",{"$f":"IF(DI31>MAX(TeilnNr)-1,DF31,DD31)","v":"Spieler 09"},{"$f":"IF(ISNUMBER(DI31),IF(DI31>MAX(TeilnNr)-1,IF(DK31=1,2,IF(MOD(DK31,2)<>0,2,1)),IF(DK31=1,2,IF(MOD(DK31,2)<>0,1,2))),\"\")","v":2},null,1,2,null,1]
[null,10,null,"","","","","","","","","","","","","","","","","","","","",0,{"$f":"MAX($B$23:$B$32)*2-COUNTIF($D32:W32,\"\")","v":0},0,null,0,0,1,null,0,0,0,0,0,0,0,0,0,0,0,null,0,0,0,0,0,0,0,0,0,0,0,null,0,1,1,1,1,1,10101,101,1010101,10101,10101,1010101,101,101,1010101,10101,{"$f":"INDEX($BJ32:$BS32,1,WertungskriterienA)","v":10101},{"$f":"SUM((TRANSPOSE($BT$23:$BT$32)=BT32)*$AF32:$AO32)","v":0},1,10101,101010101,10101,101010101,10101010101,101010101,1010101010101,1010101010101,101010101,10101010101,{"$f":"INDEX(BW32:CF32,1,WertungskriterienA)","v":101010101},1,false,"Spieler 10",9,1.00901,10,5,{"$f":"INDEX($CJ$23:$CJ$32,MATCH($CW32,TeilnNr,0))","v":"Spieler 08"},"-",{"$f":"INDEX($CJ$23:$CJ$32,MATCH($CX32,TeilnNr,0))","v":"Spieler 09"},null,null,7,{"$f":"CU31","v":7},5,{"$f":"IF(AND(CV32=1,MOD(CU32,2)=IF(CT32>MAX(TeilnNr)-1,1,0)),MAX(TeilnNr),IF(MOD(CV32,2)=IF(CT32>MAX(TeilnNr)-1,1,0),IF(MAX(TeilnNr)/2-CV32+1-(CU32-MAX(TeilnNr)/2-1)>=1,MAX(TeilnNr)/2-CV32+1-(CU32-MAX(TeilnNr)/2-1),MAX(TeilnNr)/2-CV32+1-(CU32-MAX(TeilnNr)/2-1)+MAX(TeilnNr)-1),IF(CV32-(CU32-1)>=1,CV32-(CU32-1),CV32-(CU32-1)+MAX(TeilnNr)-1)))","v":8},{"$f":"IF(AND(CV32=1,MOD(CU32,2)<>IF(CT32>MAX(TeilnNr)-1,1,0)),MAX(TeilnNr),IF(MOD(CV32,2)<>IF(CT32>MAX(TeilnNr)-1,1,0),IF(MAX(TeilnNr)/2-CV32+1-(CU32-MAX(TeilnNr)/2-1)>=1,MAX(TeilnNr)/2-CV32+1-(CU32-MAX(TeilnNr)/2-1),MAX(TeilnNr)/2-CV32+1-(CU32-MAX(TeilnNr)/2-1)+MAX(TeilnNr)-1),IF(CV32-(CU32-1)>=1,CV32-(CU32-1),CV32-(CU32-1)+MAX(TeilnNr)-1)))","v":9},{"$f":"IF(LEFT(CS32,1)=\"V\",\"\",LEFT(CS32,1))","v":""},{"$f":"IF(RIGHT(CS32,1)=\"V\",\"\",RIGHT(CS32,1))","v":""},{"$f":"IF(CT32>MAX(TeilnNr)-1,ADDRESS(ROW(Teilnehmer)+CW32,COLUMN(Teilnehmer)+CX32+CX32),ADDRESS(ROW(Teilnehmer)+CW32,COLUMN(Teilnehmer)+CX32+CX32-1))","v":"$T$30"},{"$f":"IF(CT32>MAX(TeilnNr)-1,ADDRESS(ROW(Teilnehmer)+CX32,COLUMN(Teilnehmer)+CW32+CW32),ADDRESS(ROW(Teilnehmer)+CX32,COLUMN(Teilnehmer)+CW32+CW32-1))","v":"$R$31"},5,{"$f":"INDEX($CJ$23:$CJ$32,MATCH($DL32,TeilnNr,0))","v":"Spieler 07"},"-",{"$f":"INDEX($CJ$23:$CJ$32,MATCH($DM32,TeilnNr,0))","v":"Spieler 08"},null,null,8,8,5,{"$f":"IF(AND(DK32=1,MOD(DJ32,2)=IF(DI32>MAX(TeilnNr)-1,1,0)),MAX(TeilnNr),IF(MOD(DK32,2)=IF(DI32>MAX(TeilnNr)-1,1,0),IF(MAX(TeilnNr)/2-DK32+1-(DJ32-MAX(TeilnNr)/2-1)>=1,MAX(TeilnNr)/2-DK32+1-(DJ32-MAX(TeilnNr)/2-1),MAX(TeilnNr)/2-DK32+1-(DJ32-MAX(TeilnNr)/2-1)+MAX(TeilnNr)-1),IF(DK32-(DJ32-1)>=1,DK32-(DJ32-1),DK32-(DJ32-1)+MAX(TeilnNr)-1)))","v":7},{"$f":"IF(AND(DK32=1,MOD(DJ32,2)<>IF(DI32>MAX(TeilnNr)-1,1,0)),MAX(TeilnNr),IF(MOD(DK32,2)<>IF(DI32>MAX(TeilnNr)-1,1,0),IF(MAX(TeilnNr)/2-DK32+1-(DJ32-MAX(TeilnNr)/2-1)>=1,MAX(TeilnNr)/2-DK32+1-(DJ32-MAX(TeilnNr)/2-1),MAX(TeilnNr)/2-DK32+1-(DJ32-MAX(TeilnNr)/2-1)+MAX(TeilnNr)-1),IF(DK32-(DJ32-1)>=1,DK32-(DJ32-1),DK32-(DJ32-1)+MAX(TeilnNr)-1)))","v":8},{"$f":"IF(LEFT(DH32,1)=\"V\",\"\",LEFT(DH32,1))","v":""},{"$f":"IF(RIGHT(DH32,1)=\"V\",\"\",RIGHT(DH32,1))","v":""},{"$f":"IF(DI32>MAX(TeilnNr)-1,ADDRESS(ROW(Teilnehmer)+DL32,COLUMN(Teilnehmer)+DM32+DM32),ADDRESS(ROW(Teilnehmer)+DL32,COLUMN(Teilnehmer)+DM32+DM32-1))","v":"$R$29"},{"$f":"IF(DI32>MAX(TeilnNr)-1,ADDRESS(ROW(Teilnehmer)+DM32,COLUMN(Teilnehmer)+DL32+DL32),ADDRESS(ROW(Teilnehmer)+DM32,COLUMN(Teilnehmer)+DL32+DL32-1))","v":"$P$30"},5,{"$f":"IF(CT32>MAX(TeilnNr)-1,CQ32,CO32)","v":"Spieler 08"},"-",{"$f":"IF(CT32>MAX(TeilnNr)-1,CO32,CQ32)","v":"Spieler 09"},{"$f":"IF(ISNUMBER(CT32),IF(CT32>MAX(TeilnNr)-1,IF(CV32=1,1,IF(MOD(CV32,2)<>0,2,1)),IF(CV32=1,1,IF(MOD(CV32,2)<>0,1,2))),\"\")","v":1},null,2,1,null,2,5,{"$f":"IF(DI32>MAX(TeilnNr)-1,DF32,DD32)","v":"Spieler 07"},"-",{"$f":"IF(DI32>MAX(TeilnNr)-1,DD32,DF32)","v":"Spieler 08"},{"$f":"IF(ISNUMBER(DI32),IF(DI32>MAX(TeilnNr)-1,IF(DK32=1,2,IF(MOD(DK32,2)<>0,2,1)),IF(DK32=1,2,IF(MOD(DK32,2)<>0,1,2))),\"\")","v":1},null,2,1,null,2]
[null,null,{"$f":"\"-> bei nur \"&MAX(TeilnNr)-1&\" Spielern an Pos. \"&MAX(TeilnNr)&\" einen Stern (*) eintragen\"","v":"-> bei nur 9 Spielern an Pos. 10 einen Stern (*) eintragen"},null,null,null,null,null,null,null,null,null,null,null,null,null,null,null,null,null,null,null,null,null,{"$f":"SUM(Y23:Y32)","v":0},null,null,{"$f":"SUM(AB23:AB32)","v":0},{"$f":"SUM(AC23:AC32)","v":0},null,null,null,null,null,null,null,null,null,null,null,null,null,null,null,null,null,null,null,null,null,null,null,null,null,null,null,null,null,null,null,null,null,null,null,null,null,null,null,null,null,null,null,null,null,null,null,null,null,null,null,null,null,null,null,null,null,null,null,null,null,null,null,null,null,null,null,null,null,null,null,null,null,null,null,null,null,null,null,null,null,null,null,null,null,null,null,null,null,null,null,null,null,null,null,null,{"$f":"IF(ISNUMBER(CT33),IF(CT33>MAX(TeilnNr)-1,2,1),\"\")","v":""},null,null,{"$f":"IF(ISNUMBER(CW33),IF(CW33>MAX(TeilnNr)-1,2,1),\"\")","v":""},null,null,null,null,null,null,{"$f":"IF(ISNUMBER(DI33),IF(DI33>MAX(TeilnNr)-1,IF(DK33=1,1,IF(MOD(DK33,2)<>0,2,1)),IF(DK33=1,2,IF(MOD(DK33,2)<>0,1,2))),\"\")","v":""},null,null,{"$f":"IF(ISNUMBER(DG33),IF(DG33>MAX(TeilnNr)-1,2,1),\"\")","v":""}]
[null,null,null,null,null,null,null,null,null,null,null,null,null,null,null,null,null,null,null,null,null,null,null,null,null,null,null,null,null,null,null,null,null,null,null,null,null,null,null,null,null,null,null,null,null,null,null,null,null,null,null,null,null,null,null,null,null,null,null,null,null,null,null,null,null,null,null,null,null,null,null,null,null,null,null,null,null,null,null,null,null,null,null,null,null,null,null,null,null,null,null,null,{"$f":"CO27+2","v":9},null,null,null,null,"N°","R","B","SpNr w","SpNr s","Res w","Res s",null,null,null,{"$f":"DD27+2","v":10},null,null,null,null,"N°","R","B","SpNr w","SpNr s","Res w","Res s",null,null,null,{"$f":"CO34","v":9},null,{"$f":"IF(CO34=MAX(TeilnNr),\"-> Bretter drehen!\",\"\")","v":""},{"$f":"IF(ISNUMBER(CT34),IF(CT34>MAX(TeilnNr)-1,2,1),\"\")","v":""},null,null,{"$f":"IF(ISNUMBER(CW34),IF(CW34>MAX(TeilnNr)-1,2,1),\"\")","v":""},null,null,null,{"$f":"DD34","v":10},null,{"$f":"IF(DD34=MAX(TeilnNr),\"-> Bretter drehen!\",\"\")","v":"-> Bretter drehen!"},{"$f":"IF(ISNUMBER(DI34),IF(DI34>MAX(TeilnNr)-1,IF(MOD(DK34,2)<>0,2,1),IF(MOD(DK34,2)<>0,1,2)),\"\")","v":""},null,null,{"$f":"IF(ISNUMBER(DG34),IF(DG34>MAX(TeilnNr)-1,2,1),\"\")","v":""}]
[null,null,null,null,null,null,null,null,null,null,null,null,null,null,null,null,null,null,null,null,null,null,null,null,null,null,null,null,null,null,null,null,null,null,null,null,null,null,null,null,null,null,null,null,null,null,null,null,null,null,null,null,null,null,null,null,null,null,null,null,null,null,null,null,null,null,null,null,null,null,null,null,null,null,null,null,null,null,null,null,null,null,null,null,null,null,null,null,null,null,null,{"$f":"IF(OR(INDEX($CI$23:$CI$32,CW35),INDEX($CI$23:$CI$32,CX35)),0,1)","v":1},{"$f":"INDEX($CJ$23:$CJ$32,MATCH($CW35,TeilnNr,0))","v":"Spieler 02"},"-",{"$f":"INDEX($CJ$23:$CJ$32,MATCH($CX35,TeilnNr,0))","v":"Spieler 10"},null,null,{"$f":"CO34","v":9},{"$f":"IF(CO34>MAX(TeilnNr)-1,CO34-(MAX(TeilnNr)-1),CO34)","v":9},1,{"$f":"IF(AND(CV35=1,MOD(CU35,2)=IF(CT35>MAX(TeilnNr)-1,1,0)),MAX(TeilnNr),IF(MOD(CV35,2)=IF(CT35>MAX(TeilnNr)-1,1,0),IF(MAX(TeilnNr)/2-CV35+1-(CU35-MAX(TeilnNr)/2-1)>=1,MAX(TeilnNr)/2-CV35+1-(CU35-MAX(TeilnNr)/2-1),MAX(TeilnNr)/2-CV35+1-(CU35-MAX(TeilnNr)/2-1)+MAX(TeilnNr)-1),IF(CV35-(CU35-1)>=1,CV35-(CU35-1),CV35-(CU35-1)+MAX(TeilnNr)-1)))","v":2},{"$f":"IF(AND(CV35=1,MOD(CU35,2)<>IF(CT35>MAX(TeilnNr)-1,1,0)),MAX(TeilnNr),IF(MOD(CV35,2)<>IF(CT35>MAX(TeilnNr)-1,1,0),IF(MAX(TeilnNr)/2-CV35+1-(CU35-MAX(TeilnNr)/2-1)>=1,MAX(TeilnNr)/2-CV35+1-(CU35-MAX(TeilnNr)/2-1),MAX(TeilnNr)/2-CV35+1-(CU35-MAX(TeilnNr)/2-1)+MAX(TeilnNr)-1),IF(CV35-(CU35-1)>=1,CV35-(CU35-1),CV35-(CU35-1)+MAX(TeilnNr)-1)))","v":10},{"$f":"IF(LEFT(CS35,1)=\"V\",\"\",LEFT(CS35,1))","v":""},{"$f":"IF(RIGHT(CS35,1)=\"V\",\"\",RIGHT(CS35,1))","v":""},{"$f":"IF(CT35>MAX(TeilnNr)-1,ADDRESS(ROW(Teilnehmer)+CW35,COLUMN(Teilnehmer)+CX35+CX35),ADDRESS(ROW(Teilnehmer)+CW35,COLUMN(Teilnehmer)+CX35+CX35-1))","v":"$V$24"},{"$f":"IF(CT35>MAX(TeilnNr)-1,ADDRESS(ROW(Teilnehmer)+CX35,COLUMN(Teilnehmer)+CW35+CW35),ADDRESS(ROW(Teilnehmer)+CX35,COLUMN(Teilnehmer)+CW35+CW35-1))","v":"$F$32"},{"$f":"IF(OR(INDEX($CI$23:$CI$32,DL35),INDEX($CI$23:$CI$32,DM35)),0,1)","v":1},{"$f":"INDEX($CJ$23:$CJ$32,MATCH($DL35,TeilnNr,0))","v":"Spieler 10"},"-",{"$f":"INDEX($CJ$23:$CJ$32,MATCH($DM35,TeilnNr,0))","v":"Spieler 01"},null,null,{"$f":"DD34","v":10},{"$f":"IF(DD34>MAX(TeilnNr)-1,DD34-(MAX(TeilnNr)-1),DD34)","v":1},1,{"$f":"IF(AND(DK35=1,MOD(DJ35,2)=IF(DI35>MAX(TeilnNr)-1,1,0)),MAX(TeilnNr),IF(MOD(DK35,2)=IF(DI35>MAX(TeilnNr)-1,1,0),IF(MAX(TeilnNr)/2-DK35+1-(DJ35-MAX(TeilnNr)/2-1)>=1,MAX(TeilnNr)/2-DK35+1-(DJ35-MAX(TeilnNr)/2-1),MAX(TeilnNr)/2-DK35+1-(DJ35-MAX(TeilnNr)/2-1)+MAX(TeilnNr)-1),IF(DK35-(DJ35-1)>=1,DK35-(DJ35-1),DK35-(DJ35-1)+MAX(TeilnNr)-1)))","v":10},{"$f":"IF(AND(DK35=1,MOD(DJ35,2)<>IF(DI35>MAX(TeilnNr)-1,1,0)),MAX(TeilnNr),IF(MOD(DK35,2)<>IF(DI35>MAX(TeilnNr)-1,1,0),IF(MAX(TeilnNr)/2-DK35+1-(DJ35-MAX(TeilnNr)/2-1)>=1,MAX(TeilnNr)/2-DK35+1-(DJ35-MAX(TeilnNr)/2-1),MAX(TeilnNr)/2-DK35+1-(DJ35-MAX(TeilnNr)/2-1)+MAX(TeilnNr)-1),IF(DK35-(DJ35-1)>=1,DK35-(DJ35-1),DK35-(DJ35-1)+MAX(TeilnNr)-1)))","v":1},{"$f":"IF(LEFT(DH35,1)=\"V\",\"\",LEFT(DH35,1))","v":""},{"$f":"IF(RIGHT(DH35,1)=\"V\",\"\",RIGHT(DH35,1))","v":""},{"$f":"IF(DI35>MAX(TeilnNr)-1,ADDRESS(ROW(Teilnehmer)+DL35,COLUMN(Teilnehmer)+DM35+DM35),ADDRESS(ROW(Teilnehmer)+DL35,COLUMN(Teilnehmer)+DM35+DM35-1))","v":"$E$32"},{"$f":"IF(DI35>MAX(TeilnNr)-1,ADDRESS(ROW(Teilnehmer)+DM35,COLUMN(Teilnehmer)+DL35+DL35),ADDRESS(ROW(Teilnehmer)+DM35,COLUMN(Teilnehmer)+DL35+DL35-1))","v":"$W$23"},{"$f":"CN35","v":1},{"$f":"CO35","v":"Spieler 02"},"-",{"$f":"CQ35","v":"Spieler 10"},{"$f":"IF(ISNUMBER(CT35),IF(CT35>MAX(TeilnNr)-1,IF(CV35=1,1,IF(MOD(CV35,2)<>0,2,1)),IF(CV35=1,1,IF(MOD(CV35,2)<>0,1,2))),\"\")","v":1},null,{"$f":"IF(DV35=1,2,1)","v":2},{"$f":"DV35","v":1},null,{"$f":"IF(DK35=1,DX35*10,DX35)","v":20},{"$f":"DC35","v":1},{"$f":"DF35","v":"Spieler 01"},"-",{"$f":"DD35","v":"Spieler 10"},{"$f":"IF(ISNUMBER(DI35),IF(DI35>MAX(TeilnNr)-1,IF(DK35=1,2,IF(MOD(DK35,2)<>0,2,1)),IF(DK35=1,2,IF(MOD(DK35,2)<>0,1,2))),\"\")","v":2},null,{"$f":"IF(EF35=1,2,1)","v":1},{"$f":"EF35","v":2},null,{"$f":"IF(DK35=1,EH35*10,EH35)","v":10}]
[null,null,null,null,null,null,null,null,null,null,null,null,null,null,null,null,null,null,null,null,null,null,null,null,null,null,null,null,null,null,null,null,null,null,null,null,null,null,null,null,null,null,null,null,null,null,null,null,null,null,null,null,null,null,null,null,null,null,null,null,null,null,null,null,null,null,null,null,null,null,null,null,null,null,null,null,null,null,null,null,null,null,null,null,null,null,null,null,null,null,null,{"$f":"CN35+1","v":2},{"$f":"INDEX($CJ$23:$CJ$32,MATCH($CW36,TeilnNr,0))","v":"Spieler 01"},"-",{"$f":"INDEX($CJ$23:$CJ$32,MATCH($CX36,TeilnNr,0))","v":"Spieler 03"},null,null,{"$f":"CT35","v":9},{"$f":"CU35","v":9},{"$f":"CV35+1","v":2},1,3,{"$f":"IF(LEFT(CS36,1)=\"V\",\"\",LEFT(CS36,1))","v":""},{"$f":"IF(RIGHT(CS36,1)=\"V\",\"\",RIGHT(CS36,1))","v":""},"$H$23","$D$25",{"$f":"DC35+1","v":2},{"$f":"INDEX($CJ$23:$CJ$32,MATCH($DL36,TeilnNr,0))","v":"Spieler 02"},"-",{"$f":"INDEX($CJ$23:$CJ$32,MATCH($DM36,TeilnNr,0))","v":"Spieler 09"},null,null,{"$f":"DI35","v":10},{"$f":"DJ35","v":1},{"$f":"DK35+1","v":2},2,9,{"$f":"IF(LEFT(DH36,1)=\"V\",\"\",LEFT(DH36,1))","v":""},{"$f":"IF(RIGHT(DH36,1)=\"V\",\"\",RIGHT(DH36,1))","v":""},"$U$24","$G$31",2,{"$f":"IF(CT36>MAX(TeilnNr)-1,CO36,CQ36)","v":"Spieler 03"},"-",{"$f":"IF(CT36>MAX(TeilnNr)-1,CQ36,CO36)","v":"Spieler 01"},{"$f":"IF(ISNUMBER(CT36),IF(CT36>MAX(TeilnNr)-1,IF(CV36=1,1,IF(MOD(CV36,2)<>0,2,1)),IF(CV36=1,1,IF(MOD(CV36,2)<>0,1,2))),\"\")","v":2},null,1,2,null,1,2,{"$f":"IF(DI36>MAX(TeilnNr)-1,DD36,DF36)","v":"Spieler 02"},"-",{"$f":"IF(DI36>MAX(TeilnNr)-1,DF36,DD36)","v":"Spieler 09"},{"$f":"IF(ISNUMBER(DI36),IF(DI36>MAX(TeilnNr)-1,IF(DK36=1,2,IF(MOD(DK36,2)<>0,2,1)),IF(DK36=1,2,IF(MOD(DK36,2)<>0,1,2))),\"\")","v":1},null,2,1,null,2]
[null,null,null,null,null,null,null,null,null,null,null,null,null,null,null,null,null,null,null,null,null,null,null,null,null,null,null,null,null,null,null,null,null,null,null,null,null,null,null,null,null,null,null,null,null,null,null,null,null,null,null,null,null,null,null,null,null,null,null,null,null,null,null,null,null,null,null,null,null,null,null,null,null,null,null,null,null,null,null,null,null,null,null,null,null,null,null,null,null,null,null,{"$f":"CN36+1","v":3},{"$f":"INDEX($CJ$23:$CJ$32,MATCH($CW37,TeilnNr,0))","v":"Spieler 04"},"-",{"$f":"INDEX($CJ$23:$CJ$32,MATCH($CX37,TeilnNr,0))","v":"Spieler 09"},null,null,{"$f":"CT36","v":9},{"$f":"CU36","v":9},{"$f":"CV36+1","v":3},4,9,{"$f":"IF(LEFT(CS37,1)=\"V\",\"\",LEFT(CS37,1))","v":""},{"$f":"IF(RIGHT(CS37,1)=\"V\",\"\",RIGHT(CS37,1))","v":""},"$T$26","$J$31",{"$f":"DC36+1","v":3},{"$f":"INDEX($CJ$23:$CJ$32,MATCH($DL37,TeilnNr,0))","v":"Spieler 08"},"-",{"$f":"INDEX($CJ$23:$CJ$32,MATCH($DM37,TeilnNr,0))","v":"Spieler 03"},null,null,{"$f":"DI36","v":10},{"$f":"DJ36","v":1},{"$f":"DK36+1","v":3},{"$f":"IF(AND(DK37=1,MOD(DJ37,2)=IF(DI37>MAX(TeilnNr)-1,1,0)),MAX(TeilnNr),IF(MOD(DK37,2)=IF(DI37>MAX(TeilnNr)-1,1,0),IF(MAX(TeilnNr)/2-DK37+1-(DJ37-MAX(TeilnNr)/2-1)>=1,MAX(TeilnNr)/2-DK37+1-(DJ37-MAX(TeilnNr)/2-1),MAX(TeilnNr)/2-DK37+1-(DJ37-MAX(TeilnNr)/2-1)+MAX(TeilnNr)-1),IF(DK37-(DJ37-1)>=1,DK37-(DJ37-1),DK37-(DJ37-1)+MAX(TeilnNr)-1)))","v":8},{"$f":"IF(AND(DK37=1,MOD(DJ37,2)<>IF(DI37>MAX(TeilnNr)-1,1,0)),MAX(TeilnNr),IF(MOD(DK37,2)<>IF(DI37>MAX(TeilnNr)-1,1,0),IF(MAX(TeilnNr)/2-DK37+1-(DJ37-MAX(TeilnNr)/2-1)>=1,MAX(TeilnNr)/2-DK37+1-(DJ37-MAX(TeilnNr)/2-1),MAX(TeilnNr)/2-DK37+1-(DJ37-MAX(TeilnNr)/2-1)+MAX(TeilnNr)-1),IF(DK37-(DJ37-1)>=1,DK37-(DJ37-1),DK37-(DJ37-1)+MAX(TeilnNr)-1)))","v":3},{"$f":"IF(LEFT(DH37,1)=\"V\",\"\",LEFT(DH37,1))","v":""},{"$f":"IF(RIGHT(DH37,1)=\"V\",\"\",RIGHT(DH37,1))","v":""},{"$f":"IF(DI37>MAX(TeilnNr)-1,ADDRESS(ROW(Teilnehmer)+DL37,COLUMN(Teilnehmer)+DM37+DM37),ADDRESS(ROW(Teilnehmer)+DL37,COLUMN(Teilnehmer)+DM37+DM37-1))","v":"$I$30"},{"$f":"IF(DI37>MAX(TeilnNr)-1,ADDRESS(ROW(Teilnehmer)+DM37,COLUMN(Teilnehmer)+DL37+DL37),ADDRESS(ROW(Teilnehmer)+DM37,COLUMN(Teilnehmer)+DL37+DL37-1))","v":"$S$25"},3,{"$f":"IF(CT37>MAX(TeilnNr)-1,CQ37,CO37)","v":"Spieler 04"},"-",{"$f":"IF(CT37>MAX(TeilnNr)-1,CO37,CQ37)","v":"Spieler 09"},{"$f":"IF(ISNUMBER(CT37),IF(CT37>MAX(TeilnNr)-1,IF(CV37=1,1,IF(MOD(CV37,2)<>0,2,1)),IF(CV37=1,1,IF(MOD(CV37,2)<>0,1,2))),\"\")","v":1},null,2,1,null,2,3,{"$f":"IF(DI37>MAX(TeilnNr)-1,DF37,DD37)","v":"Spieler 03"},"-",{"$f":"IF(DI37>MAX(TeilnNr)-1,DD37,DF37)","v":"Spieler 08"},{"$f":"IF(ISNUMBER(DI37),IF(DI37>MAX(TeilnNr)-1,IF(DK37=1,2,IF(MOD(DK37,2)<>0,2,1)),IF(DK37=1,2,IF(MOD(DK37,2)<>0,1,2))),\"\")","v":2},null,1,2,null,1]
[null,null,null,null,null,null,null,null,null,null,null,null,null,null,null,null,null,null,null,null,null,null,null,null,null,null,null,null,null,null,null,null,null,null,null,null,null,null,null,null,null,null,null,null,null,null,null,null,null,null,null,null,null,null,null,null,null,null,null,null,null,null,null,null,null,null,null,null,null,null,null,null,null,null,null,null,null,null,null,null,null,null,null,null,null,null,null,null,null,null,null,4,{"$f":"INDEX($CJ$23:$CJ$32,MATCH($CW38,TeilnNr,0))","v":"Spieler 08"},"-",{"$f":"INDEX($CJ$23:$CJ$32,MATCH($CX38,TeilnNr,0))","v":"Spieler 05"},null,null,9,{"$f":"CU37","v":9},4,8,5,{"$f":"IF(LEFT(CS38,1)=\"V\",\"\",LEFT(CS38,1))","v":""},{"$f":"IF(RIGHT(CS38,1)=\"V\",\"\",RIGHT(CS38,1))","v":""},"$L$30","$R$27",4,{"$f":"INDEX($CJ$23:$CJ$32,MATCH($DL38,TeilnNr,0))","v":"Spieler 04"},"-",{"$f":"INDEX($CJ$23:$CJ$32,MATCH($DM38,TeilnNr,0))","v":"Spieler 07"},null,null,10,1,4,4,7,{"$f":"IF(LEFT(DH38,1)=\"V\",\"\",LEFT(DH38,1))","v":""},{"$f":"IF(RIGHT(DH38,1)=\"V\",\"\",RIGHT(DH38,1))","v":""},"$Q$26","$K$29",4,{"$f":"IF(CT38>MAX(TeilnNr)-1,CO38,CQ38)","v":"Spieler 05"},"-",{"$f":"IF(CT38>MAX(TeilnNr)-1,CQ38,CO38)","v":"Spieler 08"},{"$f":"IF(ISNUMBER(CT38),IF(CT38>MAX(TeilnNr)-1,IF(CV38=1,1,IF(MOD(CV38,2)<>0,2,1)),IF(CV38=1,1,IF(MOD(CV38,2)<>0,1,2))),\"\")","v":2},null,1,2,null,1,4,{"$f":"IF(DI38>MAX(TeilnNr)-1,DD38,DF38)","v":"Spieler 04"},"-",{"$f":"IF(DI38>MAX(TeilnNr)-1,DF38,DD38)","v":"Spieler 07"},{"$f":"IF(ISNUMBER(DI38),IF(DI38>MAX(TeilnNr)-1,IF(DK38=1,2,IF(MOD(DK38,2)<>0,2,1)),IF(DK38=1,2,IF(MOD(DK38,2)<>0,1,2))),\"\")","v":1},null,2,1,null,2]
[null,null,null,null,null,null,null,null,null,null,null,null,null,null,null,null,null,null,null,null,null,null,null,null,null,null,null,null,null,null,null,null,null,null,null,null,null,null,null,null,null,null,null,null,null,null,null,null,null,null,null,null,null,null,null,null,null,null,null,null,null,null,null,null,null,null,null,null,null,null,null,null,null,null,null,null,null,null,null,null,null,null,null,null,null,null,null,null,null,null,null,5,{"$f":"INDEX($CJ$23:$CJ$32,MATCH($CW39,TeilnNr,0))","v":"Spieler 06"},"-",{"$f":"INDEX($CJ$23:$CJ$32,MATCH($CX39,TeilnNr,0))","v":"Spieler 07"},null,null,9,{"$f":"CU38","v":9},5,6,7,{"$f":"IF(LEFT(CS39,1)=\"V\",\"\",LEFT(CS39,1))","v":""},{"$f":"IF(RIGHT(CS39,1)=\"V\",\"\",RIGHT(CS39,1))","v":""},"$P$28","$N$29",5,{"$f":"INDEX($CJ$23:$CJ$32,MATCH($DL39,TeilnNr,0))","v":"Spieler 06"},"-",{"$f":"INDEX($CJ$23:$CJ$32,MATCH($DM39,TeilnNr,0))","v":"Spieler 05"},null,null,10,1,5,6,5,{"$f":"IF(LEFT(DH39,1)=\"V\",\"\",LEFT(DH39,1))","v":""},{"$f":"IF(RIGHT(DH39,1)=\"V\",\"\",RIGHT(DH39,1))","v":""},"$M$28","$O$27",5,{"$f":"IF(CT39>MAX(TeilnNr)-1,CQ39,CO39)","v":"Spieler 06"},"-",{"$f":"IF(CT39>MAX(TeilnNr)-1,CO39,CQ39)","v":"Spieler 07"},{"$f":"IF(ISNUMBER(CT39),IF(CT39>MAX(TeilnNr)-1,IF(CV39=1,1,IF(MOD(CV39,2)<>0,2,1)),IF(CV39=1,1,IF(MOD(CV39,2)<>0,1,2))),\"\")","v":1},null,2,1,null,2,5,{"$f":"IF(DI39>MAX(TeilnNr)-1,DF39,DD39)","v":"Spieler 05"},"-",{"$f":"IF(DI39>MAX(TeilnNr)-1,DD39,DF39)","v":"Spieler 06"},{"$f":"IF(ISNUMBER(DI39),IF(DI39>MAX(TeilnNr)-1,IF(DK39=1,2,IF(MOD(DK39,2)<>0,2,1)),IF(DK39=1,2,IF(MOD(DK39,2)<>0,1,2))),\"\")","v":2},null,1,2,null,1]
[null,null,null,null,null,null,null,null,null,null,null,null,null,null,null,null,null,null,null,null,null,null,null,null,null,null,null,null,null,null,null,null,null,null,null,null,null,null,null,null,null,null,null,null,null,null,null,null,null,null,null,null,null,null,null,null,null,null,null,null,null,null,null,null,null,null,null,null,null,null,null,null,null,null,null,null,null,null,null,null,null,null,null,null,null,null,null,null,null,null,null,null,null,null,null,null,null,null,null,null,null,null,null,null,null,null,null,null,null,null,null,null,null,null,null,null,null,null,null,null,null,null,null,null,null,{"$f":"IF(ISNUMBER(CT40),IF(CT40>MAX(TeilnNr)-1,2,1),\"\")","v":""},null,null,{"$f":"IF(ISNUMBER(CW40),IF(CW40>MAX(TeilnNr)-1,2,1),\"\")","v":""},null,null,null,null,null,null,"",null,null,{"$f":"IF(ISNUMBER(DG40),IF(DG40>MAX(TeilnNr)-1,2,1),\"\")","v":""}]
[null,null,null,null,null,null,null,null,null,null,null,null,null,null,null,null,null,null,null,null,null,null,null,null,null,null,null,null,null,null,null,null,null,null,null,null,null,null,null,null,null,null,null,null,null,null,null,null,null,null,null,null,null,null,null,null,null,null,null,null,null,null,null,null,null,null,null,null,null,null,null,null,null,null,null,null,null,null,null,null,null,null,null,null,null,null,null,null,null,null,null,null,{"$f":"CO34+2","v":11},null,null,null,null,"N°","R","B","SpNr w","SpNr s","Res w","Res s",null,null,null,{"$f":"DD34+2","v":12},null,null,null,null,"N°","R","B","SpNr w","SpNr s","Res w","Res s",null,null,null,{"$f":"CO41","v":11},null,{"$f":"IF(CO41=MAX(TeilnNr),\"-> Bretter drehen!\",\"\")","v":""},{"$f":"IF(ISNUMBER(CT41),IF(CT41>MAX(TeilnNr)-1,2,1),\"\")","v":""},null,null,{"$f":"IF(ISNUMBER(CW41),IF(CW41>MAX(TeilnNr)-1,2,1),\"\")","v":""},null,null,null,{"$f":"DD41","v":12},null,{"$f":"IF(DD41=MAX(TeilnNr),\"-> Bretter drehen!\",\"\")","v":""},{"$f":"IF(ISNUMBER(DI41),IF(DI41>MAX(TeilnNr)-1,IF(MOD(DK41,2)<>0,2,1),IF(MOD(DK41,2)<>0,1,2)),\"\")","v":""},null,null,{"$f":"IF(ISNUMBER(DG41),IF(DG41>MAX(TeilnNr)-1,2,1),\"\")","v":""}]
[null,null,null,null,null,null,null,null,null,null,null,null,null,null,null,null,null,null,null,null,null,null,null,null,null,null,null,null,null,null,null,null,null,null,null,null,null,null,null,null,null,null,null,null,null,null,null,null,null,null,null,null,null,null,null,null,null,null,null,null,null,null,null,null,null,null,null,null,null,null,null,null,null,null,null,null,null,null,null,null,null,null,null,null,null,null,null,null,null,null,null,{"$f":"IF(OR(INDEX($CI$23:$CI$32,CW42),INDEX($CI$23:$CI$32,CX42)),0,1)","v":1},{"$f":"INDEX($CJ$23:$CJ$32,MATCH($CW42,TeilnNr,0))","v":"Spieler 09"},"-",{"$f":"INDEX($CJ$23:$CJ$32,MATCH($CX42,TeilnNr,0))","v":"Spieler 10"},null,null,{"$f":"CO41","v":11},{"$f":"IF(CO41>MAX(TeilnNr)-1,CO41-(MAX(TeilnNr)-1),CO41)","v":2},1,{"$f":"IF(AND(CV42=1,MOD(CU42,2)=IF(CT42>MAX(TeilnNr)-1,1,0)),MAX(TeilnNr),IF(MOD(CV42,2)=IF(CT42>MAX(TeilnNr)-1,1,0),IF(MAX(TeilnNr)/2-CV42+1-(CU42-MAX(TeilnNr)/2-1)>=1,MAX(TeilnNr)/2-CV42+1-(CU42-MAX(TeilnNr)/2-1),MAX(TeilnNr)/2-CV42+1-(CU42-MAX(TeilnNr)/2-1)+MAX(TeilnNr)-1),IF(CV42-(CU42-1)>=1,CV42-(CU42-1),CV42-(CU42-1)+MAX(TeilnNr)-1)))","v":9},{"$f":"IF(AND(CV42=1,MOD(CU42,2)<>IF(CT42>MAX(TeilnNr)-1,1,0)),MAX(TeilnNr),IF(MOD(CV42,2)<>IF(CT42>MAX(TeilnNr)-1,1,0),IF(MAX(TeilnNr)/2-CV42+1-(CU42-MAX(TeilnNr)/2-1)>=1,MAX(TeilnNr)/2-CV42+1-(CU42-MAX(TeilnNr)/2-1),MAX(TeilnNr)/2-CV42+1-(CU42-MAX(TeilnNr)/2-1)+MAX(TeilnNr)-1),IF(CV42-(CU42-1)>=1,CV42-(CU42-1),CV42-(CU42-1)+MAX(TeilnNr)-1)))","v":10},{"$f":"IF(LEFT(CS42,1)=\"V\",\"\",LEFT(CS42,1))","v":""},{"$f":"IF(RIGHT(CS42,1)=\"V\",\"\",RIGHT(CS42,1))","v":""},{"$f":"IF(CT42>MAX(TeilnNr)-1,ADDRESS(ROW(Teilnehmer)+CW42,COLUMN(Teilnehmer)+CX42+CX42),ADDRESS(ROW(Teilnehmer)+CW42,COLUMN(Teilnehmer)+CX42+CX42-1))","v":"$W$31"},{"$f":"IF(CT42>MAX(TeilnNr)-1,ADDRESS(ROW(Teilnehmer)+CX42,COLUMN(Teilnehmer)+CW42+CW42),ADDRESS(ROW(Teilnehmer)+CX42,COLUMN(Teilnehmer)+CW42+CW42-1))","v":"$U$32"},{"$f":"IF(OR(INDEX($CI$23:$CI$32,DL42),INDEX($CI$23:$CI$32,DM42)),0,1)","v":1},{"$f":"INDEX($CJ$23:$CJ$32,MATCH($DL42,TeilnNr,0))","v":"Spieler 10"},"-",{"$f":"INDEX($CJ$23:$CJ$32,MATCH($DM42,TeilnNr,0))","v":"Spieler 08"},null,null,{"$f":"DD41","v":12},{"$f":"IF(DD41>MAX(TeilnNr)-1,DD41-(MAX(TeilnNr)-1),DD41)","v":3},1,{"$f":"IF(AND(DK42=1,MOD(DJ42,2)=IF(DI42>MAX(TeilnNr)-1,1,0)),MAX(TeilnNr),IF(MOD(DK42,2)=IF(DI42>MAX(TeilnNr)-1,1,0),IF(MAX(TeilnNr)/2-DK42+1-(DJ42-MAX(TeilnNr)/2-1)>=1,MAX(TeilnNr)/2-DK42+1-(DJ42-MAX(TeilnNr)/2-1),MAX(TeilnNr)/2-DK42+1-(DJ42-MAX(TeilnNr)/2-1)+MAX(TeilnNr)-1),IF(DK42-(DJ42-1)>=1,DK42-(DJ42-1),DK42-(DJ42-1)+MAX(TeilnNr)-1)))","v":10},{"$f":"IF(AND(DK42=1,MOD(DJ42,2)<>IF(DI42>MAX(TeilnNr)-1,1,0)),MAX(TeilnNr),IF(MOD(DK42,2)<>IF(DI42>MAX(TeilnNr)-1,1,0),IF(MAX(TeilnNr)/2-DK42+1-(DJ42-MAX(TeilnNr)/2-1)>=1,MAX(TeilnNr)/2-DK42+1-(DJ42-MAX(TeilnNr)/2-1),MAX(TeilnNr)/2-DK42+1-(DJ42-MAX(TeilnNr)/2-1)+MAX(TeilnNr)-1),IF(DK42-(DJ42-1)>=1,DK42-(DJ42-1),DK42-(DJ42-1)+MAX(TeilnNr)-1)))","v":8},{"$f":"IF(LEFT(DH42,1)=\"V\",\"\",LEFT(DH42,1))","v":""},{"$f":"IF(RIGHT(DH42,1)=\"V\",\"\",RIGHT(DH42,1))","v":""},{"$f":"IF(DI42>MAX(TeilnNr)-1,ADDRESS(ROW(Teilnehmer)+DL42,COLUMN(Teilnehmer)+DM42+DM42),ADDRESS(ROW(Teilnehmer)+DL42,COLUMN(Teilnehmer)+DM42+DM42-1))","v":"$S$32"},{"$f":"IF(DI42>MAX(TeilnNr)-1,ADDRESS(ROW(Teilnehmer)+DM42,COLUMN(Teilnehmer)+DL42+DL42),ADDRESS(ROW(Teilnehmer)+DM42,COLUMN(Teilnehmer)+DL42+DL42-1))","v":"$W$30"},{"$f":"CN42","v":1},{"$f":"CO42","v":"Spieler 09"},"-",{"$f":"CQ42","v":"Spieler 10"},{"$f":"IF(ISNUMBER(CT42),IF(CT42>MAX(TeilnNr)-1,IF(CV42=1,1,IF(MOD(CV42,2)<>0,2,1)),IF(CV42=1,1,IF(MOD(CV42,2)<>0,1,2))),\"\")","v":1},null,{"$f":"IF(DV42=1,2,1)","v":2},{"$f":"DV42","v":1},null,{"$f":"IF(DK42=1,DX42*10,DX42)","v":20},{"$f":"DC42","v":1},{"$f":"DF42","v":"Spieler 08"},"-",{"$f":"DD42","v":"Spieler 10"},{"$f":"IF(ISNUMBER(DI42),IF(DI42>MAX(TeilnNr)-1,IF(DK42=1,2,IF(MOD(DK42,2)<>0,2,1)),IF(DK42=1,2,IF(MOD(DK42,2)<>0,1,2))),\"\")","v":2},null,{"$f":"IF(EF42=1,2,1)","v":1},{"$f":"EF42","v":2},null,{"$f":"IF(DK42=1,EH42*10,EH42)","v":10}]
[null,null,null,null,null,null,null,null,null,null,null,null,null,null,null,null,null,null,null,null,null,null,null,null,null,null,null,null,null,null,null,null,null,null,null,null,null,null,null,null,null,null,null,null,null,null,null,null,null,null,null,null,null,null,null,null,null,null,null,null,null,null,null,null,null,null,null,null,null,null,null,null,null,null,null,null,null,null,null,null,null,null,null,null,null,null,null,null,null,null,null,{"$f":"CN42+1","v":2},{"$f":"INDEX($CJ$23:$CJ$32,MATCH($CW43,TeilnNr,0))","v":"Spieler 01"},"-",{"$f":"INDEX($CJ$23:$CJ$32,MATCH($CX43,TeilnNr,0))","v":"Spieler 08"},null,null,{"$f":"CT42","v":11},{"$f":"CU42","v":2},{"$f":"CV42+1","v":2},1,8,{"$f":"IF(LEFT(CS43,1)=\"V\",\"\",LEFT(CS43,1))","v":""},{"$f":"IF(RIGHT(CS43,1)=\"V\",\"\",RIGHT(CS43,1))","v":""},"$S$23","$E$30",{"$f":"DC42+1","v":2},{"$f":"INDEX($CJ$23:$CJ$32,MATCH($DL43,TeilnNr,0))","v":"Spieler 09"},"-",{"$f":"INDEX($CJ$23:$CJ$32,MATCH($DM43,TeilnNr,0))","v":"Spieler 07"},null,null,{"$f":"DI42","v":12},{"$f":"DJ42","v":3},{"$f":"DK42+1","v":2},9,7,{"$f":"IF(LEFT(DH43,1)=\"V\",\"\",LEFT(DH43,1))","v":""},{"$f":"IF(RIGHT(DH43,1)=\"V\",\"\",RIGHT(DH43,1))","v":""},"$Q$31","$U$29",2,{"$f":"IF(CT43>MAX(TeilnNr)-1,CO43,CQ43)","v":"Spieler 01"},"-",{"$f":"IF(CT43>MAX(TeilnNr)-1,CQ43,CO43)","v":"Spieler 08"},{"$f":"IF(ISNUMBER(CT43),IF(CT43>MAX(TeilnNr)-1,IF(CV43=1,1,IF(MOD(CV43,2)<>0,2,1)),IF(CV43=1,1,IF(MOD(CV43,2)<>0,1,2))),\"\")","v":1},null,2,1,null,2,2,{"$f":"IF(DI43>MAX(TeilnNr)-1,DD43,DF43)","v":"Spieler 09"},"-",{"$f":"IF(DI43>MAX(TeilnNr)-1,DF43,DD43)","v":"Spieler 07"},{"$f":"IF(ISNUMBER(DI43),IF(DI43>MAX(TeilnNr)-1,IF(DK43=1,2,IF(MOD(DK43,2)<>0,2,1)),IF(DK43=1,2,IF(MOD(DK43,2)<>0,1,2))),\"\")","v":1},null,2,1,null,2]
[null,null,null,null,null,null,null,null,null,null,null,null,null,null,null,null,null,null,null,null,null,null,null,null,null,null,null,null,null,null,null,null,null,null,null,null,null,null,null,null,null,null,null,null,null,null,null,null,null,null,null,null,null,null,null,null,null,null,null,null,null,null,null,null,null,null,null,null,null,null,null,null,null,null,null,null,null,null,null,null,null,null,null,null,null,null,null,null,null,null,null,{"$f":"CN43+1","v":3},{"$f":"INDEX($CJ$23:$CJ$32,MATCH($CW44,TeilnNr,0))","v":"Spieler 07"},"-",{"$f":"INDEX($CJ$23:$CJ$32,MATCH($CX44,TeilnNr,0))","v":"Spieler 02"},null,null,{"$f":"CT43","v":11},{"$f":"CU43","v":2},{"$f":"CV43+1","v":3},7,2,{"$f":"IF(LEFT(CS44,1)=\"V\",\"\",LEFT(CS44,1))","v":""},{"$f":"IF(RIGHT(CS44,1)=\"V\",\"\",RIGHT(CS44,1))","v":""},"$G$29","$Q$24",{"$f":"DC43+1","v":3},{"$f":"INDEX($CJ$23:$CJ$32,MATCH($DL44,TeilnNr,0))","v":"Spieler 06"},"-",{"$f":"INDEX($CJ$23:$CJ$32,MATCH($DM44,TeilnNr,0))","v":"Spieler 01"},null,null,{"$f":"DI43","v":12},{"$f":"DJ43","v":3},{"$f":"DK43+1","v":3},6,1,{"$f":"IF(LEFT(DH44,1)=\"V\",\"\",LEFT(DH44,1))","v":""},{"$f":"IF(RIGHT(DH44,1)=\"V\",\"\",RIGHT(DH44,1))","v":""},"$E$28","$O$23",3,{"$f":"IF(CT44>MAX(TeilnNr)-1,CQ44,CO44)","v":"Spieler 02"},"-",{"$f":"IF(CT44>MAX(TeilnNr)-1,CO44,CQ44)","v":"Spieler 07"},{"$f":"IF(ISNUMBER(CT44),IF(CT44>MAX(TeilnNr)-1,IF(CV44=1,1,IF(MOD(CV44,2)<>0,2,1)),IF(CV44=1,1,IF(MOD(CV44,2)<>0,1,2))),\"\")","v":2},null,1,2,null,1,3,{"$f":"IF(DI44>MAX(TeilnNr)-1,DF44,DD44)","v":"Spieler 01"},"-",{"$f":"IF(DI44>MAX(TeilnNr)-1,DD44,DF44)","v":"Spieler 06"},{"$f":"IF(ISNUMBER(DI44),IF(DI44>MAX(TeilnNr)-1,IF(DK44=1,2,IF(MOD(DK44,2)<>0,2,1)),IF(DK44=1,2,IF(MOD(DK44,2)<>0,1,2))),\"\")","v":2},null,1,2,null,1]
[null,null,null,null,null,null,null,null,null,null,null,null,null,null,null,null,null,null,null,null,null,null,null,null,null,null,null,null,null,null,null,null,null,null,null,null,null,null,null,null,null,null,null,null,null,null,null,null,null,null,null,null,null,null,null,null,null,null,null,null,null,null,null,null,null,null,null,null,null,null,null,null,null,null,null,null,null,null,null,null,null,null,null,null,null,null,null,null,null,null,null,4,{"$f":"INDEX($CJ$23:$CJ$32,MATCH($CW45,TeilnNr,0))","v":"Spieler 03"},"-",{"$f":"INDEX($CJ$23:$CJ$32,MATCH($CX45,TeilnNr,0))","v":"Spieler 06"},null,null,11,{"$f":"CU44","v":2},4,3,6,{"$f":"IF(LEFT(CS45,1)=\"V\",\"\",LEFT(CS45,1))","v":""},{"$f":"IF(RIGHT(CS45,1)=\"V\",\"\",RIGHT(CS45,1))","v":""},"$O$25","$I$28",4,{"$f":"INDEX($CJ$23:$CJ$32,MATCH($DL45,TeilnNr,0))","v":"Spieler 02"},"-",{"$f":"INDEX($CJ$23:$CJ$32,MATCH($DM45,TeilnNr,0))","v":"Spieler 05"},null,null,12,3,4,2,5,{"$f":"IF(LEFT(DH45,1)=\"V\",\"\",LEFT(DH45,1))","v":""},{"$f":"IF(RIGHT(DH45,1)=\"V\",\"\",RIGHT(DH45,1))","v":""},"$M$24","$G$27",4,{"$f":"IF(CT45>MAX(TeilnNr)-1,CO45,CQ45)","v":"Spieler 03"},"-",{"$f":"IF(CT45>MAX(TeilnNr)-1,CQ45,CO45)","v":"Spieler 06"},{"$f":"IF(ISNUMBER(CT45),IF(CT45>MAX(TeilnNr)-1,IF(CV45=1,1,IF(MOD(CV45,2)<>0,2,1)),IF(CV45=1,1,IF(MOD(CV45,2)<>0,1,2))),\"\")","v":1},null,2,1,null,2,4,{"$f":"IF(DI45>MAX(TeilnNr)-1,DD45,DF45)","v":"Spieler 02"},"-",{"$f":"IF(DI45>MAX(TeilnNr)-1,DF45,DD45)","v":"Spieler 05"},{"$f":"IF(ISNUMBER(DI45),IF(DI45>MAX(TeilnNr)-1,IF(DK45=1,2,IF(MOD(DK45,2)<>0,2,1)),IF(DK45=1,2,IF(MOD(DK45,2)<>0,1,2))),\"\")","v":1},null,2,1,null,2]
[null,null,null,null,null,null,null,null,null,null,null,null,null,null,null,null,null,null,null,null,null,null,null,null,null,null,null,null,null,null,null,null,null,null,null,null,null,null,null,null,null,null,null,null,null,null,null,null,null,null,null,null,null,null,null,null,null,null,null,null,null,null,null,null,null,null,null,null,null,null,null,null,null,null,null,null,null,null,null,null,null,null,null,null,null,null,null,null,null,null,null,5,{"$f":"INDEX($CJ$23:$CJ$32,MATCH($CW46,TeilnNr,0))","v":"Spieler 05"},"-",{"$f":"INDEX($CJ$23:$CJ$32,MATCH($CX46,TeilnNr,0))","v":"Spieler 04"},null,null,11,{"$f":"CU45","v":2},5,5,4,{"$f":"IF(LEFT(CS46,1)=\"V\",\"\",LEFT(CS46,1))","v":""},{"$f":"IF(RIGHT(CS46,1)=\"V\",\"\",RIGHT(CS46,1))","v":""},"$K$27","$M$26",5,{"$f":"INDEX($CJ$23:$CJ$32,MATCH($DL46,TeilnNr,0))","v":"Spieler 04"},"-",{"$f":"INDEX($CJ$23:$CJ$32,MATCH($DM46,TeilnNr,0))","v":"Spieler 03"},null,null,12,3,5,4,3,{"$f":"IF(LEFT(DH46,1)=\"V\",\"\",LEFT(DH46,1))","v":""},{"$f":"IF(RIGHT(DH46,1)=\"V\",\"\",RIGHT(DH46,1))","v":""},"$I$26","$K$25",5,{"$f":"IF(CT46>MAX(TeilnNr)-1,CQ46,CO46)","v":"Spieler 04"},"-",{"$f":"IF(CT46>MAX(TeilnNr)-1,CO46,CQ46)","v":"Spieler 05"},{"$f":"IF(ISNUMBER(CT46),IF(CT46>MAX(TeilnNr)-1,IF(CV46=1,1,IF(MOD(CV46,2)<>0,2,1)),IF(CV46=1,1,IF(MOD(CV46,2)<>0,1,2))),\"\")","v":2},null,1,2,null,1,5,{"$f":"IF(DI46>MAX(TeilnNr)-1,DF46,DD46)","v":"Spieler 03"},"-",{"$f":"IF(DI46>MAX(TeilnNr)-1,DD46,DF46)","v":"Spieler 04"},{"$f":"IF(ISNUMBER(DI46),IF(DI46>MAX(TeilnNr)-1,IF(DK46=1,2,IF(MOD(DK46,2)<>0,2,1)),IF(DK46=1,2,IF(MOD(DK46,2)<>0,1,2))),\"\")","v":2},null,1,2,null,1]
[null,null,null,null,null,null,null,null,null,null,null,null,null,null,null,null,null,null,null,null,null,null,null,null,null,null,null,null,null,null,null,null,null,null,null,null,null,null,null,null,null,null,null,null,null,null,null,null,null,null,null,null,null,null,null,null,null,null,null,null,null,null,null,null,null,null,null,null,null,null,null,null,null,null,null,null,null,null,null,null,null,null,null,null,null,null,null,null,null,null,null,null,null,null,null,null,null,null,null,null,null,null,null,null,null,null,null,null,null,null,null,null,null,null,null,null,null,null,null,null,null,null,null,null,null,{"$f":"IF(ISNUMBER(CT47),IF(CT47>MAX(TeilnNr)-1,2,1),\"\")","v":""},null,null,{"$f":"IF(ISNUMBER(CW47),IF(CW47>MAX(TeilnNr)-1,2,1),\"\")","v":""},null,null,null,null,null,null,"",null,null,{"$f":"IF(ISNUMBER(DG47),IF(DG47>MAX(TeilnNr)-1,2,1),\"\")","v":""}]
[null,null,null,null,null,null,null,null,null,null,null,null,null,null,null,null,null,null,null,null,null,null,null,null,null,null,null,null,null,null,null,null,null,null,null,null,null,null,null,null,null,null,null,null,null,null,null,null,null,null,null,null,null,null,null,null,null,null,null,null,null,null,null,null,null,null,null,null,null,null,null,null,null,null,null,null,null,null,null,null,null,null,null,null,null,null,null,null,null,null,null,null,{"$f":"CO41+2","v":13},null,null,null,null,"N°","R","B","SpNr w","SpNr s","Res w","Res s",null,null,null,{"$f":"DD41+2","v":14},null,null,null,null,"N°","R","B","SpNr w","SpNr s","Res w","Res s",null,null,null,{"$f":"CO48","v":13},null,{"$f":"IF(CO48=MAX(TeilnNr),\"-> Bretter drehen!\",\"\")","v":""},{"$f":"IF(ISNUMBER(CT48),IF(CT48>MAX(TeilnNr)-1,2,1),\"\")","v":""},null,null,{"$f":"IF(ISNUMBER(CW48),IF(CW48>MAX(TeilnNr)-1,2,1),\"\")","v":""},null,null,null,{"$f":"DD48","v":14},null,{"$f":"IF(DD48=MAX(TeilnNr),\"-> Bretter drehen!\",\"\")","v":""},{"$f":"IF(ISNUMBER(DI48),IF(DI48>MAX(TeilnNr)-1,IF(MOD(DK48,2)<>0,2,1),IF(MOD(DK48,2)<>0,1,2)),\"\")","v":""},null,null,{"$f":"IF(ISNUMBER(DG48),IF(DG48>MAX(TeilnNr)-1,2,1),\"\")","v":""}]
[null,null,null,null,null,null,null,null,null,null,null,null,null,null,null,null,null,null,null,null,null,null,null,null,null,null,null,null,null,null,null,null,null,null,null,null,null,null,null,null,null,null,null,null,null,null,null,null,null,null,null,null,null,null,null,null,null,null,null,null,null,null,null,null,null,null,null,null,null,null,null,null,null,null,null,null,null,null,null,null,null,null,null,null,null,null,null,null,null,null,null,{"$f":"IF(OR(INDEX($CI$23:$CI$32,CW49),INDEX($CI$23:$CI$32,CX49)),0,1)","v":1},{"$f":"INDEX($CJ$23:$CJ$32,MATCH($CW49,TeilnNr,0))","v":"Spieler 07"},"-",{"$f":"INDEX($CJ$23:$CJ$32,MATCH($CX49,TeilnNr,0))","v":"Spieler 10"},null,null,{"$f":"CO48","v":13},{"$f":"IF(CO48>MAX(TeilnNr)-1,CO48-(MAX(TeilnNr)-1),CO48)","v":4},1,{"$f":"IF(AND(CV49=1,MOD(CU49,2)=IF(CT49>MAX(TeilnNr)-1,1,0)),MAX(TeilnNr),IF(MOD(CV49,2)=IF(CT49>MAX(TeilnNr)-1,1,0),IF(MAX(TeilnNr)/2-CV49+1-(CU49-MAX(TeilnNr)/2-1)>=1,MAX(TeilnNr)/2-CV49+1-(CU49-MAX(TeilnNr)/2-1),MAX(TeilnNr)/2-CV49+1-(CU49-MAX(TeilnNr)/2-1)+MAX(TeilnNr)-1),IF(CV49-(CU49-1)>=1,CV49-(CU49-1),CV49-(CU49-1)+MAX(TeilnNr)-1)))","v":7},{"$f":"IF(AND(CV49=1,MOD(CU49,2)<>IF(CT49>MAX(TeilnNr)-1,1,0)),MAX(TeilnNr),IF(MOD(CV49,2)<>IF(CT49>MAX(TeilnNr)-1,1,0),IF(MAX(TeilnNr)/2-CV49+1-(CU49-MAX(TeilnNr)/2-1)>=1,MAX(TeilnNr)/2-CV49+1-(CU49-MAX(TeilnNr)/2-1),MAX(TeilnNr)/2-CV49+1-(CU49-MAX(TeilnNr)/2-1)+MAX(TeilnNr)-1),IF(CV49-(CU49-1)>=1,CV49-(CU49-1),CV49-(CU49-1)+MAX(TeilnNr)-1)))","v":10},{"$f":"IF(LEFT(CS49,1)=\"V\",\"\",LEFT(CS49,1))","v":""},{"$f":"IF(RIGHT(CS49,1)=\"V\",\"\",RIGHT(CS49,1))","v":""},{"$f":"IF(CT49>MAX(TeilnNr)-1,ADDRESS(ROW(Teilnehmer)+CW49,COLUMN(Teilnehmer)+CX49+CX49),ADDRESS(ROW(Teilnehmer)+CW49,COLUMN(Teilnehmer)+CX49+CX49-1))","v":"$W$29"},{"$f":"IF(CT49>MAX(TeilnNr)-1,ADDRESS(ROW(Teilnehmer)+CX49,COLUMN(Teilnehmer)+CW49+CW49),ADDRESS(ROW(Teilnehmer)+CX49,COLUMN(Teilnehmer)+CW49+CW49-1))","v":"$Q$32"},{"$f":"IF(OR(INDEX($CI$23:$CI$32,DL49),INDEX($CI$23:$CI$32,DM49)),0,1)","v":1},{"$f":"INDEX($CJ$23:$CJ$32,MATCH($DL49,TeilnNr,0))","v":"Spieler 10"},"-",{"$f":"INDEX($CJ$23:$CJ$32,MATCH($DM49,TeilnNr,0))","v":"Spieler 06"},null,null,{"$f":"DD48","v":14},{"$f":"IF(DD48>MAX(TeilnNr)-1,DD48-(MAX(TeilnNr)-1),DD48)","v":5},1,{"$f":"IF(AND(DK49=1,MOD(DJ49,2)=IF(DI49>MAX(TeilnNr)-1,1,0)),MAX(TeilnNr),IF(MOD(DK49,2)=IF(DI49>MAX(TeilnNr)-1,1,0),IF(MAX(TeilnNr)/2-DK49+1-(DJ49-MAX(TeilnNr)/2-1)>=1,MAX(TeilnNr)/2-DK49+1-(DJ49-MAX(TeilnNr)/2-1),MAX(TeilnNr)/2-DK49+1-(DJ49-MAX(TeilnNr)/2-1)+MAX(TeilnNr)-1),IF(DK49-(DJ49-1)>=1,DK49-(DJ49-1),DK49-(DJ49-1)+MAX(TeilnNr)-1)))","v":10},{"$f":"IF(AND(DK49=1,MOD(DJ49,2)<>IF(DI49>MAX(TeilnNr)-1,1,0)),MAX(TeilnNr),IF(MOD(DK49,2)<>IF(DI49>MAX(TeilnNr)-1,1,0),IF(MAX(TeilnNr)/2-DK49+1-(DJ49-MAX(TeilnNr)/2-1)>=1,MAX(TeilnNr)/2-DK49+1-(DJ49-MAX(TeilnNr)/2-1),MAX(TeilnNr)/2-DK49+1-(DJ49-MAX(TeilnNr)/2-1)+MAX(TeilnNr)-1),IF(DK49-(DJ49-1)>=1,DK49-(DJ49-1),DK49-(DJ49-1)+MAX(TeilnNr)-1)))","v":6},{"$f":"IF(LEFT(DH49,1)=\"V\",\"\",LEFT(DH49,1))","v":""},{"$f":"IF(RIGHT(DH49,1)=\"V\",\"\",RIGHT(DH49,1))","v":""},{"$f":"IF(DI49>MAX(TeilnNr)-1,ADDRESS(ROW(Teilnehmer)+DL49,COLUMN(Teilnehmer)+DM49+DM49),ADDRESS(ROW(Teilnehmer)+DL49,COLUMN(Teilnehmer)+DM49+DM49-1))","v":"$O$32"},{"$f":"IF(DI49>MAX(TeilnNr)-1,ADDRESS(ROW(Teilnehmer)+DM49,COLUMN(Teilnehmer)+DL49+DL49),ADDRESS(ROW(Teilnehmer)+DM49,COLUMN(Teilnehmer)+DL49+DL49-1))","v":"$W$28"},{"$f":"CN49","v":1},{"$f":"CO49","v":"Spieler 07"},"-",{"$f":"CQ49","v":"Spieler 10"},{"$f":"IF(ISNUMBER(CT49),IF(CT49>MAX(TeilnNr)-1,IF(CV49=1,1,IF(MOD(CV49,2)<>0,2,1)),IF(CV49=1,1,IF(MOD(CV49,2)<>0,1,2))),\"\")","v":1},null,{"$f":"IF(DV49=1,2,1)","v":2},{"$f":"DV49","v":1},null,{"$f":"IF(DK49=1,DX49*10,DX49)","v":20},{"$f":"DC49","v":1},{"$f":"DF49","v":"Spieler 06"},"-",{"$f":"DD49","v":"Spieler 10"},{"$f":"IF(ISNUMBER(DI49),IF(DI49>MAX(TeilnNr)-1,IF(DK49=1,2,IF(MOD(DK49,2)<>0,2,1)),IF(DK49=1,2,IF(MOD(DK49,2)<>0,1,2))),\"\")","v":2},null,{"$f":"IF(EF49=1,2,1)","v":1},{"$f":"EF49","v":2},null,{"$f":"IF(DK49=1,EH49*10,EH49)","v":10}]
[null,null,null,null,null,null,null,null,null,null,null,null,null,null,null,null,null,null,null,null,null,null,null,null,null,null,null,null,null,null,null,null,null,null,null,null,null,null,null,null,null,null,null,null,null,null,null,null,null,null,null,null,null,null,null,null,null,null,null,null,null,null,null,null,null,null,null,null,null,null,null,null,null,null,null,null,null,null,null,null,null,null,null,null,null,null,null,null,null,null,null,{"$f":"CN49+1","v":2},{"$f":"INDEX($CJ$23:$CJ$32,MATCH($CW50,TeilnNr,0))","v":"Spieler 08"},"-",{"$f":"INDEX($CJ$23:$CJ$32,MATCH($CX50,TeilnNr,0))","v":"Spieler 06"},null,null,{"$f":"CT49","v":13},{"$f":"CU49","v":4},{"$f":"CV49+1","v":2},8,6,{"$f":"IF(LEFT(CS50,1)=\"V\",\"\",LEFT(CS50,1))","v":""},{"$f":"IF(RIGHT(CS50,1)=\"V\",\"\",RIGHT(CS50,1))","v":""},"$O$30","$S$28",{"$f":"DC49+1","v":2},{"$f":"INDEX($CJ$23:$CJ$32,MATCH($DL50,TeilnNr,0))","v":"Spieler 07"},"-",{"$f":"INDEX($CJ$23:$CJ$32,MATCH($DM50,TeilnNr,0))","v":"Spieler 05"},null,null,{"$f":"DI49","v":14},{"$f":"DJ49","v":5},{"$f":"DK49+1","v":2},7,5,{"$f":"IF(LEFT(DH50,1)=\"V\",\"\",LEFT(DH50,1))","v":""},{"$f":"IF(RIGHT(DH50,1)=\"V\",\"\",RIGHT(DH50,1))","v":""},"$M$29","$Q$27",2,{"$f":"IF(CT50>MAX(TeilnNr)-1,CO50,CQ50)","v":"Spieler 08"},"-",{"$f":"IF(CT50>MAX(TeilnNr)-1,CQ50,CO50)","v":"Spieler 06"},{"$f":"IF(ISNUMBER(CT50),IF(CT50>MAX(TeilnNr)-1,IF(CV50=1,1,IF(MOD(CV50,2)<>0,2,1)),IF(CV50=1,1,IF(MOD(CV50,2)<>0,1,2))),\"\")","v":1},null,2,1,null,2,2,{"$f":"IF(DI50>MAX(TeilnNr)-1,DD50,DF50)","v":"Spieler 07"},"-",{"$f":"IF(DI50>MAX(TeilnNr)-1,DF50,DD50)","v":"Spieler 05"},{"$f":"IF(ISNUMBER(DI50),IF(DI50>MAX(TeilnNr)-1,IF(DK50=1,2,IF(MOD(DK50,2)<>0,2,1)),IF(DK50=1,2,IF(MOD(DK50,2)<>0,1,2))),\"\")","v":1},null,2,1,null,2]
[null,null,null,null,null,null,null,null,null,null,null,null,null,null,null,null,null,null,null,null,null,null,null,null,null,null,null,null,null,null,null,null,null,null,null,null,null,null,null,null,null,null,null,null,null,null,null,null,null,null,null,null,null,null,null,null,null,null,null,null,null,null,null,null,null,null,null,null,null,null,null,null,null,null,null,null,null,null,null,null,null,null,null,null,null,null,null,null,null,null,null,{"$f":"CN50+1","v":3},{"$f":"INDEX($CJ$23:$CJ$32,MATCH($CW51,TeilnNr,0))","v":"Spieler 05"},"-",{"$f":"INDEX($CJ$23:$CJ$32,MATCH($CX51,TeilnNr,0))","v":"Spieler 09"},null,null,{"$f":"CT50","v":13},{"$f":"CU50","v":4},{"$f":"CV50+1","v":3},5,9,{"$f":"IF(LEFT(CS51,1)=\"V\",\"\",LEFT(CS51,1))","v":""},{"$f":"IF(RIGHT(CS51,1)=\"V\",\"\",RIGHT(CS51,1))","v":""},"$U$27","$M$31",{"$f":"DC50+1","v":3},{"$f":"INDEX($CJ$23:$CJ$32,MATCH($DL51,TeilnNr,0))","v":"Spieler 04"},"-",{"$f":"INDEX($CJ$23:$CJ$32,MATCH($DM51,TeilnNr,0))","v":"Spieler 08"},null,null,{"$f":"DI50","v":14},{"$f":"DJ50","v":5},{"$f":"DK50+1","v":3},4,8,{"$f":"IF(LEFT(DH51,1)=\"V\",\"\",LEFT(DH51,1))","v":""},{"$f":"IF(RIGHT(DH51,1)=\"V\",\"\",RIGHT(DH51,1))","v":""},"$S$26","$K$30",3,{"$f":"IF(CT51>MAX(TeilnNr)-1,CQ51,CO51)","v":"Spieler 09"},"-",{"$f":"IF(CT51>MAX(TeilnNr)-1,CO51,CQ51)","v":"Spieler 05"},{"$f":"IF(ISNUMBER(CT51),IF(CT51>MAX(TeilnNr)-1,IF(CV51=1,1,IF(MOD(CV51,2)<>0,2,1)),IF(CV51=1,1,IF(MOD(CV51,2)<>0,1,2))),\"\")","v":2},null,1,2,null,1,3,{"$f":"IF(DI51>MAX(TeilnNr)-1,DF51,DD51)","v":"Spieler 08"},"-",{"$f":"IF(DI51>MAX(TeilnNr)-1,DD51,DF51)","v":"Spieler 04"},{"$f":"IF(ISNUMBER(DI51),IF(DI51>MAX(TeilnNr)-1,IF(DK51=1,2,IF(MOD(DK51,2)<>0,2,1)),IF(DK51=1,2,IF(MOD(DK51,2)<>0,1,2))),\"\")","v":2},null,1,2,null,1]
[null,null,null,null,null,null,null,null,null,null,null,null,null,null,null,null,null,null,null,null,null,null,null,null,null,null,null,null,null,null,null,null,null,null,null,null,null,null,null,null,null,null,null,null,null,null,null,null,null,null,null,null,null,null,null,null,null,null,null,null,null,null,null,null,null,null,null,null,null,null,null,null,null,null,null,null,null,null,null,null,null,null,null,null,null,null,null,null,null,null,null,4,{"$f":"INDEX($CJ$23:$CJ$32,MATCH($CW52,TeilnNr,0))","v":"Spieler 01"},"-",{"$f":"INDEX($CJ$23:$CJ$32,MATCH($CX52,TeilnNr,0))","v":"Spieler 04"},null,null,13,{"$f":"CU51","v":4},4,1,4,{"$f":"IF(LEFT(CS52,1)=\"V\",\"\",LEFT(CS52,1))","v":""},{"$f":"IF(RIGHT(CS52,1)=\"V\",\"\",RIGHT(CS52,1))","v":""},"$K$23","$E$26",4,{"$f":"INDEX($CJ$23:$CJ$32,MATCH($DL52,TeilnNr,0))","v":"Spieler 09"},"-",{"$f":"INDEX($CJ$23:$CJ$32,MATCH($DM52,TeilnNr,0))","v":"Spieler 03"},null,null,14,5,4,9,3,{"$f":"IF(LEFT(DH52,1)=\"V\",\"\",LEFT(DH52,1))","v":""},{"$f":"IF(RIGHT(DH52,1)=\"V\",\"\",RIGHT(DH52,1))","v":""},"$I$31","$U$25",4,{"$f":"IF(CT52>MAX(TeilnNr)-1,CO52,CQ52)","v":"Spieler 01"},"-",{"$f":"IF(CT52>MAX(TeilnNr)-1,CQ52,CO52)","v":"Spieler 04"},{"$f":"IF(ISNUMBER(CT52),IF(CT52>MAX(TeilnNr)-1,IF(CV52=1,1,IF(MOD(CV52,2)<>0,2,1)),IF(CV52=1,1,IF(MOD(CV52,2)<>0,1,2))),\"\")","v":1},null,2,1,null,2,4,{"$f":"IF(DI52>MAX(TeilnNr)-1,DD52,DF52)","v":"Spieler 09"},"-",{"$f":"IF(DI52>MAX(TeilnNr)-1,DF52,DD52)","v":"Spieler 03"},{"$f":"IF(ISNUMBER(DI52),IF(DI52>MAX(TeilnNr)-1,IF(DK52=1,2,IF(MOD(DK52,2)<>0,2,1)),IF(DK52=1,2,IF(MOD(DK52,2)<>0,1,2))),\"\")","v":1},null,2,1,null,2]
[null,null,null,null,null,null,null,null,null,null,null,null,null,null,null,null,null,null,null,null,null,null,null,null,null,null,null,null,null,null,null,null,null,null,null,null,null,null,null,null,null,null,null,null,null,null,null,null,null,null,null,null,null,null,null,null,null,null,null,null,null,null,null,null,null,null,null,null,null,null,null,null,null,null,null,null,null,null,null,null,null,null,null,null,null,null,null,null,null,null,null,5,{"$f":"INDEX($CJ$23:$CJ$32,MATCH($CW53,TeilnNr,0))","v":"Spieler 03"},"-",{"$f":"INDEX($CJ$23:$CJ$32,MATCH($CX53,TeilnNr,0))","v":"Spieler 02"},null,null,13,{"$f":"CU52","v":4},5,3,2,{"$f":"IF(LEFT(CS53,1)=\"V\",\"\",LEFT(CS53,1))","v":""},{"$f":"IF(RIGHT(CS53,1)=\"V\",\"\",RIGHT(CS53,1))","v":""},"$G$25","$I$24",5,{"$f":"INDEX($CJ$23:$CJ$32,MATCH($DL53,TeilnNr,0))","v":"Spieler 02"},"-",{"$f":"INDEX($CJ$23:$CJ$32,MATCH($DM53,TeilnNr,0))","v":"Spieler 01"},null,null,14,5,5,2,1,{"$f":"IF(LEFT(DH53,1)=\"V\",\"\",LEFT(DH53,1))","v":""},{"$f":"IF(RIGHT(DH53,1)=\"V\",\"\",RIGHT(DH53,1))","v":""},"$E$24","$G$23",5,{"$f":"IF(CT53>MAX(TeilnNr)-1,CQ53,CO53)","v":"Spieler 02"},"-",{"$f":"IF(CT53>MAX(TeilnNr)-1,CO53,CQ53)","v":"Spieler 03"},{"$f":"IF(ISNUMBER(CT53),IF(CT53>MAX(TeilnNr)-1,IF(CV53=1,1,IF(MOD(CV53,2)<>0,2,1)),IF(CV53=1,1,IF(MOD(CV53,2)<>0,1,2))),\"\")","v":2},null,1,2,null,1,5,{"$f":"IF(DI53>MAX(TeilnNr)-1,DF53,DD53)","v":"Spieler 01"},"-",{"$f":"IF(DI53>MAX(TeilnNr)-1,DD53,DF53)","v":"Spieler 02"},{"$f":"IF(ISNUMBER(DI53),IF(DI53>MAX(TeilnNr)-1,IF(DK53=1,2,IF(MOD(DK53,2)<>0,2,1)),IF(DK53=1,2,IF(MOD(DK53,2)<>0,1,2))),\"\")","v":2},null,1,2,null,1]
[null,null,null,null,null,null,null,null,null,null,null,null,null,null,null,null,null,null,null,null,null,null,null,null,null,null,null,null,null,null,null,null,null,null,null,null,null,null,null,null,null,null,null,null,null,null,null,null,null,null,null,null,null,null,null,null,null,null,null,null,null,null,null,null,null,null,null,null,null,null,null,null,null,null,null,null,null,null,null,null,null,null,null,null,null,null,null,null,null,null,null,null,null,null,null,null,null,null,null,null,null,null,null,null,null,null,null,null,null,null,null,null,null,null,null,null,null,null,null,null,null,null,null,null,null,{"$f":"IF(ISNUMBER(CT54),IF(CT54>MAX(TeilnNr)-1,2,1),\"\")","v":""},null,null,{"$f":"IF(ISNUMBER(CW54),IF(CW54>MAX(TeilnNr)-1,2,1),\"\")","v":""},null,null,null,null,null,null,"",null,null,{"$f":"IF(ISNUMBER(DG54),IF(DG54>MAX(TeilnNr)-1,2,1),\"\")","v":""}]
[null,null,null,null,null,null,null,null,null,null,null,null,null,null,null,null,null,null,null,null,null,null,null,null,null,null,null,null,null,null,null,null,null,null,null,null,null,null,null,null,null,null,null,null,null,null,null,null,null,null,null,null,null,null,null,null,null,null,null,null,null,null,null,null,null,null,null,null,null,null,null,null,null,null,null,null,null,null,null,null,null,null,null,null,null,null,null,null,null,null,null,null,{"$f":"CO48+2","v":15},null,null,null,null,"N°","R","B","SpNr w","SpNr s","Res w","Res s",null,null,null,{"$f":"DD48+2","v":16},null,null,null,null,"N°","R","B","SpNr w","SpNr s","Res w","Res s",null,null,null,{"$f":"CO55","v":15},null,{"$f":"IF(CO55=MAX(TeilnNr),\"-> Bretter drehen!\",\"\")","v":""},{"$f":"IF(ISNUMBER(CT55),IF(CT55>MAX(TeilnNr)-1,2,1),\"\")","v":""},null,null,{"$f":"IF(ISNUMBER(CW55),IF(CW55>MAX(TeilnNr)-1,2,1),\"\")","v":""},null,null,null,{"$f":"DD55","v":16},null,{"$f":"IF(DD55=MAX(TeilnNr),\"-> Bretter drehen!\",\"\")","v":""},{"$f":"IF(ISNUMBER(DI55),IF(DI55>MAX(TeilnNr)-1,IF(MOD(DK55,2)<>0,2,1),IF(MOD(DK55,2)<>0,1,2)),\"\")","v":""},null,null,{"$f":"IF(ISNUMBER(DG55),IF(DG55>MAX(TeilnNr)-1,2,1),\"\")","v":""}]
[null,null,null,null,null,null,null,null,null,null,null,null,null,null,null,null,null,null,null,null,null,null,null,null,null,null,null,null,null,null,null,null,null,null,null,null,null,null,null,null,null,null,null,null,null,null,null,null,null,null,null,null,null,null,null,null,null,null,null,null,null,null,null,null,null,null,null,null,null,null,null,null,null,null,null,null,null,null,null,null,null,null,null,null,null,null,null,null,null,null,null,{"$f":"IF(OR(INDEX($CI$23:$CI$32,CW56),INDEX($CI$23:$CI$32,CX56)),0,1)","v":1},{"$f":"INDEX($CJ$23:$CJ$32,MATCH($CW56,TeilnNr,0))","v":"Spieler 05"},"-",{"$f":"INDEX($CJ$23:$CJ$32,MATCH($CX56,TeilnNr,0))","v":"Spieler 10"},null,null,{"$f":"CO55","v":15},{"$f":"IF(CO55>MAX(TeilnNr)-1,CO55-(MAX(TeilnNr)-1),CO55)","v":6},1,{"$f":"IF(AND(CV56=1,MOD(CU56,2)=IF(CT56>MAX(TeilnNr)-1,1,0)),MAX(TeilnNr),IF(MOD(CV56,2)=IF(CT56>MAX(TeilnNr)-1,1,0),IF(MAX(TeilnNr)/2-CV56+1-(CU56-MAX(TeilnNr)/2-1)>=1,MAX(TeilnNr)/2-CV56+1-(CU56-MAX(TeilnNr)/2-1),MAX(TeilnNr)/2-CV56+1-(CU56-MAX(TeilnNr)/2-1)+MAX(TeilnNr)-1),IF(CV56-(CU56-1)>=1,CV56-(CU56-1),CV56-(CU56-1)+MAX(TeilnNr)-1)))","v":5},{"$f":"IF(AND(CV56=1,MOD(CU56,2)<>IF(CT56>MAX(TeilnNr)-1,1,0)),MAX(TeilnNr),IF(MOD(CV56,2)<>IF(CT56>MAX(TeilnNr)-1,1,0),IF(MAX(TeilnNr)/2-CV56+1-(CU56-MAX(TeilnNr)/2-1)>=1,MAX(TeilnNr)/2-CV56+1-(CU56-MAX(TeilnNr)/2-1),MAX(TeilnNr)/2-CV56+1-(CU56-MAX(TeilnNr)/2-1)+MAX(TeilnNr)-1),IF(CV56-(CU56-1)>=1,CV56-(CU56-1),CV56-(CU56-1)+MAX(TeilnNr)-1)))","v":10},{"$f":"IF(LEFT(CS56,1)=\"V\",\"\",LEFT(CS56,1))","v":""},{"$f":"IF(RIGHT(CS56,1)=\"V\",\"\",RIGHT(CS56,1))","v":""},{"$f":"IF(CT56>MAX(TeilnNr)-1,ADDRESS(ROW(Teilnehmer)+CW56,COLUMN(Teilnehmer)+CX56+CX56),ADDRESS(ROW(Teilnehmer)+CW56,COLUMN(Teilnehmer)+CX56+CX56-1))","v":"$W$27"},{"$f":"IF(CT56>MAX(TeilnNr)-1,ADDRESS(ROW(Teilnehmer)+CX56,COLUMN(Teilnehmer)+CW56+CW56),ADDRESS(ROW(Teilnehmer)+CX56,COLUMN(Teilnehmer)+CW56+CW56-1))","v":"$M$32"},{"$f":"IF(OR(INDEX($CI$23:$CI$32,DL56),INDEX($CI$23:$CI$32,DM56)),0,1)","v":1},{"$f":"INDEX($CJ$23:$CJ$32,MATCH($DL56,TeilnNr,0))","v":"Spieler 10"},"-",{"$f":"INDEX($CJ$23:$CJ$32,MATCH($DM56,TeilnNr,0))","v":"Spieler 04"},null,null,{"$f":"DD55","v":16},{"$f":"IF(DD55>MAX(TeilnNr)-1,DD55-(MAX(TeilnNr)-1),DD55)","v":7},1,{"$f":"IF(AND(DK56=1,MOD(DJ56,2)=IF(DI56>MAX(TeilnNr)-1,1,0)),MAX(TeilnNr),IF(MOD(DK56,2)=IF(DI56>MAX(TeilnNr)-1,1,0),IF(MAX(TeilnNr)/2-DK56+1-(DJ56-MAX(TeilnNr)/2-1)>=1,MAX(TeilnNr)/2-DK56+1-(DJ56-MAX(TeilnNr)/2-1),MAX(TeilnNr)/2-DK56+1-(DJ56-MAX(TeilnNr)/2-1)+MAX(TeilnNr)-1),IF(DK56-(DJ56-1)>=1,DK56-(DJ56-1),DK56-(DJ56-1)+MAX(TeilnNr)-1)))","v":10},{"$f":"IF(AND(DK56=1,MOD(DJ56,2)<>IF(DI56>MAX(TeilnNr)-1,1,0)),MAX(TeilnNr),IF(MOD(DK56,2)<>IF(DI56>MAX(TeilnNr)-1,1,0),IF(MAX(TeilnNr)/2-DK56+1-(DJ56-MAX(TeilnNr)/2-1)>=1,MAX(TeilnNr)/2-DK56+1-(DJ56-MAX(TeilnNr)/2-1),MAX(TeilnNr)/2-DK56+1-(DJ56-MAX(TeilnNr)/2-1)+MAX(TeilnNr)-1),IF(DK56-(DJ56-1)>=1,DK56-(DJ56-1),DK56-(DJ56-1)+MAX(TeilnNr)-1)))","v":4},{"$f":"IF(LEFT(DH56,1)=\"V\",\"\",LEFT(DH56,1))","v":""},{"$f":"IF(RIGHT(DH56,1)=\"V\",\"\",RIGHT(DH56,1))","v":""},{"$f":"IF(DI56>MAX(TeilnNr)-1,ADDRESS(ROW(Teilnehmer)+DL56,COLUMN(Teilnehmer)+DM56+DM56),ADDRESS(ROW(Teilnehmer)+DL56,COLUMN(Teilnehmer)+DM56+DM56-1))","v":"$K$32"},{"$f":"IF(DI56>MAX(TeilnNr)-1,ADDRESS(ROW(Teilnehmer)+DM56,COLUMN(Teilnehmer)+DL56+DL56),ADDRESS(ROW(Teilnehmer)+DM56,COLUMN(Teilnehmer)+DL56+DL56-1))","v":"$W$26"},{"$f":"CN56","v":1},{"$f":"CO56","v":"Spieler 05"},"-",{"$f":"CQ56","v":"Spieler 10"},{"$f":"IF(ISNUMBER(CT56),IF(CT56>MAX(TeilnNr)-1,IF(CV56=1,1,IF(MOD(CV56,2)<>0,2,1)),IF(CV56=1,1,IF(MOD(CV56,2)<>0,1,2))),\"\")","v":1},null,{"$f":"IF(DV56=1,2,1)","v":2},{"$f":"DV56","v":1},null,{"$f":"IF(DK56=1,DX56*10,DX56)","v":20},{"$f":"DC56","v":1},{"$f":"DF56","v":"Spieler 04"},"-",{"$f":"DD56","v":"Spieler 10"},{"$f":"IF(ISNUMBER(DI56),IF(DI56>MAX(TeilnNr)-1,IF(DK56=1,2,IF(MOD(DK56,2)<>0,2,1)),IF(DK56=1,2,IF(MOD(DK56,2)<>0,1,2))),\"\")","v":2},null,{"$f":"IF(EF56=1,2,1)","v":1},{"$f":"EF56","v":2},null,{"$f":"IF(DK56=1,EH56*10,EH56)","v":10}]
[null,null,null,null,null,null,null,null,null,null,null,null,null,null,null,null,null,null,null,null,null,null,null,null,null,null,null,null,null,null,null,null,null,null,null,null,null,null,null,null,null,null,null,null,null,null,null,null,null,null,null,null,null,null,null,null,null,null,null,null,null,null,null,null,null,null,null,null,null,null,null,null,null,null,null,null,null,null,null,null,null,null,null,null,null,null,null,null,null,null,null,{"$f":"CN56+1","v":2},{"$f":"INDEX($CJ$23:$CJ$32,MATCH($CW57,TeilnNr,0))","v":"Spieler 06"},"-",{"$f":"INDEX($CJ$23:$CJ$32,MATCH($CX57,TeilnNr,0))","v":"Spieler 04"},null,null,{"$f":"CT56","v":15},{"$f":"CU56","v":6},{"$f":"CV56+1","v":2},6,4,{"$f":"IF(LEFT(CS57,1)=\"V\",\"\",LEFT(CS57,1))","v":""},{"$f":"IF(RIGHT(CS57,1)=\"V\",\"\",RIGHT(CS57,1))","v":""},"$K$28","$O$26",{"$f":"DC56+1","v":2},{"$f":"INDEX($CJ$23:$CJ$32,MATCH($DL57,TeilnNr,0))","v":"Spieler 05"},"-",{"$f":"INDEX($CJ$23:$CJ$32,MATCH($DM57,TeilnNr,0))","v":"Spieler 03"},null,null,{"$f":"DI56","v":16},{"$f":"DJ56","v":7},{"$f":"DK56+1","v":2},5,3,{"$f":"IF(LEFT(DH57,1)=\"V\",\"\",LEFT(DH57,1))","v":""},{"$f":"IF(RIGHT(DH57,1)=\"V\",\"\",RIGHT(DH57,1))","v":""},"$I$27","$M$25",2,{"$f":"IF(CT57>MAX(TeilnNr)-1,CO57,CQ57)","v":"Spieler 06"},"-",{"$f":"IF(CT57>MAX(TeilnNr)-1,CQ57,CO57)","v":"Spieler 04"},{"$f":"IF(ISNUMBER(CT57),IF(CT57>MAX(TeilnNr)-1,IF(CV57=1,1,IF(MOD(CV57,2)<>0,2,1)),IF(CV57=1,1,IF(MOD(CV57,2)<>0,1,2))),\"\")","v":1},null,2,1,null,2,2,{"$f":"IF(DI57>MAX(TeilnNr)-1,DD57,DF57)","v":"Spieler 05"},"-",{"$f":"IF(DI57>MAX(TeilnNr)-1,DF57,DD57)","v":"Spieler 03"},{"$f":"IF(ISNUMBER(DI57),IF(DI57>MAX(TeilnNr)-1,IF(DK57=1,2,IF(MOD(DK57,2)<>0,2,1)),IF(DK57=1,2,IF(MOD(DK57,2)<>0,1,2))),\"\")","v":1},null,2,1,null,2]
[null,null,null,null,null,null,null,null,null,null,null,null,null,null,null,null,null,null,null,null,null,null,null,null,null,null,null,null,null,null,null,null,null,null,null,null,null,null,null,null,null,null,null,null,null,null,null,null,null,null,null,null,null,null,null,null,null,null,null,null,null,null,null,null,null,null,null,null,null,null,null,null,null,null,null,null,null,null,null,null,null,null,null,null,null,null,null,null,null,null,null,{"$f":"CN57+1","v":3},{"$f":"INDEX($CJ$23:$CJ$32,MATCH($CW58,TeilnNr,0))","v":"Spieler 03"},"-",{"$f":"INDEX($CJ$23:$CJ$32,MATCH($CX58,TeilnNr,0))","v":"Spieler 07"},null,null,{"$f":"CT57","v":15},{"$f":"CU57","v":6},{"$f":"CV57+1","v":3},3,7,{"$f":"IF(LEFT(CS58,1)=\"V\",\"\",LEFT(CS58,1))","v":""},{"$f":"IF(RIGHT(CS58,1)=\"V\",\"\",RIGHT(CS58,1))","v":""},"$Q$25","$I$29",{"$f":"DC57+1","v":3},{"$f":"INDEX($CJ$23:$CJ$32,MATCH($DL58,TeilnNr,0))","v":"Spieler 02"},"-",{"$f":"INDEX($CJ$23:$CJ$32,MATCH($DM58,TeilnNr,0))","v":"Spieler 06"},null,null,{"$f":"DI57","v":16},{"$f":"DJ57","v":7},{"$f":"DK57+1","v":3},2,6,{"$f":"IF(LEFT(DH58,1)=\"V\",\"\",LEFT(DH58,1))","v":""},{"$f":"IF(RIGHT(DH58,1)=\"V\",\"\",RIGHT(DH58,1))","v":""},"$O$24","$G$28",3,{"$f":"IF(CT58>MAX(TeilnNr)-1,CQ58,CO58)","v":"Spieler 07"},"-",{"$f":"IF(CT58>MAX(TeilnNr)-1,CO58,CQ58)","v":"Spieler 03"},{"$f":"IF(ISNUMBER(CT58),IF(CT58>MAX(TeilnNr)-1,IF(CV58=1,1,IF(MOD(CV58,2)<>0,2,1)),IF(CV58=1,1,IF(MOD(CV58,2)<>0,1,2))),\"\")","v":2},null,1,2,null,1,3,{"$f":"IF(DI58>MAX(TeilnNr)-1,DF58,DD58)","v":"Spieler 06"},"-",{"$f":"IF(DI58>MAX(TeilnNr)-1,DD58,DF58)","v":"Spieler 02"},{"$f":"IF(ISNUMBER(DI58),IF(DI58>MAX(TeilnNr)-1,IF(DK58=1,2,IF(MOD(DK58,2)<>0,2,1)),IF(DK58=1,2,IF(MOD(DK58,2)<>0,1,2))),\"\")","v":2},null,1,2,null,1]
[null,null,null,null,null,null,null,null,null,null,null,null,null,null,null,null,null,null,null,null,null,null,null,null,null,null,null,null,null,null,null,null,null,null,null,null,null,null,null,null,null,null,null,null,null,null,null,null,null,null,null,null,null,null,null,null,null,null,null,null,null,null,null,null,null,null,null,null,null,null,null,null,null,null,null,null,null,null,null,null,null,null,null,null,null,null,null,null,null,null,null,4,{"$f":"INDEX($CJ$23:$CJ$32,MATCH($CW59,TeilnNr,0))","v":"Spieler 08"},"-",{"$f":"INDEX($CJ$23:$CJ$32,MATCH($CX59,TeilnNr,0))","v":"Spieler 02"},null,null,15,{"$f":"CU58","v":6},4,8,2,{"$f":"IF(LEFT(CS59,1)=\"V\",\"\",LEFT(CS59,1))","v":""},{"$f":"IF(RIGHT(CS59,1)=\"V\",\"\",RIGHT(CS59,1))","v":""},"$G$30","$S$24",4,{"$f":"INDEX($CJ$23:$CJ$32,MATCH($DL59,TeilnNr,0))","v":"Spieler 07"},"-",{"$f":"INDEX($CJ$23:$CJ$32,MATCH($DM59,TeilnNr,0))","v":"Spieler 01"},null,null,16,7,4,7,1,{"$f":"IF(LEFT(DH59,1)=\"V\",\"\",LEFT(DH59,1))","v":""},{"$f":"IF(RIGHT(DH59,1)=\"V\",\"\",RIGHT(DH59,1))","v":""},"$E$29","$Q$23",4,{"$f":"IF(CT59>MAX(TeilnNr)-1,CO59,CQ59)","v":"Spieler 08"},"-",{"$f":"IF(CT59>MAX(TeilnNr)-1,CQ59,CO59)","v":"Spieler 02"},{"$f":"IF(ISNUMBER(CT59),IF(CT59>MAX(TeilnNr)-1,IF(CV59=1,1,IF(MOD(CV59,2)<>0,2,1)),IF(CV59=1,1,IF(MOD(CV59,2)<>0,1,2))),\"\")","v":1},null,2,1,null,2,4,{"$f":"IF(DI59>MAX(TeilnNr)-1,DD59,DF59)","v":"Spieler 07"},"-",{"$f":"IF(DI59>MAX(TeilnNr)-1,DF59,DD59)","v":"Spieler 01"},{"$f":"IF(ISNUMBER(DI59),IF(DI59>MAX(TeilnNr)-1,IF(DK59=1,2,IF(MOD(DK59,2)<>0,2,1)),IF(DK59=1,2,IF(MOD(DK59,2)<>0,1,2))),\"\")","v":1},null,2,1,null,2]
[null,null,null,null,null,null,null,null,null,null,null,null,null,null,null,null,null,null,null,null,null,null,null,null,null,null,null,null,null,null,null,null,null,null,null,null,null,null,null,null,null,null,null,null,null,null,null,null,null,null,null,null,null,null,null,null,null,null,null,null,null,null,null,null,null,null,null,null,null,null,null,null,null,null,null,null,null,null,null,null,null,null,null,null,null,null,null,null,null,null,null,5,{"$f":"INDEX($CJ$23:$CJ$32,MATCH($CW60,TeilnNr,0))","v":"Spieler 01"},"-",{"$f":"INDEX($CJ$23:$CJ$32,MATCH($CX60,TeilnNr,0))","v":"Spieler 09"},null,null,15,{"$f":"CU59","v":6},5,1,9,{"$f":"IF(LEFT(CS60,1)=\"V\",\"\",LEFT(CS60,1))","v":""},{"$f":"IF(RIGHT(CS60,1)=\"V\",\"\",RIGHT(CS60,1))","v":""},"$U$23","$E$31",5,{"$f":"INDEX($CJ$23:$CJ$32,MATCH($DL60,TeilnNr,0))","v":"Spieler 09"},"-",{"$f":"INDEX($CJ$23:$CJ$32,MATCH($DM60,TeilnNr,0))","v":"Spieler 08"},null,null,16,7,5,9,8,{"$f":"IF(LEFT(DH60,1)=\"V\",\"\",LEFT(DH60,1))","v":""},{"$f":"IF(RIGHT(DH60,1)=\"V\",\"\",RIGHT(DH60,1))","v":""},"$S$31","$U$30",5,{"$f":"IF(CT60>MAX(TeilnNr)-1,CQ60,CO60)","v":"Spieler 09"},"-",{"$f":"IF(CT60>MAX(TeilnNr)-1,CO60,CQ60)","v":"Spieler 01"},{"$f":"IF(ISNUMBER(CT60),IF(CT60>MAX(TeilnNr)-1,IF(CV60=1,1,IF(MOD(CV60,2)<>0,2,1)),IF(CV60=1,1,IF(MOD(CV60,2)<>0,1,2))),\"\")","v":2},null,1,2,null,1,5,{"$f":"IF(DI60>MAX(TeilnNr)-1,DF60,DD60)","v":"Spieler 08"},"-",{"$f":"IF(DI60>MAX(TeilnNr)-1,DD60,DF60)","v":"Spieler 09"},{"$f":"IF(ISNUMBER(DI60),IF(DI60>MAX(TeilnNr)-1,IF(DK60=1,2,IF(MOD(DK60,2)<>0,2,1)),IF(DK60=1,2,IF(MOD(DK60,2)<>0,1,2))),\"\")","v":2},null,1,2,null,1]
[null,null,null,null,null,null,null,null,null,null,null,null,null,null,null,null,null,null,null,null,null,null,null,null,null,null,null,null,null,null,null,null,null,null,null,null,null,null,null,null,null,null,null,null,null,null,null,null,null,null,null,null,null,null,null,null,null,null,null,null,null,null,null,null,null,null,null,null,null,null,null,null,null,null,null,null,null,null,null,null,null,null,null,null,null,null,null,null,null,null,null,null,null,null,null,null,null,null,null,null,null,null,null,null,null,null,null,null,null,null,null,null,null,null,null,null,null,null,null,null,null,null,null,null,null,{"$f":"IF(ISNUMBER(CT61),IF(CT61>MAX(TeilnNr)-1,2,1),\"\")","v":""},null,null,{"$f":"IF(ISNUMBER(CW61),IF(CW61>MAX(TeilnNr)-1,2,1),\"\")","v":""},null,null,null,null,null,null,"",null,null,{"$f":"IF(ISNUMBER(DG61),IF(DG61>MAX(TeilnNr)-1,2,1),\"\")","v":""}]
[null,null,null,null,null,null,null,null,null,null,null,null,null,null,null,null,null,null,null,null,null,null,null,null,null,null,null,null,null,null,null,null,null,null,null,null,null,null,null,null,null,null,null,null,null,null,null,null,null,null,null,null,null,null,null,null,null,null,null,null,null,null,null,null,null,null,null,null,null,null,null,null,null,null,null,null,null,null,null,null,null,null,null,null,null,null,null,null,null,null,null,null,{"$f":"CO55+2","v":17},null,null,null,null,"N°","R","B","SpNr w","SpNr s","Res w","Res s",null,null,null,{"$f":"DD55+2","v":18},null,null,null,null,"N°","R","B","SpNr w","SpNr s","Res w","Res s",null,null,null,{"$f":"CO62","v":17},null,{"$f":"IF(CO62=MAX(TeilnNr),\"-> Bretter drehen!\",\"\")","v":""},{"$f":"IF(ISNUMBER(CT62),IF(CT62>MAX(TeilnNr)-1,2,1),\"\")","v":""},null,null,{"$f":"IF(ISNUMBER(CW62),IF(CW62>MAX(TeilnNr)-1,2,1),\"\")","v":""},null,null,null,{"$f":"DD62","v":18},null,{"$f":"IF(DD62=MAX(TeilnNr),\"-> Bretter drehen!\",\"\")","v":""},{"$f":"IF(ISNUMBER(DI62),IF(DI62>MAX(TeilnNr)-1,IF(MOD(DK62,2)<>0,2,1),IF(MOD(DK62,2)<>0,1,2)),\"\")","v":""},null,null,{"$f":"IF(ISNUMBER(DG62),IF(DG62>MAX(TeilnNr)-1,2,1),\"\")","v":""}]
[null,null,null,null,null,null,null,null,null,null,null,null,null,null,null,null,null,null,null,null,null,null,null,null,null,null,null,null,null,null,null,null,null,null,null,null,null,null,null,null,null,null,null,null,null,null,null,null,null,null,null,null,null,null,null,null,null,null,null,null,null,null,null,null,null,null,null,null,null,null,null,null,null,null,null,null,null,null,null,null,null,null,null,null,null,null,null,null,null,null,null,{"$f":"IF(OR(INDEX($CI$23:$CI$32,CW63),INDEX($CI$23:$CI$32,CX63)),0,1)","v":1},{"$f":"INDEX($CJ$23:$CJ$32,MATCH($CW63,TeilnNr,0))","v":"Spieler 03"},"-",{"$f":"INDEX($CJ$23:$CJ$32,MATCH($CX63,TeilnNr,0))","v":"Spieler 10"},null,null,{"$f":"CO62","v":17},{"$f":"IF(CO62>MAX(TeilnNr)-1,CO62-(MAX(TeilnNr)-1),CO62)","v":8},1,{"$f":"IF(AND(CV63=1,MOD(CU63,2)=IF(CT63>MAX(TeilnNr)-1,1,0)),MAX(TeilnNr),IF(MOD(CV63,2)=IF(CT63>MAX(TeilnNr)-1,1,0),IF(MAX(TeilnNr)/2-CV63+1-(CU63-MAX(TeilnNr)/2-1)>=1,MAX(TeilnNr)/2-CV63+1-(CU63-MAX(TeilnNr)/2-1),MAX(TeilnNr)/2-CV63+1-(CU63-MAX(TeilnNr)/2-1)+MAX(TeilnNr)-1),IF(CV63-(CU63-1)>=1,CV63-(CU63-1),CV63-(CU63-1)+MAX(TeilnNr)-1)))","v":3},{"$f":"IF(AND(CV63=1,MOD(CU63,2)<>IF(CT63>MAX(TeilnNr)-1,1,0)),MAX(TeilnNr),IF(MOD(CV63,2)<>IF(CT63>MAX(TeilnNr)-1,1,0),IF(MAX(TeilnNr)/2-CV63+1-(CU63-MAX(TeilnNr)/2-1)>=1,MAX(TeilnNr)/2-CV63+1-(CU63-MAX(TeilnNr)/2-1),MAX(TeilnNr)/2-CV63+1-(CU63-MAX(TeilnNr)/2-1)+MAX(TeilnNr)-1),IF(CV63-(CU63-1)>=1,CV63-(CU63-1),CV63-(CU63-1)+MAX(TeilnNr)-1)))","v":10},{"$f":"IF(LEFT(CS63,1)=\"V\",\"\",LEFT(CS63,1))","v":""},{"$f":"IF(RIGHT(CS63,1)=\"V\",\"\",RIGHT(CS63,1))","v":""},{"$f":"IF(CT63>MAX(TeilnNr)-1,ADDRESS(ROW(Teilnehmer)+CW63,COLUMN(Teilnehmer)+CX63+CX63),ADDRESS(ROW(Teilnehmer)+CW63,COLUMN(Teilnehmer)+CX63+CX63-1))","v":"$W$25"},{"$f":"IF(CT63>MAX(TeilnNr)-1,ADDRESS(ROW(Teilnehmer)+CX63,COLUMN(Teilnehmer)+CW63+CW63),ADDRESS(ROW(Teilnehmer)+CX63,COLUMN(Teilnehmer)+CW63+CW63-1))","v":"$I$32"},{"$f":"IF(OR(INDEX($CI$23:$CI$32,DL63),INDEX($CI$23:$CI$32,DM63)),0,1)","v":1},{"$f":"INDEX($CJ$23:$CJ$32,MATCH($DL63,TeilnNr,0))","v":"Spieler 10"},"-",{"$f":"INDEX($CJ$23:$CJ$32,MATCH($DM63,TeilnNr,0))","v":"Spieler 02"},null,null,{"$f":"DD62","v":18},{"$f":"IF(DD62>MAX(TeilnNr)-1,DD62-(MAX(TeilnNr)-1),DD62)","v":9},1,{"$f":"IF(AND(DK63=1,MOD(DJ63,2)=IF(DI63>MAX(TeilnNr)-1,1,0)),MAX(TeilnNr),IF(MOD(DK63,2)=IF(DI63>MAX(TeilnNr)-1,1,0),IF(MAX(TeilnNr)/2-DK63+1-(DJ63-MAX(TeilnNr)/2-1)>=1,MAX(TeilnNr)/2-DK63+1-(DJ63-MAX(TeilnNr)/2-1),MAX(TeilnNr)/2-DK63+1-(DJ63-MAX(TeilnNr)/2-1)+MAX(TeilnNr)-1),IF(DK63-(DJ63-1)>=1,DK63-(DJ63-1),DK63-(DJ63-1)+MAX(TeilnNr)-1)))","v":10},{"$f":"IF(AND(DK63=1,MOD(DJ63,2)<>IF(DI63>MAX(TeilnNr)-1,1,0)),MAX(TeilnNr),IF(MOD(DK63,2)<>IF(DI63>MAX(TeilnNr)-1,1,0),IF(MAX(TeilnNr)/2-DK63+1-(DJ63-MAX(TeilnNr)/2-1)>=1,MAX(TeilnNr)/2-DK63+1-(DJ63-MAX(TeilnNr)/2-1),MAX(TeilnNr)/2-DK63+1-(DJ63-MAX(TeilnNr)/2-1)+MAX(TeilnNr)-1),IF(DK63-(DJ63-1)>=1,DK63-(DJ63-1),DK63-(DJ63-1)+MAX(TeilnNr)-1)))","v":2},{"$f":"IF(LEFT(DH63,1)=\"V\",\"\",LEFT(DH63,1))","v":""},{"$f":"IF(RIGHT(DH63,1)=\"V\",\"\",RIGHT(DH63,1))","v":""},{"$f":"IF(DI63>MAX(TeilnNr)-1,ADDRESS(ROW(Teilnehmer)+DL63,COLUMN(Teilnehmer)+DM63+DM63),ADDRESS(ROW(Teilnehmer)+DL63,COLUMN(Teilnehmer)+DM63+DM63-1))","v":"$G$32"},{"$f":"IF(DI63>MAX(TeilnNr)-1,ADDRESS(ROW(Teilnehmer)+DM63,COLUMN(Teilnehmer)+DL63+DL63),ADDRESS(ROW(Teilnehmer)+DM63,COLUMN(Teilnehmer)+DL63+DL63-1))","v":"$W$24"},{"$f":"CN63","v":1},{"$f":"CO63","v":"Spieler 03"},"-",{"$f":"CQ63","v":"Spieler 10"},{"$f":"IF(ISNUMBER(CT63),IF(CT63>MAX(TeilnNr)-1,IF(CV63=1,1,IF(MOD(CV63,2)<>0,2,1)),IF(CV63=1,1,IF(MOD(CV63,2)<>0,1,2))),\"\")","v":1},null,{"$f":"IF(DV63=1,2,1)","v":2},{"$f":"DV63","v":1},null,{"$f":"IF(DK63=1,DX63*10,DX63)","v":20},{"$f":"DC63","v":1},{"$f":"DF63","v":"Spieler 02"},"-",{"$f":"DD63","v":"Spieler 10"},{"$f":"IF(ISNUMBER(DI63),IF(DI63>MAX(TeilnNr)-1,IF(DK63=1,2,IF(MOD(DK63,2)<>0,2,1)),IF(DK63=1,2,IF(MOD(DK63,2)<>0,1,2))),\"\")","v":2},null,{"$f":"IF(EF63=1,2,1)","v":1},{"$f":"EF63","v":2},null,{"$f":"IF(DK63=1,EH63*10,EH63)","v":10}]
[null,null,null,null,null,null,null,null,null,null,null,null,null,null,null,null,null,null,null,null,null,null,null,null,null,null,null,null,null,null,null,null,null,null,null,null,null,null,null,null,null,null,null,null,null,null,null,null,null,null,null,null,null,null,null,null,null,null,null,null,null,null,null,null,null,null,null,null,null,null,null,null,null,null,null,null,null,null,null,null,null,null,null,null,null,null,null,null,null,null,null,{"$f":"CN63+1","v":2},{"$f":"INDEX($CJ$23:$CJ$32,MATCH($CW64,TeilnNr,0))","v":"Spieler 04"},"-",{"$f":"INDEX($CJ$23:$CJ$32,MATCH($CX64,TeilnNr,0))","v":"Spieler 02"},null,null,{"$f":"CT63","v":17},{"$f":"CU63","v":8},{"$f":"CV63+1","v":2},4,2,{"$f":"IF(LEFT(CS64,1)=\"V\",\"\",LEFT(CS64,1))","v":""},{"$f":"IF(RIGHT(CS64,1)=\"V\",\"\",RIGHT(CS64,1))","v":""},"$G$26","$K$24",{"$f":"DC63+1","v":2},{"$f":"INDEX($CJ$23:$CJ$32,MATCH($DL64,TeilnNr,0))","v":"Spieler 03"},"-",{"$f":"INDEX($CJ$23:$CJ$32,MATCH($DM64,TeilnNr,0))","v":"Spieler 01"},null,null,{"$f":"DI63","v":18},{"$f":"DJ63","v":9},{"$f":"DK63+1","v":2},3,1,{"$f":"IF(LEFT(DH64,1)=\"V\",\"\",LEFT(DH64,1))","v":""},{"$f":"IF(RIGHT(DH64,1)=\"V\",\"\",RIGHT(DH64,1))","v":""},"$E$25","$I$23",2,{"$f":"IF(CT64>MAX(TeilnNr)-1,CO64,CQ64)","v":"Spieler 04"},"-",{"$f":"IF(CT64>MAX(TeilnNr)-1,CQ64,CO64)","v":"Spieler 02"},{"$f":"IF(ISNUMBER(CT64),IF(CT64>MAX(TeilnNr)-1,IF(CV64=1,1,IF(MOD(CV64,2)<>0,2,1)),IF(CV64=1,1,IF(MOD(CV64,2)<>0,1,2))),\"\")","v":1},null,2,1,null,2,2,{"$f":"IF(DI64>MAX(TeilnNr)-1,DD64,DF64)","v":"Spieler 03"},"-",{"$f":"IF(DI64>MAX(TeilnNr)-1,DF64,DD64)","v":"Spieler 01"},{"$f":"IF(ISNUMBER(DI64),IF(DI64>MAX(TeilnNr)-1,IF(DK64=1,2,IF(MOD(DK64,2)<>0,2,1)),IF(DK64=1,2,IF(MOD(DK64,2)<>0,1,2))),\"\")","v":1},null,2,1,null,2]
[null,null,null,null,null,null,null,null,null,null,null,null,null,null,null,null,null,null,null,null,null,null,null,null,null,null,null,null,null,null,null,null,null,null,null,null,null,null,null,null,null,null,null,null,null,null,null,null,null,null,null,null,null,null,null,null,null,null,null,null,null,null,null,null,null,null,null,null,null,null,null,null,null,null,null,null,null,null,null,null,null,null,null,null,null,null,null,null,null,null,null,{"$f":"CN64+1","v":3},{"$f":"INDEX($CJ$23:$CJ$32,MATCH($CW65,TeilnNr,0))","v":"Spieler 01"},"-",{"$f":"INDEX($CJ$23:$CJ$32,MATCH($CX65,TeilnNr,0))","v":"Spieler 05"},null,null,{"$f":"CT64","v":17},{"$f":"CU64","v":8},{"$f":"CV64+1","v":3},1,5,{"$f":"IF(LEFT(CS65,1)=\"V\",\"\",LEFT(CS65,1))","v":""},{"$f":"IF(RIGHT(CS65,1)=\"V\",\"\",RIGHT(CS65,1))","v":""},"$M$23","$E$27",{"$f":"DC64+1","v":3},{"$f":"INDEX($CJ$23:$CJ$32,MATCH($DL65,TeilnNr,0))","v":"Spieler 09"},"-",{"$f":"INDEX($CJ$23:$CJ$32,MATCH($DM65,TeilnNr,0))","v":"Spieler 04"},null,null,{"$f":"DI64","v":18},{"$f":"DJ64","v":9},{"$f":"DK64+1","v":3},9,4,{"$f":"IF(LEFT(DH65,1)=\"V\",\"\",LEFT(DH65,1))","v":""},{"$f":"IF(RIGHT(DH65,1)=\"V\",\"\",RIGHT(DH65,1))","v":""},"$K$31","$U$26",3,{"$f":"IF(CT65>MAX(TeilnNr)-1,CQ65,CO65)","v":"Spieler 05"},"-",{"$f":"IF(CT65>MAX(TeilnNr)-1,CO65,CQ65)","v":"Spieler 01"},{"$f":"IF(ISNUMBER(CT65),IF(CT65>MAX(TeilnNr)-1,IF(CV65=1,1,IF(MOD(CV65,2)<>0,2,1)),IF(CV65=1,1,IF(MOD(CV65,2)<>0,1,2))),\"\")","v":2},null,1,2,null,1,3,{"$f":"IF(DI65>MAX(TeilnNr)-1,DF65,DD65)","v":"Spieler 04"},"-",{"$f":"IF(DI65>MAX(TeilnNr)-1,DD65,DF65)","v":"Spieler 09"},{"$f":"IF(ISNUMBER(DI65),IF(DI65>MAX(TeilnNr)-1,IF(DK65=1,2,IF(MOD(DK65,2)<>0,2,1)),IF(DK65=1,2,IF(MOD(DK65,2)<>0,1,2))),\"\")","v":2},null,1,2,null,1]
[null,null,null,null,null,null,null,null,null,null,null,null,null,null,null,null,null,null,null,null,null,null,null,null,null,null,null,null,null,null,null,null,null,null,null,null,null,null,null,null,null,null,null,null,null,null,null,null,null,null,null,null,null,null,null,null,null,null,null,null,null,null,null,null,null,null,null,null,null,null,null,null,null,null,null,null,null,null,null,null,null,null,null,null,null,null,null,null,null,null,null,4,{"$f":"INDEX($CJ$23:$CJ$32,MATCH($CW66,TeilnNr,0))","v":"Spieler 06"},"-",{"$f":"INDEX($CJ$23:$CJ$32,MATCH($CX66,TeilnNr,0))","v":"Spieler 09"},null,null,17,{"$f":"CU65","v":8},4,6,9,{"$f":"IF(LEFT(CS66,1)=\"V\",\"\",LEFT(CS66,1))","v":""},{"$f":"IF(RIGHT(CS66,1)=\"V\",\"\",RIGHT(CS66,1))","v":""},"$U$28","$O$31",4,{"$f":"INDEX($CJ$23:$CJ$32,MATCH($DL66,TeilnNr,0))","v":"Spieler 05"},"-",{"$f":"INDEX($CJ$23:$CJ$32,MATCH($DM66,TeilnNr,0))","v":"Spieler 08"},null,null,18,9,4,5,8,{"$f":"IF(LEFT(DH66,1)=\"V\",\"\",LEFT(DH66,1))","v":""},{"$f":"IF(RIGHT(DH66,1)=\"V\",\"\",RIGHT(DH66,1))","v":""},"$S$27","$M$30",4,{"$f":"IF(CT66>MAX(TeilnNr)-1,CO66,CQ66)","v":"Spieler 06"},"-",{"$f":"IF(CT66>MAX(TeilnNr)-1,CQ66,CO66)","v":"Spieler 09"},{"$f":"IF(ISNUMBER(CT66),IF(CT66>MAX(TeilnNr)-1,IF(CV66=1,1,IF(MOD(CV66,2)<>0,2,1)),IF(CV66=1,1,IF(MOD(CV66,2)<>0,1,2))),\"\")","v":1},null,2,1,null,2,4,{"$f":"IF(DI66>MAX(TeilnNr)-1,DD66,DF66)","v":"Spieler 05"},"-",{"$f":"IF(DI66>MAX(TeilnNr)-1,DF66,DD66)","v":"Spieler 08"},{"$f":"IF(ISNUMBER(DI66),IF(DI66>MAX(TeilnNr)-1,IF(DK66=1,2,IF(MOD(DK66,2)<>0,2,1)),IF(DK66=1,2,IF(MOD(DK66,2)<>0,1,2))),\"\")","v":1},null,2,1,null,2]
[null,null,null,null,null,null,null,null,null,null,null,null,null,null,null,null,null,null,null,null,null,null,null,null,null,null,null,null,null,null,null,null,null,null,null,null,null,null,null,null,null,null,null,null,null,null,null,null,null,null,null,null,null,null,null,null,null,null,null,null,null,null,null,null,null,null,null,null,null,null,null,null,null,null,null,null,null,null,null,null,null,null,null,null,null,null,null,null,null,null,null,5,{"$f":"INDEX($CJ$23:$CJ$32,MATCH($CW67,TeilnNr,0))","v":"Spieler 08"},"-",{"$f":"INDEX($CJ$23:$CJ$32,MATCH($CX67,TeilnNr,0))","v":"Spieler 07"},null,null,17,{"$f":"CU66","v":8},5,8,7,{"$f":"IF(LEFT(CS67,1)=\"V\",\"\",LEFT(CS67,1))","v":""},{"$f":"IF(RIGHT(CS67,1)=\"V\",\"\",RIGHT(CS67,1))","v":""},"$Q$30","$S$29",5,{"$f":"INDEX($CJ$23:$CJ$32,MATCH($DL67,TeilnNr,0))","v":"Spieler 07"},"-",{"$f":"INDEX($CJ$23:$CJ$32,MATCH($DM67,TeilnNr,0))","v":"Spieler 06"},null,null,18,9,5,7,6,{"$f":"IF(LEFT(DH67,1)=\"V\",\"\",LEFT(DH67,1))","v":""},{"$f":"IF(RIGHT(DH67,1)=\"V\",\"\",RIGHT(DH67,1))","v":""},"$O$29","$Q$28",5,{"$f":"IF(CT67>MAX(TeilnNr)-1,CQ67,CO67)","v":"Spieler 07"},"-",{"$f":"IF(CT67>MAX(TeilnNr)-1,CO67,CQ67)","v":"Spieler 08"},{"$f":"IF(ISNUMBER(CT67),IF(CT67>MAX(TeilnNr)-1,IF(CV67=1,1,IF(MOD(CV67,2)<>0,2,1)),IF(CV67=1,1,IF(MOD(CV67,2)<>0,1,2))),\"\")","v":2},null,1,2,null,1,5,{"$f":"IF(DI67>MAX(TeilnNr)-1,DF67,DD67)","v":"Spieler 06"},"-",{"$f":"IF(DI67>MAX(TeilnNr)-1,DD67,DF67)","v":"Spieler 07"},{"$f":"IF(ISNUMBER(DI67),IF(DI67>MAX(TeilnNr)-1,IF(DK67=1,2,IF(MOD(DK67,2)<>0,2,1)),IF(DK67=1,2,IF(MOD(DK67,2)<>0,1,2))),\"\")","v":2},null,1,2,null,1]
[null,null,null,null,null,null,null,null,null,null,null,null,null,null,null,null,null,null,null,null,null,null,null,null,null,null,null,null,null,null,null,null,null,null,null,null,null,null,null,null,null,null,null,null,null,null,null,null,null,null,null,null,null,null,null,null,null,null,null,null,null,null,null,null,null,null,null,null,null,null,null,null,null,null,null,null,null,null,null,null,null,null,null,null,null,null,null,null,null,null,null,null,null,null,null,null,null,null,null,null,null,null,null,null,null,null,null,null,null,null,null,null,null,null,null,null,null,null,null,null,null,null,null,null,null,{"$f":"IF(ISNUMBER(CT68),IF(CT68>MAX(TeilnNr)-1,2,1),\"\")","v":""},null,null,{"$f":"IF(ISNUMBER(CW68),IF(CW68>MAX(TeilnNr)-1,2,1),\"\")","v":""},null,null,null,null,null,null,"",null,null,{"$f":"IF(ISNUMBER(DG68),IF(DG68>MAX(TeilnNr)-1,2,1),\"\")","v":""}]
[null,null,null,null,null,null,null,null,null,null,null,null,null,null,null,null,null,null,null,null,null,null,null,null,null,null,null,null,null,null,null,null,null,null,null,null,null,null,null,null,null,null,null,null,null,null,null,null,null,null,null,null,null,null,null,null,null,null,null,null,null,null,null,null,null,null,null,null,null,null,null,null,null,null,null,null,null,null,null,null,null,null,null,null,null,null,null,null,null,null,null,null,null,null,null,null,null,null,null,null,null,null,null,null,null,null,null,null,null,null,null,null,null,null,null,null,null,null,null,null,null,null,null,null,null,{"$f":"IF(ISNUMBER(CT69),IF(CT69>MAX(TeilnNr)-1,2,1),\"\")","v":""},null,null,{"$f":"IF(ISNUMBER(CW69),IF(CW69>MAX(TeilnNr)-1,2,1),\"\")","v":""},null,null,null,null,null,null,{"$f":"IF(ISNUMBER(DI69),IF(DI69>MAX(TeilnNr)-1,IF(MOD(DK69,2)<>0,2,1),IF(MOD(DK69,2)<>0,1,2)),\"\")","v":""},null,null,{"$f":"IF(ISNUMBER(DG69),IF(DG69>MAX(TeilnNr)-1,2,1),\"\")","v":""}]

{"sheet":"8DR","index":14,"n_rows":48,"n_cols":133,"rows_kept":48,"cut":false,"hidden":false,"merged":[[0,1,0,25],[1,101,1,103],[3,86,3,103],[5,3,5,4],[5,5,5,6],[5,7,5,8],[5,9,5,10],[5,11,5,12],[5,13,5,14],[5,15,5,16],[5,17,5,18],[5,86,5,88],[5,101,5,103],[11,86,11,88],[11,101,11,103],[17,86,17,88],[17,101,17,103],[18,23,18,24],[19,3,19,4],[19,5,19,6],[19,7,19,8],[19,9,19,10],[19,11,19,12],[19,13,19,14],[19,15,19,16],[35,86,35,88],[35,101,35,103],[41,86,41,88],[41,101,41,103],[19,17,19,18],[23,86,23,88],[23,101,23,103],[29,86,29,88],[29,101,29,103]]}
[null,"Turniername",null,null,null,null,null,null,null,null,null,null,null,null,null,null,null,null,null,null,null,null,null,null,null,null,null,null,null,null,null,null,null,null,null,null,null,null,null,1,"1) Punkte 2) So-Be 3) Manuelle Feinwertung ",null,null,null,null,null,null,null,null,null,null,null,null,null,null,null,null,null,null,null,null,null,null,null,null,null,null,"Wiederholung Kriterien:",null,null,null,null,null,null,null,null,null,null,null,null,null,null,null,null,{"$f":"\"Paarungsliste und Resultate \"&IF(Turnier=\"\",\"\",Turnier)","v":"Paarungsliste und Resultate Turniername"},null,null,null,null,null,null,null,null,null,null,null,null,null,null,null,null,null,null,null,null,null,null,null,null,null,null,null,null,null,"Paarungsliste Darstellung Rutschsystem",null,null,null,null,null,null,null,null,null,null,{"$f":"IF(Datum=\"\",\"\",\"Datum:\")","v":""}]
[null,null,null,null,null,null,null,null,null,null,null,null,null,null,null,null,null,null,null,null,null,null,null,null,null,null,null,null,null,null,null,null,null,null,null,null,"a","b","P",2,"1) Punkte 2) So-Be 3) direkte Begegnung 4) Manuelle Feinwertung ",null,null,null,null,null,null,null,null,null,null,null,null,null,null,null,null,null,null,null,null,null,null,null,null,null,1,{"$f":"AO1","v":"1) Punkte 2) So-Be 3) Manuelle Feinwertung "},null,null,null,null,null,null,null,null,null,null,null,null,null,null,null,null,{"$f":"IF(Turnier=\"\",\"\",\"Turniername:\")","v":"Turniername:"},null,{"$f":"IF(Turnier=\"\",\"\",Turnier)","v":"Turniername"},null,null,null,null,null,null,null,null,null,null,null,null,null,"Datum:",null,null,null,null,null,null,null,null,null,null,null,null,null,{"$f":"IF(Turnier=\"\",\"\",\"Turniername:\")","v":"Turniername:"},null,{"$f":"IF(Turnier=\"\",\"\",Turnier)&IF(Datum=\"\",\"\",\", \"&TEXT(Datum,\"TT.MM.JJJJ\"))","v":"Turniername"}]
[null,null,null,null,null,null,null,null,null,null,null,null,null,null,null,null,null,null,null,null,null,null,null,null,null,null,null,null,null,null,null,null,null,null,null,null,"1","0",1,3,"1) Punkte 2) Anz. Partien 3) So-Be 4) Manuelle Feinwertung "]
[null,"Rangliste",null,null,null,null,null,null,null,null,null,null,null,null,null,null,null,null,null,null,null,null,null,null,null,null,null,null,null,null,null,null,null,null,null,null,"0","1",0,4,"1) Punkte 2) Anz. Partien 3) So-Be 4) direkte Begegnung 5) Manuelle Feinwertung ",null,null,null,null,null,null,null,null,null,null,null,null,null,null,null,null,null,null,null,null,null,null,null,null,null,2,{"$f":"AO2","v":"1) Punkte 2) So-Be 3) direkte Begegnung 4) Manuelle Feinwertung "},null,null,null,null,null,null,null,null,null,null,null,null,null,null,null,null,"Turnierleitung:",null,null,null,null,null,null,null,null,null,null,null,null,null,null,null,null,null,null,null,null,null,null,null,null,null,null,null,null,null,{"$f":"IF(Turnierleitung=\"\",\"\",\"Turnierleitung:\")","v":""},null,{"$f":"IF(Turnierleitung=\"\",\"\",Turnierleitung)","v":""}]
[null,null,null,null,null,null,null,null,null,null,null,null,null,null,null,null,null,null,null,null,null,null,null,null,null,null,null,null,null,null,null,null,null,null,null,null,"½","½",0.5,5,"1) Punkte 2) Anz. Partien 3) So-Be 4) direkte Begegnung 5) Anz.Schwarzpartien 6) Manuelle Feinwertung ",null,null,null,null,null,null,null,null,null,null,null,null,null,null,null,null,null,null,null,null,null,null,null,null,null,3,"1) Punkte 2) Anz. Partien 3) So-Be 4) Manuelle Feinwertung "]
[null,"Rang","Teilnehmer",1,null,2,null,3,null,4,null,5,null,6,null,7,null,8,null,"Punkte","Spiele","So-Be",{"$f":"IF(W20=\"\",\"FWm\",W20)","v":"FWx"},1,"½",0,"Nr",null,null,null,null,null,null,null,null,null,"+","-",1,6,"1) Punkte 2) Anz. Partien 3) So-Be 4) Anz.Schwarzpartien 5) direkte Begegnung 6) Manuelle Feinwertung ",null,null,null,null,null,null,null,null,null,null,null,null,null,null,null,null,null,null,null,null,null,null,null,null,null,4,"1) Punkte 2) Anz. Partien 3) So-Be 4) direkte Begegnung 5) Manuelle Feinwertung ",null,null,null,null,null,null,null,null,null,null,null,null,null,null,null,null,1,null,null,null,null,"N°","R","B","SpNr w","SpNr s","Res w","Res s","AdrTTw","AdrTTs",null,{"$f":"CG6+1","v":2},null,null,null,null,"N°","R","B","SpNr w","SpNr s","Res w","Res s","AdrTTw","AdrTTs",null,{"$f":"CG6","v":1},null,{"$f":"IF(CG6=MAX(TeilnNr),\"-> Bretter drehen!\",\"\")","v":""},null,null,null,null,null,null,null,{"$f":"CV6","v":2},null,{"$f":"IF(CV6=MAX(TeilnNr),\"-> Bretter drehen!\",\"\")","v":""}]
[null,{"$f":"IF(INDEX($CA$21:$CA$28,MATCH(B21,$CE$21:$CE$28,0)),\"-\",IF(INDEX($BZ$21:$BZ$28,MATCH(B21,$CE$21:$CE$28,0))<ROW()-ROW($B$6),\"\",INDEX($BZ$21:$BZ$28,MATCH(B21,$CE$21:$CE$28,0))))","v":1},{"$f":"IF(INDEX($C$21:$C$28,MATCH(B21,$CE$21:$CE$28,0))=0,\"Spieler \"&TEXT(AA7,\"00\"),INDEX($C$21:$C$28,MATCH(B21,$CE$21:$CE$28,0)))","v":"Spieler 01"},{"$f":"IF(INDEX($B$20:$S$28,MATCH($AA7,$B$20:$B$28,0),MATCH(INDEX($B$21:$B$28,MATCH(OFFSET($AA$6,D$6,0),$B$21:$B$28,0)),$B$20:$S$20,0))=\"\",\"\",INDEX($B$20:$S$28,MATCH($AA7,$B$20:$B$28,0),MATCH(INDEX($B$21:$B$28,MATCH(OFFSET($AA$6,D$6,0),$B$21:$B$28,0)),$B$20:$S$20,0)))","v":""},{"$f":"IF(INDEX($B$20:$S$28,MATCH($AA7,$B$20:$B$28,0),MATCH(INDEX($B$21:$B$28,MATCH(OFFSET($AA$6,D$6,0),$B$21:$B$28,0)),$B$20:$S$20,0)+1)=\"\",\"\",INDEX($B$20:$S$28,MATCH($AA7,$B$20:$B$28,0),MATCH(INDEX($B$21:$B$28,MATCH(OFFSET($AA$6,D$6,0),$B$21:$B$28,0)),$B$20:$S$20,0)+1))","v":""},{"$f":"IF(INDEX($B$20:$S$28,MATCH($AA7,$B$20:$B$28,0),MATCH(INDEX($B$21:$B$28,MATCH(OFFSET($AA$6,F$6,0),$B$21:$B$28,0)),$B$20:$S$20,0))=\"\",\"\",INDEX($B$20:$S$28,MATCH($AA7,$B$20:$B$28,0),MATCH(INDEX($B$21:$B$28,MATCH(OFFSET($AA$6,F$6,0),$B$21:$B$28,0)),$B$20:$S$20,0)))","v":""},{"$f":"IF(INDEX($B$20:$S$28,MATCH($AA7,$B$20:$B$28,0),MATCH(INDEX($B$21:$B$28,MATCH(OFFSET($AA$6,F$6,0),$B$21:$B$28,0)),$B$20:$S$20,0)+1)=\"\",\"\",INDEX($B$20:$S$28,MATCH($AA7,$B$20:$B$28,0),MATCH(INDEX($B$21:$B$28,MATCH(OFFSET($AA$6,F$6,0),$B$21:$B$28,0)),$B$20:$S$20,0)+1))","v":""},{"$f":"IF(INDEX($B$20:$S$28,MATCH($AA7,$B$20:$B$28,0),MATCH(INDEX($B$21:$B$28,MATCH(OFFSET($AA$6,H$6,0),$B$21:$B$28,0)),$B$20:$S$20,0))=\"\",\"\",INDEX($B$20:$S$28,MATCH($AA7,$B$20:$B$28,0),MATCH(INDEX($B$21:$B$28,MATCH(OFFSET($AA$6,H$6,0),$B$21:$B$28,0)),$B$20:$S$20,0)))","v":""},{"$f":"IF(INDEX($B$20:$S$28,MATCH($AA7,$B$20:$B$28,0),MATCH(INDEX($B$21:$B$28,MATCH(OFFSET($AA$6,H$6,0),$B$21:$B$28,0)),$B$20:$S$20,0)+1)=\"\",\"\",INDEX($B$20:$S$28,MATCH($AA7,$B$20:$B$28,0),MATCH(INDEX($B$21:$B$28,MATCH(OFFSET($AA$6,H$6,0),$B$21:$B$28,0)),$B$20:$S$20,0)+1))","v":""},{"$f":"IF(INDEX($B$20:$S$28,MATCH($AA7,$B$20:$B$28,0),MATCH(INDEX($B$21:$B$28,MATCH(OFFSET($AA$6,J$6,0),$B$21:$B$28,0)),$B$20:$S$20,0))=\"\",\"\",INDEX($B$20:$S$28,MATCH($AA7,$B$20:$B$28,0),MATCH(INDEX($B$21:$B$28,MATCH(OFFSET($AA$6,J$6,0),$B$21:$B$28,0)),$B$20:$S$20,0)))","v":""},{"$f":"IF(INDEX($B$20:$S$28,MATCH($AA7,$B$20:$B$28,0),MATCH(INDEX($B$21:$B$28,MATCH(OFFSET($AA$6,J$6,0),$B$21:$B$28,0)),$B$20:$S$20,0)+1)=\"\",\"\",INDEX($B$20:$S$28,MATCH($AA7,$B$20:$B$28,0),MATCH(INDEX($B$21:$B$28,MATCH(OFFSET($AA$6,J$6,0),$B$21:$B$28,0)),$B$20:$S$20,0)+1))","v":""},{"$f":"IF(INDEX($B$20:$S$28,MATCH($AA7,$B$20:$B$28,0),MATCH(INDEX($B$21:$B$28,MATCH(OFFSET($AA$6,L$6,0),$B$21:$B$28,0)),$B$20:$S$20,0))=\"\",\"\",INDEX($B$20:$S$28,MATCH($AA7,$B$20:$B$28,0),MATCH(INDEX($B$21:$B$28,MATCH(OFFSET($AA$6,L$6,0),$B$21:$B$28,0)),$B$20:$S$20,0)))","v":""},{"$f":"IF(INDEX($B$20:$S$28,MATCH($AA7,$B$20:$B$28,0),MATCH(INDEX($B$21:$B$28,MATCH(OFFSET($AA$6,L$6,0),$B$21:$B$28,0)),$B$20:$S$20,0)+1)=\"\",\"\",INDEX($B$20:$S$28,MATCH($AA7,$B$20:$B$28,0),MATCH(INDEX($B$21:$B$28,MATCH(OFFSET($AA$6,L$6,0),$B$21:$B$28,0)),$B$20:$S$20,0)+1))","v":""},{"$f":"IF(INDEX($B$20:$S$28,MATCH($AA7,$B$20:$B$28,0),MATCH(INDEX($B$21:$B$28,MATCH(OFFSET($AA$6,N$6,0),$B$21:$B$28,0)),$B$20:$S$20,0))=\"\",\"\",INDEX($B$20:$S$28,MATCH($AA7,$B$20:$B$28,0),MATCH(INDEX($B$21:$B$28,MATCH(OFFSET($AA$6,N$6,0),$B$21:$B$28,0)),$B$20:$S$20,0)))","v":""},{"$f":"IF(INDEX($B$20:$S$28,MATCH($AA7,$B$20:$B$28,0),MATCH(INDEX($B$21:$B$28,MATCH(OFFSET($AA$6,N$6,0),$B$21:$B$28,0)),$B$20:$S$20,0)+1)=\"\",\"\",INDEX($B$20:$S$28,MATCH($AA7,$B$20:$B$28,0),MATCH(INDEX($B$21:$B$28,MATCH(OFFSET($AA$6,N$6,0),$B$21:$B$28,0)),$B$20:$S$20,0)+1))","v":""},{"$f":"IF(INDEX($B$20:$S$28,MATCH($AA7,$B$20:$B$28,0),MATCH(INDEX($B$21:$B$28,MATCH(OFFSET($AA$6,P$6,0),$B$21:$B$28,0)),$B$20:$S$20,0))=\"\",\"\",INDEX($B$20:$S$28,MATCH($AA7,$B$20:$B$28,0),MATCH(INDEX($B$21:$B$28,MATCH(OFFSET($AA$6,P$6,0),$B$21:$B$28,0)),$B$20:$S$20,0)))","v":""},{"$f":"IF(INDEX($B$20:$S$28,MATCH($AA7,$B$20:$B$28,0),MATCH(INDEX($B$21:$B$28,MATCH(OFFSET($AA$6,P$6,0),$B$21:$B$28,0)),$B$20:$S$20,0)+1)=\"\",\"\",INDEX($B$20:$S$28,MATCH($AA7,$B$20:$B$28,0),MATCH(INDEX($B$21:$B$28,MATCH(OFFSET($AA$6,P$6,0),$B$21:$B$28,0)),$B$20:$S$20,0)+1))","v":""},{"$f":"IF(INDEX($B$20:$S$28,MATCH($AA7,$B$20:$B$28,0),MATCH(INDEX($B$21:$B$28,MATCH(OFFSET($AA$6,R$6,0),$B$21:$B$28,0)),$B$20:$S$20,0))=\"\",\"\",INDEX($B$20:$S$28,MATCH($AA7,$B$20:$B$28,0),MATCH(INDEX($B$21:$B$28,MATCH(OFFSET($AA$6,R$6,0),$B$21:$B$28,0)),$B$20:$S$20,0)))","v":""},{"$f":"IF(INDEX($B$20:$S$28,MATCH($AA7,$B$20:$B$28,0),MATCH(INDEX($B$21:$B$28,MATCH(OFFSET($AA$6,R$6,0),$B$21:$B$28,0)),$B$20:$S$20,0)+1)=\"\",\"\",INDEX($B$20:$S$28,MATCH($AA7,$B$20:$B$28,0),MATCH(INDEX($B$21:$B$28,MATCH(OFFSET($AA$6,R$6,0),$B$21:$B$28,0)),$B$20:$S$20,0)+1))","v":""},{"$f":"INDEX($AJ$21:$AJ$28,MATCH(AA7,$B$21:$B$28,0))","v":0},{"$f":"INDEX($U$21:$U$28,MATCH(AA7,$B$21:$B$28,0))","v":0},{"$f":"INDEX($V$21:$V$28,MATCH(AA7,$B$21:$B$28,0))","v":0},{"$f":"INDEX($W$21:$W$28,MATCH(AA7,$B$21:$B$28,0))","v":0},{"$f":"COUNTIF($D7:$S7,1)+COUNTIF($D7:$S7,\"+\")","v":0},{"$f":"COUNTIF($D7:$S7,\"½\")","v":0},{"$f":"COUNTIF($D7:$S7,0)+COUNTIF($D7:$S7,\"-\")","v":0},{"$f":"INDEX($B$21:$B$28,MATCH(B21,$CE$21:$CE$28,0))","v":1},null,null,null,null,null,null,null,null,null,"-","+",0,7,"1) Punkte 2) Anz. Partien 3) direkte Begegnung 4) So-Be 5) Anz.Schwarzpartien 6) Manuelle Feinwertung ",null,null,null,null,null,null,null,null,null,null,null,null,null,null,null,null,null,null,null,null,null,null,null,null,null,5,"1) Punkte 2) Anz. Partien 3) So-Be 4) direkte Begegnung 5) Anz.Schwarzpartien 6) Manuelle Feinwertung ",null,null,null,null,null,null,null,null,null,null,null,null,null,null,null,{"$f":"IF(OR(INDEX($CA$21:$CA$28,CO7),INDEX($CA$21:$CA$28,CP7)),0,1)","v":1},{"$f":"INDEX($CB$21:$CB$28,MATCH($CO7,TeilnNr,0))","v":"Spieler 01"},"-",{"$f":"INDEX($CB$21:$CB$28,MATCH($CP7,TeilnNr,0))","v":"Spieler 08"},null,null,{"$f":"CG6","v":1},{"$f":"IF(CG6>MAX(TeilnNr)-1,CG6-(MAX(TeilnNr)-1),CG6)","v":1},1,{"$f":"IF(AND(CN7=1,MOD(CM7,2)=IF(CL7>MAX(TeilnNr)-1,1,0)),MAX(TeilnNr),IF(MOD(CN7,2)=IF(CL7>MAX(TeilnNr)-1,1,0),IF(MAX(TeilnNr)/2-CN7+1-(CM7-MAX(TeilnNr)/2-1)>=1,MAX(TeilnNr)/2-CN7+1-(CM7-MAX(TeilnNr)/2-1),MAX(TeilnNr)/2-CN7+1-(CM7-MAX(TeilnNr)/2-1)+MAX(TeilnNr)-1),IF(CN7-(CM7-1)>=1,CN7-(CM7-1),CN7-(CM7-1)+MAX(TeilnNr)-1)))","v":1},{"$f":"IF(AND(CN7=1,MOD(CM7,2)<>IF(CL7>MAX(TeilnNr)-1,1,0)),MAX(TeilnNr),IF(MOD(CN7,2)<>IF(CL7>MAX(TeilnNr)-1,1,0),IF(MAX(TeilnNr)/2-CN7+1-(CM7-MAX(TeilnNr)/2-1)>=1,MAX(TeilnNr)/2-CN7+1-(CM7-MAX(TeilnNr)/2-1),MAX(TeilnNr)/2-CN7+1-(CM7-MAX(TeilnNr)/2-1)+MAX(TeilnNr)-1),IF(CN7-(CM7-1)>=1,CN7-(CM7-1),CN7-(CM7-1)+MAX(TeilnNr)-1)))","v":8},{"$f":"IF(LEFT(CK7,1)=\"V\",\"\",LEFT(CK7,1))","v":""},{"$f":"IF(RIGHT(CK7,1)=\"V\",\"\",RIGHT(CK7,1))","v":""},{"$f":"IF(CL7>MAX(TeilnNr)-1,ADDRESS(ROW(Teilnehmer)+CO7,COLUMN(Teilnehmer)+CP7+CP7),ADDRESS(ROW(Teilnehmer)+CO7,COLUMN(Teilnehmer)+CP7+CP7-1))","v":"$R$21"},{"$f":"IF(CL7>MAX(TeilnNr)-1,ADDRESS(ROW(Teilnehmer)+CP7,COLUMN(Teilnehmer)+CO7+CO7),ADDRESS(ROW(Teilnehmer)+CP7,COLUMN(Teilnehmer)+CO7+CO7-1))","v":"$D$28"},{"$f":"IF(OR(INDEX($CA$21:$CA$28,DD7),INDEX($CA$21:$CA$28,DE7)),0,1)","v":1},{"$f":"INDEX($CB$21:$CB$28,MATCH($DD7,TeilnNr,0))","v":"Spieler 08"},"-",{"$f":"INDEX($CB$21:$CB$28,MATCH($DE7,TeilnNr,0))","v":"Spieler 07"},null,null,{"$f":"CV6","v":2},{"$f":"IF(CV6>MAX(TeilnNr)-1,CV6-(MAX(TeilnNr)-1),CV6)","v":2},1,{"$f":"IF(AND(DC7=1,MOD(DB7,2)=IF(DA7>MAX(TeilnNr)-1,1,0)),MAX(TeilnNr),IF(MOD(DC7,2)=IF(DA7>MAX(TeilnNr)-1,1,0),IF(MAX(TeilnNr)/2-DC7+1-(DB7-MAX(TeilnNr)/2-1)>=1,MAX(TeilnNr)/2-DC7+1-(DB7-MAX(TeilnNr)/2-1),MAX(TeilnNr)/2-DC7+1-(DB7-MAX(TeilnNr)/2-1)+MAX(TeilnNr)-1),IF(DC7-(DB7-1)>=1,DC7-(DB7-1),DC7-(DB7-1)+MAX(TeilnNr)-1)))","v":8},{"$f":"IF(AND(DC7=1,MOD(DB7,2)<>IF(DA7>MAX(TeilnNr)-1,1,0)),MAX(TeilnNr),IF(MOD(DC7,2)<>IF(DA7>MAX(TeilnNr)-1,1,0),IF(MAX(TeilnNr)/2-DC7+1-(DB7-MAX(TeilnNr)/2-1)>=1,MAX(TeilnNr)/2-DC7+1-(DB7-MAX(TeilnNr)/2-1),MAX(TeilnNr)/2-DC7+1-(DB7-MAX(TeilnNr)/2-1)+MAX(TeilnNr)-1),IF(DC7-(DB7-1)>=1,DC7-(DB7-1),DC7-(DB7-1)+MAX(TeilnNr)-1)))","v":7},{"$f":"IF(LEFT(CZ7,1)=\"V\",\"\",LEFT(CZ7,1))","v":""},{"$f":"IF(RIGHT(CZ7,1)=\"V\",\"\",RIGHT(CZ7,1))","v":""},{"$f":"IF(DA7>MAX(TeilnNr)-1,ADDRESS(ROW(Teilnehmer)+DD7,COLUMN(Teilnehmer)+DE7+DE7),ADDRESS(ROW(Teilnehmer)+DD7,COLUMN(Teilnehmer)+DE7+DE7-1))","v":"$P$28"},{"$f":"IF(DA7>MAX(TeilnNr)-1,ADDRESS(ROW(Teilnehmer)+DE7,COLUMN(Teilnehmer)+DD7+DD7),ADDRESS(ROW(Teilnehmer)+DE7,COLUMN(Teilnehmer)+DD7+DD7-1))","v":"$R$27"},{"$f":"CF7","v":1},{"$f":"CG7","v":"Spieler 01"},"-",{"$f":"CI7","v":"Spieler 08"},{"$f":"IF(ISNUMBER(CL7),IF(CL7>MAX(TeilnNr)-1,IF(CN7=1,1,IF(MOD(CN7,2)<>0,2,1)),IF(CN7=1,1,IF(MOD(CN7,2)<>0,1,2))),\"\")","v":1},null,{"$f":"IF(DN7=1,2,1)","v":2},{"$f":"DN7","v":1},null,{"$f":"IF(DC7=1,DP7*10,DP7)","v":20},{"$f":"CU7","v":1},{"$f":"CX7","v":"Spieler 07"},"-",{"$f":"CV7","v":"Spieler 08"},{"$f":"IF(ISNUMBER(DA7),IF(DA7>MAX(TeilnNr)-1,IF(DC7=1,2,IF(MOD(DC7,2)<>0,2,1)),IF(DC7=1,2,IF(MOD(DC7,2)<>0,1,2))),\"\")","v":2},null,{"$f":"IF(DX7=1,2,1)","v":1},{"$f":"DX7","v":2},null,{"$f":"IF(DC7=1,DZ7*10,DZ7)","v":10}]
[null,"","Spieler 02","","","","","","","","","","","","","","","","",0,0,0,0,0,0,0,2,null,null,null,null,null,null,null,null,null,null,null,null,8,"1) Punkte 2) Anz. Partien 3) direkte Begegnung 4) Anz.Schwarzpartien 5) So-Be 6) Manuelle Feinwertung ",null,null,null,null,null,null,null,null,null,null,null,null,null,null,null,null,null,null,null,null,null,null,null,null,null,6,"1) Punkte 2) Anz. Partien 3) So-Be 4) Anz.Schwarzpartien 5) direkte Begegnung 6) Manuelle Feinwertung ",null,null,null,null,null,null,null,null,null,null,null,null,null,null,null,{"$f":"CF7+1","v":2},{"$f":"INDEX($CB$21:$CB$28,MATCH($CO8,TeilnNr,0))","v":"Spieler 07"},"-",{"$f":"INDEX($CB$21:$CB$28,MATCH($CP8,TeilnNr,0))","v":"Spieler 02"},null,null,{"$f":"CL7","v":1},{"$f":"CM7","v":1},{"$f":"CN7+1","v":2},7,2,{"$f":"IF(LEFT(CK8,1)=\"V\",\"\",LEFT(CK8,1))","v":""},{"$f":"IF(RIGHT(CK8,1)=\"V\",\"\",RIGHT(CK8,1))","v":""},"$F$27","$P$22",{"$f":"CU7+1","v":2},{"$f":"INDEX($CB$21:$CB$28,MATCH($DD8,TeilnNr,0))","v":"Spieler 06"},"-",{"$f":"INDEX($CB$21:$CB$28,MATCH($DE8,TeilnNr,0))","v":"Spieler 01"},null,null,{"$f":"DA7","v":2},{"$f":"DB7","v":2},{"$f":"DC7+1","v":2},6,1,{"$f":"IF(LEFT(CZ8,1)=\"V\",\"\",LEFT(CZ8,1))","v":""},{"$f":"IF(RIGHT(CZ8,1)=\"V\",\"\",RIGHT(CZ8,1))","v":""},"$D$26","$N$21",2,{"$f":"IF(CL8>MAX(TeilnNr)-1,CG8,CI8)","v":"Spieler 02"},"-",{"$f":"IF(CL8>MAX(TeilnNr)-1,CI8,CG8)","v":"Spieler 07"},{"$f":"IF(ISNUMBER(CL8),IF(CL8>MAX(TeilnNr)-1,IF(CN8=1,1,IF(MOD(CN8,2)<>0,2,1)),IF(CN8=1,1,IF(MOD(CN8,2)<>0,1,2))),\"\")","v":2},null,{"$f":"IF(DN8=1,2,1)","v":1},{"$f":"DN8","v":2},null,{"$f":"IF(DC8=1,DP8*10,DP8)","v":1},2,{"$f":"IF(DA8>MAX(TeilnNr)-1,CV8,CX8)","v":"Spieler 01"},"-",{"$f":"IF(DA8>MAX(TeilnNr)-1,CX8,CV8)","v":"Spieler 06"},{"$f":"IF(ISNUMBER(DA8),IF(DA8>MAX(TeilnNr)-1,IF(DC8=1,2,IF(MOD(DC8,2)<>0,2,1)),IF(DC8=1,2,IF(MOD(DC8,2)<>0,1,2))),\"\")","v":2},null,{"$f":"IF(DX8=1,2,1)","v":1},{"$f":"DX8","v":2},null,{"$f":"IF(DC8=1,DZ8*10,DZ8)","v":1}]
[null,"","Spieler 03","","","","","","","","","","","","","","","","",0,0,0,0,0,0,0,3,null,null,null,null,null,null,null,null,null,null,null,null,9,"1) Punkte 2) Anz. Partien 3) Anz.Schwarzpartien 4) So-Be 5) direkte Begegnung 6) Manuelle Feinwertung ",null,null,null,null,null,null,null,null,null,null,null,null,null,null,null,null,null,null,null,null,null,null,null,null,null,7,"1) Punkte 2) Anz. Partien 3) direkte Begegnung 4) So-Be 5) Anz.Schwarzpartien 6) Manuelle Feinwertung ",null,null,null,null,null,null,null,null,null,null,null,null,null,null,null,{"$f":"CF8+1","v":3},{"$f":"INDEX($CB$21:$CB$28,MATCH($CO9,TeilnNr,0))","v":"Spieler 03"},"-",{"$f":"INDEX($CB$21:$CB$28,MATCH($CP9,TeilnNr,0))","v":"Spieler 06"},null,null,{"$f":"CL8","v":1},{"$f":"CM8","v":1},{"$f":"CN8+1","v":3},3,6,{"$f":"IF(LEFT(CK9,1)=\"V\",\"\",LEFT(CK9,1))","v":""},{"$f":"IF(RIGHT(CK9,1)=\"V\",\"\",RIGHT(CK9,1))","v":""},"$N$23","$H$26",{"$f":"CU8+1","v":3},{"$f":"INDEX($CB$21:$CB$28,MATCH($DD9,TeilnNr,0))","v":"Spieler 02"},"-",{"$f":"INDEX($CB$21:$CB$28,MATCH($DE9,TeilnNr,0))","v":"Spieler 05"},null,null,{"$f":"DA8","v":2},{"$f":"DB8","v":2},{"$f":"DC8+1","v":3},2,5,{"$f":"IF(LEFT(CZ9,1)=\"V\",\"\",LEFT(CZ9,1))","v":""},{"$f":"IF(RIGHT(CZ9,1)=\"V\",\"\",RIGHT(CZ9,1))","v":""},"$L$22","$F$25",3,{"$f":"IF(CL9>MAX(TeilnNr)-1,CI9,CG9)","v":"Spieler 03"},"-",{"$f":"IF(CL9>MAX(TeilnNr)-1,CG9,CI9)","v":"Spieler 06"},{"$f":"IF(ISNUMBER(CL9),IF(CL9>MAX(TeilnNr)-1,IF(CN9=1,1,IF(MOD(CN9,2)<>0,2,1)),IF(CN9=1,1,IF(MOD(CN9,2)<>0,1,2))),\"\")","v":1},null,2,1,null,2,3,{"$f":"IF(DA9>MAX(TeilnNr)-1,CX9,CV9)","v":"Spieler 02"},"-",{"$f":"IF(DA9>MAX(TeilnNr)-1,CV9,CX9)","v":"Spieler 05"},{"$f":"IF(ISNUMBER(DA9),IF(DA9>MAX(TeilnNr)-1,IF(DC9=1,2,IF(MOD(DC9,2)<>0,2,1)),IF(DC9=1,2,IF(MOD(DC9,2)<>0,1,2))),\"\")","v":1},null,2,1,null,2]
[null,"","Spieler 04","","","","","","","","","","","","","","","","",0,0,0,0,0,0,0,4,null,null,null,null,null,null,null,null,null,null,null,4,10,"1) Punkte 2) Anz. Partien 3) Anz.Schwarzpartien 4) direkte Begegnung 5) So-Be 6) Manuelle Feinwertung ",null,null,null,null,null,null,null,null,null,null,null,null,null,null,null,null,null,null,null,null,null,null,null,null,null,8,"1) Punkte 2) Anz. Partien 3) direkte Begegnung 4) Anz.Schwarzpartien 5) So-Be 6) Manuelle Feinwertung ",null,null,null,null,null,null,null,null,null,null,null,null,null,null,null,4,{"$f":"INDEX($CB$21:$CB$28,MATCH($CO10,TeilnNr,0))","v":"Spieler 05"},"-",{"$f":"INDEX($CB$21:$CB$28,MATCH($CP10,TeilnNr,0))","v":"Spieler 04"},null,null,1,1,4,5,4,{"$f":"IF(LEFT(CK10,1)=\"V\",\"\",LEFT(CK10,1))","v":""},{"$f":"IF(RIGHT(CK10,1)=\"V\",\"\",RIGHT(CK10,1))","v":""},"$J$25","$L$24",4,{"$f":"INDEX($CB$21:$CB$28,MATCH($DD10,TeilnNr,0))","v":"Spieler 04"},"-",{"$f":"INDEX($CB$21:$CB$28,MATCH($DE10,TeilnNr,0))","v":"Spieler 03"},null,null,2,2,4,4,3,{"$f":"IF(LEFT(CZ10,1)=\"V\",\"\",LEFT(CZ10,1))","v":""},{"$f":"IF(RIGHT(CZ10,1)=\"V\",\"\",RIGHT(CZ10,1))","v":""},"$H$24","$J$23",4,{"$f":"IF(CL10>MAX(TeilnNr)-1,CG10,CI10)","v":"Spieler 04"},"-",{"$f":"IF(CL10>MAX(TeilnNr)-1,CI10,CG10)","v":"Spieler 05"},{"$f":"IF(ISNUMBER(CL10),IF(CL10>MAX(TeilnNr)-1,IF(CN10=1,1,IF(MOD(CN10,2)<>0,2,1)),IF(CN10=1,1,IF(MOD(CN10,2)<>0,1,2))),\"\")","v":2},null,1,2,null,1,4,{"$f":"IF(DA10>MAX(TeilnNr)-1,CV10,CX10)","v":"Spieler 03"},"-",{"$f":"IF(DA10>MAX(TeilnNr)-1,CX10,CV10)","v":"Spieler 04"},{"$f":"IF(ISNUMBER(DA10),IF(DA10>MAX(TeilnNr)-1,IF(DC10=1,2,IF(MOD(DC10,2)<>0,2,1)),IF(DC10=1,2,IF(MOD(DC10,2)<>0,1,2))),\"\")","v":2},null,1,2,null,1]
[null,"","Spieler 05","","","","","","","","","","","","","","","","",0,0,0,0,0,0,0,5,null,null,null,null,null,null,null,null,null,null,null,null,null,null,null,null,null,null,null,null,null,null,null,null,null,null,null,null,null,null,null,null,null,null,null,null,null,null,null,9,"1) Punkte 2) Anz. Partien 3) Anz.Schwarzpartien 4) So-Be 5) direkte Begegnung 6) Manuelle Feinwertung ",null,null,null,null,null,null,null,null,null,null,null,null,null,null,null,null,null,null,null,null,null,null,null,null,null,null,null,null,null,null,null,null,null,null,null,null,null,null,null,null,null,null,null,null,null,null,null,null,null,{"$f":"IF(ISNUMBER(CL11),IF(CL11>MAX(TeilnNr)-1,2,1),\"\")","v":""},null,null,{"$f":"IF(ISNUMBER(CO11),IF(CO11>MAX(TeilnNr)-1,2,1),\"\")","v":""},null,null,null,null,null,null,{"$f":"IF(ISNUMBER(DA11),IF(DA11>MAX(TeilnNr)-1,IF(DC11=1,1,IF(MOD(DC11,2)<>0,2,1)),IF(DC11=1,2,IF(MOD(DC11,2)<>0,1,2))),\"\")","v":""},null,null,{"$f":"IF(ISNUMBER(CY11),IF(CY11>MAX(TeilnNr)-1,2,1),\"\")","v":""}]
[null,"","Spieler 06","","","","","","","","","","","","","","","","",0,0,0,0,0,0,0,6,null,null,null,null,null,null,null,null,null,null,null,null,null,null,null,null,null,null,null,null,null,null,null,null,null,null,null,null,null,null,null,null,null,null,null,null,null,null,null,10,"1) Punkte 2) Anz. Partien 3) Anz.Schwarzpartien 4) direkte Begegnung 5) So-Be 6) Manuelle Feinwertung ",null,null,null,null,null,null,null,null,null,null,null,null,null,null,null,null,{"$f":"CG6+2","v":3},null,null,null,null,"N°","R","B","SpNr w","SpNr s","Res w","Res s",null,null,null,{"$f":"CV6+2","v":4},null,null,null,null,"N°","R","B","SpNr w","SpNr s","Res w","Res s",null,null,null,{"$f":"CG12","v":3},null,{"$f":"IF(CG12=MAX(TeilnNr),\"-> Bretter drehen!\",\"\")","v":""},{"$f":"IF(ISNUMBER(CL12),IF(CL12>MAX(TeilnNr)-1,2,1),\"\")","v":""},null,null,{"$f":"IF(ISNUMBER(CO12),IF(CO12>MAX(TeilnNr)-1,2,1),\"\")","v":""},null,null,null,{"$f":"CV12","v":4},null,{"$f":"IF(CV12=MAX(TeilnNr),\"-> Bretter drehen!\",\"\")","v":""},{"$f":"IF(ISNUMBER(DA12),IF(DA12>MAX(TeilnNr)-1,IF(MOD(DC12,2)<>0,2,1),IF(MOD(DC12,2)<>0,1,2)),\"\")","v":""},null,null,{"$f":"IF(ISNUMBER(CY12),IF(CY12>MAX(TeilnNr)-1,2,1),\"\")","v":""}]
[null,"","Spieler 07","","","","","","","","","","","","","","","","",0,0,0,0,0,0,0,7,null,null,null,null,null,null,null,null,null,null,null,null,null,null,null,null,null,null,null,null,null,null,null,null,null,null,null,null,null,null,null,null,null,null,null,null,null,null,null,null,null,null,null,null,null,null,null,null,null,null,null,null,null,null,null,null,{"$f":"IF(OR(INDEX($CA$21:$CA$28,CO13),INDEX($CA$21:$CA$28,CP13)),0,1)","v":1},{"$f":"INDEX($CB$21:$CB$28,MATCH($CO13,TeilnNr,0))","v":"Spieler 06"},"-",{"$f":"INDEX($CB$21:$CB$28,MATCH($CP13,TeilnNr,0))","v":"Spieler 08"},null,null,{"$f":"CG12","v":3},{"$f":"IF(CG12>MAX(TeilnNr)-1,CG12-(MAX(TeilnNr)-1),CG12)","v":3},1,{"$f":"IF(AND(CN13=1,MOD(CM13,2)=IF(CL13>MAX(TeilnNr)-1,1,0)),MAX(TeilnNr),IF(MOD(CN13,2)=IF(CL13>MAX(TeilnNr)-1,1,0),IF(MAX(TeilnNr)/2-CN13+1-(CM13-MAX(TeilnNr)/2-1)>=1,MAX(TeilnNr)/2-CN13+1-(CM13-MAX(TeilnNr)/2-1),MAX(TeilnNr)/2-CN13+1-(CM13-MAX(TeilnNr)/2-1)+MAX(TeilnNr)-1),IF(CN13-(CM13-1)>=1,CN13-(CM13-1),CN13-(CM13-1)+MAX(TeilnNr)-1)))","v":6},{"$f":"IF(AND(CN13=1,MOD(CM13,2)<>IF(CL13>MAX(TeilnNr)-1,1,0)),MAX(TeilnNr),IF(MOD(CN13,2)<>IF(CL13>MAX(TeilnNr)-1,1,0),IF(MAX(TeilnNr)/2-CN13+1-(CM13-MAX(TeilnNr)/2-1)>=1,MAX(TeilnNr)/2-CN13+1-(CM13-MAX(TeilnNr)/2-1),MAX(TeilnNr)/2-CN13+1-(CM13-MAX(TeilnNr)/2-1)+MAX(TeilnNr)-1),IF(CN13-(CM13-1)>=1,CN13-(CM13-1),CN13-(CM13-1)+MAX(TeilnNr)-1)))","v":8},{"$f":"IF(LEFT(CK13,1)=\"V\",\"\",LEFT(CK13,1))","v":""},{"$f":"IF(RIGHT(CK13,1)=\"V\",\"\",RIGHT(CK13,1))","v":""},{"$f":"IF(CL13>MAX(TeilnNr)-1,ADDRESS(ROW(Teilnehmer)+CO13,COLUMN(Teilnehmer)+CP13+CP13),ADDRESS(ROW(Teilnehmer)+CO13,COLUMN(Teilnehmer)+CP13+CP13-1))","v":"$R$26"},{"$f":"IF(CL13>MAX(TeilnNr)-1,ADDRESS(ROW(Teilnehmer)+CP13,COLUMN(Teilnehmer)+CO13+CO13),ADDRESS(ROW(Teilnehmer)+CP13,COLUMN(Teilnehmer)+CO13+CO13-1))","v":"$N$28"},{"$f":"IF(OR(INDEX($CA$21:$CA$28,DD13),INDEX($CA$21:$CA$28,DE13)),0,1)","v":1},{"$f":"INDEX($CB$21:$CB$28,MATCH($DD13,TeilnNr,0))","v":"Spieler 08"},"-",{"$f":"INDEX($CB$21:$CB$28,MATCH($DE13,TeilnNr,0))","v":"Spieler 05"},null,null,{"$f":"CV12","v":4},{"$f":"IF(CV12>MAX(TeilnNr)-1,CV12-(MAX(TeilnNr)-1),CV12)","v":4},1,{"$f":"IF(AND(DC13=1,MOD(DB13,2)=IF(DA13>MAX(TeilnNr)-1,1,0)),MAX(TeilnNr),IF(MOD(DC13,2)=IF(DA13>MAX(TeilnNr)-1,1,0),IF(MAX(TeilnNr)/2-DC13+1-(DB13-MAX(TeilnNr)/2-1)>=1,MAX(TeilnNr)/2-DC13+1-(DB13-MAX(TeilnNr)/2-1),MAX(TeilnNr)/2-DC13+1-(DB13-MAX(TeilnNr)/2-1)+MAX(TeilnNr)-1),IF(DC13-(DB13-1)>=1,DC13-(DB13-1),DC13-(DB13-1)+MAX(TeilnNr)-1)))","v":8},{"$f":"IF(AND(DC13=1,MOD(DB13,2)<>IF(DA13>MAX(TeilnNr)-1,1,0)),MAX(TeilnNr),IF(MOD(DC13,2)<>IF(DA13>MAX(TeilnNr)-1,1,0),IF(MAX(TeilnNr)/2-DC13+1-(DB13-MAX(TeilnNr)/2-1)>=1,MAX(TeilnNr)/2-DC13+1-(DB13-MAX(TeilnNr)/2-1),MAX(TeilnNr)/2-DC13+1-(DB13-MAX(TeilnNr)/2-1)+MAX(TeilnNr)-1),IF(DC13-(DB13-1)>=1,DC13-(DB13-1),DC13-(DB13-1)+MAX(TeilnNr)-1)))","v":5},{"$f":"IF(LEFT(CZ13,1)=\"V\",\"\",LEFT(CZ13,1))","v":""},{"$f":"IF(RIGHT(CZ13,1)=\"V\",\"\",RIGHT(CZ13,1))","v":""},{"$f":"IF(DA13>MAX(TeilnNr)-1,ADDRESS(ROW(Teilnehmer)+DD13,COLUMN(Teilnehmer)+DE13+DE13),ADDRESS(ROW(Teilnehmer)+DD13,COLUMN(Teilnehmer)+DE13+DE13-1))","v":"$L$28"},{"$f":"IF(DA13>MAX(TeilnNr)-1,ADDRESS(ROW(Teilnehmer)+DE13,COLUMN(Teilnehmer)+DD13+DD13),ADDRESS(ROW(Teilnehmer)+DE13,COLUMN(Teilnehmer)+DD13+DD13-1))","v":"$R$25"},{"$f":"CF13","v":1},{"$f":"CG13","v":"Spieler 06"},"-",{"$f":"CI13","v":"Spieler 08"},{"$f":"IF(ISNUMBER(CL13),IF(CL13>MAX(TeilnNr)-1,IF(CN13=1,1,IF(MOD(CN13,2)<>0,2,1)),IF(CN13=1,1,IF(MOD(CN13,2)<>0,1,2))),\"\")","v":1},null,{"$f":"IF(DN13=1,2,1)","v":2},{"$f":"DN13","v":1},null,{"$f":"IF(DC13=1,DP13*10,DP13)","v":20},{"$f":"CU13","v":1},{"$f":"CX13","v":"Spieler 05"},"-",{"$f":"CV13","v":"Spieler 08"},{"$f":"IF(ISNUMBER(DA13),IF(DA13>MAX(TeilnNr)-1,IF(DC13=1,2,IF(MOD(DC13,2)<>0,2,1)),IF(DC13=1,2,IF(MOD(DC13,2)<>0,1,2))),\"\")","v":2},null,{"$f":"IF(DX13=1,2,1)","v":1},{"$f":"DX13","v":2},null,{"$f":"IF(DC13=1,DZ13*10,DZ13)","v":10}]
[null,"","Spieler 08","","","","","","","","","","","","","","","","",0,0,0,0,0,0,0,8,null,null,null,null,null,null,null,null,null,null,null,null,null,null,null,null,null,null,null,null,null,null,null,null,null,null,null,null,null,null,null,null,null,null,null,null,null,null,null,null,null,null,null,null,null,null,null,null,null,null,null,null,null,null,null,null,{"$f":"CF13+1","v":2},{"$f":"INDEX($CB$21:$CB$28,MATCH($CO14,TeilnNr,0))","v":"Spieler 05"},"-",{"$f":"INDEX($CB$21:$CB$28,MATCH($CP14,TeilnNr,0))","v":"Spieler 07"},null,null,{"$f":"CL13","v":3},{"$f":"CM13","v":3},{"$f":"CN13+1","v":2},5,7,{"$f":"IF(LEFT(CK14,1)=\"V\",\"\",LEFT(CK14,1))","v":""},{"$f":"IF(RIGHT(CK14,1)=\"V\",\"\",RIGHT(CK14,1))","v":""},"$P$25","$L$27",{"$f":"CU13+1","v":2},{"$f":"INDEX($CB$21:$CB$28,MATCH($DD14,TeilnNr,0))","v":"Spieler 04"},"-",{"$f":"INDEX($CB$21:$CB$28,MATCH($DE14,TeilnNr,0))","v":"Spieler 06"},null,null,{"$f":"DA13","v":4},{"$f":"DB13","v":4},{"$f":"DC13+1","v":2},4,6,{"$f":"IF(LEFT(CZ14,1)=\"V\",\"\",LEFT(CZ14,1))","v":""},{"$f":"IF(RIGHT(CZ14,1)=\"V\",\"\",RIGHT(CZ14,1))","v":""},"$N$24","$J$26",2,{"$f":"IF(CL14>MAX(TeilnNr)-1,CG14,CI14)","v":"Spieler 07"},"-",{"$f":"IF(CL14>MAX(TeilnNr)-1,CI14,CG14)","v":"Spieler 05"},{"$f":"IF(ISNUMBER(CL14),IF(CL14>MAX(TeilnNr)-1,IF(CN14=1,1,IF(MOD(CN14,2)<>0,2,1)),IF(CN14=1,1,IF(MOD(CN14,2)<>0,1,2))),\"\")","v":2},null,{"$f":"IF(DN14=1,2,1)","v":1},2,null,1,2,{"$f":"IF(DA14>MAX(TeilnNr)-1,CV14,CX14)","v":"Spieler 06"},"-",{"$f":"IF(DA14>MAX(TeilnNr)-1,CX14,CV14)","v":"Spieler 04"},{"$f":"IF(ISNUMBER(DA14),IF(DA14>MAX(TeilnNr)-1,IF(DC14=1,2,IF(MOD(DC14,2)<>0,2,1)),IF(DC14=1,2,IF(MOD(DC14,2)<>0,1,2))),\"\")","v":2},null,1,2,null,1]
[null,"Wertungskriterien:",null,null,null,null,null,null,null,null,null,null,null,null,null,null,null,null,null,null,null,null,null,null,null,null,null,null,null,null,null,null,null,null,null,null,null,null,null,null,null,null,null,null,null,null,null,null,null,null,null,null,null,null,null,null,null,null,null,null,null,null,null,null,null,null,null,null,null,null,null,null,null,null,null,null,null,null,null,null,null,null,null,{"$f":"CF14+1","v":3},{"$f":"INDEX($CB$21:$CB$28,MATCH($CO15,TeilnNr,0))","v":"Spieler 01"},"-",{"$f":"INDEX($CB$21:$CB$28,MATCH($CP15,TeilnNr,0))","v":"Spieler 04"},null,null,{"$f":"CL14","v":3},{"$f":"CM14","v":3},{"$f":"CN14+1","v":3},1,4,{"$f":"IF(LEFT(CK15,1)=\"V\",\"\",LEFT(CK15,1))","v":""},{"$f":"IF(RIGHT(CK15,1)=\"V\",\"\",RIGHT(CK15,1))","v":""},"$J$21","$D$24",{"$f":"CU14+1","v":3},{"$f":"INDEX($CB$21:$CB$28,MATCH($DD15,TeilnNr,0))","v":"Spieler 07"},"-",{"$f":"INDEX($CB$21:$CB$28,MATCH($DE15,TeilnNr,0))","v":"Spieler 03"},null,null,{"$f":"DA14","v":4},{"$f":"DB14","v":4},{"$f":"DC14+1","v":3},7,3,{"$f":"IF(LEFT(CZ15,1)=\"V\",\"\",LEFT(CZ15,1))","v":""},{"$f":"IF(RIGHT(CZ15,1)=\"V\",\"\",RIGHT(CZ15,1))","v":""},"$H$27","$P$23",3,{"$f":"IF(CL15>MAX(TeilnNr)-1,CI15,CG15)","v":"Spieler 01"},"-",{"$f":"IF(CL15>MAX(TeilnNr)-1,CG15,CI15)","v":"Spieler 04"},{"$f":"IF(ISNUMBER(CL15),IF(CL15>MAX(TeilnNr)-1,IF(CN15=1,1,IF(MOD(CN15,2)<>0,2,1)),IF(CN15=1,1,IF(MOD(CN15,2)<>0,1,2))),\"\")","v":1},null,2,1,null,2,3,{"$f":"IF(DA15>MAX(TeilnNr)-1,CX15,CV15)","v":"Spieler 07"},"-",{"$f":"IF(DA15>MAX(TeilnNr)-1,CV15,CX15)","v":"Spieler 03"},{"$f":"IF(ISNUMBER(DA15),IF(DA15>MAX(TeilnNr)-1,IF(DC15=1,2,IF(MOD(DC15,2)<>0,2,1)),IF(DC15=1,2,IF(MOD(DC15,2)<>0,1,2))),\"\")","v":1},null,2,1,null,2]
[null,{"$f":"INDEX(Wertungskriterien,WertungskriterienA)","v":"1) Punkte 2) Anz. Partien 3) So-Be 4) direkte Begegnung 5) Manuelle Feinwertung "},null,null,null,null,null,null,null,null,null,null,null,null,null,null,null,null,null,null,null,null,null,null,null,null,null,null,null,null,null,null,null,null,null,null,null,null,null,null,null,null,null,null,null,null,null,null,null,null,null,null,null,null,null,null,null,null,null,null,null,null,null,null,null,null,null,null,null,null,null,null,null,null,null,null,null,null,null,null,null,null,null,4,{"$f":"INDEX($CB$21:$CB$28,MATCH($CO16,TeilnNr,0))","v":"Spieler 03"},"-",{"$f":"INDEX($CB$21:$CB$28,MATCH($CP16,TeilnNr,0))","v":"Spieler 02"},null,null,3,3,4,3,2,{"$f":"IF(LEFT(CK16,1)=\"V\",\"\",LEFT(CK16,1))","v":""},{"$f":"IF(RIGHT(CK16,1)=\"V\",\"\",RIGHT(CK16,1))","v":""},"$F$23","$H$22",4,{"$f":"INDEX($CB$21:$CB$28,MATCH($DD16,TeilnNr,0))","v":"Spieler 02"},"-",{"$f":"INDEX($CB$21:$CB$28,MATCH($DE16,TeilnNr,0))","v":"Spieler 01"},null,null,4,4,4,2,1,{"$f":"IF(LEFT(CZ16,1)=\"V\",\"\",LEFT(CZ16,1))","v":""},{"$f":"IF(RIGHT(CZ16,1)=\"V\",\"\",RIGHT(CZ16,1))","v":""},"$D$22","$F$21",4,{"$f":"IF(CL16>MAX(TeilnNr)-1,CG16,CI16)","v":"Spieler 02"},"-",{"$f":"IF(CL16>MAX(TeilnNr)-1,CI16,CG16)","v":"Spieler 03"},{"$f":"IF(ISNUMBER(CL16),IF(CL16>MAX(TeilnNr)-1,IF(CN16=1,1,IF(MOD(CN16,2)<>0,2,1)),IF(CN16=1,1,IF(MOD(CN16,2)<>0,1,2))),\"\")","v":2},null,1,2,null,1,4,{"$f":"IF(DA16>MAX(TeilnNr)-1,CV16,CX16)","v":"Spieler 01"},"-",{"$f":"IF(DA16>MAX(TeilnNr)-1,CX16,CV16)","v":"Spieler 02"},{"$f":"IF(ISNUMBER(DA16),IF(DA16>MAX(TeilnNr)-1,IF(DC16=1,2,IF(MOD(DC16,2)<>0,2,1)),IF(DC16=1,2,IF(MOD(DC16,2)<>0,1,2))),\"\")","v":2},null,1,2,null,1]
[null,null,null,null,null,null,null,null,null,null,null,null,null,null,null,null,null,null,null,null,null,null,null,null,null,null,null,null,null,null,null,null,null,null,null,null,null,null,null,null,null,null,null,null,null,null,null,null,null,null,null,null,null,null,null,null,null,null,null,null,null,null,null,null,null,null,null,null,null,null,null,null,null,null,null,null,null,null,null,null,null,null,null,null,null,null,null,null,null,null,null,null,null,null,null,null,null,null,null,null,null,null,null,null,null,null,null,null,null,null,null,null,null,null,null,null,null,{"$f":"IF(ISNUMBER(CL17),IF(CL17>MAX(TeilnNr)-1,2,1),\"\")","v":""},null,null,{"$f":"IF(ISNUMBER(CO17),IF(CO17>MAX(TeilnNr)-1,2,1),\"\")","v":""},null,null,null,null,null,null,{"$f":"IF(ISNUMBER(DA17),IF(DA17>MAX(TeilnNr)-1,IF(DC17=1,1,IF(MOD(DC17,2)<>0,2,1)),IF(DC17=1,2,IF(MOD(DC17,2)<>0,1,2))),\"\")","v":""},null,null,{"$f":"IF(ISNUMBER(CY17),IF(CY17>MAX(TeilnNr)-1,2,1),\"\")","v":""}]
[null,"+",null,null,null,null,null,null,null,null,null,null,null,null,null,null,null,null,null,null,null,null,{"$f":"IF(EinAusblenden=\"-\",\"\",IF(FWPlusMinus=\"+\",\"é\",\"ê\"))","v":"é"},null,null,null,null,null,null,null,null,null,null,null,null,null,null,null,null,null,null,null,null,null,null,null,null,null,null,null,null,null,null,null,null,null,null,null,null,null,null,null,null,null,null,null,null,null,null,null,null,null,null,null,null,null,null,null,null,null,null,null,null,null,{"$f":"CG12+2","v":5},null,null,null,null,"N°","R","B","SpNr w","SpNr s","Res w","Res s",null,null,null,{"$f":"CV12+2","v":6},null,null,null,null,"N°","R","B","SpNr w","SpNr s","Res w","Res s",null,null,null,{"$f":"CG18","v":5},null,{"$f":"IF(CG18=MAX(TeilnNr),\"-> Bretter drehen!\",\"\")","v":""},{"$f":"IF(ISNUMBER(CL18),IF(CL18>MAX(TeilnNr)-1,2,1),\"\")","v":""},null,null,{"$f":"IF(ISNUMBER(CO18),IF(CO18>MAX(TeilnNr)-1,2,1),\"\")","v":""},null,null,null,{"$f":"CV18","v":6},null,{"$f":"IF(CV18=MAX(TeilnNr),\"-> Bretter drehen!\",\"\")","v":""},{"$f":"IF(ISNUMBER(DA18),IF(DA18>MAX(TeilnNr)-1,IF(MOD(DC18,2)<>0,2,1),IF(MOD(DC18,2)<>0,1,2)),\"\")","v":""},null,null,{"$f":"IF(ISNUMBER(CY18),IF(CY18>MAX(TeilnNr)-1,2,1),\"\")","v":""}]
[null,"Turniertabelle",null,null,null,null,null,null,null,null,null,null,null,null,null,null,null,null,null,null,null,"manuelle Feinwertung: ","+","Partien",null,null,null,"Punkte",null,null,null,null,null,null,null,null,null,"Sonneborn-Berger-Berechnung",null,null,null,null,null,null,null,null,null,{"$f":"MAX(AV21:AV28)","v":0},null,null,null,null,{"$f":"FWPlusMinus=\"+\"","v":true},"Summierung Wertungskriterien vor direkter Begegnung",null,null,null,null,null,null,null,null,null,null,null,null,"Summierung Wertungskriterien nach direkter Begegnung",null,null,null,null,null,null,null,null,null,null,null,null,null,null,null,null,{"$f":"IF(OR(INDEX($CA$21:$CA$28,CO19),INDEX($CA$21:$CA$28,CP19)),0,1)","v":1},{"$f":"INDEX($CB$21:$CB$28,MATCH($CO19,TeilnNr,0))","v":"Spieler 04"},"-",{"$f":"INDEX($CB$21:$CB$28,MATCH($CP19,TeilnNr,0))","v":"Spieler 08"},null,null,{"$f":"CG18","v":5},{"$f":"IF(CG18>MAX(TeilnNr)-1,CG18-(MAX(TeilnNr)-1),CG18)","v":5},1,{"$f":"IF(AND(CN19=1,MOD(CM19,2)=IF(CL19>MAX(TeilnNr)-1,1,0)),MAX(TeilnNr),IF(MOD(CN19,2)=IF(CL19>MAX(TeilnNr)-1,1,0),IF(MAX(TeilnNr)/2-CN19+1-(CM19-MAX(TeilnNr)/2-1)>=1,MAX(TeilnNr)/2-CN19+1-(CM19-MAX(TeilnNr)/2-1),MAX(TeilnNr)/2-CN19+1-(CM19-MAX(TeilnNr)/2-1)+MAX(TeilnNr)-1),IF(CN19-(CM19-1)>=1,CN19-(CM19-1),CN19-(CM19-1)+MAX(TeilnNr)-1)))","v":4},{"$f":"IF(AND(CN19=1,MOD(CM19,2)<>IF(CL19>MAX(TeilnNr)-1,1,0)),MAX(TeilnNr),IF(MOD(CN19,2)<>IF(CL19>MAX(TeilnNr)-1,1,0),IF(MAX(TeilnNr)/2-CN19+1-(CM19-MAX(TeilnNr)/2-1)>=1,MAX(TeilnNr)/2-CN19+1-(CM19-MAX(TeilnNr)/2-1),MAX(TeilnNr)/2-CN19+1-(CM19-MAX(TeilnNr)/2-1)+MAX(TeilnNr)-1),IF(CN19-(CM19-1)>=1,CN19-(CM19-1),CN19-(CM19-1)+MAX(TeilnNr)-1)))","v":8},{"$f":"IF(LEFT(CK19,1)=\"V\",\"\",LEFT(CK19,1))","v":""},{"$f":"IF(RIGHT(CK19,1)=\"V\",\"\",RIGHT(CK19,1))","v":""},{"$f":"IF(CL19>MAX(TeilnNr)-1,ADDRESS(ROW(Teilnehmer)+CO19,COLUMN(Teilnehmer)+CP19+CP19),ADDRESS(ROW(Teilnehmer)+CO19,COLUMN(Teilnehmer)+CP19+CP19-1))","v":"$R$24"},{"$f":"IF(CL19>MAX(TeilnNr)-1,ADDRESS(ROW(Teilnehmer)+CP19,COLUMN(Teilnehmer)+CO19+CO19),ADDRESS(ROW(Teilnehmer)+CP19,COLUMN(Teilnehmer)+CO19+CO19-1))","v":"$J$28"},{"$f":"IF(OR(INDEX($CA$21:$CA$28,DD19),INDEX($CA$21:$CA$28,DE19)),0,1)","v":1},{"$f":"INDEX($CB$21:$CB$28,MATCH($DD19,TeilnNr,0))","v":"Spieler 08"},"-",{"$f":"INDEX($CB$21:$CB$28,MATCH($DE19,TeilnNr,0))","v":"Spieler 03"},null,null,{"$f":"CV18","v":6},{"$f":"IF(CV18>MAX(TeilnNr)-1,CV18-(MAX(TeilnNr)-1),CV18)","v":6},1,{"$f":"IF(AND(DC19=1,MOD(DB19,2)=IF(DA19>MAX(TeilnNr)-1,1,0)),MAX(TeilnNr),IF(MOD(DC19,2)=IF(DA19>MAX(TeilnNr)-1,1,0),IF(MAX(TeilnNr)/2-DC19+1-(DB19-MAX(TeilnNr)/2-1)>=1,MAX(TeilnNr)/2-DC19+1-(DB19-MAX(TeilnNr)/2-1),MAX(TeilnNr)/2-DC19+1-(DB19-MAX(TeilnNr)/2-1)+MAX(TeilnNr)-1),IF(DC19-(DB19-1)>=1,DC19-(DB19-1),DC19-(DB19-1)+MAX(TeilnNr)-1)))","v":8},{"$f":"IF(AND(DC19=1,MOD(DB19,2)<>IF(DA19>MAX(TeilnNr)-1,1,0)),MAX(TeilnNr),IF(MOD(DC19,2)<>IF(DA19>MAX(TeilnNr)-1,1,0),IF(MAX(TeilnNr)/2-DC19+1-(DB19-MAX(TeilnNr)/2-1)>=1,MAX(TeilnNr)/2-DC19+1-(DB19-MAX(TeilnNr)/2-1),MAX(TeilnNr)/2-DC19+1-(DB19-MAX(TeilnNr)/2-1)+MAX(TeilnNr)-1),IF(DC19-(DB19-1)>=1,DC19-(DB19-1),DC19-(DB19-1)+MAX(TeilnNr)-1)))","v":3},{"$f":"IF(LEFT(CZ19,1)=\"V\",\"\",LEFT(CZ19,1))","v":""},{"$f":"IF(RIGHT(CZ19,1)=\"V\",\"\",RIGHT(CZ19,1))","v":""},{"$f":"IF(DA19>MAX(TeilnNr)-1,ADDRESS(ROW(Teilnehmer)+DD19,COLUMN(Teilnehmer)+DE19+DE19),ADDRESS(ROW(Teilnehmer)+DD19,COLUMN(Teilnehmer)+DE19+DE19-1))","v":"$H$28"},{"$f":"IF(DA19>MAX(TeilnNr)-1,ADDRESS(ROW(Teilnehmer)+DE19,COLUMN(Teilnehmer)+DD19+DD19),ADDRESS(ROW(Teilnehmer)+DE19,COLUMN(Teilnehmer)+DD19+DD19-1))","v":"$R$23"},{"$f":"CF19","v":1},{"$f":"CG19","v":"Spieler 04"},"-",{"$f":"CI19","v":"Spieler 08"},{"$f":"IF(ISNUMBER(CL19),IF(CL19>MAX(TeilnNr)-1,IF(CN19=1,1,IF(MOD(CN19,2)<>0,2,1)),IF(CN19=1,1,IF(MOD(CN19,2)<>0,1,2))),\"\")","v":1},null,{"$f":"IF(DN19=1,2,1)","v":2},{"$f":"DN19","v":1},null,{"$f":"IF(DC19=1,DP19*10,DP19)","v":20},{"$f":"CU19","v":1},{"$f":"CX19","v":"Spieler 03"},"-",{"$f":"CV19","v":"Spieler 08"},{"$f":"IF(ISNUMBER(DA19),IF(DA19>MAX(TeilnNr)-1,IF(DC19=1,2,IF(MOD(DC19,2)<>0,2,1)),IF(DC19=1,2,IF(MOD(DC19,2)<>0,1,2))),\"\")","v":2},null,{"$f":"IF(DX19=1,2,1)","v":1},{"$f":"DX19","v":2},null,{"$f":"IF(DC19=1,DZ19*10,DZ19)","v":10}]
[null,"Nr.","Teilnehmer",1,null,2,null,3,null,4,null,5,null,6,null,7,null,8,null,"Punkte","Spiele","So-Be","FWx","weiss","schw.","Rang",null,1,2,3,4,5,6,7,8,"P",null,1,2,3,4,5,6,7,8,"So-Be",null,{"$f":"IF(W20=\"\",\"FW2\",W20)","v":"FWx"},"RangPt","RangAnz","RangSoBe","RangSw","RangFW","Wertung 1","Wertung 2","Wertung 3","Wertung 4","Wertung 5","Wertung 6","Wertung 7","Wertung 8","Wertung 9","Wertung 10","Wertung","direkte Begegnung","Rang dirBg","Wertung 1","Wertung 2","Wertung 3","Wertung 4","Wertung 5","Wertung 6","Wertung 7","Wertung 8","Wertung 9","Wertung 10","Wertung2","Rang","Platzhltr?","Name","Alphabet","Rang&Alph","Reihflge",{"$f":"CF19+1","v":2},{"$f":"INDEX($CB$21:$CB$28,MATCH($CO20,TeilnNr,0))","v":"Spieler 03"},"-",{"$f":"INDEX($CB$21:$CB$28,MATCH($CP20,TeilnNr,0))","v":"Spieler 05"},null,null,{"$f":"CL19","v":5},{"$f":"CM19","v":5},{"$f":"CN19+1","v":2},3,5,{"$f":"IF(LEFT(CK20,1)=\"V\",\"\",LEFT(CK20,1))","v":""},{"$f":"IF(RIGHT(CK20,1)=\"V\",\"\",RIGHT(CK20,1))","v":""},"$L$23","$H$25",{"$f":"CU19+1","v":2},{"$f":"INDEX($CB$21:$CB$28,MATCH($DD20,TeilnNr,0))","v":"Spieler 02"},"-",{"$f":"INDEX($CB$21:$CB$28,MATCH($DE20,TeilnNr,0))","v":"Spieler 04"},null,null,{"$f":"DA19","v":6},{"$f":"DB19","v":6},{"$f":"DC19+1","v":2},2,4,{"$f":"IF(LEFT(CZ20,1)=\"V\",\"\",LEFT(CZ20,1))","v":""},{"$f":"IF(RIGHT(CZ20,1)=\"V\",\"\",RIGHT(CZ20,1))","v":""},"$J$22","$F$24",2,{"$f":"IF(CL20>MAX(TeilnNr)-1,CG20,CI20)","v":"Spieler 05"},"-",{"$f":"IF(CL20>MAX(TeilnNr)-1,CI20,CG20)","v":"Spieler 03"},{"$f":"IF(ISNUMBER(CL20),IF(CL20>MAX(TeilnNr)-1,IF(CN20=1,1,IF(MOD(CN20,2)<>0,2,1)),IF(CN20=1,1,IF(MOD(CN20,2)<>0,1,2))),\"\")","v":2},null,1,2,null,1,2,{"$f":"IF(DA20>MAX(TeilnNr)-1,CV20,CX20)","v":"Spieler 04"},"-",{"$f":"IF(DA20>MAX(TeilnNr)-1,CX20,CV20)","v":"Spieler 02"},{"$f":"IF(ISNUMBER(DA20),IF(DA20>MAX(TeilnNr)-1,IF(DC20=1,2,IF(MOD(DC20,2)<>0,2,1)),IF(DC20=1,2,IF(MOD(DC20,2)<>0,1,2))),\"\")","v":2},null,1,2,null,1]
[null,1,null,{"$f":"IF(ISNA(MATCH(ADDRESS(ROW(),COLUMN()),$CS:$CS,0)),\"\",INDEX($CQ:$CQ,MATCH(ADDRESS(ROW(),COLUMN()),$CS:$CS,0)))&IF(ISNA(MATCH(ADDRESS(ROW(),COLUMN()),$CT:$CT,0)),\"\",INDEX($CR:$CR,MATCH(ADDRESS(ROW(),COLUMN()),$CT:$CT,0)))&IF(ISNA(MATCH(ADDRESS(ROW(),COLUMN()),$DH:$DH,0)),\"\",INDEX($DF:$DF,MATCH(ADDRESS(ROW(),COLUMN()),$DH:$DH,0)))&IF(ISNA(MATCH(ADDRESS(ROW(),COLUMN()),$DI:$DI,0)),\"\",INDEX($DG:$DG,MATCH(ADDRESS(ROW(),COLUMN()),$DI:$DI,0)))","v":""},"","","","","","","","","","","","","","","",{"$f":"AJ21","v":0},{"$f":"MAX($B$21:$B$28)*2-COUNTIF($D21:S21,\"\")","v":0},{"$f":"AT21","v":0},null,{"$f":"IF($CA21,0,COUNTIFS($CO:$CO,$B21,$CK:$CK,\"<>\")+COUNTIFS($DD:$DD,$B21,$CZ:$CZ,\"<>\"))","v":0},{"$f":"IF($CA21,0,COUNTIFS($CP:$CP,$B21,$CK:$CK,\"<>\")+COUNTIFS($DE:$DE,$B21,$CZ:$CZ,\"<>\"))","v":0},{"$f":"BZ21","v":1},null,{"$f":"IF(D21=\"\",0,VLOOKUP(D21,Wertung,3,FALSE))+IF(E21=\"\",0,VLOOKUP(E21,Wertung,3,FALSE))","v":0},{"$f":"IF(F21=\"\",0,VLOOKUP(F21,Wertung,3,FALSE))+IF(G21=\"\",0,VLOOKUP(G21,Wertung,3,FALSE))","v":0},{"$f":"IF(H21=\"\",0,VLOOKUP(H21,Wertung,3,FALSE))+IF(I21=\"\",0,VLOOKUP(I21,Wertung,3,FALSE))","v":0},{"$f":"IF(J21=\"\",0,VLOOKUP(J21,Wertung,3,FALSE))+IF(K21=\"\",0,VLOOKUP(K21,Wertung,3,FALSE))","v":0},{"$f":"IF(L21=\"\",0,VLOOKUP(L21,Wertung,3,FALSE))+IF(M21=\"\",0,VLOOKUP(M21,Wertung,3,FALSE))","v":0},{"$f":"IF(N21=\"\",0,VLOOKUP(N21,Wertung,3,FALSE))+IF(O21=\"\",0,VLOOKUP(O21,Wertung,3,FALSE))","v":0},{"$f":"IF(P21=\"\",0,VLOOKUP(P21,Wertung,3,FALSE))+IF(Q21=\"\",0,VLOOKUP(Q21,Wertung,3,FALSE))","v":0},{"$f":"IF(R21=\"\",0,VLOOKUP(R21,Wertung,3,FALSE))+IF(S21=\"\",0,VLOOKUP(S21,Wertung,3,FALSE))","v":0},{"$f":"SUM(AB21:AI21)","v":0},null,{"$f":"AB21*INDEX($AJ:$AJ,ROW($AL$20)+AB$20)","v":0},0,0,0,0,0,0,0,{"$f":"SUM(AL21:AS21)","v":0},null,{"$f":"W21","v":0},{"$f":"RANK($AJ21,$AJ$21:$AJ$28,0)","v":1},{"$f":"RANK($U21,$U$21:$U$28,1)","v":1},{"$f":"RANK($AT21,$AT$21:$AT$28,0)","v":1},{"$f":"RANK($Y21,$Y$21:$Y$28,0)","v":1},{"$f":"RANK($AV21,$AV$21:$AV$28,IF($BA$19,0,1))","v":1},{"$f":"VALUE(CONCATENATE(IF(CA21,\"1\",\"0\"),TEXT($AW21,\"00\"),TEXT($AY21,\"00\"),TEXT($BA21,\"00\")))","v":10101},{"$f":"VALUE(CONCATENATE(IF(CA21,\"1\",\"0\"),TEXT($AW21,\"00\"),TEXT($AY21,\"00\")))","v":101},{"$f":"VALUE(CONCATENATE(IF(CA21,\"1\",\"0\"),TEXT($AW21,\"00\"),TEXT($AX21,\"00\"),TEXT($AY21,\"00\"),TEXT($BA21,\"00\")))","v":1010101},{"$f":"VALUE(CONCATENATE(IF(CA21,\"1\",\"0\"),TEXT($AW21,\"00\"),TEXT($AX21,\"00\"),TEXT($AY21,\"00\")))","v":10101},{"$f":"VALUE(CONCATENATE(IF(CA21,\"1\",\"0\"),TEXT($AW21,\"00\"),TEXT($AX21,\"00\"),TEXT($AY21,\"00\")))","v":10101},{"$f":"VALUE(CONCATENATE(IF(CA21,\"1\",\"0\"),TEXT($AW21,\"00\"),TEXT($AX21,\"00\"),TEXT($AY21,\"00\"),TEXT($AZ21,\"00\")))","v":1010101},{"$f":"VALUE(CONCATENATE(IF(CA21,\"1\",\"0\"),TEXT($AW21,\"00\"),TEXT($AX21,\"00\")))","v":101},{"$f":"VALUE(CONCATENATE(IF(CA21,\"1\",\"0\"),TEXT($AW21,\"00\"),TEXT($AX21,\"00\")))","v":101},{"$f":"VALUE(CONCATENATE(IF(CA21,\"1\",\"0\"),TEXT($AW21,\"00\"),TEXT($AX21,\"00\"),TEXT($AZ21,\"00\"),TEXT($AY21,\"00\")))","v":1010101},{"$f":"VALUE(CONCATENATE(IF(CA21,\"1\",\"0\"),TEXT($AW21,\"00\"),TEXT($AX21,\"00\"),TEXT($AZ21,\"00\")))","v":10101},{"$f":"INDEX($BB21:$BK21,1,WertungskriterienA)","v":10101},{"$f":"SUM((TRANSPOSE($BL$21:$BL$28)=BL21)*$AB21:$AI21)","v":0},{"$f":"RANK($BM21,$BM$21:$BM$28,0)","v":1},{"$f":"$BL21","v":10101},{"$f":"VALUE(CONCATENATE($BL21,TEXT($BN21,\"00\"),TEXT($BA21,\"00\")))","v":101010101},{"$f":"$BL21","v":10101},{"$f":"VALUE(CONCATENATE($BL21,TEXT($BN21,\"00\"),TEXT($BA21,\"00\")))","v":101010101},{"$f":"VALUE(CONCATENATE($BL21,TEXT($BN21,\"00\"),TEXT($AZ21,\"00\"),TEXT($BA21,\"00\")))","v":10101010101},{"$f":"VALUE(CONCATENATE($BL21,TEXT($BN21,\"00\"),TEXT($BA21,\"00\")))","v":101010101},{"$f":"VALUE(CONCATENATE($BL21,TEXT($BN21,\"00\"),TEXT($AY21,\"00\"),TEXT($AZ21,\"00\"),TEXT($BA21,\"00\")))","v":1010101010101},{"$f":"VALUE(CONCATENATE($BL21,TEXT($BN21,\"00\"),TEXT($AZ21,\"00\"),TEXT($AY21,\"00\"),TEXT($BA21,\"00\")))","v":1010101010101},{"$f":"VALUE(CONCATENATE($BL21,TEXT($BN21,\"00\"),TEXT($BA21,\"00\")))","v":101010101},{"$f":"VALUE(CONCATENATE($BL21,TEXT($BN21,\"00\"),TEXT($AY21,\"00\"),TEXT($BA21,\"00\")))","v":10101010101},{"$f":"INDEX(BO21:BX21,1,WertungskriterienA)","v":101010101},{"$f":"RANK(BY21,$BY$21:$BY$28,1)","v":1},{"$f":"IF($C21=\"\",FALSE,AND(LEN($C21)=1,OR(CODE($C21)<65,CODE($C21)>122,AND(CODE($C21)>90,CODE($C21)<97)),NOT(AND(CODE($C21)>48,CODE($C21)<58))))","v":false},{"$f":"IF(CA21,$C21,IF($C21=\"\",\"Spieler \"&TEXT($B21,\"00\"),$C21))","v":"Spieler 01"},{"$f":"IF(CA21,MAX(TeilnNr),0)+SUMPRODUCT((CB21>$CB$21:$CB$28)*1)","v":0},{"$f":"BZ21+CC21/1000+B21/1000000","v":1.0000009999999999},{"$f":"RANK(CD21,$CD$21:$CD$28,1)","v":1},{"$f":"CF20+1","v":3},{"$f":"INDEX($CB$21:$CB$28,MATCH($CO21,TeilnNr,0))","v":"Spieler 06"},"-",{"$f":"INDEX($CB$21:$CB$28,MATCH($CP21,TeilnNr,0))","v":"Spieler 02"},null,null,{"$f":"CL20","v":5},{"$f":"CM20","v":5},{"$f":"CN20+1","v":3},{"$f":"IF(AND(CN21=1,MOD(CM21,2)=IF(CL21>MAX(TeilnNr)-1,1,0)),MAX(TeilnNr),IF(MOD(CN21,2)=IF(CL21>MAX(TeilnNr)-1,1,0),IF(MAX(TeilnNr)/2-CN21+1-(CM21-MAX(TeilnNr)/2-1)>=1,MAX(TeilnNr)/2-CN21+1-(CM21-MAX(TeilnNr)/2-1),MAX(TeilnNr)/2-CN21+1-(CM21-MAX(TeilnNr)/2-1)+MAX(TeilnNr)-1),IF(CN21-(CM21-1)>=1,CN21-(CM21-1),CN21-(CM21-1)+MAX(TeilnNr)-1)))","v":6},{"$f":"IF(AND(CN21=1,MOD(CM21,2)<>IF(CL21>MAX(TeilnNr)-1,1,0)),MAX(TeilnNr),IF(MOD(CN21,2)<>IF(CL21>MAX(TeilnNr)-1,1,0),IF(MAX(TeilnNr)/2-CN21+1-(CM21-MAX(TeilnNr)/2-1)>=1,MAX(TeilnNr)/2-CN21+1-(CM21-MAX(TeilnNr)/2-1),MAX(TeilnNr)/2-CN21+1-(CM21-MAX(TeilnNr)/2-1)+MAX(TeilnNr)-1),IF(CN21-(CM21-1)>=1,CN21-(CM21-1),CN21-(CM21-1)+MAX(TeilnNr)-1)))","v":2},{"$f":"IF(LEFT(CK21,1)=\"V\",\"\",LEFT(CK21,1))","v":""},{"$f":"IF(RIGHT(CK21,1)=\"V\",\"\",RIGHT(CK21,1))","v":""},{"$f":"IF(CL21>MAX(TeilnNr)-1,ADDRESS(ROW(Teilnehmer)+CO21,COLUMN(Teilnehmer)+CP21+CP21),ADDRESS(ROW(Teilnehmer)+CO21,COLUMN(Teilnehmer)+CP21+CP21-1))","v":"$F$26"},{"$f":"IF(CL21>MAX(TeilnNr)-1,ADDRESS(ROW(Teilnehmer)+CP21,COLUMN(Teilnehmer)+CO21+CO21),ADDRESS(ROW(Teilnehmer)+CP21,COLUMN(Teilnehmer)+CO21+CO21-1))","v":"$N$22"},{"$f":"CU20+1","v":3},{"$f":"INDEX($CB$21:$CB$28,MATCH($DD21,TeilnNr,0))","v":"Spieler 05"},"-",{"$f":"INDEX($CB$21:$CB$28,MATCH($DE21,TeilnNr,0))","v":"Spieler 01"},null,null,{"$f":"DA20","v":6},{"$f":"DB20","v":6},{"$f":"DC20+1","v":3},{"$f":"IF(AND(DC21=1,MOD(DB21,2)=IF(DA21>MAX(TeilnNr)-1,1,0)),MAX(TeilnNr),IF(MOD(DC21,2)=IF(DA21>MAX(TeilnNr)-1,1,0),IF(MAX(TeilnNr)/2-DC21+1-(DB21-MAX(TeilnNr)/2-1)>=1,MAX(TeilnNr)/2-DC21+1-(DB21-MAX(TeilnNr)/2-1),MAX(TeilnNr)/2-DC21+1-(DB21-MAX(TeilnNr)/2-1)+MAX(TeilnNr)-1),IF(DC21-(DB21-1)>=1,DC21-(DB21-1),DC21-(DB21-1)+MAX(TeilnNr)-1)))","v":5},{"$f":"IF(AND(DC21=1,MOD(DB21,2)<>IF(DA21>MAX(TeilnNr)-1,1,0)),MAX(TeilnNr),IF(MOD(DC21,2)<>IF(DA21>MAX(TeilnNr)-1,1,0),IF(MAX(TeilnNr)/2-DC21+1-(DB21-MAX(TeilnNr)/2-1)>=1,MAX(TeilnNr)/2-DC21+1-(DB21-MAX(TeilnNr)/2-1),MAX(TeilnNr)/2-DC21+1-(DB21-MAX(TeilnNr)/2-1)+MAX(TeilnNr)-1),IF(DC21-(DB21-1)>=1,DC21-(DB21-1),DC21-(DB21-1)+MAX(TeilnNr)-1)))","v":1},{"$f":"IF(LEFT(CZ21,1)=\"V\",\"\",LEFT(CZ21,1))","v":""},{"$f":"IF(RIGHT(CZ21,1)=\"V\",\"\",RIGHT(CZ21,1))","v":""},{"$f":"IF(DA21>MAX(TeilnNr)-1,ADDRESS(ROW(Teilnehmer)+DD21,COLUMN(Teilnehmer)+DE21+DE21),ADDRESS(ROW(Teilnehmer)+DD21,COLUMN(Teilnehmer)+DE21+DE21-1))","v":"$D$25"},{"$f":"IF(DA21>MAX(TeilnNr)-1,ADDRESS(ROW(Teilnehmer)+DE21,COLUMN(Teilnehmer)+DD21+DD21),ADDRESS(ROW(Teilnehmer)+DE21,COLUMN(Teilnehmer)+DD21+DD21-1))","v":"$L$21"},3,{"$f":"IF(CL21>MAX(TeilnNr)-1,CI21,CG21)","v":"Spieler 06"},"-",{"$f":"IF(CL21>MAX(TeilnNr)-1,CG21,CI21)","v":"Spieler 02"},{"$f":"IF(ISNUMBER(CL21),IF(CL21>MAX(TeilnNr)-1,IF(CN21=1,1,IF(MOD(CN21,2)<>0,2,1)),IF(CN21=1,1,IF(MOD(CN21,2)<>0,1,2))),\"\")","v":1},null,2,1,null,2,3,{"$f":"IF(DA21>MAX(TeilnNr)-1,CX21,CV21)","v":"Spieler 05"},"-",{"$f":"IF(DA21>MAX(TeilnNr)-1,CV21,CX21)","v":"Spieler 01"},{"$f":"IF(ISNUMBER(DA21),IF(DA21>MAX(TeilnNr)-1,IF(DC21=1,2,IF(MOD(DC21,2)<>0,2,1)),IF(DC21=1,2,IF(MOD(DC21,2)<>0,1,2))),\"\")","v":1},null,2,1,null,2]
[null,2,null,"","","","","","","","","","","","","","","","",0,{"$f":"MAX($B$21:$B$28)*2-COUNTIF($D22:S22,\"\")","v":0},0,null,0,0,1,null,0,0,0,0,0,0,0,0,0,null,0,0,0,0,0,0,0,0,0,null,0,1,1,1,1,1,{"$f":"VALUE(CONCATENATE(IF(CA22,\"1\",\"0\"),TEXT($AW22,\"00\"),TEXT($AY22,\"00\"),TEXT($BA22,\"00\")))","v":10101},{"$f":"VALUE(CONCATENATE(IF(CA22,\"1\",\"0\"),TEXT($AW22,\"00\"),TEXT($AY22,\"00\")))","v":101},{"$f":"VALUE(CONCATENATE(IF(CA22,\"1\",\"0\"),TEXT($AW22,\"00\"),TEXT($AX22,\"00\"),TEXT($AY22,\"00\"),TEXT($BA22,\"00\")))","v":1010101},{"$f":"VALUE(CONCATENATE(IF(CA22,\"1\",\"0\"),TEXT($AW22,\"00\"),TEXT($AX22,\"00\"),TEXT($AY22,\"00\")))","v":10101},{"$f":"VALUE(CONCATENATE(IF(CA22,\"1\",\"0\"),TEXT($AW22,\"00\"),TEXT($AX22,\"00\"),TEXT($AY22,\"00\")))","v":10101},{"$f":"VALUE(CONCATENATE(IF(CA22,\"1\",\"0\"),TEXT($AW22,\"00\"),TEXT($AX22,\"00\"),TEXT($AY22,\"00\"),TEXT($AZ22,\"00\")))","v":1010101},{"$f":"VALUE(CONCATENATE(IF(CA22,\"1\",\"0\"),TEXT($AW22,\"00\"),TEXT($AX22,\"00\")))","v":101},{"$f":"VALUE(CONCATENATE(IF(CA22,\"1\",\"0\"),TEXT($AW22,\"00\"),TEXT($AX22,\"00\")))","v":101},{"$f":"VALUE(CONCATENATE(IF(CA22,\"1\",\"0\"),TEXT($AW22,\"00\"),TEXT($AX22,\"00\"),TEXT($AZ22,\"00\"),TEXT($AY22,\"00\")))","v":1010101},{"$f":"VALUE(CONCATENATE(IF(CA22,\"1\",\"0\"),TEXT($AW22,\"00\"),TEXT($AX22,\"00\"),TEXT($AZ22,\"00\")))","v":10101},{"$f":"INDEX($BB22:$BK22,1,WertungskriterienA)","v":10101},{"$f":"SUM((TRANSPOSE($BL$21:$BL$28)=BL22)*$AB22:$AI22)","v":0},1,10101,101010101,10101,101010101,10101010101,101010101,1010101010101,1010101010101,101010101,10101010101,{"$f":"INDEX(BO22:BX22,1,WertungskriterienA)","v":101010101},1,{"$f":"IF($C22=\"\",FALSE,AND(LEN($C22)=1,OR(CODE($C22)<65,CODE($C22)>122,AND(CODE($C22)>90,CODE($C22)<97)),NOT(AND(CODE($C22)>48,CODE($C22)<58))))","v":false},"Spieler 02",1,1.0010019999999999,2,4,{"$f":"INDEX($CB$21:$CB$28,MATCH($CO22,TeilnNr,0))","v":"Spieler 01"},"-",{"$f":"INDEX($CB$21:$CB$28,MATCH($CP22,TeilnNr,0))","v":"Spieler 07"},null,null,5,{"$f":"CM21","v":5},4,{"$f":"IF(AND(CN22=1,MOD(CM22,2)=IF(CL22>MAX(TeilnNr)-1,1,0)),MAX(TeilnNr),IF(MOD(CN22,2)=IF(CL22>MAX(TeilnNr)-1,1,0),IF(MAX(TeilnNr)/2-CN22+1-(CM22-MAX(TeilnNr)/2-1)>=1,MAX(TeilnNr)/2-CN22+1-(CM22-MAX(TeilnNr)/2-1),MAX(TeilnNr)/2-CN22+1-(CM22-MAX(TeilnNr)/2-1)+MAX(TeilnNr)-1),IF(CN22-(CM22-1)>=1,CN22-(CM22-1),CN22-(CM22-1)+MAX(TeilnNr)-1)))","v":1},{"$f":"IF(AND(CN22=1,MOD(CM22,2)<>IF(CL22>MAX(TeilnNr)-1,1,0)),MAX(TeilnNr),IF(MOD(CN22,2)<>IF(CL22>MAX(TeilnNr)-1,1,0),IF(MAX(TeilnNr)/2-CN22+1-(CM22-MAX(TeilnNr)/2-1)>=1,MAX(TeilnNr)/2-CN22+1-(CM22-MAX(TeilnNr)/2-1),MAX(TeilnNr)/2-CN22+1-(CM22-MAX(TeilnNr)/2-1)+MAX(TeilnNr)-1),IF(CN22-(CM22-1)>=1,CN22-(CM22-1),CN22-(CM22-1)+MAX(TeilnNr)-1)))","v":7},{"$f":"IF(LEFT(CK22,1)=\"V\",\"\",LEFT(CK22,1))","v":""},{"$f":"IF(RIGHT(CK22,1)=\"V\",\"\",RIGHT(CK22,1))","v":""},{"$f":"IF(CL22>MAX(TeilnNr)-1,ADDRESS(ROW(Teilnehmer)+CO22,COLUMN(Teilnehmer)+CP22+CP22),ADDRESS(ROW(Teilnehmer)+CO22,COLUMN(Teilnehmer)+CP22+CP22-1))","v":"$P$21"},{"$f":"IF(CL22>MAX(TeilnNr)-1,ADDRESS(ROW(Teilnehmer)+CP22,COLUMN(Teilnehmer)+CO22+CO22),ADDRESS(ROW(Teilnehmer)+CP22,COLUMN(Teilnehmer)+CO22+CO22-1))","v":"$D$27"},4,{"$f":"INDEX($CB$21:$CB$28,MATCH($DD22,TeilnNr,0))","v":"Spieler 07"},"-",{"$f":"INDEX($CB$21:$CB$28,MATCH($DE22,TeilnNr,0))","v":"Spieler 06"},null,null,6,6,4,{"$f":"IF(AND(DC22=1,MOD(DB22,2)=IF(DA22>MAX(TeilnNr)-1,1,0)),MAX(TeilnNr),IF(MOD(DC22,2)=IF(DA22>MAX(TeilnNr)-1,1,0),IF(MAX(TeilnNr)/2-DC22+1-(DB22-MAX(TeilnNr)/2-1)>=1,MAX(TeilnNr)/2-DC22+1-(DB22-MAX(TeilnNr)/2-1),MAX(TeilnNr)/2-DC22+1-(DB22-MAX(TeilnNr)/2-1)+MAX(TeilnNr)-1),IF(DC22-(DB22-1)>=1,DC22-(DB22-1),DC22-(DB22-1)+MAX(TeilnNr)-1)))","v":7},{"$f":"IF(AND(DC22=1,MOD(DB22,2)<>IF(DA22>MAX(TeilnNr)-1,1,0)),MAX(TeilnNr),IF(MOD(DC22,2)<>IF(DA22>MAX(TeilnNr)-1,1,0),IF(MAX(TeilnNr)/2-DC22+1-(DB22-MAX(TeilnNr)/2-1)>=1,MAX(TeilnNr)/2-DC22+1-(DB22-MAX(TeilnNr)/2-1),MAX(TeilnNr)/2-DC22+1-(DB22-MAX(TeilnNr)/2-1)+MAX(TeilnNr)-1),IF(DC22-(DB22-1)>=1,DC22-(DB22-1),DC22-(DB22-1)+MAX(TeilnNr)-1)))","v":6},{"$f":"IF(LEFT(CZ22,1)=\"V\",\"\",LEFT(CZ22,1))","v":""},{"$f":"IF(RIGHT(CZ22,1)=\"V\",\"\",RIGHT(CZ22,1))","v":""},{"$f":"IF(DA22>MAX(TeilnNr)-1,ADDRESS(ROW(Teilnehmer)+DD22,COLUMN(Teilnehmer)+DE22+DE22),ADDRESS(ROW(Teilnehmer)+DD22,COLUMN(Teilnehmer)+DE22+DE22-1))","v":"$N$27"},{"$f":"IF(DA22>MAX(TeilnNr)-1,ADDRESS(ROW(Teilnehmer)+DE22,COLUMN(Teilnehmer)+DD22+DD22),ADDRESS(ROW(Teilnehmer)+DE22,COLUMN(Teilnehmer)+DD22+DD22-1))","v":"$P$26"},4,{"$f":"IF(CL22>MAX(TeilnNr)-1,CG22,CI22)","v":"Spieler 07"},"-",{"$f":"IF(CL22>MAX(TeilnNr)-1,CI22,CG22)","v":"Spieler 01"},{"$f":"IF(ISNUMBER(CL22),IF(CL22>MAX(TeilnNr)-1,IF(CN22=1,1,IF(MOD(CN22,2)<>0,2,1)),IF(CN22=1,1,IF(MOD(CN22,2)<>0,1,2))),\"\")","v":2},null,1,2,null,1,4,{"$f":"IF(DA22>MAX(TeilnNr)-1,CV22,CX22)","v":"Spieler 06"},"-",{"$f":"IF(DA22>MAX(TeilnNr)-1,CX22,CV22)","v":"Spieler 07"},{"$f":"IF(ISNUMBER(DA22),IF(DA22>MAX(TeilnNr)-1,IF(DC22=1,2,IF(MOD(DC22,2)<>0,2,1)),IF(DC22=1,2,IF(MOD(DC22,2)<>0,1,2))),\"\")","v":2},null,1,2,null,1]
[null,3,null,"","","","","","","","","","","","","","","","",0,{"$f":"MAX($B$21:$B$28)*2-COUNTIF($D23:S23,\"\")","v":0},0,null,0,0,1,null,0,0,0,0,0,0,0,0,0,null,0,0,0,0,0,0,0,0,0,null,0,1,1,1,1,1,10101,101,1010101,10101,10101,1010101,101,101,1010101,10101,{"$f":"INDEX($BB23:$BK23,1,WertungskriterienA)","v":10101},{"$f":"SUM((TRANSPOSE($BL$21:$BL$28)=BL23)*$AB23:$AI23)","v":0},1,10101,101010101,10101,101010101,10101010101,101010101,1010101010101,1010101010101,101010101,10101010101,{"$f":"INDEX(BO23:BX23,1,WertungskriterienA)","v":101010101},1,false,"Spieler 03",2,1.002003,3,null,null,null,null,null,null,null,null,null,null,null,null,null,null,null,null,null,null,null,null,null,null,null,null,null,null,null,null,null,null,null,null,null,null,{"$f":"IF(ISNUMBER(CL23),IF(CL23>MAX(TeilnNr)-1,2,1),\"\")","v":""},null,null,{"$f":"IF(ISNUMBER(CO23),IF(CO23>MAX(TeilnNr)-1,2,1),\"\")","v":""},null,null,null,null,null,null,{"$f":"IF(ISNUMBER(DA23),IF(DA23>MAX(TeilnNr)-1,IF(DC23=1,1,IF(MOD(DC23,2)<>0,2,1)),IF(DC23=1,2,IF(MOD(DC23,2)<>0,1,2))),\"\")","v":""},null,null,{"$f":"IF(ISNUMBER(CY23),IF(CY23>MAX(TeilnNr)-1,2,1),\"\")","v":""}]
[null,4,null,"","","","","","","","","","","","","","","","",0,{"$f":"MAX($B$21:$B$28)*2-COUNTIF($D24:S24,\"\")","v":0},0,null,0,0,1,null,0,0,0,0,0,0,0,0,0,null,0,0,0,0,0,0,0,0,0,null,0,1,1,1,1,1,10101,101,1010101,10101,10101,1010101,101,101,1010101,10101,{"$f":"INDEX($BB24:$BK24,1,WertungskriterienA)","v":10101},{"$f":"SUM((TRANSPOSE($BL$21:$BL$28)=BL24)*$AB24:$AI24)","v":0},1,10101,101010101,10101,101010101,10101010101,101010101,1010101010101,1010101010101,101010101,10101010101,{"$f":"INDEX(BO24:BX24,1,WertungskriterienA)","v":101010101},1,false,"Spieler 04",3,1.0030039999999998,4,null,{"$f":"CG18+2","v":7},null,null,null,null,"N°","R","B","SpNr w","SpNr s","Res w","Res s",null,null,null,{"$f":"CV18+2","v":8},null,null,null,null,"N°","R","B","SpNr w","SpNr s","Res w","Res s",null,null,null,{"$f":"CG24","v":7},null,{"$f":"IF(CG24=MAX(TeilnNr),\"-> Bretter drehen!\",\"\")","v":""},{"$f":"IF(ISNUMBER(CL24),IF(CL24>MAX(TeilnNr)-1,2,1),\"\")","v":""},null,null,{"$f":"IF(ISNUMBER(CO24),IF(CO24>MAX(TeilnNr)-1,2,1),\"\")","v":""},null,null,null,{"$f":"CV24","v":8},null,{"$f":"IF(CV24=MAX(TeilnNr),\"-> Bretter drehen!\",\"\")","v":"-> Bretter drehen!"},{"$f":"IF(ISNUMBER(DA24),IF(DA24>MAX(TeilnNr)-1,IF(MOD(DC24,2)<>0,2,1),IF(MOD(DC24,2)<>0,1,2)),\"\")","v":""},null,null,{"$f":"IF(ISNUMBER(CY24),IF(CY24>MAX(TeilnNr)-1,2,1),\"\")","v":""}]
[null,5,null,"","","","","","","","","","","","","","","","",0,{"$f":"MAX($B$21:$B$28)*2-COUNTIF($D25:S25,\"\")","v":0},0,null,0,0,1,null,0,0,0,0,0,0,0,0,0,null,0,0,0,0,0,0,0,0,0,null,0,1,1,1,1,1,10101,101,1010101,10101,10101,1010101,101,101,1010101,10101,{"$f":"INDEX($BB25:$BK25,1,WertungskriterienA)","v":10101},{"$f":"SUM((TRANSPOSE($BL$21:$BL$28)=BL25)*$AB25:$AI25)","v":0},1,10101,101010101,10101,101010101,10101010101,101010101,1010101010101,1010101010101,101010101,10101010101,{"$f":"INDEX(BO25:BX25,1,WertungskriterienA)","v":101010101},1,false,"Spieler 05",4,1.004005,5,{"$f":"IF(OR(INDEX($CA$21:$CA$28,CO25),INDEX($CA$21:$CA$28,CP25)),0,1)","v":1},{"$f":"INDEX($CB$21:$CB$28,MATCH($CO25,TeilnNr,0))","v":"Spieler 02"},"-",{"$f":"INDEX($CB$21:$CB$28,MATCH($CP25,TeilnNr,0))","v":"Spieler 08"},null,null,{"$f":"CG24","v":7},{"$f":"IF(CG24>MAX(TeilnNr)-1,CG24-(MAX(TeilnNr)-1),CG24)","v":7},1,{"$f":"IF(AND(CN25=1,MOD(CM25,2)=IF(CL25>MAX(TeilnNr)-1,1,0)),MAX(TeilnNr),IF(MOD(CN25,2)=IF(CL25>MAX(TeilnNr)-1,1,0),IF(MAX(TeilnNr)/2-CN25+1-(CM25-MAX(TeilnNr)/2-1)>=1,MAX(TeilnNr)/2-CN25+1-(CM25-MAX(TeilnNr)/2-1),MAX(TeilnNr)/2-CN25+1-(CM25-MAX(TeilnNr)/2-1)+MAX(TeilnNr)-1),IF(CN25-(CM25-1)>=1,CN25-(CM25-1),CN25-(CM25-1)+MAX(TeilnNr)-1)))","v":2},{"$f":"IF(AND(CN25=1,MOD(CM25,2)<>IF(CL25>MAX(TeilnNr)-1,1,0)),MAX(TeilnNr),IF(MOD(CN25,2)<>IF(CL25>MAX(TeilnNr)-1,1,0),IF(MAX(TeilnNr)/2-CN25+1-(CM25-MAX(TeilnNr)/2-1)>=1,MAX(TeilnNr)/2-CN25+1-(CM25-MAX(TeilnNr)/2-1),MAX(TeilnNr)/2-CN25+1-(CM25-MAX(TeilnNr)/2-1)+MAX(TeilnNr)-1),IF(CN25-(CM25-1)>=1,CN25-(CM25-1),CN25-(CM25-1)+MAX(TeilnNr)-1)))","v":8},{"$f":"IF(LEFT(CK25,1)=\"V\",\"\",LEFT(CK25,1))","v":""},{"$f":"IF(RIGHT(CK25,1)=\"V\",\"\",RIGHT(CK25,1))","v":""},{"$f":"IF(CL25>MAX(TeilnNr)-1,ADDRESS(ROW(Teilnehmer)+CO25,COLUMN(Teilnehmer)+CP25+CP25),ADDRESS(ROW(Teilnehmer)+CO25,COLUMN(Teilnehmer)+CP25+CP25-1))","v":"$R$22"},{"$f":"IF(CL25>MAX(TeilnNr)-1,ADDRESS(ROW(Teilnehmer)+CP25,COLUMN(Teilnehmer)+CO25+CO25),ADDRESS(ROW(Teilnehmer)+CP25,COLUMN(Teilnehmer)+CO25+CO25-1))","v":"$F$28"},{"$f":"IF(OR(INDEX($CA$21:$CA$28,DD25),INDEX($CA$21:$CA$28,DE25)),0,1)","v":1},{"$f":"INDEX($CB$21:$CB$28,MATCH($DD25,TeilnNr,0))","v":"Spieler 08"},"-",{"$f":"INDEX($CB$21:$CB$28,MATCH($DE25,TeilnNr,0))","v":"Spieler 01"},null,null,{"$f":"CV24","v":8},{"$f":"IF(CV24>MAX(TeilnNr)-1,CV24-(MAX(TeilnNr)-1),CV24)","v":1},1,{"$f":"IF(AND(DC25=1,MOD(DB25,2)=IF(DA25>MAX(TeilnNr)-1,1,0)),MAX(TeilnNr),IF(MOD(DC25,2)=IF(DA25>MAX(TeilnNr)-1,1,0),IF(MAX(TeilnNr)/2-DC25+1-(DB25-MAX(TeilnNr)/2-1)>=1,MAX(TeilnNr)/2-DC25+1-(DB25-MAX(TeilnNr)/2-1),MAX(TeilnNr)/2-DC25+1-(DB25-MAX(TeilnNr)/2-1)+MAX(TeilnNr)-1),IF(DC25-(DB25-1)>=1,DC25-(DB25-1),DC25-(DB25-1)+MAX(TeilnNr)-1)))","v":8},{"$f":"IF(AND(DC25=1,MOD(DB25,2)<>IF(DA25>MAX(TeilnNr)-1,1,0)),MAX(TeilnNr),IF(MOD(DC25,2)<>IF(DA25>MAX(TeilnNr)-1,1,0),IF(MAX(TeilnNr)/2-DC25+1-(DB25-MAX(TeilnNr)/2-1)>=1,MAX(TeilnNr)/2-DC25+1-(DB25-MAX(TeilnNr)/2-1),MAX(TeilnNr)/2-DC25+1-(DB25-MAX(TeilnNr)/2-1)+MAX(TeilnNr)-1),IF(DC25-(DB25-1)>=1,DC25-(DB25-1),DC25-(DB25-1)+MAX(TeilnNr)-1)))","v":1},{"$f":"IF(LEFT(CZ25,1)=\"V\",\"\",LEFT(CZ25,1))","v":""},{"$f":"IF(RIGHT(CZ25,1)=\"V\",\"\",RIGHT(CZ25,1))","v":""},{"$f":"IF(DA25>MAX(TeilnNr)-1,ADDRESS(ROW(Teilnehmer)+DD25,COLUMN(Teilnehmer)+DE25+DE25),ADDRESS(ROW(Teilnehmer)+DD25,COLUMN(Teilnehmer)+DE25+DE25-1))","v":"$E$28"},{"$f":"IF(DA25>MAX(TeilnNr)-1,ADDRESS(ROW(Teilnehmer)+DE25,COLUMN(Teilnehmer)+DD25+DD25),ADDRESS(ROW(Teilnehmer)+DE25,COLUMN(Teilnehmer)+DD25+DD25-1))","v":"$S$21"},{"$f":"CF25","v":1},{"$f":"CG25","v":"Spieler 02"},"-",{"$f":"CI25","v":"Spieler 08"},{"$f":"IF(ISNUMBER(CL25),IF(CL25>MAX(TeilnNr)-1,IF(CN25=1,1,IF(MOD(CN25,2)<>0,2,1)),IF(CN25=1,1,IF(MOD(CN25,2)<>0,1,2))),\"\")","v":1},null,{"$f":"IF(DN25=1,2,1)","v":2},{"$f":"DN25","v":1},null,{"$f":"IF(DC25=1,DP25*10,DP25)","v":20},{"$f":"CU25","v":1},{"$f":"CX25","v":"Spieler 01"},"-",{"$f":"CV25","v":"Spieler 08"},{"$f":"IF(ISNUMBER(DA25),IF(DA25>MAX(TeilnNr)-1,IF(DC25=1,2,IF(MOD(DC25,2)<>0,2,1)),IF(DC25=1,2,IF(MOD(DC25,2)<>0,1,2))),\"\")","v":2},null,{"$f":"IF(DX25=1,2,1)","v":1},{"$f":"DX25","v":2},null,{"$f":"IF(DC25=1,DZ25*10,DZ25)","v":10}]
[null,6,null,"","","","","","","","","","","","","","","","",0,{"$f":"MAX($B$21:$B$28)*2-COUNTIF($D26:S26,\"\")","v":0},0,null,0,0,1,null,0,0,0,0,0,0,0,0,0,null,0,0,0,0,0,0,0,0,0,null,0,1,1,1,1,1,10101,101,1010101,10101,10101,1010101,101,101,1010101,10101,{"$f":"INDEX($BB26:$BK26,1,WertungskriterienA)","v":10101},{"$f":"SUM((TRANSPOSE($BL$21:$BL$28)=BL26)*$AB26:$AI26)","v":0},1,10101,101010101,10101,101010101,10101010101,101010101,1010101010101,1010101010101,101010101,10101010101,{"$f":"INDEX(BO26:BX26,1,WertungskriterienA)","v":101010101},1,false,"Spieler 06",5,1.0050059999999998,6,{"$f":"CF25+1","v":2},{"$f":"INDEX($CB$21:$CB$28,MATCH($CO26,TeilnNr,0))","v":"Spieler 01"},"-",{"$f":"INDEX($CB$21:$CB$28,MATCH($CP26,TeilnNr,0))","v":"Spieler 03"},null,null,{"$f":"CL25","v":7},{"$f":"CM25","v":7},{"$f":"CN25+1","v":2},{"$f":"IF(AND(CN26=1,MOD(CM26,2)=IF(CL26>MAX(TeilnNr)-1,1,0)),MAX(TeilnNr),IF(MOD(CN26,2)=IF(CL26>MAX(TeilnNr)-1,1,0),IF(MAX(TeilnNr)/2-CN26+1-(CM26-MAX(TeilnNr)/2-1)>=1,MAX(TeilnNr)/2-CN26+1-(CM26-MAX(TeilnNr)/2-1),MAX(TeilnNr)/2-CN26+1-(CM26-MAX(TeilnNr)/2-1)+MAX(TeilnNr)-1),IF(CN26-(CM26-1)>=1,CN26-(CM26-1),CN26-(CM26-1)+MAX(TeilnNr)-1)))","v":1},{"$f":"IF(AND(CN26=1,MOD(CM26,2)<>IF(CL26>MAX(TeilnNr)-1,1,0)),MAX(TeilnNr),IF(MOD(CN26,2)<>IF(CL26>MAX(TeilnNr)-1,1,0),IF(MAX(TeilnNr)/2-CN26+1-(CM26-MAX(TeilnNr)/2-1)>=1,MAX(TeilnNr)/2-CN26+1-(CM26-MAX(TeilnNr)/2-1),MAX(TeilnNr)/2-CN26+1-(CM26-MAX(TeilnNr)/2-1)+MAX(TeilnNr)-1),IF(CN26-(CM26-1)>=1,CN26-(CM26-1),CN26-(CM26-1)+MAX(TeilnNr)-1)))","v":3},{"$f":"IF(LEFT(CK26,1)=\"V\",\"\",LEFT(CK26,1))","v":""},{"$f":"IF(RIGHT(CK26,1)=\"V\",\"\",RIGHT(CK26,1))","v":""},{"$f":"IF(CL26>MAX(TeilnNr)-1,ADDRESS(ROW(Teilnehmer)+CO26,COLUMN(Teilnehmer)+CP26+CP26),ADDRESS(ROW(Teilnehmer)+CO26,COLUMN(Teilnehmer)+CP26+CP26-1))","v":"$H$21"},{"$f":"IF(CL26>MAX(TeilnNr)-1,ADDRESS(ROW(Teilnehmer)+CP26,COLUMN(Teilnehmer)+CO26+CO26),ADDRESS(ROW(Teilnehmer)+CP26,COLUMN(Teilnehmer)+CO26+CO26-1))","v":"$D$23"},{"$f":"CU25+1","v":2},{"$f":"INDEX($CB$21:$CB$28,MATCH($DD26,TeilnNr,0))","v":"Spieler 02"},"-",{"$f":"INDEX($CB$21:$CB$28,MATCH($DE26,TeilnNr,0))","v":"Spieler 07"},null,null,{"$f":"DA25","v":8},{"$f":"DB25","v":1},{"$f":"DC25+1","v":2},2,7,{"$f":"IF(LEFT(CZ26,1)=\"V\",\"\",LEFT(CZ26,1))","v":""},{"$f":"IF(RIGHT(CZ26,1)=\"V\",\"\",RIGHT(CZ26,1))","v":""},"$Q$22","$G$27",2,{"$f":"IF(CL26>MAX(TeilnNr)-1,CG26,CI26)","v":"Spieler 03"},"-",{"$f":"IF(CL26>MAX(TeilnNr)-1,CI26,CG26)","v":"Spieler 01"},{"$f":"IF(ISNUMBER(CL26),IF(CL26>MAX(TeilnNr)-1,IF(CN26=1,1,IF(MOD(CN26,2)<>0,2,1)),IF(CN26=1,1,IF(MOD(CN26,2)<>0,1,2))),\"\")","v":2},null,1,2,null,1,2,{"$f":"IF(DA26>MAX(TeilnNr)-1,CV26,CX26)","v":"Spieler 02"},"-",{"$f":"IF(DA26>MAX(TeilnNr)-1,CX26,CV26)","v":"Spieler 07"},{"$f":"IF(ISNUMBER(DA26),IF(DA26>MAX(TeilnNr)-1,IF(DC26=1,2,IF(MOD(DC26,2)<>0,2,1)),IF(DC26=1,2,IF(MOD(DC26,2)<>0,1,2))),\"\")","v":1},null,2,1,null,2]
[null,7,null,"","","","","","","","","","","","","","","","",0,{"$f":"MAX($B$21:$B$28)*2-COUNTIF($D27:S27,\"\")","v":0},0,null,0,0,1,null,0,0,0,0,0,0,0,0,0,null,0,0,0,0,0,0,0,0,0,null,0,1,1,1,1,1,10101,101,1010101,10101,10101,1010101,101,101,1010101,10101,{"$f":"INDEX($BB27:$BK27,1,WertungskriterienA)","v":10101},{"$f":"SUM((TRANSPOSE($BL$21:$BL$28)=BL27)*$AB27:$AI27)","v":0},1,10101,101010101,10101,101010101,10101010101,101010101,1010101010101,1010101010101,101010101,10101010101,{"$f":"INDEX(BO27:BX27,1,WertungskriterienA)","v":101010101},1,false,"Spieler 07",6,1.0060070000000001,7,{"$f":"CF26+1","v":3},{"$f":"INDEX($CB$21:$CB$28,MATCH($CO27,TeilnNr,0))","v":"Spieler 04"},"-",{"$f":"INDEX($CB$21:$CB$28,MATCH($CP27,TeilnNr,0))","v":"Spieler 07"},null,null,{"$f":"CL26","v":7},{"$f":"CM26","v":7},{"$f":"CN26+1","v":3},{"$f":"IF(AND(CN27=1,MOD(CM27,2)=IF(CL27>MAX(TeilnNr)-1,1,0)),MAX(TeilnNr),IF(MOD(CN27,2)=IF(CL27>MAX(TeilnNr)-1,1,0),IF(MAX(TeilnNr)/2-CN27+1-(CM27-MAX(TeilnNr)/2-1)>=1,MAX(TeilnNr)/2-CN27+1-(CM27-MAX(TeilnNr)/2-1),MAX(TeilnNr)/2-CN27+1-(CM27-MAX(TeilnNr)/2-1)+MAX(TeilnNr)-1),IF(CN27-(CM27-1)>=1,CN27-(CM27-1),CN27-(CM27-1)+MAX(TeilnNr)-1)))","v":4},{"$f":"IF(AND(CN27=1,MOD(CM27,2)<>IF(CL27>MAX(TeilnNr)-1,1,0)),MAX(TeilnNr),IF(MOD(CN27,2)<>IF(CL27>MAX(TeilnNr)-1,1,0),IF(MAX(TeilnNr)/2-CN27+1-(CM27-MAX(TeilnNr)/2-1)>=1,MAX(TeilnNr)/2-CN27+1-(CM27-MAX(TeilnNr)/2-1),MAX(TeilnNr)/2-CN27+1-(CM27-MAX(TeilnNr)/2-1)+MAX(TeilnNr)-1),IF(CN27-(CM27-1)>=1,CN27-(CM27-1),CN27-(CM27-1)+MAX(TeilnNr)-1)))","v":7},{"$f":"IF(LEFT(CK27,1)=\"V\",\"\",LEFT(CK27,1))","v":""},{"$f":"IF(RIGHT(CK27,1)=\"V\",\"\",RIGHT(CK27,1))","v":""},{"$f":"IF(CL27>MAX(TeilnNr)-1,ADDRESS(ROW(Teilnehmer)+CO27,COLUMN(Teilnehmer)+CP27+CP27),ADDRESS(ROW(Teilnehmer)+CO27,COLUMN(Teilnehmer)+CP27+CP27-1))","v":"$P$24"},{"$f":"IF(CL27>MAX(TeilnNr)-1,ADDRESS(ROW(Teilnehmer)+CP27,COLUMN(Teilnehmer)+CO27+CO27),ADDRESS(ROW(Teilnehmer)+CP27,COLUMN(Teilnehmer)+CO27+CO27-1))","v":"$J$27"},{"$f":"CU26+1","v":3},{"$f":"INDEX($CB$21:$CB$28,MATCH($DD27,TeilnNr,0))","v":"Spieler 06"},"-",{"$f":"INDEX($CB$21:$CB$28,MATCH($DE27,TeilnNr,0))","v":"Spieler 03"},null,null,{"$f":"DA26","v":8},{"$f":"DB26","v":1},{"$f":"DC26+1","v":3},{"$f":"IF(AND(DC27=1,MOD(DB27,2)=IF(DA27>MAX(TeilnNr)-1,1,0)),MAX(TeilnNr),IF(MOD(DC27,2)=IF(DA27>MAX(TeilnNr)-1,1,0),IF(MAX(TeilnNr)/2-DC27+1-(DB27-MAX(TeilnNr)/2-1)>=1,MAX(TeilnNr)/2-DC27+1-(DB27-MAX(TeilnNr)/2-1),MAX(TeilnNr)/2-DC27+1-(DB27-MAX(TeilnNr)/2-1)+MAX(TeilnNr)-1),IF(DC27-(DB27-1)>=1,DC27-(DB27-1),DC27-(DB27-1)+MAX(TeilnNr)-1)))","v":6},{"$f":"IF(AND(DC27=1,MOD(DB27,2)<>IF(DA27>MAX(TeilnNr)-1,1,0)),MAX(TeilnNr),IF(MOD(DC27,2)<>IF(DA27>MAX(TeilnNr)-1,1,0),IF(MAX(TeilnNr)/2-DC27+1-(DB27-MAX(TeilnNr)/2-1)>=1,MAX(TeilnNr)/2-DC27+1-(DB27-MAX(TeilnNr)/2-1),MAX(TeilnNr)/2-DC27+1-(DB27-MAX(TeilnNr)/2-1)+MAX(TeilnNr)-1),IF(DC27-(DB27-1)>=1,DC27-(DB27-1),DC27-(DB27-1)+MAX(TeilnNr)-1)))","v":3},{"$f":"IF(LEFT(CZ27,1)=\"V\",\"\",LEFT(CZ27,1))","v":""},{"$f":"IF(RIGHT(CZ27,1)=\"V\",\"\",RIGHT(CZ27,1))","v":""},{"$f":"IF(DA27>MAX(TeilnNr)-1,ADDRESS(ROW(Teilnehmer)+DD27,COLUMN(Teilnehmer)+DE27+DE27),ADDRESS(ROW(Teilnehmer)+DD27,COLUMN(Teilnehmer)+DE27+DE27-1))","v":"$I$26"},{"$f":"IF(DA27>MAX(TeilnNr)-1,ADDRESS(ROW(Teilnehmer)+DE27,COLUMN(Teilnehmer)+DD27+DD27),ADDRESS(ROW(Teilnehmer)+DE27,COLUMN(Teilnehmer)+DD27+DD27-1))","v":"$O$23"},3,{"$f":"IF(CL27>MAX(TeilnNr)-1,CI27,CG27)","v":"Spieler 04"},"-",{"$f":"IF(CL27>MAX(TeilnNr)-1,CG27,CI27)","v":"Spieler 07"},{"$f":"IF(ISNUMBER(CL27),IF(CL27>MAX(TeilnNr)-1,IF(CN27=1,1,IF(MOD(CN27,2)<>0,2,1)),IF(CN27=1,1,IF(MOD(CN27,2)<>0,1,2))),\"\")","v":1},null,2,1,null,2,3,{"$f":"IF(DA27>MAX(TeilnNr)-1,CX27,CV27)","v":"Spieler 03"},"-",{"$f":"IF(DA27>MAX(TeilnNr)-1,CV27,CX27)","v":"Spieler 06"},{"$f":"IF(ISNUMBER(DA27),IF(DA27>MAX(TeilnNr)-1,IF(DC27=1,2,IF(MOD(DC27,2)<>0,2,1)),IF(DC27=1,2,IF(MOD(DC27,2)<>0,1,2))),\"\")","v":2},null,1,2,null,1]
[null,8,null,"","","","","","","","","","","","","","","","",0,{"$f":"MAX($B$21:$B$28)*2-COUNTIF($D28:S28,\"\")","v":0},0,null,0,0,1,null,0,0,0,0,0,0,0,0,0,null,0,0,0,0,0,0,0,0,0,null,0,1,1,1,1,1,10101,101,1010101,10101,10101,1010101,101,101,1010101,10101,{"$f":"INDEX($BB28:$BK28,1,WertungskriterienA)","v":10101},{"$f":"SUM((TRANSPOSE($BL$21:$BL$28)=BL28)*$AB28:$AI28)","v":0},1,10101,101010101,10101,101010101,10101010101,101010101,1010101010101,1010101010101,101010101,10101010101,{"$f":"INDEX(BO28:BX28,1,WertungskriterienA)","v":101010101},1,false,"Spieler 08",7,1.0070079999999999,8,4,{"$f":"INDEX($CB$21:$CB$28,MATCH($CO28,TeilnNr,0))","v":"Spieler 06"},"-",{"$f":"INDEX($CB$21:$CB$28,MATCH($CP28,TeilnNr,0))","v":"Spieler 05"},null,null,7,{"$f":"CM27","v":7},4,{"$f":"IF(AND(CN28=1,MOD(CM28,2)=IF(CL28>MAX(TeilnNr)-1,1,0)),MAX(TeilnNr),IF(MOD(CN28,2)=IF(CL28>MAX(TeilnNr)-1,1,0),IF(MAX(TeilnNr)/2-CN28+1-(CM28-MAX(TeilnNr)/2-1)>=1,MAX(TeilnNr)/2-CN28+1-(CM28-MAX(TeilnNr)/2-1),MAX(TeilnNr)/2-CN28+1-(CM28-MAX(TeilnNr)/2-1)+MAX(TeilnNr)-1),IF(CN28-(CM28-1)>=1,CN28-(CM28-1),CN28-(CM28-1)+MAX(TeilnNr)-1)))","v":6},{"$f":"IF(AND(CN28=1,MOD(CM28,2)<>IF(CL28>MAX(TeilnNr)-1,1,0)),MAX(TeilnNr),IF(MOD(CN28,2)<>IF(CL28>MAX(TeilnNr)-1,1,0),IF(MAX(TeilnNr)/2-CN28+1-(CM28-MAX(TeilnNr)/2-1)>=1,MAX(TeilnNr)/2-CN28+1-(CM28-MAX(TeilnNr)/2-1),MAX(TeilnNr)/2-CN28+1-(CM28-MAX(TeilnNr)/2-1)+MAX(TeilnNr)-1),IF(CN28-(CM28-1)>=1,CN28-(CM28-1),CN28-(CM28-1)+MAX(TeilnNr)-1)))","v":5},{"$f":"IF(LEFT(CK28,1)=\"V\",\"\",LEFT(CK28,1))","v":""},{"$f":"IF(RIGHT(CK28,1)=\"V\",\"\",RIGHT(CK28,1))","v":""},{"$f":"IF(CL28>MAX(TeilnNr)-1,ADDRESS(ROW(Teilnehmer)+CO28,COLUMN(Teilnehmer)+CP28+CP28),ADDRESS(ROW(Teilnehmer)+CO28,COLUMN(Teilnehmer)+CP28+CP28-1))","v":"$L$26"},{"$f":"IF(CL28>MAX(TeilnNr)-1,ADDRESS(ROW(Teilnehmer)+CP28,COLUMN(Teilnehmer)+CO28+CO28),ADDRESS(ROW(Teilnehmer)+CP28,COLUMN(Teilnehmer)+CO28+CO28-1))","v":"$N$25"},4,{"$f":"INDEX($CB$21:$CB$28,MATCH($DD28,TeilnNr,0))","v":"Spieler 04"},"-",{"$f":"INDEX($CB$21:$CB$28,MATCH($DE28,TeilnNr,0))","v":"Spieler 05"},null,null,8,1,4,4,5,{"$f":"IF(LEFT(CZ28,1)=\"V\",\"\",LEFT(CZ28,1))","v":""},{"$f":"IF(RIGHT(CZ28,1)=\"V\",\"\",RIGHT(CZ28,1))","v":""},"$M$24","$K$25",4,{"$f":"IF(CL28>MAX(TeilnNr)-1,CG28,CI28)","v":"Spieler 05"},"-",{"$f":"IF(CL28>MAX(TeilnNr)-1,CI28,CG28)","v":"Spieler 06"},{"$f":"IF(ISNUMBER(CL28),IF(CL28>MAX(TeilnNr)-1,IF(CN28=1,1,IF(MOD(CN28,2)<>0,2,1)),IF(CN28=1,1,IF(MOD(CN28,2)<>0,1,2))),\"\")","v":2},null,1,2,null,1,4,{"$f":"IF(DA28>MAX(TeilnNr)-1,CV28,CX28)","v":"Spieler 04"},"-",{"$f":"IF(DA28>MAX(TeilnNr)-1,CX28,CV28)","v":"Spieler 05"},{"$f":"IF(ISNUMBER(DA28),IF(DA28>MAX(TeilnNr)-1,IF(DC28=1,2,IF(MOD(DC28,2)<>0,2,1)),IF(DC28=1,2,IF(MOD(DC28,2)<>0,1,2))),\"\")","v":1},null,2,1,null,2]
[null,null,{"$f":"\"-> bei nur \"&MAX(TeilnNr)-1&\" Spielern an Pos. \"&MAX(TeilnNr)&\" einen Stern (*) eintragen\"","v":"-> bei nur 7 Spielern an Pos. 8 einen Stern (*) eintragen"},null,null,null,null,null,null,null,null,null,null,null,null,null,null,null,null,null,{"$f":"SUM(U21:U28)","v":0},null,null,{"$f":"SUM(X21:X28)","v":0},{"$f":"SUM(Y21:Y28)","v":0},null,null,null,null,null,null,null,null,null,null,null,null,null,null,null,null,null,null,null,null,null,null,null,null,null,null,null,null,null,null,null,null,null,null,null,null,null,null,null,null,null,null,null,null,null,null,null,null,null,null,null,null,null,null,null,null,null,null,null,null,null,null,null,null,null,null,null,null,null,null,null,null,null,null,null,null,null,null,null,null,null,null,null,null,null,null,null,null,null,null,null,null,{"$f":"IF(ISNUMBER(CL29),IF(CL29>MAX(TeilnNr)-1,2,1),\"\")","v":""},null,null,{"$f":"IF(ISNUMBER(CO29),IF(CO29>MAX(TeilnNr)-1,2,1),\"\")","v":""},null,null,null,null,null,null,{"$f":"IF(ISNUMBER(DA29),IF(DA29>MAX(TeilnNr)-1,IF(DC29=1,1,IF(MOD(DC29,2)<>0,2,1)),IF(DC29=1,2,IF(MOD(DC29,2)<>0,1,2))),\"\")","v":""},null,null,{"$f":"IF(ISNUMBER(CY29),IF(CY29>MAX(TeilnNr)-1,2,1),\"\")","v":""}]
[null,null,null,null,null,null,null,null,null,null,null,null,null,null,null,null,null,null,null,null,null,null,null,null,null,null,null,null,null,null,null,null,null,null,null,null,null,null,null,null,null,null,null,null,null,null,null,null,null,null,null,null,null,null,null,null,null,null,null,null,null,null,null,null,null,null,null,null,null,null,null,null,null,null,null,null,null,null,null,null,null,null,null,null,{"$f":"CG24+2","v":9},null,null,null,null,"N°","R","B","SpNr w","SpNr s","Res w","Res s",null,null,null,{"$f":"CV24+2","v":10},null,null,null,null,"N°","R","B","SpNr w","SpNr s","Res w","Res s",null,null,null,{"$f":"CG30","v":9},null,{"$f":"IF(CG30=MAX(TeilnNr),\"-> Bretter drehen!\",\"\")","v":""},{"$f":"IF(ISNUMBER(CL30),IF(CL30>MAX(TeilnNr)-1,2,1),\"\")","v":""},null,null,{"$f":"IF(ISNUMBER(CO30),IF(CO30>MAX(TeilnNr)-1,2,1),\"\")","v":""},null,null,null,{"$f":"CV30","v":10},null,{"$f":"IF(CV30=MAX(TeilnNr),\"-> Bretter drehen!\",\"\")","v":""},{"$f":"IF(ISNUMBER(DA30),IF(DA30>MAX(TeilnNr)-1,IF(MOD(DC30,2)<>0,2,1),IF(MOD(DC30,2)<>0,1,2)),\"\")","v":""},null,null,{"$f":"IF(ISNUMBER(CY30),IF(CY30>MAX(TeilnNr)-1,2,1),\"\")","v":""}]
[null,null,null,null,null,null,null,null,null,null,null,null,null,null,null,null,null,null,null,null,null,null,null,null,null,null,null,null,null,null,null,null,null,null,null,null,null,null,null,null,null,null,null,null,null,null,null,null,null,null,null,null,null,null,null,null,null,null,null,null,null,null,null,null,null,null,null,null,null,null,null,null,null,null,null,null,null,null,null,null,null,null,null,{"$f":"IF(OR(INDEX($CA$21:$CA$28,CO31),INDEX($CA$21:$CA$28,CP31)),0,1)","v":1},{"$f":"INDEX($CB$21:$CB$28,MATCH($CO31,TeilnNr,0))","v":"Spieler 07"},"-",{"$f":"INDEX($CB$21:$CB$28,MATCH($CP31,TeilnNr,0))","v":"Spieler 08"},null,null,{"$f":"CG30","v":9},{"$f":"IF(CG30>MAX(TeilnNr)-1,CG30-(MAX(TeilnNr)-1),CG30)","v":2},1,{"$f":"IF(AND(CN31=1,MOD(CM31,2)=IF(CL31>MAX(TeilnNr)-1,1,0)),MAX(TeilnNr),IF(MOD(CN31,2)=IF(CL31>MAX(TeilnNr)-1,1,0),IF(MAX(TeilnNr)/2-CN31+1-(CM31-MAX(TeilnNr)/2-1)>=1,MAX(TeilnNr)/2-CN31+1-(CM31-MAX(TeilnNr)/2-1),MAX(TeilnNr)/2-CN31+1-(CM31-MAX(TeilnNr)/2-1)+MAX(TeilnNr)-1),IF(CN31-(CM31-1)>=1,CN31-(CM31-1),CN31-(CM31-1)+MAX(TeilnNr)-1)))","v":7},{"$f":"IF(AND(CN31=1,MOD(CM31,2)<>IF(CL31>MAX(TeilnNr)-1,1,0)),MAX(TeilnNr),IF(MOD(CN31,2)<>IF(CL31>MAX(TeilnNr)-1,1,0),IF(MAX(TeilnNr)/2-CN31+1-(CM31-MAX(TeilnNr)/2-1)>=1,MAX(TeilnNr)/2-CN31+1-(CM31-MAX(TeilnNr)/2-1),MAX(TeilnNr)/2-CN31+1-(CM31-MAX(TeilnNr)/2-1)+MAX(TeilnNr)-1),IF(CN31-(CM31-1)>=1,CN31-(CM31-1),CN31-(CM31-1)+MAX(TeilnNr)-1)))","v":8},{"$f":"IF(LEFT(CK31,1)=\"V\",\"\",LEFT(CK31,1))","v":""},{"$f":"IF(RIGHT(CK31,1)=\"V\",\"\",RIGHT(CK31,1))","v":""},{"$f":"IF(CL31>MAX(TeilnNr)-1,ADDRESS(ROW(Teilnehmer)+CO31,COLUMN(Teilnehmer)+CP31+CP31),ADDRESS(ROW(Teilnehmer)+CO31,COLUMN(Teilnehmer)+CP31+CP31-1))","v":"$S$27"},{"$f":"IF(CL31>MAX(TeilnNr)-1,ADDRESS(ROW(Teilnehmer)+CP31,COLUMN(Teilnehmer)+CO31+CO31),ADDRESS(ROW(Teilnehmer)+CP31,COLUMN(Teilnehmer)+CO31+CO31-1))","v":"$Q$28"},{"$f":"IF(OR(INDEX($CA$21:$CA$28,DD31),INDEX($CA$21:$CA$28,DE31)),0,1)","v":1},{"$f":"INDEX($CB$21:$CB$28,MATCH($DD31,TeilnNr,0))","v":"Spieler 08"},"-",{"$f":"INDEX($CB$21:$CB$28,MATCH($DE31,TeilnNr,0))","v":"Spieler 06"},null,null,{"$f":"CV30","v":10},{"$f":"IF(CV30>MAX(TeilnNr)-1,CV30-(MAX(TeilnNr)-1),CV30)","v":3},1,{"$f":"IF(AND(DC31=1,MOD(DB31,2)=IF(DA31>MAX(TeilnNr)-1,1,0)),MAX(TeilnNr),IF(MOD(DC31,2)=IF(DA31>MAX(TeilnNr)-1,1,0),IF(MAX(TeilnNr)/2-DC31+1-(DB31-MAX(TeilnNr)/2-1)>=1,MAX(TeilnNr)/2-DC31+1-(DB31-MAX(TeilnNr)/2-1),MAX(TeilnNr)/2-DC31+1-(DB31-MAX(TeilnNr)/2-1)+MAX(TeilnNr)-1),IF(DC31-(DB31-1)>=1,DC31-(DB31-1),DC31-(DB31-1)+MAX(TeilnNr)-1)))","v":8},{"$f":"IF(AND(DC31=1,MOD(DB31,2)<>IF(DA31>MAX(TeilnNr)-1,1,0)),MAX(TeilnNr),IF(MOD(DC31,2)<>IF(DA31>MAX(TeilnNr)-1,1,0),IF(MAX(TeilnNr)/2-DC31+1-(DB31-MAX(TeilnNr)/2-1)>=1,MAX(TeilnNr)/2-DC31+1-(DB31-MAX(TeilnNr)/2-1),MAX(TeilnNr)/2-DC31+1-(DB31-MAX(TeilnNr)/2-1)+MAX(TeilnNr)-1),IF(DC31-(DB31-1)>=1,DC31-(DB31-1),DC31-(DB31-1)+MAX(TeilnNr)-1)))","v":6},{"$f":"IF(LEFT(CZ31,1)=\"V\",\"\",LEFT(CZ31,1))","v":""},{"$f":"IF(RIGHT(CZ31,1)=\"V\",\"\",RIGHT(CZ31,1))","v":""},{"$f":"IF(DA31>MAX(TeilnNr)-1,ADDRESS(ROW(Teilnehmer)+DD31,COLUMN(Teilnehmer)+DE31+DE31),ADDRESS(ROW(Teilnehmer)+DD31,COLUMN(Teilnehmer)+DE31+DE31-1))","v":"$O$28"},{"$f":"IF(DA31>MAX(TeilnNr)-1,ADDRESS(ROW(Teilnehmer)+DE31,COLUMN(Teilnehmer)+DD31+DD31),ADDRESS(ROW(Teilnehmer)+DE31,COLUMN(Teilnehmer)+DD31+DD31-1))","v":"$S$26"},{"$f":"CF31","v":1},{"$f":"CG31","v":"Spieler 07"},"-",{"$f":"CI31","v":"Spieler 08"},{"$f":"IF(ISNUMBER(CL31),IF(CL31>MAX(TeilnNr)-1,IF(CN31=1,1,IF(MOD(CN31,2)<>0,2,1)),IF(CN31=1,1,IF(MOD(CN31,2)<>0,1,2))),\"\")","v":1},null,{"$f":"IF(DN31=1,2,1)","v":2},{"$f":"DN31","v":1},null,{"$f":"IF(DC31=1,DP31*10,DP31)","v":20},{"$f":"CU31","v":1},{"$f":"CX31","v":"Spieler 06"},"-",{"$f":"CV31","v":"Spieler 08"},{"$f":"IF(ISNUMBER(DA31),IF(DA31>MAX(TeilnNr)-1,IF(DC31=1,2,IF(MOD(DC31,2)<>0,2,1)),IF(DC31=1,2,IF(MOD(DC31,2)<>0,1,2))),\"\")","v":2},null,{"$f":"IF(DX31=1,2,1)","v":1},{"$f":"DX31","v":2},null,{"$f":"IF(DC31=1,DZ31*10,DZ31)","v":10}]
[null,null,null,null,null,null,null,null,null,null,null,null,null,null,null,null,null,null,null,null,null,null,null,null,null,null,null,null,null,null,null,null,null,null,null,null,null,null,null,null,null,null,null,null,null,null,null,null,null,null,null,null,null,null,null,null,null,null,null,null,null,null,null,null,null,null,null,null,null,null,null,null,null,null,null,null,null,null,null,null,null,null,null,{"$f":"CF31+1","v":2},{"$f":"INDEX($CB$21:$CB$28,MATCH($CO32,TeilnNr,0))","v":"Spieler 01"},"-",{"$f":"INDEX($CB$21:$CB$28,MATCH($CP32,TeilnNr,0))","v":"Spieler 06"},null,null,{"$f":"CL31","v":9},{"$f":"CM31","v":2},{"$f":"CN31+1","v":2},1,6,{"$f":"IF(LEFT(CK32,1)=\"V\",\"\",LEFT(CK32,1))","v":""},{"$f":"IF(RIGHT(CK32,1)=\"V\",\"\",RIGHT(CK32,1))","v":""},"$O$21","$E$26",{"$f":"CU31+1","v":2},{"$f":"INDEX($CB$21:$CB$28,MATCH($DD32,TeilnNr,0))","v":"Spieler 07"},"-",{"$f":"INDEX($CB$21:$CB$28,MATCH($DE32,TeilnNr,0))","v":"Spieler 05"},null,null,{"$f":"DA31","v":10},{"$f":"DB31","v":3},{"$f":"DC31+1","v":2},7,5,{"$f":"IF(LEFT(CZ32,1)=\"V\",\"\",LEFT(CZ32,1))","v":""},{"$f":"IF(RIGHT(CZ32,1)=\"V\",\"\",RIGHT(CZ32,1))","v":""},"$M$27","$Q$25",2,{"$f":"IF(CL32>MAX(TeilnNr)-1,CG32,CI32)","v":"Spieler 01"},"-",{"$f":"IF(CL32>MAX(TeilnNr)-1,CI32,CG32)","v":"Spieler 06"},{"$f":"IF(ISNUMBER(CL32),IF(CL32>MAX(TeilnNr)-1,IF(CN32=1,1,IF(MOD(CN32,2)<>0,2,1)),IF(CN32=1,1,IF(MOD(CN32,2)<>0,1,2))),\"\")","v":1},null,2,1,null,2,2,{"$f":"IF(DA32>MAX(TeilnNr)-1,CV32,CX32)","v":"Spieler 07"},"-",{"$f":"IF(DA32>MAX(TeilnNr)-1,CX32,CV32)","v":"Spieler 05"},{"$f":"IF(ISNUMBER(DA32),IF(DA32>MAX(TeilnNr)-1,IF(DC32=1,2,IF(MOD(DC32,2)<>0,2,1)),IF(DC32=1,2,IF(MOD(DC32,2)<>0,1,2))),\"\")","v":1},null,2,1,null,2]
[null,null,null,null,null,null,null,null,null,null,null,null,null,null,null,null,null,null,null,null,null,null,null,null,null,null,null,null,null,null,null,null,null,null,null,null,null,null,null,null,null,null,null,null,null,null,null,null,null,null,null,null,null,null,null,null,null,null,null,null,null,null,null,null,null,null,null,null,null,null,null,null,null,null,null,null,null,null,null,null,null,null,null,{"$f":"CF32+1","v":3},{"$f":"INDEX($CB$21:$CB$28,MATCH($CO33,TeilnNr,0))","v":"Spieler 05"},"-",{"$f":"INDEX($CB$21:$CB$28,MATCH($CP33,TeilnNr,0))","v":"Spieler 02"},null,null,{"$f":"CL32","v":9},{"$f":"CM32","v":2},{"$f":"CN32+1","v":3},5,2,{"$f":"IF(LEFT(CK33,1)=\"V\",\"\",LEFT(CK33,1))","v":""},{"$f":"IF(RIGHT(CK33,1)=\"V\",\"\",RIGHT(CK33,1))","v":""},"$G$25","$M$22",{"$f":"CU32+1","v":3},{"$f":"INDEX($CB$21:$CB$28,MATCH($DD33,TeilnNr,0))","v":"Spieler 04"},"-",{"$f":"INDEX($CB$21:$CB$28,MATCH($DE33,TeilnNr,0))","v":"Spieler 01"},null,null,{"$f":"DA32","v":10},{"$f":"DB32","v":3},{"$f":"DC32+1","v":3},4,1,{"$f":"IF(LEFT(CZ33,1)=\"V\",\"\",LEFT(CZ33,1))","v":""},{"$f":"IF(RIGHT(CZ33,1)=\"V\",\"\",RIGHT(CZ33,1))","v":""},"$E$24","$K$21",3,{"$f":"IF(CL33>MAX(TeilnNr)-1,CI33,CG33)","v":"Spieler 02"},"-",{"$f":"IF(CL33>MAX(TeilnNr)-1,CG33,CI33)","v":"Spieler 05"},{"$f":"IF(ISNUMBER(CL33),IF(CL33>MAX(TeilnNr)-1,IF(CN33=1,1,IF(MOD(CN33,2)<>0,2,1)),IF(CN33=1,1,IF(MOD(CN33,2)<>0,1,2))),\"\")","v":2},null,1,2,null,1,3,{"$f":"IF(DA33>MAX(TeilnNr)-1,CX33,CV33)","v":"Spieler 01"},"-",{"$f":"IF(DA33>MAX(TeilnNr)-1,CV33,CX33)","v":"Spieler 04"},{"$f":"IF(ISNUMBER(DA33),IF(DA33>MAX(TeilnNr)-1,IF(DC33=1,2,IF(MOD(DC33,2)<>0,2,1)),IF(DC33=1,2,IF(MOD(DC33,2)<>0,1,2))),\"\")","v":2},null,1,2,null,1]
[null,null,null,null,null,null,null,null,null,null,null,null,null,null,null,null,null,null,null,null,null,null,null,null,null,null,null,null,null,null,null,null,null,null,null,null,null,null,null,null,null,null,null,null,null,null,null,null,null,null,null,null,null,null,null,null,null,null,null,null,null,null,null,null,null,null,null,null,null,null,null,null,null,null,null,null,null,null,null,null,null,null,null,4,{"$f":"INDEX($CB$21:$CB$28,MATCH($CO34,TeilnNr,0))","v":"Spieler 03"},"-",{"$f":"INDEX($CB$21:$CB$28,MATCH($CP34,TeilnNr,0))","v":"Spieler 04"},null,null,9,{"$f":"CM33","v":2},4,3,4,{"$f":"IF(LEFT(CK34,1)=\"V\",\"\",LEFT(CK34,1))","v":""},{"$f":"IF(RIGHT(CK34,1)=\"V\",\"\",RIGHT(CK34,1))","v":""},"$K$23","$I$24",4,{"$f":"INDEX($CB$21:$CB$28,MATCH($DD34,TeilnNr,0))","v":"Spieler 02"},"-",{"$f":"INDEX($CB$21:$CB$28,MATCH($DE34,TeilnNr,0))","v":"Spieler 03"},null,null,{"$f":"DA33","v":10},3,4,2,3,{"$f":"IF(LEFT(CZ34,1)=\"V\",\"\",LEFT(CZ34,1))","v":""},{"$f":"IF(RIGHT(CZ34,1)=\"V\",\"\",RIGHT(CZ34,1))","v":""},"$I$22","$G$23",4,{"$f":"IF(CL34>MAX(TeilnNr)-1,CG34,CI34)","v":"Spieler 03"},"-",{"$f":"IF(CL34>MAX(TeilnNr)-1,CI34,CG34)","v":"Spieler 04"},{"$f":"IF(ISNUMBER(CL34),IF(CL34>MAX(TeilnNr)-1,IF(CN34=1,1,IF(MOD(CN34,2)<>0,2,1)),IF(CN34=1,1,IF(MOD(CN34,2)<>0,1,2))),\"\")","v":1},null,2,1,null,2,4,{"$f":"IF(DA34>MAX(TeilnNr)-1,CV34,CX34)","v":"Spieler 02"},"-",{"$f":"IF(DA34>MAX(TeilnNr)-1,CX34,CV34)","v":"Spieler 03"},{"$f":"IF(ISNUMBER(DA34),IF(DA34>MAX(TeilnNr)-1,IF(DC34=1,2,IF(MOD(DC34,2)<>0,2,1)),IF(DC34=1,2,IF(MOD(DC34,2)<>0,1,2))),\"\")","v":1},null,2,1,null,2]
[null,null,null,null,null,null,null,null,null,null,null,null,null,null,null,null,null,null,null,null,null,null,null,null,null,null,null,null,null,null,null,null,null,null,null,null,null,null,null,null,null,null,null,null,null,null,null,null,null,null,null,null,null,null,null,null,null,null,null,null,null,null,null,null,null,null,null,null,null,null,null,null,null,null,null,null,null,null,null,null,null,null,null,null,null,null,null,null,null,null,null,null,null,null,null,null,null,null,null,null,null,null,null,null,null,null,null,null,null,null,null,null,null,null,null,null,null,{"$f":"IF(ISNUMBER(CL35),IF(CL35>MAX(TeilnNr)-1,2,1),\"\")","v":""},null,null,{"$f":"IF(ISNUMBER(CO35),IF(CO35>MAX(TeilnNr)-1,2,1),\"\")","v":""},null,null,null,null,null,null,"",null,null,{"$f":"IF(ISNUMBER(CY35),IF(CY35>MAX(TeilnNr)-1,2,1),\"\")","v":""}]
[null,null,null,null,null,null,null,null,null,null,null,null,null,null,null,null,null,null,null,null,null,null,null,null,null,null,null,null,null,null,null,null,null,null,null,null,null,null,null,null,null,null,null,null,null,null,null,null,null,null,null,null,null,null,null,null,null,null,null,null,null,null,null,null,null,null,null,null,null,null,null,null,null,null,null,null,null,null,null,null,null,null,null,null,{"$f":"CG30+2","v":11},null,null,null,null,"N°","R","B","SpNr w","SpNr s","Res w","Res s",null,null,null,{"$f":"CV30+2","v":12},null,null,null,null,"N°","R","B","SpNr w","SpNr s","Res w","Res s",null,null,null,{"$f":"CG36","v":11},null,{"$f":"IF(CG36=MAX(TeilnNr),\"-> Bretter drehen!\",\"\")","v":""},{"$f":"IF(ISNUMBER(CL36),IF(CL36>MAX(TeilnNr)-1,2,1),\"\")","v":""},null,null,{"$f":"IF(ISNUMBER(CO36),IF(CO36>MAX(TeilnNr)-1,2,1),\"\")","v":""},null,null,null,{"$f":"CV36","v":12},null,{"$f":"IF(CV36=MAX(TeilnNr),\"-> Bretter drehen!\",\"\")","v":""},{"$f":"IF(ISNUMBER(DA36),IF(DA36>MAX(TeilnNr)-1,IF(MOD(DC36,2)<>0,2,1),IF(MOD(DC36,2)<>0,1,2)),\"\")","v":""},null,null,{"$f":"IF(ISNUMBER(CY36),IF(CY36>MAX(TeilnNr)-1,2,1),\"\")","v":""}]
[null,null,null,null,null,null,null,null,null,null,null,null,null,null,null,null,null,null,null,null,null,null,null,null,null,null,null,null,null,null,null,null,null,null,null,null,null,null,null,null,null,null,null,null,null,null,null,null,null,null,null,null,null,null,null,null,null,null,null,null,null,null,null,null,null,null,null,null,null,null,null,null,null,null,null,null,null,null,null,null,null,null,null,{"$f":"IF(OR(INDEX($CA$21:$CA$28,CO37),INDEX($CA$21:$CA$28,CP37)),0,1)","v":1},{"$f":"INDEX($CB$21:$CB$28,MATCH($CO37,TeilnNr,0))","v":"Spieler 05"},"-",{"$f":"INDEX($CB$21:$CB$28,MATCH($CP37,TeilnNr,0))","v":"Spieler 08"},null,null,{"$f":"CG36","v":11},{"$f":"IF(CG36>MAX(TeilnNr)-1,CG36-(MAX(TeilnNr)-1),CG36)","v":4},1,{"$f":"IF(AND(CN37=1,MOD(CM37,2)=IF(CL37>MAX(TeilnNr)-1,1,0)),MAX(TeilnNr),IF(MOD(CN37,2)=IF(CL37>MAX(TeilnNr)-1,1,0),IF(MAX(TeilnNr)/2-CN37+1-(CM37-MAX(TeilnNr)/2-1)>=1,MAX(TeilnNr)/2-CN37+1-(CM37-MAX(TeilnNr)/2-1),MAX(TeilnNr)/2-CN37+1-(CM37-MAX(TeilnNr)/2-1)+MAX(TeilnNr)-1),IF(CN37-(CM37-1)>=1,CN37-(CM37-1),CN37-(CM37-1)+MAX(TeilnNr)-1)))","v":5},{"$f":"IF(AND(CN37=1,MOD(CM37,2)<>IF(CL37>MAX(TeilnNr)-1,1,0)),MAX(TeilnNr),IF(MOD(CN37,2)<>IF(CL37>MAX(TeilnNr)-1,1,0),IF(MAX(TeilnNr)/2-CN37+1-(CM37-MAX(TeilnNr)/2-1)>=1,MAX(TeilnNr)/2-CN37+1-(CM37-MAX(TeilnNr)/2-1),MAX(TeilnNr)/2-CN37+1-(CM37-MAX(TeilnNr)/2-1)+MAX(TeilnNr)-1),IF(CN37-(CM37-1)>=1,CN37-(CM37-1),CN37-(CM37-1)+MAX(TeilnNr)-1)))","v":8},{"$f":"IF(LEFT(CK37,1)=\"V\",\"\",LEFT(CK37,1))","v":""},{"$f":"IF(RIGHT(CK37,1)=\"V\",\"\",RIGHT(CK37,1))","v":""},{"$f":"IF(CL37>MAX(TeilnNr)-1,ADDRESS(ROW(Teilnehmer)+CO37,COLUMN(Teilnehmer)+CP37+CP37),ADDRESS(ROW(Teilnehmer)+CO37,COLUMN(Teilnehmer)+CP37+CP37-1))","v":"$S$25"},{"$f":"IF(CL37>MAX(TeilnNr)-1,ADDRESS(ROW(Teilnehmer)+CP37,COLUMN(Teilnehmer)+CO37+CO37),ADDRESS(ROW(Teilnehmer)+CP37,COLUMN(Teilnehmer)+CO37+CO37-1))","v":"$M$28"},{"$f":"IF(OR(INDEX($CA$21:$CA$28,DD37),INDEX($CA$21:$CA$28,DE37)),0,1)","v":1},{"$f":"INDEX($CB$21:$CB$28,MATCH($DD37,TeilnNr,0))","v":"Spieler 08"},"-",{"$f":"INDEX($CB$21:$CB$28,MATCH($DE37,TeilnNr,0))","v":"Spieler 04"},null,null,{"$f":"CV36","v":12},{"$f":"IF(CV36>MAX(TeilnNr)-1,CV36-(MAX(TeilnNr)-1),CV36)","v":5},1,{"$f":"IF(AND(DC37=1,MOD(DB37,2)=IF(DA37>MAX(TeilnNr)-1,1,0)),MAX(TeilnNr),IF(MOD(DC37,2)=IF(DA37>MAX(TeilnNr)-1,1,0),IF(MAX(TeilnNr)/2-DC37+1-(DB37-MAX(TeilnNr)/2-1)>=1,MAX(TeilnNr)/2-DC37+1-(DB37-MAX(TeilnNr)/2-1),MAX(TeilnNr)/2-DC37+1-(DB37-MAX(TeilnNr)/2-1)+MAX(TeilnNr)-1),IF(DC37-(DB37-1)>=1,DC37-(DB37-1),DC37-(DB37-1)+MAX(TeilnNr)-1)))","v":8},{"$f":"IF(AND(DC37=1,MOD(DB37,2)<>IF(DA37>MAX(TeilnNr)-1,1,0)),MAX(TeilnNr),IF(MOD(DC37,2)<>IF(DA37>MAX(TeilnNr)-1,1,0),IF(MAX(TeilnNr)/2-DC37+1-(DB37-MAX(TeilnNr)/2-1)>=1,MAX(TeilnNr)/2-DC37+1-(DB37-MAX(TeilnNr)/2-1),MAX(TeilnNr)/2-DC37+1-(DB37-MAX(TeilnNr)/2-1)+MAX(TeilnNr)-1),IF(DC37-(DB37-1)>=1,DC37-(DB37-1),DC37-(DB37-1)+MAX(TeilnNr)-1)))","v":4},{"$f":"IF(LEFT(CZ37,1)=\"V\",\"\",LEFT(CZ37,1))","v":""},{"$f":"IF(RIGHT(CZ37,1)=\"V\",\"\",RIGHT(CZ37,1))","v":""},{"$f":"IF(DA37>MAX(TeilnNr)-1,ADDRESS(ROW(Teilnehmer)+DD37,COLUMN(Teilnehmer)+DE37+DE37),ADDRESS(ROW(Teilnehmer)+DD37,COLUMN(Teilnehmer)+DE37+DE37-1))","v":"$K$28"},{"$f":"IF(DA37>MAX(TeilnNr)-1,ADDRESS(ROW(Teilnehmer)+DE37,COLUMN(Teilnehmer)+DD37+DD37),ADDRESS(ROW(Teilnehmer)+DE37,COLUMN(Teilnehmer)+DD37+DD37-1))","v":"$S$24"},{"$f":"CF37","v":1},{"$f":"CG37","v":"Spieler 05"},"-",{"$f":"CI37","v":"Spieler 08"},{"$f":"IF(ISNUMBER(CL37),IF(CL37>MAX(TeilnNr)-1,IF(CN37=1,1,IF(MOD(CN37,2)<>0,2,1)),IF(CN37=1,1,IF(MOD(CN37,2)<>0,1,2))),\"\")","v":1},null,{"$f":"IF(DN37=1,2,1)","v":2},{"$f":"DN37","v":1},null,{"$f":"IF(DC37=1,DP37*10,DP37)","v":20},{"$f":"CU37","v":1},{"$f":"CX37","v":"Spieler 04"},"-",{"$f":"CV37","v":"Spieler 08"},{"$f":"IF(ISNUMBER(DA37),IF(DA37>MAX(TeilnNr)-1,IF(DC37=1,2,IF(MOD(DC37,2)<>0,2,1)),IF(DC37=1,2,IF(MOD(DC37,2)<>0,1,2))),\"\")","v":2},null,{"$f":"IF(DX37=1,2,1)","v":1},{"$f":"DX37","v":2},null,{"$f":"IF(DC37=1,DZ37*10,DZ37)","v":10}]
[null,null,null,null,null,null,null,null,null,null,null,null,null,null,null,null,null,null,null,null,null,null,null,null,null,null,null,null,null,null,null,null,null,null,null,null,null,null,null,null,null,null,null,null,null,null,null,null,null,null,null,null,null,null,null,null,null,null,null,null,null,null,null,null,null,null,null,null,null,null,null,null,null,null,null,null,null,null,null,null,null,null,null,{"$f":"CF37+1","v":2},{"$f":"INDEX($CB$21:$CB$28,MATCH($CO38,TeilnNr,0))","v":"Spieler 06"},"-",{"$f":"INDEX($CB$21:$CB$28,MATCH($CP38,TeilnNr,0))","v":"Spieler 04"},null,null,{"$f":"CL37","v":11},{"$f":"CM37","v":4},{"$f":"CN37+1","v":2},6,4,{"$f":"IF(LEFT(CK38,1)=\"V\",\"\",LEFT(CK38,1))","v":""},{"$f":"IF(RIGHT(CK38,1)=\"V\",\"\",RIGHT(CK38,1))","v":""},"$K$26","$O$24",{"$f":"CU37+1","v":2},{"$f":"INDEX($CB$21:$CB$28,MATCH($DD38,TeilnNr,0))","v":"Spieler 05"},"-",{"$f":"INDEX($CB$21:$CB$28,MATCH($DE38,TeilnNr,0))","v":"Spieler 03"},null,null,{"$f":"DA37","v":12},{"$f":"DB37","v":5},{"$f":"DC37+1","v":2},5,3,{"$f":"IF(LEFT(CZ38,1)=\"V\",\"\",LEFT(CZ38,1))","v":""},{"$f":"IF(RIGHT(CZ38,1)=\"V\",\"\",RIGHT(CZ38,1))","v":""},"$I$25","$M$23",2,{"$f":"IF(CL38>MAX(TeilnNr)-1,CG38,CI38)","v":"Spieler 06"},"-",{"$f":"IF(CL38>MAX(TeilnNr)-1,CI38,CG38)","v":"Spieler 04"},{"$f":"IF(ISNUMBER(CL38),IF(CL38>MAX(TeilnNr)-1,IF(CN38=1,1,IF(MOD(CN38,2)<>0,2,1)),IF(CN38=1,1,IF(MOD(CN38,2)<>0,1,2))),\"\")","v":1},null,2,1,null,2,2,{"$f":"IF(DA38>MAX(TeilnNr)-1,CV38,CX38)","v":"Spieler 05"},"-",{"$f":"IF(DA38>MAX(TeilnNr)-1,CX38,CV38)","v":"Spieler 03"},{"$f":"IF(ISNUMBER(DA38),IF(DA38>MAX(TeilnNr)-1,IF(DC38=1,2,IF(MOD(DC38,2)<>0,2,1)),IF(DC38=1,2,IF(MOD(DC38,2)<>0,1,2))),\"\")","v":1},null,2,1,null,2]
[null,null,null,null,null,null,null,null,null,null,null,null,null,null,null,null,null,null,null,null,null,null,null,null,null,null,null,null,null,null,null,null,null,null,null,null,null,null,null,null,null,null,null,null,null,null,null,null,null,null,null,null,null,null,null,null,null,null,null,null,null,null,null,null,null,null,null,null,null,null,null,null,null,null,null,null,null,null,null,null,null,null,null,{"$f":"CF38+1","v":3},{"$f":"INDEX($CB$21:$CB$28,MATCH($CO39,TeilnNr,0))","v":"Spieler 03"},"-",{"$f":"INDEX($CB$21:$CB$28,MATCH($CP39,TeilnNr,0))","v":"Spieler 07"},null,null,{"$f":"CL38","v":11},{"$f":"CM38","v":4},{"$f":"CN38+1","v":3},3,7,{"$f":"IF(LEFT(CK39,1)=\"V\",\"\",LEFT(CK39,1))","v":""},{"$f":"IF(RIGHT(CK39,1)=\"V\",\"\",RIGHT(CK39,1))","v":""},"$Q$23","$I$27",{"$f":"CU38+1","v":3},{"$f":"INDEX($CB$21:$CB$28,MATCH($DD39,TeilnNr,0))","v":"Spieler 02"},"-",{"$f":"INDEX($CB$21:$CB$28,MATCH($DE39,TeilnNr,0))","v":"Spieler 06"},null,null,{"$f":"DA38","v":12},{"$f":"DB38","v":5},{"$f":"DC38+1","v":3},2,6,{"$f":"IF(LEFT(CZ39,1)=\"V\",\"\",LEFT(CZ39,1))","v":""},{"$f":"IF(RIGHT(CZ39,1)=\"V\",\"\",RIGHT(CZ39,1))","v":""},"$O$22","$G$26",3,{"$f":"IF(CL39>MAX(TeilnNr)-1,CI39,CG39)","v":"Spieler 07"},"-",{"$f":"IF(CL39>MAX(TeilnNr)-1,CG39,CI39)","v":"Spieler 03"},{"$f":"IF(ISNUMBER(CL39),IF(CL39>MAX(TeilnNr)-1,IF(CN39=1,1,IF(MOD(CN39,2)<>0,2,1)),IF(CN39=1,1,IF(MOD(CN39,2)<>0,1,2))),\"\")","v":2},null,1,2,null,1,3,{"$f":"IF(DA39>MAX(TeilnNr)-1,CX39,CV39)","v":"Spieler 06"},"-",{"$f":"IF(DA39>MAX(TeilnNr)-1,CV39,CX39)","v":"Spieler 02"},{"$f":"IF(ISNUMBER(DA39),IF(DA39>MAX(TeilnNr)-1,IF(DC39=1,2,IF(MOD(DC39,2)<>0,2,1)),IF(DC39=1,2,IF(MOD(DC39,2)<>0,1,2))),\"\")","v":2},null,1,2,null,1]
[null,null,null,null,null,null,null,null,null,null,null,null,null,null,null,null,null,null,null,null,null,null,null,null,null,null,null,null,null,null,null,null,null,null,null,null,null,null,null,null,null,null,null,null,null,null,null,null,null,null,null,null,null,null,null,null,null,null,null,null,null,null,null,null,null,null,null,null,null,null,null,null,null,null,null,null,null,null,null,null,null,null,null,4,{"$f":"INDEX($CB$21:$CB$28,MATCH($CO40,TeilnNr,0))","v":"Spieler 01"},"-",{"$f":"INDEX($CB$21:$CB$28,MATCH($CP40,TeilnNr,0))","v":"Spieler 02"},null,null,11,{"$f":"CM39","v":4},4,1,2,{"$f":"IF(LEFT(CK40,1)=\"V\",\"\",LEFT(CK40,1))","v":""},{"$f":"IF(RIGHT(CK40,1)=\"V\",\"\",RIGHT(CK40,1))","v":""},"$G$21","$E$22",4,{"$f":"INDEX($CB$21:$CB$28,MATCH($DD40,TeilnNr,0))","v":"Spieler 07"},"-",{"$f":"INDEX($CB$21:$CB$28,MATCH($DE40,TeilnNr,0))","v":"Spieler 01"},null,null,12,5,4,7,1,{"$f":"IF(LEFT(CZ40,1)=\"V\",\"\",LEFT(CZ40,1))","v":""},{"$f":"IF(RIGHT(CZ40,1)=\"V\",\"\",RIGHT(CZ40,1))","v":""},"$E$27","$Q$21",4,{"$f":"IF(CL40>MAX(TeilnNr)-1,CG40,CI40)","v":"Spieler 01"},"-",{"$f":"IF(CL40>MAX(TeilnNr)-1,CI40,CG40)","v":"Spieler 02"},{"$f":"IF(ISNUMBER(CL40),IF(CL40>MAX(TeilnNr)-1,IF(CN40=1,1,IF(MOD(CN40,2)<>0,2,1)),IF(CN40=1,1,IF(MOD(CN40,2)<>0,1,2))),\"\")","v":1},null,2,1,null,2,4,{"$f":"IF(DA40>MAX(TeilnNr)-1,CV40,CX40)","v":"Spieler 07"},"-",{"$f":"IF(DA40>MAX(TeilnNr)-1,CX40,CV40)","v":"Spieler 01"},{"$f":"IF(ISNUMBER(DA40),IF(DA40>MAX(TeilnNr)-1,IF(DC40=1,2,IF(MOD(DC40,2)<>0,2,1)),IF(DC40=1,2,IF(MOD(DC40,2)<>0,1,2))),\"\")","v":1},null,2,1,null,2]
[null,null,null,null,null,null,null,null,null,null,null,null,null,null,null,null,null,null,null,null,null,null,null,null,null,null,null,null,null,null,null,null,null,null,null,null,null,null,null,null,null,null,null,null,null,null,null,null,null,null,null,null,null,null,null,null,null,null,null,null,null,null,null,null,null,null,null,null,null,null,null,null,null,null,null,null,null,null,null,null,null,null,null,null,null,null,null,null,null,null,null,null,null,null,null,null,null,null,null,null,null,null,null,null,null,null,null,null,null,null,null,null,null,null,null,null,null,{"$f":"IF(ISNUMBER(CL41),IF(CL41>MAX(TeilnNr)-1,2,1),\"\")","v":""},null,null,{"$f":"IF(ISNUMBER(CO41),IF(CO41>MAX(TeilnNr)-1,2,1),\"\")","v":""},null,null,null,null,null,null,"",null,null,{"$f":"IF(ISNUMBER(CY41),IF(CY41>MAX(TeilnNr)-1,2,1),\"\")","v":""}]
[null,null,null,null,null,null,null,null,null,null,null,null,null,null,null,null,null,null,null,null,null,null,null,null,null,null,null,null,null,null,null,null,null,null,null,null,null,null,null,null,null,null,null,null,null,null,null,null,null,null,null,null,null,null,null,null,null,null,null,null,null,null,null,null,null,null,null,null,null,null,null,null,null,null,null,null,null,null,null,null,null,null,null,null,{"$f":"CG36+2","v":13},null,null,null,null,"N°","R","B","SpNr w","SpNr s","Res w","Res s",null,null,null,{"$f":"CV36+2","v":14},null,null,null,null,"N°","R","B","SpNr w","SpNr s","Res w","Res s",null,null,null,{"$f":"CG42","v":13},null,{"$f":"IF(CG42=MAX(TeilnNr),\"-> Bretter drehen!\",\"\")","v":""},{"$f":"IF(ISNUMBER(CL42),IF(CL42>MAX(TeilnNr)-1,2,1),\"\")","v":""},null,null,{"$f":"IF(ISNUMBER(CO42),IF(CO42>MAX(TeilnNr)-1,2,1),\"\")","v":""},null,null,null,{"$f":"CV42","v":14},null,{"$f":"IF(CV42=MAX(TeilnNr),\"-> Bretter drehen!\",\"\")","v":""},{"$f":"IF(ISNUMBER(DA42),IF(DA42>MAX(TeilnNr)-1,IF(MOD(DC42,2)<>0,2,1),IF(MOD(DC42,2)<>0,1,2)),\"\")","v":""},null,null,{"$f":"IF(ISNUMBER(CY42),IF(CY42>MAX(TeilnNr)-1,2,1),\"\")","v":""}]
[null,null,null,null,null,null,null,null,null,null,null,null,null,null,null,null,null,null,null,null,null,null,null,null,null,null,null,null,null,null,null,null,null,null,null,null,null,null,null,null,null,null,null,null,null,null,null,null,null,null,null,null,null,null,null,null,null,null,null,null,null,null,null,null,null,null,null,null,null,null,null,null,null,null,null,null,null,null,null,null,null,null,null,{"$f":"IF(OR(INDEX($CA$21:$CA$28,CO43),INDEX($CA$21:$CA$28,CP43)),0,1)","v":1},{"$f":"INDEX($CB$21:$CB$28,MATCH($CO43,TeilnNr,0))","v":"Spieler 03"},"-",{"$f":"INDEX($CB$21:$CB$28,MATCH($CP43,TeilnNr,0))","v":"Spieler 08"},null,null,{"$f":"CG42","v":13},{"$f":"IF(CG42>MAX(TeilnNr)-1,CG42-(MAX(TeilnNr)-1),CG42)","v":6},1,{"$f":"IF(AND(CN43=1,MOD(CM43,2)=IF(CL43>MAX(TeilnNr)-1,1,0)),MAX(TeilnNr),IF(MOD(CN43,2)=IF(CL43>MAX(TeilnNr)-1,1,0),IF(MAX(TeilnNr)/2-CN43+1-(CM43-MAX(TeilnNr)/2-1)>=1,MAX(TeilnNr)/2-CN43+1-(CM43-MAX(TeilnNr)/2-1),MAX(TeilnNr)/2-CN43+1-(CM43-MAX(TeilnNr)/2-1)+MAX(TeilnNr)-1),IF(CN43-(CM43-1)>=1,CN43-(CM43-1),CN43-(CM43-1)+MAX(TeilnNr)-1)))","v":3},{"$f":"IF(AND(CN43=1,MOD(CM43,2)<>IF(CL43>MAX(TeilnNr)-1,1,0)),MAX(TeilnNr),IF(MOD(CN43,2)<>IF(CL43>MAX(TeilnNr)-1,1,0),IF(MAX(TeilnNr)/2-CN43+1-(CM43-MAX(TeilnNr)/2-1)>=1,MAX(TeilnNr)/2-CN43+1-(CM43-MAX(TeilnNr)/2-1),MAX(TeilnNr)/2-CN43+1-(CM43-MAX(TeilnNr)/2-1)+MAX(TeilnNr)-1),IF(CN43-(CM43-1)>=1,CN43-(CM43-1),CN43-(CM43-1)+MAX(TeilnNr)-1)))","v":8},{"$f":"IF(LEFT(CK43,1)=\"V\",\"\",LEFT(CK43,1))","v":""},{"$f":"IF(RIGHT(CK43,1)=\"V\",\"\",RIGHT(CK43,1))","v":""},{"$f":"IF(CL43>MAX(TeilnNr)-1,ADDRESS(ROW(Teilnehmer)+CO43,COLUMN(Teilnehmer)+CP43+CP43),ADDRESS(ROW(Teilnehmer)+CO43,COLUMN(Teilnehmer)+CP43+CP43-1))","v":"$S$23"},{"$f":"IF(CL43>MAX(TeilnNr)-1,ADDRESS(ROW(Teilnehmer)+CP43,COLUMN(Teilnehmer)+CO43+CO43),ADDRESS(ROW(Teilnehmer)+CP43,COLUMN(Teilnehmer)+CO43+CO43-1))","v":"$I$28"},{"$f":"IF(OR(INDEX($CA$21:$CA$28,DD43),INDEX($CA$21:$CA$28,DE43)),0,1)","v":1},{"$f":"INDEX($CB$21:$CB$28,MATCH($DD43,TeilnNr,0))","v":"Spieler 08"},"-",{"$f":"INDEX($CB$21:$CB$28,MATCH($DE43,TeilnNr,0))","v":"Spieler 02"},null,null,{"$f":"CV42","v":14},{"$f":"IF(CV42>MAX(TeilnNr)-1,CV42-(MAX(TeilnNr)-1),CV42)","v":7},1,{"$f":"IF(AND(DC43=1,MOD(DB43,2)=IF(DA43>MAX(TeilnNr)-1,1,0)),MAX(TeilnNr),IF(MOD(DC43,2)=IF(DA43>MAX(TeilnNr)-1,1,0),IF(MAX(TeilnNr)/2-DC43+1-(DB43-MAX(TeilnNr)/2-1)>=1,MAX(TeilnNr)/2-DC43+1-(DB43-MAX(TeilnNr)/2-1),MAX(TeilnNr)/2-DC43+1-(DB43-MAX(TeilnNr)/2-1)+MAX(TeilnNr)-1),IF(DC43-(DB43-1)>=1,DC43-(DB43-1),DC43-(DB43-1)+MAX(TeilnNr)-1)))","v":8},{"$f":"IF(AND(DC43=1,MOD(DB43,2)<>IF(DA43>MAX(TeilnNr)-1,1,0)),MAX(TeilnNr),IF(MOD(DC43,2)<>IF(DA43>MAX(TeilnNr)-1,1,0),IF(MAX(TeilnNr)/2-DC43+1-(DB43-MAX(TeilnNr)/2-1)>=1,MAX(TeilnNr)/2-DC43+1-(DB43-MAX(TeilnNr)/2-1),MAX(TeilnNr)/2-DC43+1-(DB43-MAX(TeilnNr)/2-1)+MAX(TeilnNr)-1),IF(DC43-(DB43-1)>=1,DC43-(DB43-1),DC43-(DB43-1)+MAX(TeilnNr)-1)))","v":2},{"$f":"IF(LEFT(CZ43,1)=\"V\",\"\",LEFT(CZ43,1))","v":""},{"$f":"IF(RIGHT(CZ43,1)=\"V\",\"\",RIGHT(CZ43,1))","v":""},{"$f":"IF(DA43>MAX(TeilnNr)-1,ADDRESS(ROW(Teilnehmer)+DD43,COLUMN(Teilnehmer)+DE43+DE43),ADDRESS(ROW(Teilnehmer)+DD43,COLUMN(Teilnehmer)+DE43+DE43-1))","v":"$G$28"},{"$f":"IF(DA43>MAX(TeilnNr)-1,ADDRESS(ROW(Teilnehmer)+DE43,COLUMN(Teilnehmer)+DD43+DD43),ADDRESS(ROW(Teilnehmer)+DE43,COLUMN(Teilnehmer)+DD43+DD43-1))","v":"$S$22"},{"$f":"CF43","v":1},{"$f":"CG43","v":"Spieler 03"},"-",{"$f":"CI43","v":"Spieler 08"},{"$f":"IF(ISNUMBER(CL43),IF(CL43>MAX(TeilnNr)-1,IF(CN43=1,1,IF(MOD(CN43,2)<>0,2,1)),IF(CN43=1,1,IF(MOD(CN43,2)<>0,1,2))),\"\")","v":1},null,{"$f":"IF(DN43=1,2,1)","v":2},{"$f":"DN43","v":1},null,{"$f":"IF(DC43=1,DP43*10,DP43)","v":20},{"$f":"CU43","v":1},{"$f":"CX43","v":"Spieler 02"},"-",{"$f":"CV43","v":"Spieler 08"},{"$f":"IF(ISNUMBER(DA43),IF(DA43>MAX(TeilnNr)-1,IF(DC43=1,2,IF(MOD(DC43,2)<>0,2,1)),IF(DC43=1,2,IF(MOD(DC43,2)<>0,1,2))),\"\")","v":2},null,{"$f":"IF(DX43=1,2,1)","v":1},{"$f":"DX43","v":2},null,{"$f":"IF(DC43=1,DZ43*10,DZ43)","v":10}]
[null,null,null,null,null,null,null,null,null,null,null,null,null,null,null,null,null,null,null,null,null,null,null,null,null,null,null,null,null,null,null,null,null,null,null,null,null,null,null,null,null,null,null,null,null,null,null,null,null,null,null,null,null,null,null,null,null,null,null,null,null,null,null,null,null,null,null,null,null,null,null,null,null,null,null,null,null,null,null,null,null,null,null,{"$f":"CF43+1","v":2},{"$f":"INDEX($CB$21:$CB$28,MATCH($CO44,TeilnNr,0))","v":"Spieler 04"},"-",{"$f":"INDEX($CB$21:$CB$28,MATCH($CP44,TeilnNr,0))","v":"Spieler 02"},null,null,{"$f":"CL43","v":13},{"$f":"CM43","v":6},{"$f":"CN43+1","v":2},4,2,{"$f":"IF(LEFT(CK44,1)=\"V\",\"\",LEFT(CK44,1))","v":""},{"$f":"IF(RIGHT(CK44,1)=\"V\",\"\",RIGHT(CK44,1))","v":""},"$G$24","$K$22",{"$f":"CU43+1","v":2},{"$f":"INDEX($CB$21:$CB$28,MATCH($DD44,TeilnNr,0))","v":"Spieler 03"},"-",{"$f":"INDEX($CB$21:$CB$28,MATCH($DE44,TeilnNr,0))","v":"Spieler 01"},null,null,{"$f":"DA43","v":14},{"$f":"DB43","v":7},{"$f":"DC43+1","v":2},3,1,{"$f":"IF(LEFT(CZ44,1)=\"V\",\"\",LEFT(CZ44,1))","v":""},{"$f":"IF(RIGHT(CZ44,1)=\"V\",\"\",RIGHT(CZ44,1))","v":""},"$E$23","$I$21",2,{"$f":"IF(CL44>MAX(TeilnNr)-1,CG44,CI44)","v":"Spieler 04"},"-",{"$f":"IF(CL44>MAX(TeilnNr)-1,CI44,CG44)","v":"Spieler 02"},{"$f":"IF(ISNUMBER(CL44),IF(CL44>MAX(TeilnNr)-1,IF(CN44=1,1,IF(MOD(CN44,2)<>0,2,1)),IF(CN44=1,1,IF(MOD(CN44,2)<>0,1,2))),\"\")","v":1},null,2,1,null,2,2,{"$f":"IF(DA44>MAX(TeilnNr)-1,CV44,CX44)","v":"Spieler 03"},"-",{"$f":"IF(DA44>MAX(TeilnNr)-1,CX44,CV44)","v":"Spieler 01"},{"$f":"IF(ISNUMBER(DA44),IF(DA44>MAX(TeilnNr)-1,IF(DC44=1,2,IF(MOD(DC44,2)<>0,2,1)),IF(DC44=1,2,IF(MOD(DC44,2)<>0,1,2))),\"\")","v":1},null,2,1,null,2]
[null,null,null,null,null,null,null,null,null,null,null,null,null,null,null,null,null,null,null,null,null,null,null,null,null,null,null,null,null,null,null,null,null,null,null,null,null,null,null,null,null,null,null,null,null,null,null,null,null,null,null,null,null,null,null,null,null,null,null,null,null,null,null,null,null,null,null,null,null,null,null,null,null,null,null,null,null,null,null,null,null,null,null,{"$f":"CF44+1","v":3},{"$f":"INDEX($CB$21:$CB$28,MATCH($CO45,TeilnNr,0))","v":"Spieler 01"},"-",{"$f":"INDEX($CB$21:$CB$28,MATCH($CP45,TeilnNr,0))","v":"Spieler 05"},null,null,{"$f":"CL44","v":13},{"$f":"CM44","v":6},{"$f":"CN44+1","v":3},1,5,{"$f":"IF(LEFT(CK45,1)=\"V\",\"\",LEFT(CK45,1))","v":""},{"$f":"IF(RIGHT(CK45,1)=\"V\",\"\",RIGHT(CK45,1))","v":""},"$M$21","$E$25",{"$f":"CU44+1","v":3},{"$f":"INDEX($CB$21:$CB$28,MATCH($DD45,TeilnNr,0))","v":"Spieler 07"},"-",{"$f":"INDEX($CB$21:$CB$28,MATCH($DE45,TeilnNr,0))","v":"Spieler 04"},null,null,{"$f":"DA44","v":14},{"$f":"DB44","v":7},{"$f":"DC44+1","v":3},7,4,{"$f":"IF(LEFT(CZ45,1)=\"V\",\"\",LEFT(CZ45,1))","v":""},{"$f":"IF(RIGHT(CZ45,1)=\"V\",\"\",RIGHT(CZ45,1))","v":""},"$K$27","$Q$24",3,{"$f":"IF(CL45>MAX(TeilnNr)-1,CI45,CG45)","v":"Spieler 05"},"-",{"$f":"IF(CL45>MAX(TeilnNr)-1,CG45,CI45)","v":"Spieler 01"},{"$f":"IF(ISNUMBER(CL45),IF(CL45>MAX(TeilnNr)-1,IF(CN45=1,1,IF(MOD(CN45,2)<>0,2,1)),IF(CN45=1,1,IF(MOD(CN45,2)<>0,1,2))),\"\")","v":2},null,1,2,null,1,3,{"$f":"IF(DA45>MAX(TeilnNr)-1,CX45,CV45)","v":"Spieler 04"},"-",{"$f":"IF(DA45>MAX(TeilnNr)-1,CV45,CX45)","v":"Spieler 07"},{"$f":"IF(ISNUMBER(DA45),IF(DA45>MAX(TeilnNr)-1,IF(DC45=1,2,IF(MOD(DC45,2)<>0,2,1)),IF(DC45=1,2,IF(MOD(DC45,2)<>0,1,2))),\"\")","v":2},null,1,2,null,1]
[null,null,null,null,null,null,null,null,null,null,null,null,null,null,null,null,null,null,null,null,null,null,null,null,null,null,null,null,null,null,null,null,null,null,null,null,null,null,null,null,null,null,null,null,null,null,null,null,null,null,null,null,null,null,null,null,null,null,null,null,null,null,null,null,null,null,null,null,null,null,null,null,null,null,null,null,null,null,null,null,null,null,null,4,{"$f":"INDEX($CB$21:$CB$28,MATCH($CO46,TeilnNr,0))","v":"Spieler 06"},"-",{"$f":"INDEX($CB$21:$CB$28,MATCH($CP46,TeilnNr,0))","v":"Spieler 07"},null,null,13,{"$f":"CM45","v":6},4,6,7,{"$f":"IF(LEFT(CK46,1)=\"V\",\"\",LEFT(CK46,1))","v":""},{"$f":"IF(RIGHT(CK46,1)=\"V\",\"\",RIGHT(CK46,1))","v":""},"$Q$26","$O$27",4,{"$f":"INDEX($CB$21:$CB$28,MATCH($DD46,TeilnNr,0))","v":"Spieler 05"},"-",{"$f":"INDEX($CB$21:$CB$28,MATCH($DE46,TeilnNr,0))","v":"Spieler 06"},null,null,14,7,4,5,6,{"$f":"IF(LEFT(CZ46,1)=\"V\",\"\",LEFT(CZ46,1))","v":""},{"$f":"IF(RIGHT(CZ46,1)=\"V\",\"\",RIGHT(CZ46,1))","v":""},"$O$25","$M$26",4,{"$f":"IF(CL46>MAX(TeilnNr)-1,CG46,CI46)","v":"Spieler 06"},"-",{"$f":"IF(CL46>MAX(TeilnNr)-1,CI46,CG46)","v":"Spieler 07"},{"$f":"IF(ISNUMBER(CL46),IF(CL46>MAX(TeilnNr)-1,IF(CN46=1,1,IF(MOD(CN46,2)<>0,2,1)),IF(CN46=1,1,IF(MOD(CN46,2)<>0,1,2))),\"\")","v":1},null,2,1,null,2,4,{"$f":"IF(DA46>MAX(TeilnNr)-1,CV46,CX46)","v":"Spieler 05"},"-",{"$f":"IF(DA46>MAX(TeilnNr)-1,CX46,CV46)","v":"Spieler 06"},{"$f":"IF(ISNUMBER(DA46),IF(DA46>MAX(TeilnNr)-1,IF(DC46=1,2,IF(MOD(DC46,2)<>0,2,1)),IF(DC46=1,2,IF(MOD(DC46,2)<>0,1,2))),\"\")","v":1},null,2,1,null,2]
[null,null,null,null,null,null,null,null,null,null,null,null,null,null,null,null,null,null,null,null,null,null,null,null,null,null,null,null,null,null,null,null,null,null,null,null,null,null,null,null,null,null,null,null,null,null,null,null,null,null,null,null,null,null,null,null,null,null,null,null,null,null,null,null,null,null,null,null,null,null,null,null,null,null,null,null,null,null,null,null,null,null,null,null,null,null,null,null,null,null,null,null,null,null,null,null,null,null,null,null,null,null,null,null,null,null,null,null,null,null,null,null,null,null,null,null,null,{"$f":"IF(ISNUMBER(CL47),IF(CL47>MAX(TeilnNr)-1,2,1),\"\")","v":""},null,null,{"$f":"IF(ISNUMBER(CO47),IF(CO47>MAX(TeilnNr)-1,2,1),\"\")","v":""},null,null,null,null,null,null,"",null,null,{"$f":"IF(ISNUMBER(CY47),IF(CY47>MAX(TeilnNr)-1,2,1),\"\")","v":""}]
[null,null,null,null,null,null,null,null,null,null,null,null,null,null,null,null,null,null,null,null,null,null,null,null,null,null,null,null,null,null,null,null,null,null,null,null,null,null,null,null,null,null,null,null,null,null,null,null,null,null,null,null,null,null,null,null,null,null,null,null,null,null,null,null,null,null,null,null,null,null,null,null,null,null,null,null,null,null,null,null,null,null,null,null,null,null,null,null,null,null,null,null,null,null,null,null,null,null,null,null,null,null,null,null,null,null,null,null,null,null,null,null,null,null,null,null,null,{"$f":"IF(ISNUMBER(CL48),IF(CL48>MAX(TeilnNr)-1,2,1),\"\")","v":""},null,null,{"$f":"IF(ISNUMBER(CO48),IF(CO48>MAX(TeilnNr)-1,2,1),\"\")","v":""},null,null,null,null,null,null,{"$f":"IF(ISNUMBER(DA48),IF(DA48>MAX(TeilnNr)-1,IF(MOD(DC48,2)<>0,2,1),IF(MOD(DC48,2)<>0,1,2)),\"\")","v":""},null,null,{"$f":"IF(ISNUMBER(CY48),IF(CY48>MAX(TeilnNr)-1,2,1),\"\")","v":""}]

{"sheet":"6DR","index":15,"n_rows":31,"n_cols":125,"rows_kept":31,"cut":false,"hidden":false,"merged":[[0,1,0,21],[1,93,1,95],[3,78,3,95],[5,3,5,4],[5,5,5,6],[5,7,5,8],[5,9,5,10],[5,11,5,12],[5,13,5,14],[17,13,17,14],[5,78,5,80],[5,93,5,95],[10,78,10,80],[10,93,10,95],[15,78,15,80],[15,93,15,95],[17,3,17,4],[17,5,17,6],[17,7,17,8],[17,9,17,10],[17,11,17,12],[20,78,20,80],[20,93,20,95],[25,78,25,80],[25,93,25,95],[16,19,16,20]]}
[null,"Turniername",null,null,null,null,null,null,null,null,null,null,null,null,null,null,null,null,null,null,null,null,null,null,null,null,null,null,null,null,null,null,null,1,"1) Punkte 2) So-Be 3) Manuelle Feinwertung ",null,null,null,null,null,null,null,null,null,null,null,null,null,null,null,null,null,null,null,null,null,null,null,null,"Wiederholung Kriterien:",null,null,null,null,null,null,null,null,null,null,null,null,null,null,null,null,{"$f":"\"Paarungsliste und Resultate \"&IF(Turnier=\"\",\"\",Turnier)","v":"Paarungsliste und Resultate Turniername"},null,null,null,null,null,null,null,null,null,null,null,null,null,null,null,null,null,null,null,null,null,null,null,null,null,null,null,null,null,"Paarungsliste Darstellung Rutschsystem",null,null,null,null,null,null,null,null,null,null,{"$f":"IF(Datum=\"\",\"\",\"Datum:\")","v":""}]
[null,null,null,null,null,null,null,null,null,null,null,null,null,null,null,null,null,null,null,null,null,null,null,null,null,null,null,null,null,null,"a","b","P",2,"1) Punkte 2) So-Be 3) direkte Begegnung 4) Manuelle Feinwertung ",null,null,null,null,null,null,null,null,null,null,null,null,null,null,null,null,null,null,null,null,null,null,null,1,{"$f":"AI1","v":"1) Punkte 2) So-Be 3) Manuelle Feinwertung "},null,null,null,null,null,null,null,null,null,null,null,null,null,null,null,null,{"$f":"IF(Turnier=\"\",\"\",\"Turniername:\")","v":"Turniername:"},null,{"$f":"IF(Turnier=\"\",\"\",Turnier)","v":"Turniername"},null,null,null,null,null,null,null,null,null,null,null,null,null,"Datum:",null,null,null,null,null,null,null,null,null,null,null,null,null,{"$f":"IF(Turnier=\"\",\"\",\"Turniername:\")","v":"Turniername:"},null,{"$f":"IF(Turnier=\"\",\"\",Turnier)&IF(Datum=\"\",\"\",\", \"&TEXT(Datum,\"TT.MM.JJJJ\"))","v":"Turniername"}]
[null,null,null,null,null,null,null,null,null,null,null,null,null,null,null,null,null,null,null,null,null,null,null,null,null,null,null,null,null,null,"1","0",1,3,"1) Punkte 2) Anz. Partien 3) So-Be 4) Manuelle Feinwertung "]
[null,"Rangliste",null,null,null,null,null,null,null,null,null,null,null,null,null,null,null,null,null,null,null,null,null,null,null,null,null,null,null,null,"0","1",0,4,"1) Punkte 2) Anz. Partien 3) So-Be 4) direkte Begegnung 5) Manuelle Feinwertung ",null,null,null,null,null,null,null,null,null,null,null,null,null,null,null,null,null,null,null,null,null,null,null,2,{"$f":"AI2","v":"1) Punkte 2) So-Be 3) direkte Begegnung 4) Manuelle Feinwertung "},null,null,null,null,null,null,null,null,null,null,null,null,null,null,null,null,"Turnierleitung:",null,null,null,null,null,null,null,null,null,null,null,null,null,null,null,null,null,null,null,null,null,null,null,null,null,null,null,null,null,{"$f":"IF(Turnierleitung=\"\",\"\",\"Turnierleitung:\")","v":""},null,{"$f":"IF(Turnierleitung=\"\",\"\",Turnierleitung)","v":""}]
[null,null,null,null,null,null,null,null,null,null,null,null,null,null,null,null,null,null,null,null,null,null,null,null,null,null,null,null,null,null,"½","½",0.5,5,"1) Punkte 2) Anz. Partien 3) So-Be 4) direkte Begegnung 5) Anz.Schwarzpartien 6) Manuelle Feinwertung ",null,null,null,null,null,null,null,null,null,null,null,null,null,null,null,null,null,null,null,null,null,null,null,3,"1) Punkte 2) Anz. Partien 3) So-Be 4) Manuelle Feinwertung "]
[null,"Rang","Teilnehmer",1,null,2,null,3,null,4,null,5,null,6,null,"Punkte","Spiele","So-Be",{"$f":"IF(S18=\"\",\"FWm\",S18)","v":"FWx"},1,"½",0,"Nr",null,null,null,null,null,null,null,"+","-",1,6,"1) Punkte 2) Anz. Partien 3) So-Be 4) Anz.Schwarzpartien 5) direkte Begegnung 6) Manuelle Feinwertung ",null,null,null,null,null,null,null,null,null,null,null,null,null,null,null,null,null,null,null,null,null,null,null,4,"1) Punkte 2) Anz. Partien 3) So-Be 4) direkte Begegnung 5) Manuelle Feinwertung ",null,null,null,null,null,null,null,null,null,null,null,null,null,null,null,null,1,null,null,null,null,"N°","R","B","SpNr w","SpNr s","Res w","Res s","AdrTTw","AdrTTs",null,{"$f":"BY6+1","v":2},null,null,null,null,"N°","R","B","SpNr w","SpNr s","Res w","Res s","AdrTTw","AdrTTs",null,{"$f":"BY6","v":1},null,{"$f":"IF(BY6=MAX(TeilnNr),\"-> Bretter drehen!\",\"\")","v":""},null,null,null,null,null,null,null,{"$f":"CN6","v":2},null,{"$f":"IF(CN6=MAX(TeilnNr),\"-> Bretter drehen!\",\"\")","v":""}]
[null,{"$f":"IF(INDEX($BS$19:$BS$24,MATCH(B19,$BW$19:$BW$24,0)),\"-\",IF(INDEX($BR$19:$BR$24,MATCH(B19,$BW$19:$BW$24,0))<ROW()-ROW($B$6),\"\",INDEX($BR$19:$BR$24,MATCH(B19,$BW$19:$BW$24,0))))","v":1},{"$f":"IF(INDEX($C$19:$C$24,MATCH(B19,$BW$19:$BW$24,0))=0,\"Spieler \"&TEXT(W7,\"00\"),INDEX($C$19:$C$24,MATCH(B19,$BW$19:$BW$24,0)))","v":"Spieler 01"},{"$f":"IF(INDEX($B$18:$O$24,MATCH($W7,$B$18:$B$24,0),MATCH(INDEX($B$19:$B$24,MATCH(OFFSET($W$6,D$6,0),$B$19:$B$24,0)),$B$18:$O$18,0))=\"\",\"\",INDEX($B$18:$O$24,MATCH($W7,$B$18:$B$24,0),MATCH(INDEX($B$19:$B$24,MATCH(OFFSET($W$6,D$6,0),$B$19:$B$24,0)),$B$18:$O$18,0)))","v":""},{"$f":"IF(INDEX($B$18:$O$24,MATCH($W7,$B$18:$B$24,0),MATCH(INDEX($B$19:$B$24,MATCH(OFFSET($W$6,D$6,0),$B$19:$B$24,0)),$B$18:$O$18,0)+1)=\"\",\"\",INDEX($B$18:$O$24,MATCH($W7,$B$18:$B$24,0),MATCH(INDEX($B$19:$B$24,MATCH(OFFSET($W$6,D$6,0),$B$19:$B$24,0)),$B$18:$O$18,0)+1))","v":""},{"$f":"IF(INDEX($B$18:$O$24,MATCH($W7,$B$18:$B$24,0),MATCH(INDEX($B$19:$B$24,MATCH(OFFSET($W$6,F$6,0),$B$19:$B$24,0)),$B$18:$O$18,0))=\"\",\"\",INDEX($B$18:$O$24,MATCH($W7,$B$18:$B$24,0),MATCH(INDEX($B$19:$B$24,MATCH(OFFSET($W$6,F$6,0),$B$19:$B$24,0)),$B$18:$O$18,0)))","v":""},{"$f":"IF(INDEX($B$18:$O$24,MATCH($W7,$B$18:$B$24,0),MATCH(INDEX($B$19:$B$24,MATCH(OFFSET($W$6,F$6,0),$B$19:$B$24,0)),$B$18:$O$18,0)+1)=\"\",\"\",INDEX($B$18:$O$24,MATCH($W7,$B$18:$B$24,0),MATCH(INDEX($B$19:$B$24,MATCH(OFFSET($W$6,F$6,0),$B$19:$B$24,0)),$B$18:$O$18,0)+1))","v":""},{"$f":"IF(INDEX($B$18:$O$24,MATCH($W7,$B$18:$B$24,0),MATCH(INDEX($B$19:$B$24,MATCH(OFFSET($W$6,H$6,0),$B$19:$B$24,0)),$B$18:$O$18,0))=\"\",\"\",INDEX($B$18:$O$24,MATCH($W7,$B$18:$B$24,0),MATCH(INDEX($B$19:$B$24,MATCH(OFFSET($W$6,H$6,0),$B$19:$B$24,0)),$B$18:$O$18,0)))","v":""},{"$f":"IF(INDEX($B$18:$O$24,MATCH($W7,$B$18:$B$24,0),MATCH(INDEX($B$19:$B$24,MATCH(OFFSET($W$6,H$6,0),$B$19:$B$24,0)),$B$18:$O$18,0)+1)=\"\",\"\",INDEX($B$18:$O$24,MATCH($W7,$B$18:$B$24,0),MATCH(INDEX($B$19:$B$24,MATCH(OFFSET($W$6,H$6,0),$B$19:$B$24,0)),$B$18:$O$18,0)+1))","v":""},{"$f":"IF(INDEX($B$18:$O$24,MATCH($W7,$B$18:$B$24,0),MATCH(INDEX($B$19:$B$24,MATCH(OFFSET($W$6,J$6,0),$B$19:$B$24,0)),$B$18:$O$18,0))=\"\",\"\",INDEX($B$18:$O$24,MATCH($W7,$B$18:$B$24,0),MATCH(INDEX($B$19:$B$24,MATCH(OFFSET($W$6,J$6,0),$B$19:$B$24,0)),$B$18:$O$18,0)))","v":""},{"$f":"IF(INDEX($B$18:$O$24,MATCH($W7,$B$18:$B$24,0),MATCH(INDEX($B$19:$B$24,MATCH(OFFSET($W$6,J$6,0),$B$19:$B$24,0)),$B$18:$O$18,0)+1)=\"\",\"\",INDEX($B$18:$O$24,MATCH($W7,$B$18:$B$24,0),MATCH(INDEX($B$19:$B$24,MATCH(OFFSET($W$6,J$6,0),$B$19:$B$24,0)),$B$18:$O$18,0)+1))","v":""},{"$f":"IF(INDEX($B$18:$O$24,MATCH($W7,$B$18:$B$24,0),MATCH(INDEX($B$19:$B$24,MATCH(OFFSET($W$6,L$6,0),$B$19:$B$24,0)),$B$18:$O$18,0))=\"\",\"\",INDEX($B$18:$O$24,MATCH($W7,$B$18:$B$24,0),MATCH(INDEX($B$19:$B$24,MATCH(OFFSET($W$6,L$6,0),$B$19:$B$24,0)),$B$18:$O$18,0)))","v":""},{"$f":"IF(INDEX($B$18:$O$24,MATCH($W7,$B$18:$B$24,0),MATCH(INDEX($B$19:$B$24,MATCH(OFFSET($W$6,L$6,0),$B$19:$B$24,0)),$B$18:$O$18,0)+1)=\"\",\"\",INDEX($B$18:$O$24,MATCH($W7,$B$18:$B$24,0),MATCH(INDEX($B$19:$B$24,MATCH(OFFSET($W$6,L$6,0),$B$19:$B$24,0)),$B$18:$O$18,0)+1))","v":""},{"$f":"IF(INDEX($B$18:$O$24,MATCH($W7,$B$18:$B$24,0),MATCH(INDEX($B$19:$B$24,MATCH(OFFSET($W$6,N$6,0),$B$19:$B$24,0)),$B$18:$O$18,0))=\"\",\"\",INDEX($B$18:$O$24,MATCH($W7,$B$18:$B$24,0),MATCH(INDEX($B$19:$B$24,MATCH(OFFSET($W$6,N$6,0),$B$19:$B$24,0)),$B$18:$O$18,0)))","v":""},{"$f":"IF(INDEX($B$18:$O$24,MATCH($W7,$B$18:$B$24,0),MATCH(INDEX($B$19:$B$24,MATCH(OFFSET($W$6,N$6,0),$B$19:$B$24,0)),$B$18:$O$18,0)+1)=\"\",\"\",INDEX($B$18:$O$24,MATCH($W7,$B$18:$B$24,0),MATCH(INDEX($B$19:$B$24,MATCH(OFFSET($W$6,N$6,0),$B$19:$B$24,0)),$B$18:$O$18,0)+1))","v":""},{"$f":"INDEX($AD$19:$AD$24,MATCH(W7,$B$19:$B$24,0))","v":0},{"$f":"INDEX($Q$19:$Q$24,MATCH(W7,$B$19:$B$24,0))","v":0},{"$f":"INDEX($R$19:$R$24,MATCH(W7,$B$19:$B$24,0))","v":0},{"$f":"INDEX($S$19:$S$24,MATCH(W7,$B$19:$B$24,0))","v":0},{"$f":"COUNTIF($D7:$O7,1)+COUNTIF($D7:$O7,\"+\")","v":0},{"$f":"COUNTIF($D7:$O7,\"½\")","v":0},{"$f":"COUNTIF($D7:$O7,0)+COUNTIF($D7:$O7,\"-\")","v":0},{"$f":"INDEX($B$19:$B$24,MATCH(B19,$BW$19:$BW$24,0))","v":1},null,null,null,null,null,null,null,"-","+",0,7,"1) Punkte 2) Anz. Partien 3) direkte Begegnung 4) So-Be 5) Anz.Schwarzpartien 6) Manuelle Feinwertung ",null,null,null,null,null,null,null,null,null,null,null,null,null,null,null,null,null,null,null,null,null,null,null,5,"1) Punkte 2) Anz. Partien 3) So-Be 4) direkte Begegnung 5) Anz.Schwarzpartien 6) Manuelle Feinwertung ",null,null,null,null,null,null,null,null,null,null,null,null,null,null,null,{"$f":"IF(OR(INDEX($BS$19:$BS$24,CG7),INDEX($BS$19:$BS$24,CH7)),0,1)","v":1},{"$f":"INDEX($BT$19:$BT$24,MATCH($CG7,TeilnNr,0))","v":"Spieler 01"},"-",{"$f":"INDEX($BT$19:$BT$24,MATCH($CH7,TeilnNr,0))","v":"Spieler 06"},null,null,{"$f":"BY6","v":1},{"$f":"IF(BY6>MAX(TeilnNr)-1,BY6-(MAX(TeilnNr)-1),BY6)","v":1},1,{"$f":"IF(AND(CF7=1,MOD(CE7,2)=IF(CD7>MAX(TeilnNr)-1,1,0)),MAX(TeilnNr),IF(MOD(CF7,2)=IF(CD7>MAX(TeilnNr)-1,1,0),IF(MAX(TeilnNr)/2-CF7+1-(CE7-MAX(TeilnNr)/2-1)>=1,MAX(TeilnNr)/2-CF7+1-(CE7-MAX(TeilnNr)/2-1),MAX(TeilnNr)/2-CF7+1-(CE7-MAX(TeilnNr)/2-1)+MAX(TeilnNr)-1),IF(CF7-(CE7-1)>=1,CF7-(CE7-1),CF7-(CE7-1)+MAX(TeilnNr)-1)))","v":1},{"$f":"IF(AND(CF7=1,MOD(CE7,2)<>IF(CD7>MAX(TeilnNr)-1,1,0)),MAX(TeilnNr),IF(MOD(CF7,2)<>IF(CD7>MAX(TeilnNr)-1,1,0),IF(MAX(TeilnNr)/2-CF7+1-(CE7-MAX(TeilnNr)/2-1)>=1,MAX(TeilnNr)/2-CF7+1-(CE7-MAX(TeilnNr)/2-1),MAX(TeilnNr)/2-CF7+1-(CE7-MAX(TeilnNr)/2-1)+MAX(TeilnNr)-1),IF(CF7-(CE7-1)>=1,CF7-(CE7-1),CF7-(CE7-1)+MAX(TeilnNr)-1)))","v":6},{"$f":"IF(LEFT(CC7,1)=\"V\",\"\",LEFT(CC7,1))","v":""},{"$f":"IF(RIGHT(CC7,1)=\"V\",\"\",RIGHT(CC7,1))","v":""},{"$f":"IF(CD7>MAX(TeilnNr)-1,ADDRESS(ROW(Teilnehmer)+CG7,COLUMN(Teilnehmer)+CH7+CH7),ADDRESS(ROW(Teilnehmer)+CG7,COLUMN(Teilnehmer)+CH7+CH7-1))","v":"$N$19"},{"$f":"IF(CD7>MAX(TeilnNr)-1,ADDRESS(ROW(Teilnehmer)+CH7,COLUMN(Teilnehmer)+CG7+CG7),ADDRESS(ROW(Teilnehmer)+CH7,COLUMN(Teilnehmer)+CG7+CG7-1))","v":"$D$24"},{"$f":"IF(OR(INDEX($BS$19:$BS$24,CV7),INDEX($BS$19:$BS$24,CW7)),0,1)","v":1},{"$f":"INDEX($BT$19:$BT$24,MATCH($CV7,TeilnNr,0))","v":"Spieler 06"},"-",{"$f":"INDEX($BT$19:$BT$24,MATCH($CW7,TeilnNr,0))","v":"Spieler 05"},null,null,{"$f":"CN6","v":2},{"$f":"IF(CN6>MAX(TeilnNr)-1,CN6-(MAX(TeilnNr)-1),CN6)","v":2},1,{"$f":"IF(AND(CU7=1,MOD(CT7,2)=IF(CS7>MAX(TeilnNr)-1,1,0)),MAX(TeilnNr),IF(MOD(CU7,2)=IF(CS7>MAX(TeilnNr)-1,1,0),IF(MAX(TeilnNr)/2-CU7+1-(CT7-MAX(TeilnNr)/2-1)>=1,MAX(TeilnNr)/2-CU7+1-(CT7-MAX(TeilnNr)/2-1),MAX(TeilnNr)/2-CU7+1-(CT7-MAX(TeilnNr)/2-1)+MAX(TeilnNr)-1),IF(CU7-(CT7-1)>=1,CU7-(CT7-1),CU7-(CT7-1)+MAX(TeilnNr)-1)))","v":6},{"$f":"IF(AND(CU7=1,MOD(CT7,2)<>IF(CS7>MAX(TeilnNr)-1,1,0)),MAX(TeilnNr),IF(MOD(CU7,2)<>IF(CS7>MAX(TeilnNr)-1,1,0),IF(MAX(TeilnNr)/2-CU7+1-(CT7-MAX(TeilnNr)/2-1)>=1,MAX(TeilnNr)/2-CU7+1-(CT7-MAX(TeilnNr)/2-1),MAX(TeilnNr)/2-CU7+1-(CT7-MAX(TeilnNr)/2-1)+MAX(TeilnNr)-1),IF(CU7-(CT7-1)>=1,CU7-(CT7-1),CU7-(CT7-1)+MAX(TeilnNr)-1)))","v":5},{"$f":"IF(LEFT(CR7,1)=\"V\",\"\",LEFT(CR7,1))","v":""},{"$f":"IF(RIGHT(CR7,1)=\"V\",\"\",RIGHT(CR7,1))","v":""},{"$f":"IF(CS7>MAX(TeilnNr)-1,ADDRESS(ROW(Teilnehmer)+CV7,COLUMN(Teilnehmer)+CW7+CW7),ADDRESS(ROW(Teilnehmer)+CV7,COLUMN(Teilnehmer)+CW7+CW7-1))","v":"$L$24"},{"$f":"IF(CS7>MAX(TeilnNr)-1,ADDRESS(ROW(Teilnehmer)+CW7,COLUMN(Teilnehmer)+CV7+CV7),ADDRESS(ROW(Teilnehmer)+CW7,COLUMN(Teilnehmer)+CV7+CV7-1))","v":"$N$23"},{"$f":"BX7","v":1},{"$f":"BY7","v":"Spieler 01"},"-",{"$f":"CA7","v":"Spieler 06"},{"$f":"IF(ISNUMBER(CD7),IF(CD7>MAX(TeilnNr)-1,IF(CF7=1,1,IF(MOD(CF7,2)<>0,2,1)),IF(CF7=1,1,IF(MOD(CF7,2)<>0,1,2))),\"\")","v":1},null,{"$f":"IF(DF7=1,2,1)","v":2},{"$f":"DF7","v":1},null,{"$f":"IF(CU7=1,DH7*10,DH7)","v":20},{"$f":"CM7","v":1},{"$f":"CP7","v":"Spieler 05"},"-",{"$f":"CN7","v":"Spieler 06"},{"$f":"IF(ISNUMBER(CS7),IF(CS7>MAX(TeilnNr)-1,IF(CU7=1,2,IF(MOD(CU7,2)<>0,2,1)),IF(CU7=1,2,IF(MOD(CU7,2)<>0,1,2))),\"\")","v":2},null,{"$f":"IF(DP7=1,2,1)","v":1},{"$f":"DP7","v":2},null,{"$f":"IF(CU7=1,DR7*10,DR7)","v":10}]
[null,"","Spieler 02","","","","","","","","","","","","",0,0,0,0,0,0,0,2,null,null,null,null,null,null,null,null,null,null,8,"1) Punkte 2) Anz. Partien 3) direkte Begegnung 4) Anz.Schwarzpartien 5) So-Be 6) Manuelle Feinwertung ",null,null,null,null,null,null,null,null,null,null,null,null,null,null,null,null,null,null,null,null,null,null,null,6,"1) Punkte 2) Anz. Partien 3) So-Be 4) Anz.Schwarzpartien 5) direkte Begegnung 6) Manuelle Feinwertung ",null,null,null,null,null,null,null,null,null,null,null,null,null,null,null,{"$f":"BX7+1","v":2},{"$f":"INDEX($BT$19:$BT$24,MATCH($CG8,TeilnNr,0))","v":"Spieler 05"},"-",{"$f":"INDEX($BT$19:$BT$24,MATCH($CH8,TeilnNr,0))","v":"Spieler 02"},null,null,{"$f":"CD7","v":1},{"$f":"CE7","v":1},{"$f":"CF7+1","v":2},5,2,{"$f":"IF(LEFT(CC8,1)=\"V\",\"\",LEFT(CC8,1))","v":""},{"$f":"IF(RIGHT(CC8,1)=\"V\",\"\",RIGHT(CC8,1))","v":""},"$F$23","$L$20",{"$f":"CM7+1","v":2},{"$f":"INDEX($BT$19:$BT$24,MATCH($CV8,TeilnNr,0))","v":"Spieler 04"},"-",{"$f":"INDEX($BT$19:$BT$24,MATCH($CW8,TeilnNr,0))","v":"Spieler 01"},null,null,{"$f":"CS7","v":2},{"$f":"CT7","v":2},{"$f":"CU7+1","v":2},4,1,{"$f":"IF(LEFT(CR8,1)=\"V\",\"\",LEFT(CR8,1))","v":""},{"$f":"IF(RIGHT(CR8,1)=\"V\",\"\",RIGHT(CR8,1))","v":""},"$D$22","$J$19",2,{"$f":"IF(CD8>MAX(TeilnNr)-1,BY8,CA8)","v":"Spieler 02"},"-",{"$f":"IF(CD8>MAX(TeilnNr)-1,CA8,BY8)","v":"Spieler 05"},{"$f":"IF(ISNUMBER(CD8),IF(CD8>MAX(TeilnNr)-1,IF(CF8=1,1,IF(MOD(CF8,2)<>0,2,1)),IF(CF8=1,1,IF(MOD(CF8,2)<>0,1,2))),\"\")","v":2},null,{"$f":"IF(DF8=1,2,1)","v":1},{"$f":"DF8","v":2},null,{"$f":"IF(CU8=1,DH8*10,DH8)","v":1},2,{"$f":"IF(CS8>MAX(TeilnNr)-1,CN8,CP8)","v":"Spieler 01"},"-",{"$f":"IF(CS8>MAX(TeilnNr)-1,CP8,CN8)","v":"Spieler 04"},{"$f":"IF(ISNUMBER(CS8),IF(CS8>MAX(TeilnNr)-1,IF(CU8=1,2,IF(MOD(CU8,2)<>0,2,1)),IF(CU8=1,2,IF(MOD(CU8,2)<>0,1,2))),\"\")","v":2},null,{"$f":"IF(DP8=1,2,1)","v":1},{"$f":"DP8","v":2},null,{"$f":"IF(CU8=1,DR8*10,DR8)","v":1}]
[null,"","Spieler 03","","","","","","","","","","","","",0,0,0,0,0,0,0,3,null,null,null,null,null,null,null,null,null,null,9,"1) Punkte 2) Anz. Partien 3) Anz.Schwarzpartien 4) So-Be 5) direkte Begegnung 6) Manuelle Feinwertung ",null,null,null,null,null,null,null,null,null,null,null,null,null,null,null,null,null,null,null,null,null,null,null,7,"1) Punkte 2) Anz. Partien 3) direkte Begegnung 4) So-Be 5) Anz.Schwarzpartien 6) Manuelle Feinwertung ",null,null,null,null,null,null,null,null,null,null,null,null,null,null,null,{"$f":"BX8+1","v":3},{"$f":"INDEX($BT$19:$BT$24,MATCH($CG9,TeilnNr,0))","v":"Spieler 03"},"-",{"$f":"INDEX($BT$19:$BT$24,MATCH($CH9,TeilnNr,0))","v":"Spieler 04"},null,null,{"$f":"CD8","v":1},{"$f":"CE8","v":1},{"$f":"CF8+1","v":3},3,4,{"$f":"IF(LEFT(CC9,1)=\"V\",\"\",LEFT(CC9,1))","v":""},{"$f":"IF(RIGHT(CC9,1)=\"V\",\"\",RIGHT(CC9,1))","v":""},"$J$21","$H$22",{"$f":"CM8+1","v":3},{"$f":"INDEX($BT$19:$BT$24,MATCH($CV9,TeilnNr,0))","v":"Spieler 02"},"-",{"$f":"INDEX($BT$19:$BT$24,MATCH($CW9,TeilnNr,0))","v":"Spieler 03"},null,null,{"$f":"CS8","v":2},{"$f":"CT8","v":2},{"$f":"CU8+1","v":3},2,3,{"$f":"IF(LEFT(CR9,1)=\"V\",\"\",LEFT(CR9,1))","v":""},{"$f":"IF(RIGHT(CR9,1)=\"V\",\"\",RIGHT(CR9,1))","v":""},"$H$20","$F$21",3,{"$f":"IF(CD9>MAX(TeilnNr)-1,CA9,BY9)","v":"Spieler 03"},"-",{"$f":"IF(CD9>MAX(TeilnNr)-1,BY9,CA9)","v":"Spieler 04"},{"$f":"IF(ISNUMBER(CD9),IF(CD9>MAX(TeilnNr)-1,IF(CF9=1,1,IF(MOD(CF9,2)<>0,2,1)),IF(CF9=1,1,IF(MOD(CF9,2)<>0,1,2))),\"\")","v":1},null,2,1,null,2,3,{"$f":"IF(CS9>MAX(TeilnNr)-1,CP9,CN9)","v":"Spieler 02"},"-",{"$f":"IF(CS9>MAX(TeilnNr)-1,CN9,CP9)","v":"Spieler 03"},{"$f":"IF(ISNUMBER(CS9),IF(CS9>MAX(TeilnNr)-1,IF(CU9=1,2,IF(MOD(CU9,2)<>0,2,1)),IF(CU9=1,2,IF(MOD(CU9,2)<>0,1,2))),\"\")","v":1},null,2,1,null,2]
[null,"","Spieler 04","","","","","","","","","","","","",0,0,0,0,0,0,0,4,null,null,null,null,null,null,null,null,null,4,10,"1) Punkte 2) Anz. Partien 3) Anz.Schwarzpartien 4) direkte Begegnung 5) So-Be 6) Manuelle Feinwertung ",null,null,null,null,null,null,null,null,null,null,null,null,null,null,null,null,null,null,null,null,null,null,null,8,"1) Punkte 2) Anz. Partien 3) direkte Begegnung 4) Anz.Schwarzpartien 5) So-Be 6) Manuelle Feinwertung ",null,null,null,null,null,null,null,null,null,null,null,null,null,null,null,null,null,null,null,null,null,null,null,null,null,null,null,null,null,null,null,null,null,null,null,null,null,null,null,null,null,null,null,null,null,null,null,null,null,{"$f":"IF(ISNUMBER(CD10),IF(CD10>MAX(TeilnNr)-1,2,1),\"\")","v":""},null,null,{"$f":"IF(ISNUMBER(CG10),IF(CG10>MAX(TeilnNr)-1,2,1),\"\")","v":""},null,null,null,null,null,null,{"$f":"IF(ISNUMBER(CS10),IF(CS10>MAX(TeilnNr)-1,IF(CU10=1,1,IF(MOD(CU10,2)<>0,2,1)),IF(CU10=1,2,IF(MOD(CU10,2)<>0,1,2))),\"\")","v":""},null,null,{"$f":"IF(ISNUMBER(CQ10),IF(CQ10>MAX(TeilnNr)-1,2,1),\"\")","v":""}]
[null,"","Spieler 05","","","","","","","","","","","","",0,0,0,0,0,0,0,5,null,null,null,null,null,null,null,null,null,null,null,null,null,null,null,null,null,null,null,null,null,null,null,null,null,null,null,null,null,null,null,null,null,null,null,9,"1) Punkte 2) Anz. Partien 3) Anz.Schwarzpartien 4) So-Be 5) direkte Begegnung 6) Manuelle Feinwertung ",null,null,null,null,null,null,null,null,null,null,null,null,null,null,null,null,{"$f":"BY6+2","v":3},null,null,null,null,"N°","R","B","SpNr w","SpNr s","Res w","Res s",null,null,null,{"$f":"CN6+2","v":4},null,null,null,null,"N°","R","B","SpNr w","SpNr s","Res w","Res s",null,null,null,{"$f":"BY11","v":3},null,{"$f":"IF(BY11=MAX(TeilnNr),\"-> Bretter drehen!\",\"\")","v":""},{"$f":"IF(ISNUMBER(CD11),IF(CD11>MAX(TeilnNr)-1,2,1),\"\")","v":""},null,null,{"$f":"IF(ISNUMBER(CG11),IF(CG11>MAX(TeilnNr)-1,2,1),\"\")","v":""},null,null,null,{"$f":"CN11","v":4},null,{"$f":"IF(CN11=MAX(TeilnNr),\"-> Bretter drehen!\",\"\")","v":""},{"$f":"IF(ISNUMBER(CS11),IF(CS11>MAX(TeilnNr)-1,IF(MOD(CU11,2)<>0,2,1),IF(MOD(CU11,2)<>0,1,2)),\"\")","v":""},null,null,{"$f":"IF(ISNUMBER(CQ11),IF(CQ11>MAX(TeilnNr)-1,2,1),\"\")","v":""}]
[null,"","Spieler 06","","","","","","","","","","","","",0,0,0,0,0,0,0,6,null,null,null,null,null,null,null,null,null,null,null,null,null,null,null,null,null,null,null,null,null,null,null,null,null,null,null,null,null,null,null,null,null,null,null,10,"1) Punkte 2) Anz. Partien 3) Anz.Schwarzpartien 4) direkte Begegnung 5) So-Be 6) Manuelle Feinwertung ",null,null,null,null,null,null,null,null,null,null,null,null,null,null,null,{"$f":"IF(OR(INDEX($BS$19:$BS$24,CG12),INDEX($BS$19:$BS$24,CH12)),0,1)","v":1},{"$f":"INDEX($BT$19:$BT$24,MATCH($CG12,TeilnNr,0))","v":"Spieler 04"},"-",{"$f":"INDEX($BT$19:$BT$24,MATCH($CH12,TeilnNr,0))","v":"Spieler 06"},null,null,{"$f":"BY11","v":3},{"$f":"IF(BY11>MAX(TeilnNr)-1,BY11-(MAX(TeilnNr)-1),BY11)","v":3},1,{"$f":"IF(AND(CF12=1,MOD(CE12,2)=IF(CD12>MAX(TeilnNr)-1,1,0)),MAX(TeilnNr),IF(MOD(CF12,2)=IF(CD12>MAX(TeilnNr)-1,1,0),IF(MAX(TeilnNr)/2-CF12+1-(CE12-MAX(TeilnNr)/2-1)>=1,MAX(TeilnNr)/2-CF12+1-(CE12-MAX(TeilnNr)/2-1),MAX(TeilnNr)/2-CF12+1-(CE12-MAX(TeilnNr)/2-1)+MAX(TeilnNr)-1),IF(CF12-(CE12-1)>=1,CF12-(CE12-1),CF12-(CE12-1)+MAX(TeilnNr)-1)))","v":4},{"$f":"IF(AND(CF12=1,MOD(CE12,2)<>IF(CD12>MAX(TeilnNr)-1,1,0)),MAX(TeilnNr),IF(MOD(CF12,2)<>IF(CD12>MAX(TeilnNr)-1,1,0),IF(MAX(TeilnNr)/2-CF12+1-(CE12-MAX(TeilnNr)/2-1)>=1,MAX(TeilnNr)/2-CF12+1-(CE12-MAX(TeilnNr)/2-1),MAX(TeilnNr)/2-CF12+1-(CE12-MAX(TeilnNr)/2-1)+MAX(TeilnNr)-1),IF(CF12-(CE12-1)>=1,CF12-(CE12-1),CF12-(CE12-1)+MAX(TeilnNr)-1)))","v":6},{"$f":"IF(LEFT(CC12,1)=\"V\",\"\",LEFT(CC12,1))","v":""},{"$f":"IF(RIGHT(CC12,1)=\"V\",\"\",RIGHT(CC12,1))","v":""},{"$f":"IF(CD12>MAX(TeilnNr)-1,ADDRESS(ROW(Teilnehmer)+CG12,COLUMN(Teilnehmer)+CH12+CH12),ADDRESS(ROW(Teilnehmer)+CG12,COLUMN(Teilnehmer)+CH12+CH12-1))","v":"$N$22"},{"$f":"IF(CD12>MAX(TeilnNr)-1,ADDRESS(ROW(Teilnehmer)+CH12,COLUMN(Teilnehmer)+CG12+CG12),ADDRESS(ROW(Teilnehmer)+CH12,COLUMN(Teilnehmer)+CG12+CG12-1))","v":"$J$24"},{"$f":"IF(OR(INDEX($BS$19:$BS$24,CV12),INDEX($BS$19:$BS$24,CW12)),0,1)","v":1},{"$f":"INDEX($BT$19:$BT$24,MATCH($CV12,TeilnNr,0))","v":"Spieler 06"},"-",{"$f":"INDEX($BT$19:$BT$24,MATCH($CW12,TeilnNr,0))","v":"Spieler 03"},null,null,{"$f":"CN11","v":4},{"$f":"IF(CN11>MAX(TeilnNr)-1,CN11-(MAX(TeilnNr)-1),CN11)","v":4},1,{"$f":"IF(AND(CU12=1,MOD(CT12,2)=IF(CS12>MAX(TeilnNr)-1,1,0)),MAX(TeilnNr),IF(MOD(CU12,2)=IF(CS12>MAX(TeilnNr)-1,1,0),IF(MAX(TeilnNr)/2-CU12+1-(CT12-MAX(TeilnNr)/2-1)>=1,MAX(TeilnNr)/2-CU12+1-(CT12-MAX(TeilnNr)/2-1),MAX(TeilnNr)/2-CU12+1-(CT12-MAX(TeilnNr)/2-1)+MAX(TeilnNr)-1),IF(CU12-(CT12-1)>=1,CU12-(CT12-1),CU12-(CT12-1)+MAX(TeilnNr)-1)))","v":6},{"$f":"IF(AND(CU12=1,MOD(CT12,2)<>IF(CS12>MAX(TeilnNr)-1,1,0)),MAX(TeilnNr),IF(MOD(CU12,2)<>IF(CS12>MAX(TeilnNr)-1,1,0),IF(MAX(TeilnNr)/2-CU12+1-(CT12-MAX(TeilnNr)/2-1)>=1,MAX(TeilnNr)/2-CU12+1-(CT12-MAX(TeilnNr)/2-1),MAX(TeilnNr)/2-CU12+1-(CT12-MAX(TeilnNr)/2-1)+MAX(TeilnNr)-1),IF(CU12-(CT12-1)>=1,CU12-(CT12-1),CU12-(CT12-1)+MAX(TeilnNr)-1)))","v":3},{"$f":"IF(LEFT(CR12,1)=\"V\",\"\",LEFT(CR12,1))","v":""},{"$f":"IF(RIGHT(CR12,1)=\"V\",\"\",RIGHT(CR12,1))","v":""},{"$f":"IF(CS12>MAX(TeilnNr)-1,ADDRESS(ROW(Teilnehmer)+CV12,COLUMN(Teilnehmer)+CW12+CW12),ADDRESS(ROW(Teilnehmer)+CV12,COLUMN(Teilnehmer)+CW12+CW12-1))","v":"$H$24"},{"$f":"IF(CS12>MAX(TeilnNr)-1,ADDRESS(ROW(Teilnehmer)+CW12,COLUMN(Teilnehmer)+CV12+CV12),ADDRESS(ROW(Teilnehmer)+CW12,COLUMN(Teilnehmer)+CV12+CV12-1))","v":"$N$21"},{"$f":"BX12","v":1},{"$f":"BY12","v":"Spieler 04"},"-",{"$f":"CA12","v":"Spieler 06"},{"$f":"IF(ISNUMBER(CD12),IF(CD12>MAX(TeilnNr)-1,IF(CF12=1,1,IF(MOD(CF12,2)<>0,2,1)),IF(CF12=1,1,IF(MOD(CF12,2)<>0,1,2))),\"\")","v":1},null,{"$f":"IF(DF12=1,2,1)","v":2},{"$f":"DF12","v":1},null,{"$f":"IF(CU12=1,DH12*10,DH12)","v":20},{"$f":"CM12","v":1},{"$f":"CP12","v":"Spieler 03"},"-",{"$f":"CN12","v":"Spieler 06"},{"$f":"IF(ISNUMBER(CS12),IF(CS12>MAX(TeilnNr)-1,IF(CU12=1,2,IF(MOD(CU12,2)<>0,2,1)),IF(CU12=1,2,IF(MOD(CU12,2)<>0,1,2))),\"\")","v":2},null,{"$f":"IF(DP12=1,2,1)","v":1},{"$f":"DP12","v":2},null,{"$f":"IF(CU12=1,DR12*10,DR12)","v":10}]
[null,"Wertungskriterien:",null,null,null,null,null,null,null,null,null,null,null,null,null,null,null,null,null,null,null,null,null,null,null,null,null,null,null,null,null,null,null,null,null,null,null,null,null,null,null,null,null,null,null,null,null,null,null,null,null,null,null,null,null,null,null,null,null,null,null,null,null,null,null,null,null,null,null,null,null,null,null,null,null,{"$f":"BX12+1","v":2},{"$f":"INDEX($BT$19:$BT$24,MATCH($CG13,TeilnNr,0))","v":"Spieler 03"},"-",{"$f":"INDEX($BT$19:$BT$24,MATCH($CH13,TeilnNr,0))","v":"Spieler 05"},null,null,{"$f":"CD12","v":3},{"$f":"CE12","v":3},{"$f":"CF12+1","v":2},3,5,{"$f":"IF(LEFT(CC13,1)=\"V\",\"\",LEFT(CC13,1))","v":""},{"$f":"IF(RIGHT(CC13,1)=\"V\",\"\",RIGHT(CC13,1))","v":""},"$L$21","$H$23",{"$f":"CM12+1","v":2},{"$f":"INDEX($BT$19:$BT$24,MATCH($CV13,TeilnNr,0))","v":"Spieler 02"},"-",{"$f":"INDEX($BT$19:$BT$24,MATCH($CW13,TeilnNr,0))","v":"Spieler 04"},null,null,{"$f":"CS12","v":4},{"$f":"CT12","v":4},{"$f":"CU12+1","v":2},2,4,{"$f":"IF(LEFT(CR13,1)=\"V\",\"\",LEFT(CR13,1))","v":""},{"$f":"IF(RIGHT(CR13,1)=\"V\",\"\",RIGHT(CR13,1))","v":""},"$J$20","$F$22",2,{"$f":"IF(CD13>MAX(TeilnNr)-1,BY13,CA13)","v":"Spieler 05"},"-",{"$f":"IF(CD13>MAX(TeilnNr)-1,CA13,BY13)","v":"Spieler 03"},{"$f":"IF(ISNUMBER(CD13),IF(CD13>MAX(TeilnNr)-1,IF(CF13=1,1,IF(MOD(CF13,2)<>0,2,1)),IF(CF13=1,1,IF(MOD(CF13,2)<>0,1,2))),\"\")","v":2},null,{"$f":"IF(DF13=1,2,1)","v":1},2,null,1,2,{"$f":"IF(CS13>MAX(TeilnNr)-1,CN13,CP13)","v":"Spieler 04"},"-",{"$f":"IF(CS13>MAX(TeilnNr)-1,CP13,CN13)","v":"Spieler 02"},{"$f":"IF(ISNUMBER(CS13),IF(CS13>MAX(TeilnNr)-1,IF(CU13=1,2,IF(MOD(CU13,2)<>0,2,1)),IF(CU13=1,2,IF(MOD(CU13,2)<>0,1,2))),\"\")","v":2},null,1,2,null,1]
[null,{"$f":"INDEX(Wertungskriterien,WertungskriterienA)","v":"1) Punkte 2) Anz. Partien 3) So-Be 4) direkte Begegnung 5) Manuelle Feinwertung "},null,null,null,null,null,null,null,null,null,null,null,null,null,null,null,null,null,null,null,null,null,null,null,null,null,null,null,null,null,null,null,null,null,null,null,null,null,null,null,null,null,null,null,null,null,null,null,null,null,null,null,null,null,null,null,null,null,null,null,null,null,null,null,null,null,null,null,null,null,null,null,null,null,{"$f":"BX13+1","v":3},{"$f":"INDEX($BT$19:$BT$24,MATCH($CG14,TeilnNr,0))","v":"Spieler 01"},"-",{"$f":"INDEX($BT$19:$BT$24,MATCH($CH14,TeilnNr,0))","v":"Spieler 02"},null,null,{"$f":"CD13","v":3},{"$f":"CE13","v":3},{"$f":"CF13+1","v":3},1,2,{"$f":"IF(LEFT(CC14,1)=\"V\",\"\",LEFT(CC14,1))","v":""},{"$f":"IF(RIGHT(CC14,1)=\"V\",\"\",RIGHT(CC14,1))","v":""},"$F$19","$D$20",{"$f":"CM13+1","v":3},{"$f":"INDEX($BT$19:$BT$24,MATCH($CV14,TeilnNr,0))","v":"Spieler 05"},"-",{"$f":"INDEX($BT$19:$BT$24,MATCH($CW14,TeilnNr,0))","v":"Spieler 01"},null,null,{"$f":"CS13","v":4},{"$f":"CT13","v":4},{"$f":"CU13+1","v":3},5,1,{"$f":"IF(LEFT(CR14,1)=\"V\",\"\",LEFT(CR14,1))","v":""},{"$f":"IF(RIGHT(CR14,1)=\"V\",\"\",RIGHT(CR14,1))","v":""},"$D$23","$L$19",3,{"$f":"IF(CD14>MAX(TeilnNr)-1,CA14,BY14)","v":"Spieler 01"},"-",{"$f":"IF(CD14>MAX(TeilnNr)-1,BY14,CA14)","v":"Spieler 02"},{"$f":"IF(ISNUMBER(CD14),IF(CD14>MAX(TeilnNr)-1,IF(CF14=1,1,IF(MOD(CF14,2)<>0,2,1)),IF(CF14=1,1,IF(MOD(CF14,2)<>0,1,2))),\"\")","v":1},null,2,1,null,2,3,{"$f":"IF(CS14>MAX(TeilnNr)-1,CP14,CN14)","v":"Spieler 05"},"-",{"$f":"IF(CS14>MAX(TeilnNr)-1,CN14,CP14)","v":"Spieler 01"},{"$f":"IF(ISNUMBER(CS14),IF(CS14>MAX(TeilnNr)-1,IF(CU14=1,2,IF(MOD(CU14,2)<>0,2,1)),IF(CU14=1,2,IF(MOD(CU14,2)<>0,1,2))),\"\")","v":1},null,2,1,null,2]
[null,null,null,null,null,null,null,null,null,null,null,null,null,null,null,null,null,null,null,null,null,null,null,null,null,null,null,null,null,null,null,null,null,null,null,null,null,null,null,null,null,null,null,null,null,null,null,null,null,null,null,null,null,null,null,null,null,null,null,null,null,null,null,null,null,null,null,null,null,null,null,null,null,null,null,null,null,null,null,null,null,null,null,null,null,null,null,null,null,null,null,null,null,null,null,null,null,null,null,null,null,null,null,null,null,null,null,null,null,{"$f":"IF(ISNUMBER(CD15),IF(CD15>MAX(TeilnNr)-1,2,1),\"\")","v":""},null,null,{"$f":"IF(ISNUMBER(CG15),IF(CG15>MAX(TeilnNr)-1,2,1),\"\")","v":""},null,null,null,null,null,null,{"$f":"IF(ISNUMBER(CS15),IF(CS15>MAX(TeilnNr)-1,IF(CU15=1,1,IF(MOD(CU15,2)<>0,2,1)),IF(CU15=1,2,IF(MOD(CU15,2)<>0,1,2))),\"\")","v":""},null,null,{"$f":"IF(ISNUMBER(CQ15),IF(CQ15>MAX(TeilnNr)-1,2,1),\"\")","v":""}]
[null,"+",null,null,null,null,null,null,null,null,null,null,null,null,null,null,null,null,{"$f":"IF(EinAusblenden=\"-\",\"\",IF(FWPlusMinus=\"+\",\"é\",\"ê\"))","v":"é"},null,null,null,null,null,null,null,null,null,null,null,null,null,null,null,null,null,null,null,null,null,null,null,null,null,null,null,null,null,null,null,null,null,null,null,null,null,null,null,null,null,null,null,null,null,null,null,null,null,null,null,null,null,null,null,null,null,{"$f":"BY11+2","v":5},null,null,null,null,"N°","R","B","SpNr w","SpNr s","Res w","Res s",null,null,null,{"$f":"CN11+2","v":6},null,null,null,null,"N°","R","B","SpNr w","SpNr s","Res w","Res s",null,null,null,{"$f":"BY16","v":5},null,{"$f":"IF(BY16=MAX(TeilnNr),\"-> Bretter drehen!\",\"\")","v":""},{"$f":"IF(ISNUMBER(CD16),IF(CD16>MAX(TeilnNr)-1,2,1),\"\")","v":""},null,null,{"$f":"IF(ISNUMBER(CG16),IF(CG16>MAX(TeilnNr)-1,2,1),\"\")","v":""},null,null,null,{"$f":"CN16","v":6},null,{"$f":"IF(CN16=MAX(TeilnNr),\"-> Bretter drehen!\",\"\")","v":"-> Bretter drehen!"},{"$f":"IF(ISNUMBER(CS16),IF(CS16>MAX(TeilnNr)-1,IF(MOD(CU16,2)<>0,2,1),IF(MOD(CU16,2)<>0,1,2)),\"\")","v":""},null,null,{"$f":"IF(ISNUMBER(CQ16),IF(CQ16>MAX(TeilnNr)-1,2,1),\"\")","v":""}]
[null,"Turniertabelle",null,null,null,null,null,null,null,null,null,null,null,null,null,null,null,"manuelle Feinwertung: ","+","Partien",null,null,null,"Punkte",null,null,null,null,null,null,null,"Sonneborn-Berger-Berechnung",null,null,null,null,null,null,null,{"$f":"MAX(AN19:AN24)","v":0},null,null,null,null,{"$f":"FWPlusMinus=\"+\"","v":true},"Summierung Wertungskriterien vor direkter Begegnung",null,null,null,null,null,null,null,null,null,null,null,null,"Summierung Wertungskriterien nach direkter Begegnung",null,null,null,null,null,null,null,null,null,null,null,null,null,null,null,null,{"$f":"IF(OR(INDEX($BS$19:$BS$24,CG17),INDEX($BS$19:$BS$24,CH17)),0,1)","v":1},{"$f":"INDEX($BT$19:$BT$24,MATCH($CG17,TeilnNr,0))","v":"Spieler 02"},"-",{"$f":"INDEX($BT$19:$BT$24,MATCH($CH17,TeilnNr,0))","v":"Spieler 06"},null,null,{"$f":"BY16","v":5},{"$f":"IF(BY16>MAX(TeilnNr)-1,BY16-(MAX(TeilnNr)-1),BY16)","v":5},1,{"$f":"IF(AND(CF17=1,MOD(CE17,2)=IF(CD17>MAX(TeilnNr)-1,1,0)),MAX(TeilnNr),IF(MOD(CF17,2)=IF(CD17>MAX(TeilnNr)-1,1,0),IF(MAX(TeilnNr)/2-CF17+1-(CE17-MAX(TeilnNr)/2-1)>=1,MAX(TeilnNr)/2-CF17+1-(CE17-MAX(TeilnNr)/2-1),MAX(TeilnNr)/2-CF17+1-(CE17-MAX(TeilnNr)/2-1)+MAX(TeilnNr)-1),IF(CF17-(CE17-1)>=1,CF17-(CE17-1),CF17-(CE17-1)+MAX(TeilnNr)-1)))","v":2},{"$f":"IF(AND(CF17=1,MOD(CE17,2)<>IF(CD17>MAX(TeilnNr)-1,1,0)),MAX(TeilnNr),IF(MOD(CF17,2)<>IF(CD17>MAX(TeilnNr)-1,1,0),IF(MAX(TeilnNr)/2-CF17+1-(CE17-MAX(TeilnNr)/2-1)>=1,MAX(TeilnNr)/2-CF17+1-(CE17-MAX(TeilnNr)/2-1),MAX(TeilnNr)/2-CF17+1-(CE17-MAX(TeilnNr)/2-1)+MAX(TeilnNr)-1),IF(CF17-(CE17-1)>=1,CF17-(CE17-1),CF17-(CE17-1)+MAX(TeilnNr)-1)))","v":6},{"$f":"IF(LEFT(CC17,1)=\"V\",\"\",LEFT(CC17,1))","v":""},{"$f":"IF(RIGHT(CC17,1)=\"V\",\"\",RIGHT(CC17,1))","v":""},{"$f":"IF(CD17>MAX(TeilnNr)-1,ADDRESS(ROW(Teilnehmer)+CG17,COLUMN(Teilnehmer)+CH17+CH17),ADDRESS(ROW(Teilnehmer)+CG17,COLUMN(Teilnehmer)+CH17+CH17-1))","v":"$N$20"},{"$f":"IF(CD17>MAX(TeilnNr)-1,ADDRESS(ROW(Teilnehmer)+CH17,COLUMN(Teilnehmer)+CG17+CG17),ADDRESS(ROW(Teilnehmer)+CH17,COLUMN(Teilnehmer)+CG17+CG17-1))","v":"$F$24"},{"$f":"IF(OR(INDEX($BS$19:$BS$24,CV17),INDEX($BS$19:$BS$24,CW17)),0,1)","v":1},{"$f":"INDEX($BT$19:$BT$24,MATCH($CV17,TeilnNr,0))","v":"Spieler 06"},"-",{"$f":"INDEX($BT$19:$BT$24,MATCH($CW17,TeilnNr,0))","v":"Spieler 01"},null,null,{"$f":"CN16","v":6},{"$f":"IF(CN16>MAX(TeilnNr)-1,CN16-(MAX(TeilnNr)-1),CN16)","v":1},1,{"$f":"IF(AND(CU17=1,MOD(CT17,2)=IF(CS17>MAX(TeilnNr)-1,1,0)),MAX(TeilnNr),IF(MOD(CU17,2)=IF(CS17>MAX(TeilnNr)-1,1,0),IF(MAX(TeilnNr)/2-CU17+1-(CT17-MAX(TeilnNr)/2-1)>=1,MAX(TeilnNr)/2-CU17+1-(CT17-MAX(TeilnNr)/2-1),MAX(TeilnNr)/2-CU17+1-(CT17-MAX(TeilnNr)/2-1)+MAX(TeilnNr)-1),IF(CU17-(CT17-1)>=1,CU17-(CT17-1),CU17-(CT17-1)+MAX(TeilnNr)-1)))","v":6},{"$f":"IF(AND(CU17=1,MOD(CT17,2)<>IF(CS17>MAX(TeilnNr)-1,1,0)),MAX(TeilnNr),IF(MOD(CU17,2)<>IF(CS17>MAX(TeilnNr)-1,1,0),IF(MAX(TeilnNr)/2-CU17+1-(CT17-MAX(TeilnNr)/2-1)>=1,MAX(TeilnNr)/2-CU17+1-(CT17-MAX(TeilnNr)/2-1),MAX(TeilnNr)/2-CU17+1-(CT17-MAX(TeilnNr)/2-1)+MAX(TeilnNr)-1),IF(CU17-(CT17-1)>=1,CU17-(CT17-1),CU17-(CT17-1)+MAX(TeilnNr)-1)))","v":1},{"$f":"IF(LEFT(CR17,1)=\"V\",\"\",LEFT(CR17,1))","v":""},{"$f":"IF(RIGHT(CR17,1)=\"V\",\"\",RIGHT(CR17,1))","v":""},{"$f":"IF(CS17>MAX(TeilnNr)-1,ADDRESS(ROW(Teilnehmer)+CV17,COLUMN(Teilnehmer)+CW17+CW17),ADDRESS(ROW(Teilnehmer)+CV17,COLUMN(Teilnehmer)+CW17+CW17-1))","v":"$E$24"},{"$f":"IF(CS17>MAX(TeilnNr)-1,ADDRESS(ROW(Teilnehmer)+CW17,COLUMN(Teilnehmer)+CV17+CV17),ADDRESS(ROW(Teilnehmer)+CW17,COLUMN(Teilnehmer)+CV17+CV17-1))","v":"$O$19"},{"$f":"BX17","v":1},{"$f":"BY17","v":"Spieler 02"},"-",{"$f":"CA17","v":"Spieler 06"},{"$f":"IF(ISNUMBER(CD17),IF(CD17>MAX(TeilnNr)-1,IF(CF17=1,1,IF(MOD(CF17,2)<>0,2,1)),IF(CF17=1,1,IF(MOD(CF17,2)<>0,1,2))),\"\")","v":1},null,{"$f":"IF(DF17=1,2,1)","v":2},{"$f":"DF17","v":1},null,{"$f":"IF(CU17=1,DH17*10,DH17)","v":20},{"$f":"CM17","v":1},{"$f":"CP17","v":"Spieler 01"},"-",{"$f":"CN17","v":"Spieler 06"},{"$f":"IF(ISNUMBER(CS17),IF(CS17>MAX(TeilnNr)-1,IF(CU17=1,2,IF(MOD(CU17,2)<>0,2,1)),IF(CU17=1,2,IF(MOD(CU17,2)<>0,1,2))),\"\")","v":2},null,{"$f":"IF(DP17=1,2,1)","v":1},{"$f":"DP17","v":2},null,{"$f":"IF(CU17=1,DR17*10,DR17)","v":10}]
[null,"Nr.","Teilnehmer",1,null,2,null,3,null,4,null,5,null,6,null,"Punkte","Spiele","So-Be","FWx","weiss","schw.","Rang",null,1,2,3,4,5,6,"P",null,1,2,3,4,5,6,"So-Be",null,{"$f":"IF(S18=\"\",\"FW2\",S18)","v":"FWx"},"RangPt","RangAnz","RangSoBe","RangSw","RangFW","Wertung 1","Wertung 2","Wertung 3","Wertung 4","Wertung 5","Wertung 6","Wertung 7","Wertung 8","Wertung 9","Wertung 10","Wertung","direkte Begegnung","Rang dirBg","Wertung 1","Wertung 2","Wertung 3","Wertung 4","Wertung 5","Wertung 6","Wertung 7","Wertung 8","Wertung 9","Wertung 10","Wertung2","Rang","Platzhltr?","Name","Alphabet","Rang&Alph","Reihflge",{"$f":"BX17+1","v":2},{"$f":"INDEX($BT$19:$BT$24,MATCH($CG18,TeilnNr,0))","v":"Spieler 01"},"-",{"$f":"INDEX($BT$19:$BT$24,MATCH($CH18,TeilnNr,0))","v":"Spieler 03"},null,null,{"$f":"CD17","v":5},{"$f":"CE17","v":5},{"$f":"CF17+1","v":2},1,3,{"$f":"IF(LEFT(CC18,1)=\"V\",\"\",LEFT(CC18,1))","v":""},{"$f":"IF(RIGHT(CC18,1)=\"V\",\"\",RIGHT(CC18,1))","v":""},"$H$19","$D$21",{"$f":"CM17+1","v":2},{"$f":"INDEX($BT$19:$BT$24,MATCH($CV18,TeilnNr,0))","v":"Spieler 02"},"-",{"$f":"INDEX($BT$19:$BT$24,MATCH($CW18,TeilnNr,0))","v":"Spieler 05"},null,null,{"$f":"CS17","v":6},{"$f":"CT17","v":1},{"$f":"CU17+1","v":2},2,5,{"$f":"IF(LEFT(CR18,1)=\"V\",\"\",LEFT(CR18,1))","v":""},{"$f":"IF(RIGHT(CR18,1)=\"V\",\"\",RIGHT(CR18,1))","v":""},"$M$20","$G$23",2,{"$f":"IF(CD18>MAX(TeilnNr)-1,BY18,CA18)","v":"Spieler 03"},"-",{"$f":"IF(CD18>MAX(TeilnNr)-1,CA18,BY18)","v":"Spieler 01"},{"$f":"IF(ISNUMBER(CD18),IF(CD18>MAX(TeilnNr)-1,IF(CF18=1,1,IF(MOD(CF18,2)<>0,2,1)),IF(CF18=1,1,IF(MOD(CF18,2)<>0,1,2))),\"\")","v":2},null,1,2,null,1,2,{"$f":"IF(CS18>MAX(TeilnNr)-1,CN18,CP18)","v":"Spieler 02"},"-",{"$f":"IF(CS18>MAX(TeilnNr)-1,CP18,CN18)","v":"Spieler 05"},{"$f":"IF(ISNUMBER(CS18),IF(CS18>MAX(TeilnNr)-1,IF(CU18=1,2,IF(MOD(CU18,2)<>0,2,1)),IF(CU18=1,2,IF(MOD(CU18,2)<>0,1,2))),\"\")","v":1},null,2,1,null,2]
[null,1,null,{"$f":"IF(ISNA(MATCH(ADDRESS(ROW(),COLUMN()),$CK:$CK,0)),\"\",INDEX($CI:$CI,MATCH(ADDRESS(ROW(),COLUMN()),$CK:$CK,0)))&IF(ISNA(MATCH(ADDRESS(ROW(),COLUMN()),$CL:$CL,0)),\"\",INDEX($CJ:$CJ,MATCH(ADDRESS(ROW(),COLUMN()),$CL:$CL,0)))&IF(ISNA(MATCH(ADDRESS(ROW(),COLUMN()),$CZ:$CZ,0)),\"\",INDEX($CX:$CX,MATCH(ADDRESS(ROW(),COLUMN()),$CZ:$CZ,0)))&IF(ISNA(MATCH(ADDRESS(ROW(),COLUMN()),$DA:$DA,0)),\"\",INDEX($CY:$CY,MATCH(ADDRESS(ROW(),COLUMN()),$DA:$DA,0)))","v":""},"","","","","","","","","","","",{"$f":"AD19","v":0},{"$f":"MAX($B$19:$B$24)*2-COUNTIF($D19:O19,\"\")","v":0},{"$f":"AL19","v":0},null,{"$f":"IF($BS19,0,COUNTIFS($CG:$CG,$B19,$CC:$CC,\"<>\")+COUNTIFS($CV:$CV,$B19,$CR:$CR,\"<>\"))","v":0},{"$f":"IF($BS19,0,COUNTIFS($CH:$CH,$B19,$CC:$CC,\"<>\")+COUNTIFS($CW:$CW,$B19,$CR:$CR,\"<>\"))","v":0},{"$f":"BR19","v":1},null,{"$f":"IF(D19=\"\",0,VLOOKUP(D19,Wertung,3,FALSE))+IF(E19=\"\",0,VLOOKUP(E19,Wertung,3,FALSE))","v":0},{"$f":"IF(F19=\"\",0,VLOOKUP(F19,Wertung,3,FALSE))+IF(G19=\"\",0,VLOOKUP(G19,Wertung,3,FALSE))","v":0},{"$f":"IF(H19=\"\",0,VLOOKUP(H19,Wertung,3,FALSE))+IF(I19=\"\",0,VLOOKUP(I19,Wertung,3,FALSE))","v":0},{"$f":"IF(J19=\"\",0,VLOOKUP(J19,Wertung,3,FALSE))+IF(K19=\"\",0,VLOOKUP(K19,Wertung,3,FALSE))","v":0},{"$f":"IF(L19=\"\",0,VLOOKUP(L19,Wertung,3,FALSE))+IF(M19=\"\",0,VLOOKUP(M19,Wertung,3,FALSE))","v":0},{"$f":"IF(N19=\"\",0,VLOOKUP(N19,Wertung,3,FALSE))+IF(O19=\"\",0,VLOOKUP(O19,Wertung,3,FALSE))","v":0},{"$f":"SUM(X19:AC19)","v":0},null,{"$f":"X19*INDEX($AD:$AD,ROW($AF$18)+X$18)","v":0},0,0,0,0,0,{"$f":"SUM(AF19:AK19)","v":0},null,{"$f":"S19","v":0},{"$f":"RANK($AD19,$AD$19:$AD$24,0)","v":1},{"$f":"RANK($Q19,$Q$19:$Q$24,1)","v":1},{"$f":"RANK($AL19,$AL$19:$AL$24,0)","v":1},{"$f":"RANK($U19,$U$19:$U$24,0)","v":1},{"$f":"RANK($AN19,$AN$19:$AN$24,IF($AS$17,0,1))","v":1},{"$f":"VALUE(CONCATENATE(IF(BS19,\"1\",\"0\"),TEXT($AO19,\"00\"),TEXT($AQ19,\"00\"),TEXT($AS19,\"00\")))","v":10101},{"$f":"VALUE(CONCATENATE(IF(BS19,\"1\",\"0\"),TEXT($AO19,\"00\"),TEXT($AQ19,\"00\")))","v":101},{"$f":"VALUE(CONCATENATE(IF(BS19,\"1\",\"0\"),TEXT($AO19,\"00\"),TEXT($AP19,\"00\"),TEXT($AQ19,\"00\"),TEXT($AS19,\"00\")))","v":1010101},{"$f":"VALUE(CONCATENATE(IF(BS19,\"1\",\"0\"),TEXT($AO19,\"00\"),TEXT($AP19,\"00\"),TEXT($AQ19,\"00\")))","v":10101},{"$f":"VALUE(CONCATENATE(IF(BS19,\"1\",\"0\"),TEXT($AO19,\"00\"),TEXT($AP19,\"00\"),TEXT($AQ19,\"00\")))","v":10101},{"$f":"VALUE(CONCATENATE(IF(BS19,\"1\",\"0\"),TEXT($AO19,\"00\"),TEXT($AP19,\"00\"),TEXT($AQ19,\"00\"),TEXT($AR19,\"00\")))","v":1010101},{"$f":"VALUE(CONCATENATE(IF(BS19,\"1\",\"0\"),TEXT($AO19,\"00\"),TEXT($AP19,\"00\")))","v":101},{"$f":"VALUE(CONCATENATE(IF(BS19,\"1\",\"0\"),TEXT($AO19,\"00\"),TEXT($AP19,\"00\")))","v":101},{"$f":"VALUE(CONCATENATE(IF(BS19,\"1\",\"0\"),TEXT($AO19,\"00\"),TEXT($AP19,\"00\"),TEXT($AR19,\"00\"),TEXT($AQ19,\"00\")))","v":1010101},{"$f":"VALUE(CONCATENATE(IF(BS19,\"1\",\"0\"),TEXT($AO19,\"00\"),TEXT($AP19,\"00\"),TEXT($AR19,\"00\")))","v":10101},{"$f":"INDEX($AT19:$BC19,1,WertungskriterienA)","v":10101},{"$f":"SUM((TRANSPOSE($BD$19:$BD$24)=BD19)*$X19:$AC19)","v":0},{"$f":"RANK($BE19,$BE$19:$BE$24,0)","v":1},{"$f":"$BD19","v":10101},{"$f":"VALUE(CONCATENATE($BD19,TEXT($BF19,\"00\"),TEXT($AS19,\"00\")))","v":101010101},{"$f":"$BD19","v":10101},{"$f":"VALUE(CONCATENATE($BD19,TEXT($BF19,\"00\"),TEXT($AS19,\"00\")))","v":101010101},{"$f":"VALUE(CONCATENATE($BD19,TEXT($BF19,\"00\"),TEXT($AR19,\"00\"),TEXT($AS19,\"00\")))","v":10101010101},{"$f":"VALUE(CONCATENATE($BD19,TEXT($BF19,\"00\"),TEXT($AS19,\"00\")))","v":101010101},{"$f":"VALUE(CONCATENATE($BD19,TEXT($BF19,\"00\"),TEXT($AQ19,\"00\"),TEXT($AR19,\"00\"),TEXT($AS19,\"00\")))","v":1010101010101},{"$f":"VALUE(CONCATENATE($BD19,TEXT($BF19,\"00\"),TEXT($AR19,\"00\"),TEXT($AQ19,\"00\"),TEXT($AS19,\"00\")))","v":1010101010101},{"$f":"VALUE(CONCATENATE($BD19,TEXT($BF19,\"00\"),TEXT($AS19,\"00\")))","v":101010101},{"$f":"VALUE(CONCATENATE($BD19,TEXT($BF19,\"00\"),TEXT($AQ19,\"00\"),TEXT($AS19,\"00\")))","v":10101010101},{"$f":"INDEX(BG19:BP19,1,WertungskriterienA)","v":101010101},{"$f":"RANK(BQ19,$BQ$19:$BQ$24,1)","v":1},{"$f":"IF($C19=\"\",FALSE,AND(LEN($C19)=1,OR(CODE($C19)<65,CODE($C19)>122,AND(CODE($C19)>90,CODE($C19)<97)),NOT(AND(CODE($C19)>48,CODE($C19)<58))))","v":false},{"$f":"IF(BS19,$C19,IF($C19=\"\",\"Spieler \"&TEXT($B19,\"00\"),$C19))","v":"Spieler 01"},{"$f":"IF(BS19,MAX(TeilnNr),0)+SUMPRODUCT((BT19>$BT$19:$BT$24)*1)","v":0},{"$f":"BR19+BU19/1000+B19/1000000","v":1.0000009999999999},{"$f":"RANK(BV19,$BV$19:$BV$24,1)","v":1},{"$f":"BX18+1","v":3},{"$f":"INDEX($BT$19:$BT$24,MATCH($CG19,TeilnNr,0))","v":"Spieler 04"},"-",{"$f":"INDEX($BT$19:$BT$24,MATCH($CH19,TeilnNr,0))","v":"Spieler 05"},null,null,{"$f":"CD18","v":5},{"$f":"CE18","v":5},{"$f":"CF18+1","v":3},{"$f":"IF(AND(CF19=1,MOD(CE19,2)=IF(CD19>MAX(TeilnNr)-1,1,0)),MAX(TeilnNr),IF(MOD(CF19,2)=IF(CD19>MAX(TeilnNr)-1,1,0),IF(MAX(TeilnNr)/2-CF19+1-(CE19-MAX(TeilnNr)/2-1)>=1,MAX(TeilnNr)/2-CF19+1-(CE19-MAX(TeilnNr)/2-1),MAX(TeilnNr)/2-CF19+1-(CE19-MAX(TeilnNr)/2-1)+MAX(TeilnNr)-1),IF(CF19-(CE19-1)>=1,CF19-(CE19-1),CF19-(CE19-1)+MAX(TeilnNr)-1)))","v":4},{"$f":"IF(AND(CF19=1,MOD(CE19,2)<>IF(CD19>MAX(TeilnNr)-1,1,0)),MAX(TeilnNr),IF(MOD(CF19,2)<>IF(CD19>MAX(TeilnNr)-1,1,0),IF(MAX(TeilnNr)/2-CF19+1-(CE19-MAX(TeilnNr)/2-1)>=1,MAX(TeilnNr)/2-CF19+1-(CE19-MAX(TeilnNr)/2-1),MAX(TeilnNr)/2-CF19+1-(CE19-MAX(TeilnNr)/2-1)+MAX(TeilnNr)-1),IF(CF19-(CE19-1)>=1,CF19-(CE19-1),CF19-(CE19-1)+MAX(TeilnNr)-1)))","v":5},{"$f":"IF(LEFT(CC19,1)=\"V\",\"\",LEFT(CC19,1))","v":""},{"$f":"IF(RIGHT(CC19,1)=\"V\",\"\",RIGHT(CC19,1))","v":""},{"$f":"IF(CD19>MAX(TeilnNr)-1,ADDRESS(ROW(Teilnehmer)+CG19,COLUMN(Teilnehmer)+CH19+CH19),ADDRESS(ROW(Teilnehmer)+CG19,COLUMN(Teilnehmer)+CH19+CH19-1))","v":"$L$22"},{"$f":"IF(CD19>MAX(TeilnNr)-1,ADDRESS(ROW(Teilnehmer)+CH19,COLUMN(Teilnehmer)+CG19+CG19),ADDRESS(ROW(Teilnehmer)+CH19,COLUMN(Teilnehmer)+CG19+CG19-1))","v":"$J$23"},{"$f":"CM18+1","v":3},{"$f":"INDEX($BT$19:$BT$24,MATCH($CV19,TeilnNr,0))","v":"Spieler 04"},"-",{"$f":"INDEX($BT$19:$BT$24,MATCH($CW19,TeilnNr,0))","v":"Spieler 03"},null,null,{"$f":"CS18","v":6},{"$f":"CT18","v":1},{"$f":"CU18+1","v":3},{"$f":"IF(AND(CU19=1,MOD(CT19,2)=IF(CS19>MAX(TeilnNr)-1,1,0)),MAX(TeilnNr),IF(MOD(CU19,2)=IF(CS19>MAX(TeilnNr)-1,1,0),IF(MAX(TeilnNr)/2-CU19+1-(CT19-MAX(TeilnNr)/2-1)>=1,MAX(TeilnNr)/2-CU19+1-(CT19-MAX(TeilnNr)/2-1),MAX(TeilnNr)/2-CU19+1-(CT19-MAX(TeilnNr)/2-1)+MAX(TeilnNr)-1),IF(CU19-(CT19-1)>=1,CU19-(CT19-1),CU19-(CT19-1)+MAX(TeilnNr)-1)))","v":4},{"$f":"IF(AND(CU19=1,MOD(CT19,2)<>IF(CS19>MAX(TeilnNr)-1,1,0)),MAX(TeilnNr),IF(MOD(CU19,2)<>IF(CS19>MAX(TeilnNr)-1,1,0),IF(MAX(TeilnNr)/2-CU19+1-(CT19-MAX(TeilnNr)/2-1)>=1,MAX(TeilnNr)/2-CU19+1-(CT19-MAX(TeilnNr)/2-1),MAX(TeilnNr)/2-CU19+1-(CT19-MAX(TeilnNr)/2-1)+MAX(TeilnNr)-1),IF(CU19-(CT19-1)>=1,CU19-(CT19-1),CU19-(CT19-1)+MAX(TeilnNr)-1)))","v":3},{"$f":"IF(LEFT(CR19,1)=\"V\",\"\",LEFT(CR19,1))","v":""},{"$f":"IF(RIGHT(CR19,1)=\"V\",\"\",RIGHT(CR19,1))","v":""},{"$f":"IF(CS19>MAX(TeilnNr)-1,ADDRESS(ROW(Teilnehmer)+CV19,COLUMN(Teilnehmer)+CW19+CW19),ADDRESS(ROW(Teilnehmer)+CV19,COLUMN(Teilnehmer)+CW19+CW19-1))","v":"$I$22"},{"$f":"IF(CS19>MAX(TeilnNr)-1,ADDRESS(ROW(Teilnehmer)+CW19,COLUMN(Teilnehmer)+CV19+CV19),ADDRESS(ROW(Teilnehmer)+CW19,COLUMN(Teilnehmer)+CV19+CV19-1))","v":"$K$21"},3,{"$f":"IF(CD19>MAX(TeilnNr)-1,CA19,BY19)","v":"Spieler 04"},"-",{"$f":"IF(CD19>MAX(TeilnNr)-1,BY19,CA19)","v":"Spieler 05"},{"$f":"IF(ISNUMBER(CD19),IF(CD19>MAX(TeilnNr)-1,IF(CF19=1,1,IF(MOD(CF19,2)<>0,2,1)),IF(CF19=1,1,IF(MOD(CF19,2)<>0,1,2))),\"\")","v":1},null,2,1,null,2,3,{"$f":"IF(CS19>MAX(TeilnNr)-1,CP19,CN19)","v":"Spieler 03"},"-",{"$f":"IF(CS19>MAX(TeilnNr)-1,CN19,CP19)","v":"Spieler 04"},{"$f":"IF(ISNUMBER(CS19),IF(CS19>MAX(TeilnNr)-1,IF(CU19=1,2,IF(MOD(CU19,2)<>0,2,1)),IF(CU19=1,2,IF(MOD(CU19,2)<>0,1,2))),\"\")","v":2},null,1,2,null,1]
[null,2,null,"","","","","","","","","","","","",0,{"$f":"MAX($B$19:$B$24)*2-COUNTIF($D20:O20,\"\")","v":0},0,null,0,0,1,null,0,0,0,0,0,0,0,null,0,0,0,0,0,0,0,null,0,1,1,1,1,1,{"$f":"VALUE(CONCATENATE(IF(BS20,\"1\",\"0\"),TEXT($AO20,\"00\"),TEXT($AQ20,\"00\"),TEXT($AS20,\"00\")))","v":10101},{"$f":"VALUE(CONCATENATE(IF(BS20,\"1\",\"0\"),TEXT($AO20,\"00\"),TEXT($AQ20,\"00\")))","v":101},{"$f":"VALUE(CONCATENATE(IF(BS20,\"1\",\"0\"),TEXT($AO20,\"00\"),TEXT($AP20,\"00\"),TEXT($AQ20,\"00\"),TEXT($AS20,\"00\")))","v":1010101},{"$f":"VALUE(CONCATENATE(IF(BS20,\"1\",\"0\"),TEXT($AO20,\"00\"),TEXT($AP20,\"00\"),TEXT($AQ20,\"00\")))","v":10101},{"$f":"VALUE(CONCATENATE(IF(BS20,\"1\",\"0\"),TEXT($AO20,\"00\"),TEXT($AP20,\"00\"),TEXT($AQ20,\"00\")))","v":10101},{"$f":"VALUE(CONCATENATE(IF(BS20,\"1\",\"0\"),TEXT($AO20,\"00\"),TEXT($AP20,\"00\"),TEXT($AQ20,\"00\"),TEXT($AR20,\"00\")))","v":1010101},{"$f":"VALUE(CONCATENATE(IF(BS20,\"1\",\"0\"),TEXT($AO20,\"00\"),TEXT($AP20,\"00\")))","v":101},{"$f":"VALUE(CONCATENATE(IF(BS20,\"1\",\"0\"),TEXT($AO20,\"00\"),TEXT($AP20,\"00\")))","v":101},{"$f":"VALUE(CONCATENATE(IF(BS20,\"1\",\"0\"),TEXT($AO20,\"00\"),TEXT($AP20,\"00\"),TEXT($AR20,\"00\"),TEXT($AQ20,\"00\")))","v":1010101},{"$f":"VALUE(CONCATENATE(IF(BS20,\"1\",\"0\"),TEXT($AO20,\"00\"),TEXT($AP20,\"00\"),TEXT($AR20,\"00\")))","v":10101},{"$f":"INDEX($AT20:$BC20,1,WertungskriterienA)","v":10101},{"$f":"SUM((TRANSPOSE($BD$19:$BD$24)=BD20)*$X20:$AC20)","v":0},1,10101,101010101,10101,101010101,10101010101,101010101,1010101010101,1010101010101,101010101,10101010101,{"$f":"INDEX(BG20:BP20,1,WertungskriterienA)","v":101010101},1,{"$f":"IF($C20=\"\",FALSE,AND(LEN($C20)=1,OR(CODE($C20)<65,CODE($C20)>122,AND(CODE($C20)>90,CODE($C20)<97)),NOT(AND(CODE($C20)>48,CODE($C20)<58))))","v":false},"Spieler 02",1,1.0010019999999999,2,null,null,null,null,null,null,null,null,null,null,null,null,null,null,null,null,null,null,null,null,null,null,null,null,null,null,null,null,null,null,null,null,null,null,{"$f":"IF(ISNUMBER(CD20),IF(CD20>MAX(TeilnNr)-1,2,1),\"\")","v":""},null,null,{"$f":"IF(ISNUMBER(CG20),IF(CG20>MAX(TeilnNr)-1,2,1),\"\")","v":""},null,null,null,null,null,null,{"$f":"IF(ISNUMBER(CS20),IF(CS20>MAX(TeilnNr)-1,IF(CU20=1,1,IF(MOD(CU20,2)<>0,2,1)),IF(CU20=1,2,IF(MOD(CU20,2)<>0,1,2))),\"\")","v":""},null,null,{"$f":"IF(ISNUMBER(CQ20),IF(CQ20>MAX(TeilnNr)-1,2,1),\"\")","v":""}]
[null,3,null,"","","","","","","","","","","","",0,{"$f":"MAX($B$19:$B$24)*2-COUNTIF($D21:O21,\"\")","v":0},0,null,0,0,1,null,0,0,0,0,0,0,0,null,0,0,0,0,0,0,0,null,0,1,1,1,1,1,10101,101,1010101,10101,10101,1010101,101,101,1010101,10101,{"$f":"INDEX($AT21:$BC21,1,WertungskriterienA)","v":10101},{"$f":"SUM((TRANSPOSE($BD$19:$BD$24)=BD21)*$X21:$AC21)","v":0},1,10101,101010101,10101,101010101,10101010101,101010101,1010101010101,1010101010101,101010101,10101010101,{"$f":"INDEX(BG21:BP21,1,WertungskriterienA)","v":101010101},1,false,"Spieler 03",2,1.002003,3,null,{"$f":"BY16+2","v":7},null,null,null,null,"N°","R","B","SpNr w","SpNr s","Res w","Res s",null,null,null,{"$f":"CN16+2","v":8},null,null,null,null,"N°","R","B","SpNr w","SpNr s","Res w","Res s",null,null,null,{"$f":"BY21","v":7},null,{"$f":"IF(BY21=MAX(TeilnNr),\"-> Bretter drehen!\",\"\")","v":""},{"$f":"IF(ISNUMBER(CD21),IF(CD21>MAX(TeilnNr)-1,2,1),\"\")","v":""},null,null,{"$f":"IF(ISNUMBER(CG21),IF(CG21>MAX(TeilnNr)-1,2,1),\"\")","v":""},null,null,null,{"$f":"CN21","v":8},null,{"$f":"IF(CN21=MAX(TeilnNr),\"-> Bretter drehen!\",\"\")","v":""},{"$f":"IF(ISNUMBER(CS21),IF(CS21>MAX(TeilnNr)-1,IF(MOD(CU21,2)<>0,2,1),IF(MOD(CU21,2)<>0,1,2)),\"\")","v":""},null,null,{"$f":"IF(ISNUMBER(CQ21),IF(CQ21>MAX(TeilnNr)-1,2,1),\"\")","v":""}]
[null,4,null,"","","","","","","","","","","","",0,{"$f":"MAX($B$19:$B$24)*2-COUNTIF($D22:O22,\"\")","v":0},0,null,0,0,1,null,0,0,0,0,0,0,0,null,0,0,0,0,0,0,0,null,0,1,1,1,1,1,10101,101,1010101,10101,10101,1010101,101,101,1010101,10101,{"$f":"INDEX($AT22:$BC22,1,WertungskriterienA)","v":10101},{"$f":"SUM((TRANSPOSE($BD$19:$BD$24)=BD22)*$X22:$AC22)","v":0},1,10101,101010101,10101,101010101,10101010101,101010101,1010101010101,1010101010101,101010101,10101010101,{"$f":"INDEX(BG22:BP22,1,WertungskriterienA)","v":101010101},1,false,"Spieler 04",3,1.0030039999999998,4,{"$f":"IF(OR(INDEX($BS$19:$BS$24,CG22),INDEX($BS$19:$BS$24,CH22)),0,1)","v":1},{"$f":"INDEX($BT$19:$BT$24,MATCH($CG22,TeilnNr,0))","v":"Spieler 05"},"-",{"$f":"INDEX($BT$19:$BT$24,MATCH($CH22,TeilnNr,0))","v":"Spieler 06"},null,null,{"$f":"BY21","v":7},{"$f":"IF(BY21>MAX(TeilnNr)-1,BY21-(MAX(TeilnNr)-1),BY21)","v":2},1,{"$f":"IF(AND(CF22=1,MOD(CE22,2)=IF(CD22>MAX(TeilnNr)-1,1,0)),MAX(TeilnNr),IF(MOD(CF22,2)=IF(CD22>MAX(TeilnNr)-1,1,0),IF(MAX(TeilnNr)/2-CF22+1-(CE22-MAX(TeilnNr)/2-1)>=1,MAX(TeilnNr)/2-CF22+1-(CE22-MAX(TeilnNr)/2-1),MAX(TeilnNr)/2-CF22+1-(CE22-MAX(TeilnNr)/2-1)+MAX(TeilnNr)-1),IF(CF22-(CE22-1)>=1,CF22-(CE22-1),CF22-(CE22-1)+MAX(TeilnNr)-1)))","v":5},{"$f":"IF(AND(CF22=1,MOD(CE22,2)<>IF(CD22>MAX(TeilnNr)-1,1,0)),MAX(TeilnNr),IF(MOD(CF22,2)<>IF(CD22>MAX(TeilnNr)-1,1,0),IF(MAX(TeilnNr)/2-CF22+1-(CE22-MAX(TeilnNr)/2-1)>=1,MAX(TeilnNr)/2-CF22+1-(CE22-MAX(TeilnNr)/2-1),MAX(TeilnNr)/2-CF22+1-(CE22-MAX(TeilnNr)/2-1)+MAX(TeilnNr)-1),IF(CF22-(CE22-1)>=1,CF22-(CE22-1),CF22-(CE22-1)+MAX(TeilnNr)-1)))","v":6},{"$f":"IF(LEFT(CC22,1)=\"V\",\"\",LEFT(CC22,1))","v":""},{"$f":"IF(RIGHT(CC22,1)=\"V\",\"\",RIGHT(CC22,1))","v":""},{"$f":"IF(CD22>MAX(TeilnNr)-1,ADDRESS(ROW(Teilnehmer)+CG22,COLUMN(Teilnehmer)+CH22+CH22),ADDRESS(ROW(Teilnehmer)+CG22,COLUMN(Teilnehmer)+CH22+CH22-1))","v":"$O$23"},{"$f":"IF(CD22>MAX(TeilnNr)-1,ADDRESS(ROW(Teilnehmer)+CH22,COLUMN(Teilnehmer)+CG22+CG22),ADDRESS(ROW(Teilnehmer)+CH22,COLUMN(Teilnehmer)+CG22+CG22-1))","v":"$M$24"},{"$f":"IF(OR(INDEX($BS$19:$BS$24,CV22),INDEX($BS$19:$BS$24,CW22)),0,1)","v":1},{"$f":"INDEX($BT$19:$BT$24,MATCH($CV22,TeilnNr,0))","v":"Spieler 06"},"-",{"$f":"INDEX($BT$19:$BT$24,MATCH($CW22,TeilnNr,0))","v":"Spieler 04"},null,null,{"$f":"CN21","v":8},{"$f":"IF(CN21>MAX(TeilnNr)-1,CN21-(MAX(TeilnNr)-1),CN21)","v":3},1,{"$f":"IF(AND(CU22=1,MOD(CT22,2)=IF(CS22>MAX(TeilnNr)-1,1,0)),MAX(TeilnNr),IF(MOD(CU22,2)=IF(CS22>MAX(TeilnNr)-1,1,0),IF(MAX(TeilnNr)/2-CU22+1-(CT22-MAX(TeilnNr)/2-1)>=1,MAX(TeilnNr)/2-CU22+1-(CT22-MAX(TeilnNr)/2-1),MAX(TeilnNr)/2-CU22+1-(CT22-MAX(TeilnNr)/2-1)+MAX(TeilnNr)-1),IF(CU22-(CT22-1)>=1,CU22-(CT22-1),CU22-(CT22-1)+MAX(TeilnNr)-1)))","v":6},{"$f":"IF(AND(CU22=1,MOD(CT22,2)<>IF(CS22>MAX(TeilnNr)-1,1,0)),MAX(TeilnNr),IF(MOD(CU22,2)<>IF(CS22>MAX(TeilnNr)-1,1,0),IF(MAX(TeilnNr)/2-CU22+1-(CT22-MAX(TeilnNr)/2-1)>=1,MAX(TeilnNr)/2-CU22+1-(CT22-MAX(TeilnNr)/2-1),MAX(TeilnNr)/2-CU22+1-(CT22-MAX(TeilnNr)/2-1)+MAX(TeilnNr)-1),IF(CU22-(CT22-1)>=1,CU22-(CT22-1),CU22-(CT22-1)+MAX(TeilnNr)-1)))","v":4},{"$f":"IF(LEFT(CR22,1)=\"V\",\"\",LEFT(CR22,1))","v":""},{"$f":"IF(RIGHT(CR22,1)=\"V\",\"\",RIGHT(CR22,1))","v":""},{"$f":"IF(CS22>MAX(TeilnNr)-1,ADDRESS(ROW(Teilnehmer)+CV22,COLUMN(Teilnehmer)+CW22+CW22),ADDRESS(ROW(Teilnehmer)+CV22,COLUMN(Teilnehmer)+CW22+CW22-1))","v":"$K$24"},{"$f":"IF(CS22>MAX(TeilnNr)-1,ADDRESS(ROW(Teilnehmer)+CW22,COLUMN(Teilnehmer)+CV22+CV22),ADDRESS(ROW(Teilnehmer)+CW22,COLUMN(Teilnehmer)+CV22+CV22-1))","v":"$O$22"},{"$f":"BX22","v":1},{"$f":"BY22","v":"Spieler 05"},"-",{"$f":"CA22","v":"Spieler 06"},{"$f":"IF(ISNUMBER(CD22),IF(CD22>MAX(TeilnNr)-1,IF(CF22=1,1,IF(MOD(CF22,2)<>0,2,1)),IF(CF22=1,1,IF(MOD(CF22,2)<>0,1,2))),\"\")","v":1},null,{"$f":"IF(DF22=1,2,1)","v":2},{"$f":"DF22","v":1},null,{"$f":"IF(CU22=1,DH22*10,DH22)","v":20},{"$f":"CM22","v":1},{"$f":"CP22","v":"Spieler 04"},"-",{"$f":"CN22","v":"Spieler 06"},{"$f":"IF(ISNUMBER(CS22),IF(CS22>MAX(TeilnNr)-1,IF(CU22=1,2,IF(MOD(CU22,2)<>0,2,1)),IF(CU22=1,2,IF(MOD(CU22,2)<>0,1,2))),\"\")","v":2},null,{"$f":"IF(DP22=1,2,1)","v":1},{"$f":"DP22","v":2},null,{"$f":"IF(CU22=1,DR22*10,DR22)","v":10}]
[null,5,null,"","","","","","","","","","","","",0,{"$f":"MAX($B$19:$B$24)*2-COUNTIF($D23:O23,\"\")","v":0},0,null,0,0,1,null,0,0,0,0,0,0,0,null,0,0,0,0,0,0,0,null,0,1,1,1,1,1,10101,101,1010101,10101,10101,1010101,101,101,1010101,10101,{"$f":"INDEX($AT23:$BC23,1,WertungskriterienA)","v":10101},{"$f":"SUM((TRANSPOSE($BD$19:$BD$24)=BD23)*$X23:$AC23)","v":0},1,10101,101010101,10101,101010101,10101010101,101010101,1010101010101,1010101010101,101010101,10101010101,{"$f":"INDEX(BG23:BP23,1,WertungskriterienA)","v":101010101},1,false,"Spieler 05",4,1.004005,5,{"$f":"BX22+1","v":2},{"$f":"INDEX($BT$19:$BT$24,MATCH($CG23,TeilnNr,0))","v":"Spieler 01"},"-",{"$f":"INDEX($BT$19:$BT$24,MATCH($CH23,TeilnNr,0))","v":"Spieler 04"},null,null,{"$f":"CD22","v":7},{"$f":"CE22","v":2},{"$f":"CF22+1","v":2},{"$f":"IF(AND(CF23=1,MOD(CE23,2)=IF(CD23>MAX(TeilnNr)-1,1,0)),MAX(TeilnNr),IF(MOD(CF23,2)=IF(CD23>MAX(TeilnNr)-1,1,0),IF(MAX(TeilnNr)/2-CF23+1-(CE23-MAX(TeilnNr)/2-1)>=1,MAX(TeilnNr)/2-CF23+1-(CE23-MAX(TeilnNr)/2-1),MAX(TeilnNr)/2-CF23+1-(CE23-MAX(TeilnNr)/2-1)+MAX(TeilnNr)-1),IF(CF23-(CE23-1)>=1,CF23-(CE23-1),CF23-(CE23-1)+MAX(TeilnNr)-1)))","v":1},{"$f":"IF(AND(CF23=1,MOD(CE23,2)<>IF(CD23>MAX(TeilnNr)-1,1,0)),MAX(TeilnNr),IF(MOD(CF23,2)<>IF(CD23>MAX(TeilnNr)-1,1,0),IF(MAX(TeilnNr)/2-CF23+1-(CE23-MAX(TeilnNr)/2-1)>=1,MAX(TeilnNr)/2-CF23+1-(CE23-MAX(TeilnNr)/2-1),MAX(TeilnNr)/2-CF23+1-(CE23-MAX(TeilnNr)/2-1)+MAX(TeilnNr)-1),IF(CF23-(CE23-1)>=1,CF23-(CE23-1),CF23-(CE23-1)+MAX(TeilnNr)-1)))","v":4},{"$f":"IF(LEFT(CC23,1)=\"V\",\"\",LEFT(CC23,1))","v":""},{"$f":"IF(RIGHT(CC23,1)=\"V\",\"\",RIGHT(CC23,1))","v":""},{"$f":"IF(CD23>MAX(TeilnNr)-1,ADDRESS(ROW(Teilnehmer)+CG23,COLUMN(Teilnehmer)+CH23+CH23),ADDRESS(ROW(Teilnehmer)+CG23,COLUMN(Teilnehmer)+CH23+CH23-1))","v":"$K$19"},{"$f":"IF(CD23>MAX(TeilnNr)-1,ADDRESS(ROW(Teilnehmer)+CH23,COLUMN(Teilnehmer)+CG23+CG23),ADDRESS(ROW(Teilnehmer)+CH23,COLUMN(Teilnehmer)+CG23+CG23-1))","v":"$E$22"},{"$f":"CM22+1","v":2},{"$f":"INDEX($BT$19:$BT$24,MATCH($CV23,TeilnNr,0))","v":"Spieler 05"},"-",{"$f":"INDEX($BT$19:$BT$24,MATCH($CW23,TeilnNr,0))","v":"Spieler 03"},null,null,{"$f":"CS22","v":8},{"$f":"CT22","v":3},{"$f":"CU22+1","v":2},{"$f":"IF(AND(CU23=1,MOD(CT23,2)=IF(CS23>MAX(TeilnNr)-1,1,0)),MAX(TeilnNr),IF(MOD(CU23,2)=IF(CS23>MAX(TeilnNr)-1,1,0),IF(MAX(TeilnNr)/2-CU23+1-(CT23-MAX(TeilnNr)/2-1)>=1,MAX(TeilnNr)/2-CU23+1-(CT23-MAX(TeilnNr)/2-1),MAX(TeilnNr)/2-CU23+1-(CT23-MAX(TeilnNr)/2-1)+MAX(TeilnNr)-1),IF(CU23-(CT23-1)>=1,CU23-(CT23-1),CU23-(CT23-1)+MAX(TeilnNr)-1)))","v":5},{"$f":"IF(AND(CU23=1,MOD(CT23,2)<>IF(CS23>MAX(TeilnNr)-1,1,0)),MAX(TeilnNr),IF(MOD(CU23,2)<>IF(CS23>MAX(TeilnNr)-1,1,0),IF(MAX(TeilnNr)/2-CU23+1-(CT23-MAX(TeilnNr)/2-1)>=1,MAX(TeilnNr)/2-CU23+1-(CT23-MAX(TeilnNr)/2-1),MAX(TeilnNr)/2-CU23+1-(CT23-MAX(TeilnNr)/2-1)+MAX(TeilnNr)-1),IF(CU23-(CT23-1)>=1,CU23-(CT23-1),CU23-(CT23-1)+MAX(TeilnNr)-1)))","v":3},{"$f":"IF(LEFT(CR23,1)=\"V\",\"\",LEFT(CR23,1))","v":""},{"$f":"IF(RIGHT(CR23,1)=\"V\",\"\",RIGHT(CR23,1))","v":""},{"$f":"IF(CS23>MAX(TeilnNr)-1,ADDRESS(ROW(Teilnehmer)+CV23,COLUMN(Teilnehmer)+CW23+CW23),ADDRESS(ROW(Teilnehmer)+CV23,COLUMN(Teilnehmer)+CW23+CW23-1))","v":"$I$23"},{"$f":"IF(CS23>MAX(TeilnNr)-1,ADDRESS(ROW(Teilnehmer)+CW23,COLUMN(Teilnehmer)+CV23+CV23),ADDRESS(ROW(Teilnehmer)+CW23,COLUMN(Teilnehmer)+CV23+CV23-1))","v":"$M$21"},2,{"$f":"IF(CD23>MAX(TeilnNr)-1,BY23,CA23)","v":"Spieler 01"},"-",{"$f":"IF(CD23>MAX(TeilnNr)-1,CA23,BY23)","v":"Spieler 04"},{"$f":"IF(ISNUMBER(CD23),IF(CD23>MAX(TeilnNr)-1,IF(CF23=1,1,IF(MOD(CF23,2)<>0,2,1)),IF(CF23=1,1,IF(MOD(CF23,2)<>0,1,2))),\"\")","v":1},null,2,1,null,2,2,{"$f":"IF(CS23>MAX(TeilnNr)-1,CN23,CP23)","v":"Spieler 05"},"-",{"$f":"IF(CS23>MAX(TeilnNr)-1,CP23,CN23)","v":"Spieler 03"},{"$f":"IF(ISNUMBER(CS23),IF(CS23>MAX(TeilnNr)-1,IF(CU23=1,2,IF(MOD(CU23,2)<>0,2,1)),IF(CU23=1,2,IF(MOD(CU23,2)<>0,1,2))),\"\")","v":1},null,2,1,null,2]
[null,6,null,"","","","","","","","","","","","",0,{"$f":"MAX($B$19:$B$24)*2-COUNTIF($D24:O24,\"\")","v":0},0,null,0,0,1,null,0,0,0,0,0,0,0,null,0,0,0,0,0,0,0,null,0,1,1,1,1,1,10101,101,1010101,10101,10101,1010101,101,101,1010101,10101,{"$f":"INDEX($AT24:$BC24,1,WertungskriterienA)","v":10101},{"$f":"SUM((TRANSPOSE($BD$19:$BD$24)=BD24)*$X24:$AC24)","v":0},1,10101,101010101,10101,101010101,10101010101,101010101,1010101010101,1010101010101,101010101,10101010101,{"$f":"INDEX(BG24:BP24,1,WertungskriterienA)","v":101010101},1,false,"Spieler 06",5,1.0050059999999998,6,{"$f":"BX23+1","v":3},{"$f":"INDEX($BT$19:$BT$24,MATCH($CG24,TeilnNr,0))","v":"Spieler 03"},"-",{"$f":"INDEX($BT$19:$BT$24,MATCH($CH24,TeilnNr,0))","v":"Spieler 02"},null,null,{"$f":"CD23","v":7},{"$f":"CE23","v":2},{"$f":"CF23+1","v":3},{"$f":"IF(AND(CF24=1,MOD(CE24,2)=IF(CD24>MAX(TeilnNr)-1,1,0)),MAX(TeilnNr),IF(MOD(CF24,2)=IF(CD24>MAX(TeilnNr)-1,1,0),IF(MAX(TeilnNr)/2-CF24+1-(CE24-MAX(TeilnNr)/2-1)>=1,MAX(TeilnNr)/2-CF24+1-(CE24-MAX(TeilnNr)/2-1),MAX(TeilnNr)/2-CF24+1-(CE24-MAX(TeilnNr)/2-1)+MAX(TeilnNr)-1),IF(CF24-(CE24-1)>=1,CF24-(CE24-1),CF24-(CE24-1)+MAX(TeilnNr)-1)))","v":3},{"$f":"IF(AND(CF24=1,MOD(CE24,2)<>IF(CD24>MAX(TeilnNr)-1,1,0)),MAX(TeilnNr),IF(MOD(CF24,2)<>IF(CD24>MAX(TeilnNr)-1,1,0),IF(MAX(TeilnNr)/2-CF24+1-(CE24-MAX(TeilnNr)/2-1)>=1,MAX(TeilnNr)/2-CF24+1-(CE24-MAX(TeilnNr)/2-1),MAX(TeilnNr)/2-CF24+1-(CE24-MAX(TeilnNr)/2-1)+MAX(TeilnNr)-1),IF(CF24-(CE24-1)>=1,CF24-(CE24-1),CF24-(CE24-1)+MAX(TeilnNr)-1)))","v":2},{"$f":"IF(LEFT(CC24,1)=\"V\",\"\",LEFT(CC24,1))","v":""},{"$f":"IF(RIGHT(CC24,1)=\"V\",\"\",RIGHT(CC24,1))","v":""},{"$f":"IF(CD24>MAX(TeilnNr)-1,ADDRESS(ROW(Teilnehmer)+CG24,COLUMN(Teilnehmer)+CH24+CH24),ADDRESS(ROW(Teilnehmer)+CG24,COLUMN(Teilnehmer)+CH24+CH24-1))","v":"$G$21"},{"$f":"IF(CD24>MAX(TeilnNr)-1,ADDRESS(ROW(Teilnehmer)+CH24,COLUMN(Teilnehmer)+CG24+CG24),ADDRESS(ROW(Teilnehmer)+CH24,COLUMN(Teilnehmer)+CG24+CG24-1))","v":"$I$20"},{"$f":"CM23+1","v":3},{"$f":"INDEX($BT$19:$BT$24,MATCH($CV24,TeilnNr,0))","v":"Spieler 02"},"-",{"$f":"INDEX($BT$19:$BT$24,MATCH($CW24,TeilnNr,0))","v":"Spieler 01"},null,null,{"$f":"CS23","v":8},{"$f":"CT23","v":3},{"$f":"CU23+1","v":3},{"$f":"IF(AND(CU24=1,MOD(CT24,2)=IF(CS24>MAX(TeilnNr)-1,1,0)),MAX(TeilnNr),IF(MOD(CU24,2)=IF(CS24>MAX(TeilnNr)-1,1,0),IF(MAX(TeilnNr)/2-CU24+1-(CT24-MAX(TeilnNr)/2-1)>=1,MAX(TeilnNr)/2-CU24+1-(CT24-MAX(TeilnNr)/2-1),MAX(TeilnNr)/2-CU24+1-(CT24-MAX(TeilnNr)/2-1)+MAX(TeilnNr)-1),IF(CU24-(CT24-1)>=1,CU24-(CT24-1),CU24-(CT24-1)+MAX(TeilnNr)-1)))","v":2},{"$f":"IF(AND(CU24=1,MOD(CT24,2)<>IF(CS24>MAX(TeilnNr)-1,1,0)),MAX(TeilnNr),IF(MOD(CU24,2)<>IF(CS24>MAX(TeilnNr)-1,1,0),IF(MAX(TeilnNr)/2-CU24+1-(CT24-MAX(TeilnNr)/2-1)>=1,MAX(TeilnNr)/2-CU24+1-(CT24-MAX(TeilnNr)/2-1),MAX(TeilnNr)/2-CU24+1-(CT24-MAX(TeilnNr)/2-1)+MAX(TeilnNr)-1),IF(CU24-(CT24-1)>=1,CU24-(CT24-1),CU24-(CT24-1)+MAX(TeilnNr)-1)))","v":1},{"$f":"IF(LEFT(CR24,1)=\"V\",\"\",LEFT(CR24,1))","v":""},{"$f":"IF(RIGHT(CR24,1)=\"V\",\"\",RIGHT(CR24,1))","v":""},{"$f":"IF(CS24>MAX(TeilnNr)-1,ADDRESS(ROW(Teilnehmer)+CV24,COLUMN(Teilnehmer)+CW24+CW24),ADDRESS(ROW(Teilnehmer)+CV24,COLUMN(Teilnehmer)+CW24+CW24-1))","v":"$E$20"},{"$f":"IF(CS24>MAX(TeilnNr)-1,ADDRESS(ROW(Teilnehmer)+CW24,COLUMN(Teilnehmer)+CV24+CV24),ADDRESS(ROW(Teilnehmer)+CW24,COLUMN(Teilnehmer)+CV24+CV24-1))","v":"$G$19"},3,{"$f":"IF(CD24>MAX(TeilnNr)-1,CA24,BY24)","v":"Spieler 02"},"-",{"$f":"IF(CD24>MAX(TeilnNr)-1,BY24,CA24)","v":"Spieler 03"},{"$f":"IF(ISNUMBER(CD24),IF(CD24>MAX(TeilnNr)-1,IF(CF24=1,1,IF(MOD(CF24,2)<>0,2,1)),IF(CF24=1,1,IF(MOD(CF24,2)<>0,1,2))),\"\")","v":2},null,1,2,null,1,3,{"$f":"IF(CS24>MAX(TeilnNr)-1,CP24,CN24)","v":"Spieler 01"},"-",{"$f":"IF(CS24>MAX(TeilnNr)-1,CN24,CP24)","v":"Spieler 02"},{"$f":"IF(ISNUMBER(CS24),IF(CS24>MAX(TeilnNr)-1,IF(CU24=1,2,IF(MOD(CU24,2)<>0,2,1)),IF(CU24=1,2,IF(MOD(CU24,2)<>0,1,2))),\"\")","v":2},null,1,2,null,1]
[null,null,{"$f":"\"-> bei nur \"&MAX(TeilnNr)-1&\" Spielern an Pos. \"&MAX(TeilnNr)&\" einen Stern (*) eintragen\"","v":"-> bei nur 5 Spielern an Pos. 6 einen Stern (*) eintragen"},null,null,null,null,null,null,null,null,null,null,null,null,null,{"$f":"SUM(Q19:Q24)","v":0},null,null,{"$f":"SUM(T19:T24)","v":0},{"$f":"SUM(U19:U24)","v":0},null,null,null,null,null,null,null,null,null,null,null,null,null,null,null,null,null,null,null,null,null,null,null,null,null,null,null,null,null,null,null,null,null,null,null,null,null,null,null,null,null,null,null,null,null,null,null,null,null,null,null,null,null,null,null,null,null,null,null,null,null,null,null,null,null,null,null,null,null,null,null,null,null,null,null,null,null,null,null,null,null,null,null,null,null,null,null,null,{"$f":"IF(ISNUMBER(CD25),IF(CD25>MAX(TeilnNr)-1,2,1),\"\")","v":""},null,null,{"$f":"IF(ISNUMBER(CG25),IF(CG25>MAX(TeilnNr)-1,2,1),\"\")","v":""},null,null,null,null,null,null,{"$f":"IF(ISNUMBER(CS25),IF(CS25>MAX(TeilnNr)-1,IF(CU25=1,1,IF(MOD(CU25,2)<>0,2,1)),IF(CU25=1,2,IF(MOD(CU25,2)<>0,1,2))),\"\")","v":""},null,null,{"$f":"IF(ISNUMBER(CQ25),IF(CQ25>MAX(TeilnNr)-1,2,1),\"\")","v":""}]
[null,null,null,null,null,null,null,null,null,null,null,null,null,null,null,null,null,null,null,null,null,null,null,null,null,null,null,null,null,null,null,null,null,null,null,null,null,null,null,null,null,null,null,null,null,null,null,null,null,null,null,null,null,null,null,null,null,null,null,null,null,null,null,null,null,null,null,null,null,null,null,null,null,null,null,null,{"$f":"BY21+2","v":9},null,null,null,null,"N°","R","B","SpNr w","SpNr s","Res w","Res s",null,null,null,{"$f":"CN21+2","v":10},null,null,null,null,"N°","R","B","SpNr w","SpNr s","Res w","Res s",null,null,null,{"$f":"BY26","v":9},null,{"$f":"IF(BY26=MAX(TeilnNr),\"-> Bretter drehen!\",\"\")","v":""},{"$f":"IF(ISNUMBER(CD26),IF(CD26>MAX(TeilnNr)-1,2,1),\"\")","v":""},null,null,{"$f":"IF(ISNUMBER(CG26),IF(CG26>MAX(TeilnNr)-1,2,1),\"\")","v":""},null,null,null,{"$f":"CN26","v":10},null,{"$f":"IF(CN26=MAX(TeilnNr),\"-> Bretter drehen!\",\"\")","v":""},{"$f":"IF(ISNUMBER(CS26),IF(CS26>MAX(TeilnNr)-1,IF(MOD(CU26,2)<>0,2,1),IF(MOD(CU26,2)<>0,1,2)),\"\")","v":""},null,null,{"$f":"IF(ISNUMBER(CQ26),IF(CQ26>MAX(TeilnNr)-1,2,1),\"\")","v":""}]
[null,null,null,null,null,null,null,null,null,null,null,null,null,null,null,null,null,null,null,null,null,null,null,null,null,null,null,null,null,null,null,null,null,null,null,null,null,null,null,null,null,null,null,null,null,null,null,null,null,null,null,null,null,null,null,null,null,null,null,null,null,null,null,null,null,null,null,null,null,null,null,null,null,null,null,{"$f":"IF(OR(INDEX($BS$19:$BS$24,CG27),INDEX($BS$19:$BS$24,CH27)),0,1)","v":1},{"$f":"INDEX($BT$19:$BT$24,MATCH($CG27,TeilnNr,0))","v":"Spieler 03"},"-",{"$f":"INDEX($BT$19:$BT$24,MATCH($CH27,TeilnNr,0))","v":"Spieler 06"},null,null,{"$f":"BY26","v":9},{"$f":"IF(BY26>MAX(TeilnNr)-1,BY26-(MAX(TeilnNr)-1),BY26)","v":4},1,{"$f":"IF(AND(CF27=1,MOD(CE27,2)=IF(CD27>MAX(TeilnNr)-1,1,0)),MAX(TeilnNr),IF(MOD(CF27,2)=IF(CD27>MAX(TeilnNr)-1,1,0),IF(MAX(TeilnNr)/2-CF27+1-(CE27-MAX(TeilnNr)/2-1)>=1,MAX(TeilnNr)/2-CF27+1-(CE27-MAX(TeilnNr)/2-1),MAX(TeilnNr)/2-CF27+1-(CE27-MAX(TeilnNr)/2-1)+MAX(TeilnNr)-1),IF(CF27-(CE27-1)>=1,CF27-(CE27-1),CF27-(CE27-1)+MAX(TeilnNr)-1)))","v":3},{"$f":"IF(AND(CF27=1,MOD(CE27,2)<>IF(CD27>MAX(TeilnNr)-1,1,0)),MAX(TeilnNr),IF(MOD(CF27,2)<>IF(CD27>MAX(TeilnNr)-1,1,0),IF(MAX(TeilnNr)/2-CF27+1-(CE27-MAX(TeilnNr)/2-1)>=1,MAX(TeilnNr)/2-CF27+1-(CE27-MAX(TeilnNr)/2-1),MAX(TeilnNr)/2-CF27+1-(CE27-MAX(TeilnNr)/2-1)+MAX(TeilnNr)-1),IF(CF27-(CE27-1)>=1,CF27-(CE27-1),CF27-(CE27-1)+MAX(TeilnNr)-1)))","v":6},{"$f":"IF(LEFT(CC27,1)=\"V\",\"\",LEFT(CC27,1))","v":""},{"$f":"IF(RIGHT(CC27,1)=\"V\",\"\",RIGHT(CC27,1))","v":""},{"$f":"IF(CD27>MAX(TeilnNr)-1,ADDRESS(ROW(Teilnehmer)+CG27,COLUMN(Teilnehmer)+CH27+CH27),ADDRESS(ROW(Teilnehmer)+CG27,COLUMN(Teilnehmer)+CH27+CH27-1))","v":"$O$21"},{"$f":"IF(CD27>MAX(TeilnNr)-1,ADDRESS(ROW(Teilnehmer)+CH27,COLUMN(Teilnehmer)+CG27+CG27),ADDRESS(ROW(Teilnehmer)+CH27,COLUMN(Teilnehmer)+CG27+CG27-1))","v":"$I$24"},{"$f":"IF(OR(INDEX($BS$19:$BS$24,CV27),INDEX($BS$19:$BS$24,CW27)),0,1)","v":1},{"$f":"INDEX($BT$19:$BT$24,MATCH($CV27,TeilnNr,0))","v":"Spieler 06"},"-",{"$f":"INDEX($BT$19:$BT$24,MATCH($CW27,TeilnNr,0))","v":"Spieler 02"},null,null,{"$f":"CN26","v":10},{"$f":"IF(CN26>MAX(TeilnNr)-1,CN26-(MAX(TeilnNr)-1),CN26)","v":5},1,{"$f":"IF(AND(CU27=1,MOD(CT27,2)=IF(CS27>MAX(TeilnNr)-1,1,0)),MAX(TeilnNr),IF(MOD(CU27,2)=IF(CS27>MAX(TeilnNr)-1,1,0),IF(MAX(TeilnNr)/2-CU27+1-(CT27-MAX(TeilnNr)/2-1)>=1,MAX(TeilnNr)/2-CU27+1-(CT27-MAX(TeilnNr)/2-1),MAX(TeilnNr)/2-CU27+1-(CT27-MAX(TeilnNr)/2-1)+MAX(TeilnNr)-1),IF(CU27-(CT27-1)>=1,CU27-(CT27-1),CU27-(CT27-1)+MAX(TeilnNr)-1)))","v":6},{"$f":"IF(AND(CU27=1,MOD(CT27,2)<>IF(CS27>MAX(TeilnNr)-1,1,0)),MAX(TeilnNr),IF(MOD(CU27,2)<>IF(CS27>MAX(TeilnNr)-1,1,0),IF(MAX(TeilnNr)/2-CU27+1-(CT27-MAX(TeilnNr)/2-1)>=1,MAX(TeilnNr)/2-CU27+1-(CT27-MAX(TeilnNr)/2-1),MAX(TeilnNr)/2-CU27+1-(CT27-MAX(TeilnNr)/2-1)+MAX(TeilnNr)-1),IF(CU27-(CT27-1)>=1,CU27-(CT27-1),CU27-(CT27-1)+MAX(TeilnNr)-1)))","v":2},{"$f":"IF(LEFT(CR27,1)=\"V\",\"\",LEFT(CR27,1))","v":""},{"$f":"IF(RIGHT(CR27,1)=\"V\",\"\",RIGHT(CR27,1))","v":""},{"$f":"IF(CS27>MAX(TeilnNr)-1,ADDRESS(ROW(Teilnehmer)+CV27,COLUMN(Teilnehmer)+CW27+CW27),ADDRESS(ROW(Teilnehmer)+CV27,COLUMN(Teilnehmer)+CW27+CW27-1))","v":"$G$24"},{"$f":"IF(CS27>MAX(TeilnNr)-1,ADDRESS(ROW(Teilnehmer)+CW27,COLUMN(Teilnehmer)+CV27+CV27),ADDRESS(ROW(Teilnehmer)+CW27,COLUMN(Teilnehmer)+CV27+CV27-1))","v":"$O$20"},{"$f":"BX27","v":1},{"$f":"BY27","v":"Spieler 03"},"-",{"$f":"CA27","v":"Spieler 06"},{"$f":"IF(ISNUMBER(CD27),IF(CD27>MAX(TeilnNr)-1,IF(CF27=1,1,IF(MOD(CF27,2)<>0,2,1)),IF(CF27=1,1,IF(MOD(CF27,2)<>0,1,2))),\"\")","v":1},null,{"$f":"IF(DF27=1,2,1)","v":2},{"$f":"DF27","v":1},null,{"$f":"IF(CU27=1,DH27*10,DH27)","v":20},{"$f":"CM27","v":1},{"$f":"CP27","v":"Spieler 02"},"-",{"$f":"CN27","v":"Spieler 06"},{"$f":"IF(ISNUMBER(CS27),IF(CS27>MAX(TeilnNr)-1,IF(CU27=1,2,IF(MOD(CU27,2)<>0,2,1)),IF(CU27=1,2,IF(MOD(CU27,2)<>0,1,2))),\"\")","v":2},null,{"$f":"IF(DP27=1,2,1)","v":1},{"$f":"DP27","v":2},null,{"$f":"IF(CU27=1,DR27*10,DR27)","v":10}]
[null,null,null,null,null,null,null,null,null,null,null,null,null,null,null,null,null,null,null,null,null,null,null,null,null,null,null,null,null,null,null,null,null,null,null,null,null,null,null,null,null,null,null,null,null,null,null,null,null,null,null,null,null,null,null,null,null,null,null,null,null,null,null,null,null,null,null,null,null,null,null,null,null,null,null,{"$f":"BX27+1","v":2},{"$f":"INDEX($BT$19:$BT$24,MATCH($CG28,TeilnNr,0))","v":"Spieler 04"},"-",{"$f":"INDEX($BT$19:$BT$24,MATCH($CH28,TeilnNr,0))","v":"Spieler 02"},null,null,{"$f":"CD27","v":9},{"$f":"CE27","v":4},{"$f":"CF27+1","v":2},4,2,{"$f":"IF(LEFT(CC28,1)=\"V\",\"\",LEFT(CC28,1))","v":""},{"$f":"IF(RIGHT(CC28,1)=\"V\",\"\",RIGHT(CC28,1))","v":""},"$G$22","$K$20",{"$f":"CM27+1","v":2},{"$f":"INDEX($BT$19:$BT$24,MATCH($CV28,TeilnNr,0))","v":"Spieler 03"},"-",{"$f":"INDEX($BT$19:$BT$24,MATCH($CW28,TeilnNr,0))","v":"Spieler 01"},null,null,{"$f":"CS27","v":10},{"$f":"CT27","v":5},{"$f":"CU27+1","v":2},3,1,{"$f":"IF(LEFT(CR28,1)=\"V\",\"\",LEFT(CR28,1))","v":""},{"$f":"IF(RIGHT(CR28,1)=\"V\",\"\",RIGHT(CR28,1))","v":""},"$E$21","$I$19",2,{"$f":"IF(CD28>MAX(TeilnNr)-1,BY28,CA28)","v":"Spieler 04"},"-",{"$f":"IF(CD28>MAX(TeilnNr)-1,CA28,BY28)","v":"Spieler 02"},{"$f":"IF(ISNUMBER(CD28),IF(CD28>MAX(TeilnNr)-1,IF(CF28=1,1,IF(MOD(CF28,2)<>0,2,1)),IF(CF28=1,1,IF(MOD(CF28,2)<>0,1,2))),\"\")","v":1},null,2,1,null,2,2,{"$f":"IF(CS28>MAX(TeilnNr)-1,CN28,CP28)","v":"Spieler 03"},"-",{"$f":"IF(CS28>MAX(TeilnNr)-1,CP28,CN28)","v":"Spieler 01"},{"$f":"IF(ISNUMBER(CS28),IF(CS28>MAX(TeilnNr)-1,IF(CU28=1,2,IF(MOD(CU28,2)<>0,2,1)),IF(CU28=1,2,IF(MOD(CU28,2)<>0,1,2))),\"\")","v":1},null,2,1,null,2]
[null,null,null,null,null,null,null,null,null,null,null,null,null,null,null,null,null,null,null,null,null,null,null,null,null,null,null,null,null,null,null,null,null,null,null,null,null,null,null,null,null,null,null,null,null,null,null,null,null,null,null,null,null,null,null,null,null,null,null,null,null,null,null,null,null,null,null,null,null,null,null,null,null,null,null,{"$f":"BX28+1","v":3},{"$f":"INDEX($BT$19:$BT$24,MATCH($CG29,TeilnNr,0))","v":"Spieler 01"},"-",{"$f":"INDEX($BT$19:$BT$24,MATCH($CH29,TeilnNr,0))","v":"Spieler 05"},null,null,{"$f":"CD28","v":9},{"$f":"CE28","v":4},{"$f":"CF28+1","v":3},1,5,{"$f":"IF(LEFT(CC29,1)=\"V\",\"\",LEFT(CC29,1))","v":""},{"$f":"IF(RIGHT(CC29,1)=\"V\",\"\",RIGHT(CC29,1))","v":""},"$M$19","$E$23",{"$f":"CM28+1","v":3},{"$f":"INDEX($BT$19:$BT$24,MATCH($CV29,TeilnNr,0))","v":"Spieler 05"},"-",{"$f":"INDEX($BT$19:$BT$24,MATCH($CW29,TeilnNr,0))","v":"Spieler 04"},null,null,{"$f":"CS28","v":10},{"$f":"CT28","v":5},{"$f":"CU28+1","v":3},5,4,{"$f":"IF(LEFT(CR29,1)=\"V\",\"\",LEFT(CR29,1))","v":""},{"$f":"IF(RIGHT(CR29,1)=\"V\",\"\",RIGHT(CR29,1))","v":""},"$K$23","$M$22",3,{"$f":"IF(CD29>MAX(TeilnNr)-1,CA29,BY29)","v":"Spieler 05"},"-",{"$f":"IF(CD29>MAX(TeilnNr)-1,BY29,CA29)","v":"Spieler 01"},{"$f":"IF(ISNUMBER(CD29),IF(CD29>MAX(TeilnNr)-1,IF(CF29=1,1,IF(MOD(CF29,2)<>0,2,1)),IF(CF29=1,1,IF(MOD(CF29,2)<>0,1,2))),\"\")","v":2},null,1,2,null,1,3,{"$f":"IF(CS29>MAX(TeilnNr)-1,CP29,CN29)","v":"Spieler 04"},"-",{"$f":"IF(CS29>MAX(TeilnNr)-1,CN29,CP29)","v":"Spieler 05"},{"$f":"IF(ISNUMBER(CS29),IF(CS29>MAX(TeilnNr)-1,IF(CU29=1,2,IF(MOD(CU29,2)<>0,2,1)),IF(CU29=1,2,IF(MOD(CU29,2)<>0,1,2))),\"\")","v":2},null,1,2,null,1]
[null,null,null,null,null,null,null,null,null,null,null,null,null,null,null,null,null,null,null,null,null,null,null,null,null,null,null,null,null,null,null,null,null,null,null,null,null,null,null,null,null,null,null,null,null,null,null,null,null,null,null,null,null,null,null,null,null,null,null,null,null,null,null,null,null,null,null,null,null,null,null,null,null,null,null,null,null,null,null,null,null,null,null,null,null,null,null,null,null,null,null,null,null,null,null,null,null,null,null,null,null,null,null,null,null,null,null,null,null,{"$f":"IF(ISNUMBER(CD30),IF(CD30>MAX(TeilnNr)-1,2,1),\"\")","v":""},null,null,{"$f":"IF(ISNUMBER(CG30),IF(CG30>MAX(TeilnNr)-1,2,1),\"\")","v":""},null,null,null,null,null,null,"",null,null,{"$f":"IF(ISNUMBER(CQ30),IF(CQ30>MAX(TeilnNr)-1,2,1),\"\")","v":""}]
[null,null,null,null,null,null,null,null,null,null,null,null,null,null,null,null,null,null,null,null,null,null,null,null,null,null,null,null,null,null,null,null,null,null,null,null,null,null,null,null,null,null,null,null,null,null,null,null,null,null,null,null,null,null,null,null,null,null,null,null,null,null,null,null,null,null,null,null,null,null,null,null,null,null,null,null,null,null,null,null,null,null,null,null,null,null,null,null,null,null,null,null,null,null,null,null,null,null,null,null,null,null,null,null,null,null,null,null,null,{"$f":"IF(ISNUMBER(CD31),IF(CD31>MAX(TeilnNr)-1,2,1),\"\")","v":""},null,null,{"$f":"IF(ISNUMBER(CG31),IF(CG31>MAX(TeilnNr)-1,2,1),\"\")","v":""},null,null,null,null,null,null,{"$f":"IF(ISNUMBER(CS31),IF(CS31>MAX(TeilnNr)-1,IF(MOD(CU31,2)<>0,2,1),IF(MOD(CU31,2)<>0,1,2)),\"\")","v":""},null,null,{"$f":"IF(ISNUMBER(CQ31),IF(CQ31>MAX(TeilnNr)-1,2,1),\"\")","v":""}]

{"sheet":"4DR","index":16,"n_rows":21,"n_cols":117,"rows_kept":21,"cut":false,"hidden":false,"merged":[[0,1,0,17],[1,85,1,87],[3,70,3,87],[5,3,5,4],[5,5,5,6],[5,7,5,8],[5,9,5,10],[5,70,5,72],[15,3,15,4],[15,5,15,6],[15,7,15,8],[15,9,15,10],[5,85,5,87],[9,70,9,72],[9,85,9,87],[13,70,13,72],[13,85,13,87],[14,15,14,16]]}
[null,"Turniername",null,null,null,null,null,null,null,null,null,null,null,null,null,null,null,null,null,null,null,null,null,null,null,null,null,1,"1) Punkte 2) So-Be 3) Manuelle Feinwertung ",null,null,null,null,null,null,null,null,null,null,null,null,null,null,null,null,null,null,null,null,null,null,"Wiederholung Kriterien:",null,null,null,null,null,null,null,null,null,null,null,null,null,null,null,null,{"$f":"\"Paarungsliste und Resultate \"&IF(Turnier=\"\",\"\",Turnier)","v":"Paarungsliste und Resultate Turniername"},null,null,null,null,null,null,null,null,null,null,null,null,null,null,null,null,null,null,null,null,null,null,null,null,null,null,null,null,null,"Paarungsliste Darstellung Rutschsystem",null,null,null,null,null,null,null,null,null,null,{"$f":"IF(Datum=\"\",\"\",\"Datum:\")","v":""}]
[null,3,null,null,null,null,null,null,null,null,null,null,null,null,null,null,null,null,null,null,null,null,null,null,"a","b","P",2,"1) Punkte 2) So-Be 3) direkte Begegnung 4) Manuelle Feinwertung ",null,null,null,null,null,null,null,null,null,null,null,null,null,null,null,null,null,null,null,null,null,1,{"$f":"AC1","v":"1) Punkte 2) So-Be 3) Manuelle Feinwertung "},null,null,null,null,null,null,null,null,null,null,null,null,null,null,null,null,{"$f":"IF(Turnier=\"\",\"\",\"Turniername:\")","v":"Turniername:"},null,{"$f":"IF(Turnier=\"\",\"\",Turnier)","v":"Turniername"},null,null,null,null,null,null,null,null,null,null,null,null,null,"Datum:",null,null,null,null,null,null,null,null,null,null,null,null,null,{"$f":"IF(Turnier=\"\",\"\",\"Turniername:\")","v":"Turniername:"},null,{"$f":"IF(Turnier=\"\",\"\",Turnier)&IF(Datum=\"\",\"\",\", \"&TEXT(Datum,\"TT.MM.JJJJ\"))","v":"Turniername"}]
[null,null,null,null,null,null,null,null,null,null,null,null,null,null,null,null,null,null,null,null,null,null,null,null,"1","0",1,3,"1) Punkte 2) Anz. Partien 3) So-Be 4) Manuelle Feinwertung "]
[null,"Rangliste",null,null,null,null,null,null,null,null,null,null,null,null,null,null,null,null,null,null,null,null,null,null,"0","1",0,4,"1) Punkte 2) Anz. Partien 3) So-Be 4) direkte Begegnung 5) Manuelle Feinwertung ",null,null,null,null,null,null,null,null,null,null,null,null,null,null,null,null,null,null,null,null,null,2,{"$f":"AC2","v":"1) Punkte 2) So-Be 3) direkte Begegnung 4) Manuelle Feinwertung "},null,null,null,null,null,null,null,null,null,null,null,null,null,null,null,null,"Turnierleitung:",null,null,null,null,null,null,null,null,null,null,null,null,null,null,null,null,null,null,null,null,null,null,null,null,null,null,null,null,null,{"$f":"IF(Turnierleitung=\"\",\"\",\"Turnierleitung:\")","v":""},null,{"$f":"IF(Turnierleitung=\"\",\"\",Turnierleitung)","v":""}]
[null,null,null,null,null,null,null,null,null,null,null,null,null,null,null,null,null,null,null,null,null,null,null,null,"½","½",0.5,5,"1) Punkte 2) Anz. Partien 3) So-Be 4) direkte Begegnung 5) Anz.Schwarzpartien 6) Manuelle Feinwertung ",null,null,null,null,null,null,null,null,null,null,null,null,null,null,null,null,null,null,null,null,null,3,"1) Punkte 2) Anz. Partien 3) So-Be 4) Manuelle Feinwertung "]
[null,"Rang","Teilnehmer",1,null,2,null,3,null,4,null,"Punkte","Spiele","So-Be",{"$f":"IF(O16=\"\",\"FWm\",O16)","v":"FWx"},1,"½",0,"Nr",null,null,null,null,null,"+","-",1,6,"1) Punkte 2) Anz. Partien 3) So-Be 4) Anz.Schwarzpartien 5) direkte Begegnung 6) Manuelle Feinwertung ",null,null,null,null,null,null,null,null,null,null,null,null,null,null,null,null,null,null,null,null,null,4,"1) Punkte 2) Anz. Partien 3) So-Be 4) direkte Begegnung 5) Manuelle Feinwertung ",null,null,null,null,null,null,null,null,null,null,null,null,null,null,null,null,1,null,null,null,null,"N°","R","B","SpNr w","SpNr s","Res w","Res s","AdrTTw","AdrTTs",null,{"$f":"BQ6+1","v":2},null,null,null,null,"N°","R","B","SpNr w","SpNr s","Res w","Res s","AdrTTw","AdrTTs",null,{"$f":"BQ6","v":1},null,{"$f":"IF(BQ6=MAX(TeilnNr),\"-> Bretter drehen!\",\"\")","v":""},null,null,null,null,null,null,null,{"$f":"CF6","v":2},null,{"$f":"IF(CF6=MAX(TeilnNr),\"-> Bretter drehen!\",\"\")","v":""}]
[null,{"$f":"IF(INDEX($BK$17:$BK$20,MATCH(B17,$BO$17:$BO$20,0)),\"-\",IF(INDEX($BJ$17:$BJ$20,MATCH(B17,$BO$17:$BO$20,0))<ROW()-ROW($B$6),\"\",INDEX($BJ$17:$BJ$20,MATCH(B17,$BO$17:$BO$20,0))))","v":1},{"$f":"IF(INDEX($C$17:$C$20,MATCH(B17,$BO$17:$BO$20,0))=0,\"Spieler \"&TEXT(S7,\"00\"),INDEX($C$17:$C$20,MATCH(B17,$BO$17:$BO$20,0)))","v":"Spieler 01"},{"$f":"IF(INDEX($B$16:$K$20,MATCH($S7,$B$16:$B$20,0),MATCH(INDEX($B$17:$B$20,MATCH(OFFSET($S$6,D$6,0),$B$17:$B$20,0)),$B$16:$K$16,0))=\"\",\"\",INDEX($B$16:$K$20,MATCH($S7,$B$16:$B$20,0),MATCH(INDEX($B$17:$B$20,MATCH(OFFSET($S$6,D$6,0),$B$17:$B$20,0)),$B$16:$K$16,0)))","v":""},{"$f":"IF(INDEX($B$16:$K$20,MATCH($S7,$B$16:$B$20,0),MATCH(INDEX($B$17:$B$20,MATCH(OFFSET($S$6,D$6,0),$B$17:$B$20,0)),$B$16:$K$16,0)+1)=\"\",\"\",INDEX($B$16:$K$20,MATCH($S7,$B$16:$B$20,0),MATCH(INDEX($B$17:$B$20,MATCH(OFFSET($S$6,D$6,0),$B$17:$B$20,0)),$B$16:$K$16,0)+1))","v":""},{"$f":"IF(INDEX($B$16:$K$20,MATCH($S7,$B$16:$B$20,0),MATCH(INDEX($B$17:$B$20,MATCH(OFFSET($S$6,F$6,0),$B$17:$B$20,0)),$B$16:$K$16,0))=\"\",\"\",INDEX($B$16:$K$20,MATCH($S7,$B$16:$B$20,0),MATCH(INDEX($B$17:$B$20,MATCH(OFFSET($S$6,F$6,0),$B$17:$B$20,0)),$B$16:$K$16,0)))","v":""},{"$f":"IF(INDEX($B$16:$K$20,MATCH($S7,$B$16:$B$20,0),MATCH(INDEX($B$17:$B$20,MATCH(OFFSET($S$6,F$6,0),$B$17:$B$20,0)),$B$16:$K$16,0)+1)=\"\",\"\",INDEX($B$16:$K$20,MATCH($S7,$B$16:$B$20,0),MATCH(INDEX($B$17:$B$20,MATCH(OFFSET($S$6,F$6,0),$B$17:$B$20,0)),$B$16:$K$16,0)+1))","v":""},{"$f":"IF(INDEX($B$16:$K$20,MATCH($S7,$B$16:$B$20,0),MATCH(INDEX($B$17:$B$20,MATCH(OFFSET($S$6,H$6,0),$B$17:$B$20,0)),$B$16:$K$16,0))=\"\",\"\",INDEX($B$16:$K$20,MATCH($S7,$B$16:$B$20,0),MATCH(INDEX($B$17:$B$20,MATCH(OFFSET($S$6,H$6,0),$B$17:$B$20,0)),$B$16:$K$16,0)))","v":""},{"$f":"IF(INDEX($B$16:$K$20,MATCH($S7,$B$16:$B$20,0),MATCH(INDEX($B$17:$B$20,MATCH(OFFSET($S$6,H$6,0),$B$17:$B$20,0)),$B$16:$K$16,0)+1)=\"\",\"\",INDEX($B$16:$K$20,MATCH($S7,$B$16:$B$20,0),MATCH(INDEX($B$17:$B$20,MATCH(OFFSET($S$6,H$6,0),$B$17:$B$20,0)),$B$16:$K$16,0)+1))","v":""},{"$f":"IF(INDEX($B$16:$K$20,MATCH($S7,$B$16:$B$20,0),MATCH(INDEX($B$17:$B$20,MATCH(OFFSET($S$6,J$6,0),$B$17:$B$20,0)),$B$16:$K$16,0))=\"\",\"\",INDEX($B$16:$K$20,MATCH($S7,$B$16:$B$20,0),MATCH(INDEX($B$17:$B$20,MATCH(OFFSET($S$6,J$6,0),$B$17:$B$20,0)),$B$16:$K$16,0)))","v":""},{"$f":"IF(INDEX($B$16:$K$20,MATCH($S7,$B$16:$B$20,0),MATCH(INDEX($B$17:$B$20,MATCH(OFFSET($S$6,J$6,0),$B$17:$B$20,0)),$B$16:$K$16,0)+1)=\"\",\"\",INDEX($B$16:$K$20,MATCH($S7,$B$16:$B$20,0),MATCH(INDEX($B$17:$B$20,MATCH(OFFSET($S$6,J$6,0),$B$17:$B$20,0)),$B$16:$K$16,0)+1))","v":""},{"$f":"INDEX($X$17:$X$20,MATCH(S7,$B$17:$B$20,0))","v":0},{"$f":"INDEX($M$17:$M$20,MATCH(S7,$B$17:$B$20,0))","v":0},{"$f":"INDEX($N$17:$N$20,MATCH(S7,$B$17:$B$20,0))","v":0},{"$f":"INDEX($O$17:$O$20,MATCH(S7,$B$17:$B$20,0))","v":0},{"$f":"COUNTIF($E7:$K7,1)+COUNTIF($E7:$K7,\"+\")","v":0},{"$f":"COUNTIF($E7:$K7,\"½\")","v":0},{"$f":"COUNTIF($E7:$K7,0)+COUNTIF($E7:$K7,\"-\")","v":0},{"$f":"INDEX($B$17:$B$20,MATCH(B17,$BO$17:$BO$20,0))","v":1},null,null,null,null,null,"-","+",0,7,"1) Punkte 2) Anz. Partien 3) direkte Begegnung 4) So-Be 5) Anz.Schwarzpartien 6) Manuelle Feinwertung ",null,null,null,null,null,null,null,null,null,null,null,null,null,null,null,null,null,null,null,null,null,5,"1) Punkte 2) Anz. Partien 3) So-Be 4) direkte Begegnung 5) Anz.Schwarzpartien 6) Manuelle Feinwertung ",null,null,null,null,null,null,null,null,null,null,null,null,null,null,null,{"$f":"IF(OR(INDEX($BK$17:$BK$20,BY7),INDEX($BK$17:$BK$20,BZ7)),0,1)","v":1},{"$f":"INDEX($BL$17:$BL$20,MATCH($BY7,TeilnNr,0))","v":"Spieler 01"},"-",{"$f":"INDEX($BL$17:$BL$20,MATCH($BZ7,TeilnNr,0))","v":"Spieler 04"},null,null,{"$f":"BQ6","v":1},{"$f":"IF(BQ6>MAX(TeilnNr)-1,BQ6-(MAX(TeilnNr)-1),BQ6)","v":1},1,{"$f":"IF(AND(BX7=1,MOD(BW7,2)=IF(BV7>MAX(TeilnNr)-1,1,0)),MAX(TeilnNr),IF(MOD(BX7,2)=IF(BV7>MAX(TeilnNr)-1,1,0),IF(MAX(TeilnNr)/2-BX7+1-(BW7-MAX(TeilnNr)/2-1)>=1,MAX(TeilnNr)/2-BX7+1-(BW7-MAX(TeilnNr)/2-1),MAX(TeilnNr)/2-BX7+1-(BW7-MAX(TeilnNr)/2-1)+MAX(TeilnNr)-1),IF(BX7-(BW7-1)>=1,BX7-(BW7-1),BX7-(BW7-1)+MAX(TeilnNr)-1)))","v":1},{"$f":"IF(AND(BX7=1,MOD(BW7,2)<>IF(BV7>MAX(TeilnNr)-1,1,0)),MAX(TeilnNr),IF(MOD(BX7,2)<>IF(BV7>MAX(TeilnNr)-1,1,0),IF(MAX(TeilnNr)/2-BX7+1-(BW7-MAX(TeilnNr)/2-1)>=1,MAX(TeilnNr)/2-BX7+1-(BW7-MAX(TeilnNr)/2-1),MAX(TeilnNr)/2-BX7+1-(BW7-MAX(TeilnNr)/2-1)+MAX(TeilnNr)-1),IF(BX7-(BW7-1)>=1,BX7-(BW7-1),BX7-(BW7-1)+MAX(TeilnNr)-1)))","v":4},{"$f":"IF(LEFT(BU7,1)=\"V\",\"\",LEFT(BU7,1))","v":""},{"$f":"IF(RIGHT(BU7,1)=\"V\",\"\",RIGHT(BU7,1))","v":""},{"$f":"IF(BV7>MAX(TeilnNr)-1,ADDRESS(ROW(Teilnehmer)+BY7,COLUMN(Teilnehmer)+BZ7+BZ7),ADDRESS(ROW(Teilnehmer)+BY7,COLUMN(Teilnehmer)+BZ7+BZ7-1))","v":"$J$17"},{"$f":"IF(BV7>MAX(TeilnNr)-1,ADDRESS(ROW(Teilnehmer)+BZ7,COLUMN(Teilnehmer)+BY7+BY7),ADDRESS(ROW(Teilnehmer)+BZ7,COLUMN(Teilnehmer)+BY7+BY7-1))","v":"$D$20"},{"$f":"IF(OR(INDEX($BK$17:$BK$20,CN7),INDEX($BK$17:$BK$20,CO7)),0,1)","v":1},{"$f":"INDEX($BL$17:$BL$20,MATCH($CN7,TeilnNr,0))","v":"Spieler 04"},"-",{"$f":"INDEX($BL$17:$BL$20,MATCH($CO7,TeilnNr,0))","v":"Spieler 03"},null,null,{"$f":"CF6","v":2},{"$f":"IF(CF6>MAX(TeilnNr)-1,CF6-(MAX(TeilnNr)-1),CF6)","v":2},1,{"$f":"IF(AND(CM7=1,MOD(CL7,2)=IF(CK7>MAX(TeilnNr)-1,1,0)),MAX(TeilnNr),IF(MOD(CM7,2)=IF(CK7>MAX(TeilnNr)-1,1,0),IF(MAX(TeilnNr)/2-CM7+1-(CL7-MAX(TeilnNr)/2-1)>=1,MAX(TeilnNr)/2-CM7+1-(CL7-MAX(TeilnNr)/2-1),MAX(TeilnNr)/2-CM7+1-(CL7-MAX(TeilnNr)/2-1)+MAX(TeilnNr)-1),IF(CM7-(CL7-1)>=1,CM7-(CL7-1),CM7-(CL7-1)+MAX(TeilnNr)-1)))","v":4},{"$f":"IF(AND(CM7=1,MOD(CL7,2)<>IF(CK7>MAX(TeilnNr)-1,1,0)),MAX(TeilnNr),IF(MOD(CM7,2)<>IF(CK7>MAX(TeilnNr)-1,1,0),IF(MAX(TeilnNr)/2-CM7+1-(CL7-MAX(TeilnNr)/2-1)>=1,MAX(TeilnNr)/2-CM7+1-(CL7-MAX(TeilnNr)/2-1),MAX(TeilnNr)/2-CM7+1-(CL7-MAX(TeilnNr)/2-1)+MAX(TeilnNr)-1),IF(CM7-(CL7-1)>=1,CM7-(CL7-1),CM7-(CL7-1)+MAX(TeilnNr)-1)))","v":3},{"$f":"IF(LEFT(CJ7,1)=\"V\",\"\",LEFT(CJ7,1))","v":""},{"$f":"IF(RIGHT(CJ7,1)=\"V\",\"\",RIGHT(CJ7,1))","v":""},{"$f":"IF(CK7>MAX(TeilnNr)-1,ADDRESS(ROW(Teilnehmer)+CN7,COLUMN(Teilnehmer)+CO7+CO7),ADDRESS(ROW(Teilnehmer)+CN7,COLUMN(Teilnehmer)+CO7+CO7-1))","v":"$H$20"},{"$f":"IF(CK7>MAX(TeilnNr)-1,ADDRESS(ROW(Teilnehmer)+CO7,COLUMN(Teilnehmer)+CN7+CN7),ADDRESS(ROW(Teilnehmer)+CO7,COLUMN(Teilnehmer)+CN7+CN7-1))","v":"$J$19"},{"$f":"BP7","v":1},{"$f":"BQ7","v":"Spieler 01"},"-",{"$f":"BS7","v":"Spieler 04"},{"$f":"IF(ISNUMBER(BV7),IF(BV7>MAX(TeilnNr)-1,IF(BX7=1,1,IF(MOD(BX7,2)<>0,2,1)),IF(BX7=1,1,IF(MOD(BX7,2)<>0,1,2))),\"\")","v":1},null,{"$f":"IF(CX7=1,2,1)","v":2},{"$f":"CX7","v":1},null,{"$f":"IF(CM7=1,CZ7*10,CZ7)","v":20},{"$f":"CE7","v":1},{"$f":"CH7","v":"Spieler 03"},"-",{"$f":"CF7","v":"Spieler 04"},{"$f":"IF(ISNUMBER(CK7),IF(CK7>MAX(TeilnNr)-1,IF(CM7=1,2,IF(MOD(CM7,2)<>0,2,1)),IF(CM7=1,2,IF(MOD(CM7,2)<>0,1,2))),\"\")","v":2},null,{"$f":"IF(DH7=1,2,1)","v":1},{"$f":"DH7","v":2},null,{"$f":"IF(CM7=1,DJ7*10,DJ7)","v":10}]
[null,{"$f":"IF(INDEX($BK$17:$BK$20,MATCH(B18,$BO$17:$BO$20,0)),\"-\",IF(INDEX($BJ$17:$BJ$20,MATCH(B18,$BO$17:$BO$20,0))<ROW()-ROW($B$6),\"\",INDEX($BJ$17:$BJ$20,MATCH(B18,$BO$17:$BO$20,0))))","v":""},{"$f":"IF(INDEX($C$17:$C$20,MATCH(B18,$BO$17:$BO$20,0))=0,\"Spieler \"&TEXT(S8,\"00\"),INDEX($C$17:$C$20,MATCH(B18,$BO$17:$BO$20,0)))","v":"Spieler 02"},{"$f":"IF(INDEX($B$16:$K$20,MATCH($S8,$B$16:$B$20,0),MATCH(INDEX($B$17:$B$20,MATCH(OFFSET($S$6,D$6,0),$B$17:$B$20,0)),$B$16:$K$16,0))=\"\",\"\",INDEX($B$16:$K$20,MATCH($S8,$B$16:$B$20,0),MATCH(INDEX($B$17:$B$20,MATCH(OFFSET($S$6,D$6,0),$B$17:$B$20,0)),$B$16:$K$16,0)))","v":""},{"$f":"IF(INDEX($B$16:$K$20,MATCH($S8,$B$16:$B$20,0),MATCH(INDEX($B$17:$B$20,MATCH(OFFSET($S$6,D$6,0),$B$17:$B$20,0)),$B$16:$K$16,0)+1)=\"\",\"\",INDEX($B$16:$K$20,MATCH($S8,$B$16:$B$20,0),MATCH(INDEX($B$17:$B$20,MATCH(OFFSET($S$6,D$6,0),$B$17:$B$20,0)),$B$16:$K$16,0)+1))","v":""},{"$f":"IF(INDEX($B$16:$K$20,MATCH($S8,$B$16:$B$20,0),MATCH(INDEX($B$17:$B$20,MATCH(OFFSET($S$6,F$6,0),$B$17:$B$20,0)),$B$16:$K$16,0))=\"\",\"\",INDEX($B$16:$K$20,MATCH($S8,$B$16:$B$20,0),MATCH(INDEX($B$17:$B$20,MATCH(OFFSET($S$6,F$6,0),$B$17:$B$20,0)),$B$16:$K$16,0)))","v":""},{"$f":"IF(INDEX($B$16:$K$20,MATCH($S8,$B$16:$B$20,0),MATCH(INDEX($B$17:$B$20,MATCH(OFFSET($S$6,F$6,0),$B$17:$B$20,0)),$B$16:$K$16,0)+1)=\"\",\"\",INDEX($B$16:$K$20,MATCH($S8,$B$16:$B$20,0),MATCH(INDEX($B$17:$B$20,MATCH(OFFSET($S$6,F$6,0),$B$17:$B$20,0)),$B$16:$K$16,0)+1))","v":""},{"$f":"IF(INDEX($B$16:$K$20,MATCH($S8,$B$16:$B$20,0),MATCH(INDEX($B$17:$B$20,MATCH(OFFSET($S$6,H$6,0),$B$17:$B$20,0)),$B$16:$K$16,0))=\"\",\"\",INDEX($B$16:$K$20,MATCH($S8,$B$16:$B$20,0),MATCH(INDEX($B$17:$B$20,MATCH(OFFSET($S$6,H$6,0),$B$17:$B$20,0)),$B$16:$K$16,0)))","v":""},{"$f":"IF(INDEX($B$16:$K$20,MATCH($S8,$B$16:$B$20,0),MATCH(INDEX($B$17:$B$20,MATCH(OFFSET($S$6,H$6,0),$B$17:$B$20,0)),$B$16:$K$16,0)+1)=\"\",\"\",INDEX($B$16:$K$20,MATCH($S8,$B$16:$B$20,0),MATCH(INDEX($B$17:$B$20,MATCH(OFFSET($S$6,H$6,0),$B$17:$B$20,0)),$B$16:$K$16,0)+1))","v":""},{"$f":"IF(INDEX($B$16:$K$20,MATCH($S8,$B$16:$B$20,0),MATCH(INDEX($B$17:$B$20,MATCH(OFFSET($S$6,J$6,0),$B$17:$B$20,0)),$B$16:$K$16,0))=\"\",\"\",INDEX($B$16:$K$20,MATCH($S8,$B$16:$B$20,0),MATCH(INDEX($B$17:$B$20,MATCH(OFFSET($S$6,J$6,0),$B$17:$B$20,0)),$B$16:$K$16,0)))","v":""},{"$f":"IF(INDEX($B$16:$K$20,MATCH($S8,$B$16:$B$20,0),MATCH(INDEX($B$17:$B$20,MATCH(OFFSET($S$6,J$6,0),$B$17:$B$20,0)),$B$16:$K$16,0)+1)=\"\",\"\",INDEX($B$16:$K$20,MATCH($S8,$B$16:$B$20,0),MATCH(INDEX($B$17:$B$20,MATCH(OFFSET($S$6,J$6,0),$B$17:$B$20,0)),$B$16:$K$16,0)+1))","v":""},{"$f":"INDEX($X$17:$X$20,MATCH(S8,$B$17:$B$20,0))","v":0},{"$f":"INDEX($M$17:$M$20,MATCH(S8,$B$17:$B$20,0))","v":0},{"$f":"INDEX($N$17:$N$20,MATCH(S8,$B$17:$B$20,0))","v":0},{"$f":"INDEX($O$17:$O$20,MATCH(S8,$B$17:$B$20,0))","v":0},{"$f":"COUNTIF($E8:$K8,1)+COUNTIF($E8:$K8,\"+\")","v":0},{"$f":"COUNTIF($E8:$K8,\"½\")","v":0},{"$f":"COUNTIF($E8:$K8,0)+COUNTIF($E8:$K8,\"-\")","v":0},{"$f":"INDEX($B$17:$B$20,MATCH(B18,$BO$17:$BO$20,0))","v":2},null,null,null,null,null,null,null,null,8,"1) Punkte 2) Anz. Partien 3) direkte Begegnung 4) Anz.Schwarzpartien 5) So-Be 6) Manuelle Feinwertung ",null,null,null,null,null,null,null,null,null,null,null,null,null,null,null,null,null,null,null,null,null,6,"1) Punkte 2) Anz. Partien 3) So-Be 4) Anz.Schwarzpartien 5) direkte Begegnung 6) Manuelle Feinwertung ",null,null,null,null,null,null,null,null,null,null,null,null,null,null,null,{"$f":"BP7+1","v":2},{"$f":"INDEX($BL$17:$BL$20,MATCH($BY8,TeilnNr,0))","v":"Spieler 03"},"-",{"$f":"INDEX($BL$17:$BL$20,MATCH($BZ8,TeilnNr,0))","v":"Spieler 02"},null,null,{"$f":"BV7","v":1},{"$f":"BW7","v":1},{"$f":"BX7+1","v":2},3,2,{"$f":"IF(LEFT(BU8,1)=\"V\",\"\",LEFT(BU8,1))","v":""},{"$f":"IF(RIGHT(BU8,1)=\"V\",\"\",RIGHT(BU8,1))","v":""},"$F$19","$H$18",{"$f":"CE7+1","v":2},{"$f":"INDEX($BL$17:$BL$20,MATCH($CN8,TeilnNr,0))","v":"Spieler 02"},"-",{"$f":"INDEX($BL$17:$BL$20,MATCH($CO8,TeilnNr,0))","v":"Spieler 01"},null,null,{"$f":"CK7","v":2},{"$f":"CL7","v":2},{"$f":"CM7+1","v":2},2,1,{"$f":"IF(LEFT(CJ8,1)=\"V\",\"\",LEFT(CJ8,1))","v":""},{"$f":"IF(RIGHT(CJ8,1)=\"V\",\"\",RIGHT(CJ8,1))","v":""},"$D$18","$F$17",2,{"$f":"IF(BV8>MAX(TeilnNr)-1,BQ8,BS8)","v":"Spieler 02"},"-",{"$f":"IF(BV8>MAX(TeilnNr)-1,BS8,BQ8)","v":"Spieler 03"},{"$f":"IF(ISNUMBER(BV8),IF(BV8>MAX(TeilnNr)-1,IF(BX8=1,1,IF(MOD(BX8,2)<>0,2,1)),IF(BX8=1,1,IF(MOD(BX8,2)<>0,1,2))),\"\")","v":2},null,{"$f":"IF(CX8=1,2,1)","v":1},{"$f":"CX8","v":2},null,{"$f":"IF(CM8=1,CZ8*10,CZ8)","v":1},2,{"$f":"IF(CK8>MAX(TeilnNr)-1,CF8,CH8)","v":"Spieler 01"},"-",{"$f":"IF(CK8>MAX(TeilnNr)-1,CH8,CF8)","v":"Spieler 02"},{"$f":"IF(ISNUMBER(CK8),IF(CK8>MAX(TeilnNr)-1,IF(CM8=1,2,IF(MOD(CM8,2)<>0,2,1)),IF(CM8=1,2,IF(MOD(CM8,2)<>0,1,2))),\"\")","v":2},null,{"$f":"IF(DH8=1,2,1)","v":1},{"$f":"DH8","v":2},null,{"$f":"IF(CM8=1,DJ8*10,DJ8)","v":1}]
[null,{"$f":"IF(INDEX($BK$17:$BK$20,MATCH(B19,$BO$17:$BO$20,0)),\"-\",IF(INDEX($BJ$17:$BJ$20,MATCH(B19,$BO$17:$BO$20,0))<ROW()-ROW($B$6),\"\",INDEX($BJ$17:$BJ$20,MATCH(B19,$BO$17:$BO$20,0))))","v":""},{"$f":"IF(INDEX($C$17:$C$20,MATCH(B19,$BO$17:$BO$20,0))=0,\"Spieler \"&TEXT(S9,\"00\"),INDEX($C$17:$C$20,MATCH(B19,$BO$17:$BO$20,0)))","v":"Spieler 03"},{"$f":"IF(INDEX($B$16:$K$20,MATCH($S9,$B$16:$B$20,0),MATCH(INDEX($B$17:$B$20,MATCH(OFFSET($S$6,D$6,0),$B$17:$B$20,0)),$B$16:$K$16,0))=\"\",\"\",INDEX($B$16:$K$20,MATCH($S9,$B$16:$B$20,0),MATCH(INDEX($B$17:$B$20,MATCH(OFFSET($S$6,D$6,0),$B$17:$B$20,0)),$B$16:$K$16,0)))","v":""},{"$f":"IF(INDEX($B$16:$K$20,MATCH($S9,$B$16:$B$20,0),MATCH(INDEX($B$17:$B$20,MATCH(OFFSET($S$6,D$6,0),$B$17:$B$20,0)),$B$16:$K$16,0)+1)=\"\",\"\",INDEX($B$16:$K$20,MATCH($S9,$B$16:$B$20,0),MATCH(INDEX($B$17:$B$20,MATCH(OFFSET($S$6,D$6,0),$B$17:$B$20,0)),$B$16:$K$16,0)+1))","v":""},{"$f":"IF(INDEX($B$16:$K$20,MATCH($S9,$B$16:$B$20,0),MATCH(INDEX($B$17:$B$20,MATCH(OFFSET($S$6,F$6,0),$B$17:$B$20,0)),$B$16:$K$16,0))=\"\",\"\",INDEX($B$16:$K$20,MATCH($S9,$B$16:$B$20,0),MATCH(INDEX($B$17:$B$20,MATCH(OFFSET($S$6,F$6,0),$B$17:$B$20,0)),$B$16:$K$16,0)))","v":""},{"$f":"IF(INDEX($B$16:$K$20,MATCH($S9,$B$16:$B$20,0),MATCH(INDEX($B$17:$B$20,MATCH(OFFSET($S$6,F$6,0),$B$17:$B$20,0)),$B$16:$K$16,0)+1)=\"\",\"\",INDEX($B$16:$K$20,MATCH($S9,$B$16:$B$20,0),MATCH(INDEX($B$17:$B$20,MATCH(OFFSET($S$6,F$6,0),$B$17:$B$20,0)),$B$16:$K$16,0)+1))","v":""},{"$f":"IF(INDEX($B$16:$K$20,MATCH($S9,$B$16:$B$20,0),MATCH(INDEX($B$17:$B$20,MATCH(OFFSET($S$6,H$6,0),$B$17:$B$20,0)),$B$16:$K$16,0))=\"\",\"\",INDEX($B$16:$K$20,MATCH($S9,$B$16:$B$20,0),MATCH(INDEX($B$17:$B$20,MATCH(OFFSET($S$6,H$6,0),$B$17:$B$20,0)),$B$16:$K$16,0)))","v":""},{"$f":"IF(INDEX($B$16:$K$20,MATCH($S9,$B$16:$B$20,0),MATCH(INDEX($B$17:$B$20,MATCH(OFFSET($S$6,H$6,0),$B$17:$B$20,0)),$B$16:$K$16,0)+1)=\"\",\"\",INDEX($B$16:$K$20,MATCH($S9,$B$16:$B$20,0),MATCH(INDEX($B$17:$B$20,MATCH(OFFSET($S$6,H$6,0),$B$17:$B$20,0)),$B$16:$K$16,0)+1))","v":""},{"$f":"IF(INDEX($B$16:$K$20,MATCH($S9,$B$16:$B$20,0),MATCH(INDEX($B$17:$B$20,MATCH(OFFSET($S$6,J$6,0),$B$17:$B$20,0)),$B$16:$K$16,0))=\"\",\"\",INDEX($B$16:$K$20,MATCH($S9,$B$16:$B$20,0),MATCH(INDEX($B$17:$B$20,MATCH(OFFSET($S$6,J$6,0),$B$17:$B$20,0)),$B$16:$K$16,0)))","v":""},{"$f":"IF(INDEX($B$16:$K$20,MATCH($S9,$B$16:$B$20,0),MATCH(INDEX($B$17:$B$20,MATCH(OFFSET($S$6,J$6,0),$B$17:$B$20,0)),$B$16:$K$16,0)+1)=\"\",\"\",INDEX($B$16:$K$20,MATCH($S9,$B$16:$B$20,0),MATCH(INDEX($B$17:$B$20,MATCH(OFFSET($S$6,J$6,0),$B$17:$B$20,0)),$B$16:$K$16,0)+1))","v":""},{"$f":"INDEX($X$17:$X$20,MATCH(S9,$B$17:$B$20,0))","v":0},{"$f":"INDEX($M$17:$M$20,MATCH(S9,$B$17:$B$20,0))","v":0},{"$f":"INDEX($N$17:$N$20,MATCH(S9,$B$17:$B$20,0))","v":0},{"$f":"INDEX($O$17:$O$20,MATCH(S9,$B$17:$B$20,0))","v":0},{"$f":"COUNTIF($E9:$K9,1)+COUNTIF($E9:$K9,\"+\")","v":0},{"$f":"COUNTIF($E9:$K9,\"½\")","v":0},{"$f":"COUNTIF($E9:$K9,0)+COUNTIF($E9:$K9,\"-\")","v":0},{"$f":"INDEX($B$17:$B$20,MATCH(B19,$BO$17:$BO$20,0))","v":3},null,null,null,null,null,null,null,null,9,"1) Punkte 2) Anz. Partien 3) Anz.Schwarzpartien 4) So-Be 5) direkte Begegnung 6) Manuelle Feinwertung ",null,null,null,null,null,null,null,null,null,null,null,null,null,null,null,null,null,null,null,null,null,7,"1) Punkte 2) Anz. Partien 3) direkte Begegnung 4) So-Be 5) Anz.Schwarzpartien 6) Manuelle Feinwertung ",null,null,null,null,null,null,null,null,null,null,null,null,null,null,null,null,null,null,null,null,null,null,null,null,null,null,null,null,null,null,null,null,null,null,null,null,null,null,null,null,null,null,null,null,null,null,null,null,null,{"$f":"IF(ISNUMBER(BV9),IF(BV9>MAX(TeilnNr)-1,2,1),\"\")","v":""},null,null,{"$f":"IF(ISNUMBER(BY9),IF(BY9>MAX(TeilnNr)-1,2,1),\"\")","v":""},null,null,null,null,null,null,{"$f":"IF(ISNUMBER(CK9),IF(CK9>MAX(TeilnNr)-1,IF(CM9=1,1,IF(MOD(CM9,2)<>0,2,1)),IF(CM9=1,2,IF(MOD(CM9,2)<>0,1,2))),\"\")","v":""},null,null,{"$f":"IF(ISNUMBER(CI9),IF(CI9>MAX(TeilnNr)-1,2,1),\"\")","v":""}]
[null,{"$f":"IF(INDEX($BK$17:$BK$20,MATCH(B20,$BO$17:$BO$20,0)),\"-\",IF(INDEX($BJ$17:$BJ$20,MATCH(B20,$BO$17:$BO$20,0))<ROW()-ROW($B$6),\"\",INDEX($BJ$17:$BJ$20,MATCH(B20,$BO$17:$BO$20,0))))","v":""},{"$f":"IF(INDEX($C$17:$C$20,MATCH(B20,$BO$17:$BO$20,0))=0,\"Spieler \"&TEXT(S10,\"00\"),INDEX($C$17:$C$20,MATCH(B20,$BO$17:$BO$20,0)))","v":"Spieler 04"},{"$f":"IF(INDEX($B$16:$K$20,MATCH($S10,$B$16:$B$20,0),MATCH(INDEX($B$17:$B$20,MATCH(OFFSET($S$6,D$6,0),$B$17:$B$20,0)),$B$16:$K$16,0))=\"\",\"\",INDEX($B$16:$K$20,MATCH($S10,$B$16:$B$20,0),MATCH(INDEX($B$17:$B$20,MATCH(OFFSET($S$6,D$6,0),$B$17:$B$20,0)),$B$16:$K$16,0)))","v":""},{"$f":"IF(INDEX($B$16:$K$20,MATCH($S10,$B$16:$B$20,0),MATCH(INDEX($B$17:$B$20,MATCH(OFFSET($S$6,D$6,0),$B$17:$B$20,0)),$B$16:$K$16,0)+1)=\"\",\"\",INDEX($B$16:$K$20,MATCH($S10,$B$16:$B$20,0),MATCH(INDEX($B$17:$B$20,MATCH(OFFSET($S$6,D$6,0),$B$17:$B$20,0)),$B$16:$K$16,0)+1))","v":""},{"$f":"IF(INDEX($B$16:$K$20,MATCH($S10,$B$16:$B$20,0),MATCH(INDEX($B$17:$B$20,MATCH(OFFSET($S$6,F$6,0),$B$17:$B$20,0)),$B$16:$K$16,0))=\"\",\"\",INDEX($B$16:$K$20,MATCH($S10,$B$16:$B$20,0),MATCH(INDEX($B$17:$B$20,MATCH(OFFSET($S$6,F$6,0),$B$17:$B$20,0)),$B$16:$K$16,0)))","v":""},{"$f":"IF(INDEX($B$16:$K$20,MATCH($S10,$B$16:$B$20,0),MATCH(INDEX($B$17:$B$20,MATCH(OFFSET($S$6,F$6,0),$B$17:$B$20,0)),$B$16:$K$16,0)+1)=\"\",\"\",INDEX($B$16:$K$20,MATCH($S10,$B$16:$B$20,0),MATCH(INDEX($B$17:$B$20,MATCH(OFFSET($S$6,F$6,0),$B$17:$B$20,0)),$B$16:$K$16,0)+1))","v":""},{"$f":"IF(INDEX($B$16:$K$20,MATCH($S10,$B$16:$B$20,0),MATCH(INDEX($B$17:$B$20,MATCH(OFFSET($S$6,H$6,0),$B$17:$B$20,0)),$B$16:$K$16,0))=\"\",\"\",INDEX($B$16:$K$20,MATCH($S10,$B$16:$B$20,0),MATCH(INDEX($B$17:$B$20,MATCH(OFFSET($S$6,H$6,0),$B$17:$B$20,0)),$B$16:$K$16,0)))","v":""},{"$f":"IF(INDEX($B$16:$K$20,MATCH($S10,$B$16:$B$20,0),MATCH(INDEX($B$17:$B$20,MATCH(OFFSET($S$6,H$6,0),$B$17:$B$20,0)),$B$16:$K$16,0)+1)=\"\",\"\",INDEX($B$16:$K$20,MATCH($S10,$B$16:$B$20,0),MATCH(INDEX($B$17:$B$20,MATCH(OFFSET($S$6,H$6,0),$B$17:$B$20,0)),$B$16:$K$16,0)+1))","v":""},{"$f":"IF(INDEX($B$16:$K$20,MATCH($S10,$B$16:$B$20,0),MATCH(INDEX($B$17:$B$20,MATCH(OFFSET($S$6,J$6,0),$B$17:$B$20,0)),$B$16:$K$16,0))=\"\",\"\",INDEX($B$16:$K$20,MATCH($S10,$B$16:$B$20,0),MATCH(INDEX($B$17:$B$20,MATCH(OFFSET($S$6,J$6,0),$B$17:$B$20,0)),$B$16:$K$16,0)))","v":""},{"$f":"IF(INDEX($B$16:$K$20,MATCH($S10,$B$16:$B$20,0),MATCH(INDEX($B$17:$B$20,MATCH(OFFSET($S$6,J$6,0),$B$17:$B$20,0)),$B$16:$K$16,0)+1)=\"\",\"\",INDEX($B$16:$K$20,MATCH($S10,$B$16:$B$20,0),MATCH(INDEX($B$17:$B$20,MATCH(OFFSET($S$6,J$6,0),$B$17:$B$20,0)),$B$16:$K$16,0)+1))","v":""},{"$f":"INDEX($X$17:$X$20,MATCH(S10,$B$17:$B$20,0))","v":0},{"$f":"INDEX($M$17:$M$20,MATCH(S10,$B$17:$B$20,0))","v":0},{"$f":"INDEX($N$17:$N$20,MATCH(S10,$B$17:$B$20,0))","v":0},{"$f":"INDEX($O$17:$O$20,MATCH(S10,$B$17:$B$20,0))","v":0},{"$f":"COUNTIF($E10:$K10,1)+COUNTIF($E10:$K10,\"+\")","v":0},{"$f":"COUNTIF($E10:$K10,\"½\")","v":0},{"$f":"COUNTIF($E10:$K10,0)+COUNTIF($E10:$K10,\"-\")","v":0},{"$f":"INDEX($B$17:$B$20,MATCH(B20,$BO$17:$BO$20,0))","v":4},null,null,null,null,null,null,null,4,10,"1) Punkte 2) Anz. Partien 3) Anz.Schwarzpartien 4) direkte Begegnung 5) So-Be 6) Manuelle Feinwertung ",null,null,null,null,null,null,null,null,null,null,null,null,null,null,null,null,null,null,null,null,null,8,"1) Punkte 2) Anz. Partien 3) direkte Begegnung 4) Anz.Schwarzpartien 5) So-Be 6) Manuelle Feinwertung ",null,null,null,null,null,null,null,null,null,null,null,null,null,null,null,null,{"$f":"BQ6+2","v":3},null,null,null,null,"N°","R","B","SpNr w","SpNr s","Res w","Res s",null,null,null,{"$f":"CF6+2","v":4},null,null,null,null,"N°","R","B","SpNr w","SpNr s","Res w","Res s",null,null,null,{"$f":"BQ10","v":3},null,{"$f":"IF(BQ10=MAX(TeilnNr),\"-> Bretter drehen!\",\"\")","v":""},{"$f":"IF(ISNUMBER(BV10),IF(BV10>MAX(TeilnNr)-1,2,1),\"\")","v":""},null,null,{"$f":"IF(ISNUMBER(BY10),IF(BY10>MAX(TeilnNr)-1,2,1),\"\")","v":""},null,null,null,{"$f":"CF10","v":4},null,{"$f":"IF(CF10=MAX(TeilnNr),\"-> Bretter drehen!\",\"\")","v":"-> Bretter drehen!"},{"$f":"IF(ISNUMBER(CK10),IF(CK10>MAX(TeilnNr)-1,IF(MOD(CM10,2)<>0,2,1),IF(MOD(CM10,2)<>0,1,2)),\"\")","v":""},null,null,{"$f":"IF(ISNUMBER(CI10),IF(CI10>MAX(TeilnNr)-1,2,1),\"\")","v":""}]
[null,"Wertungskriterien:",null,null,null,null,null,null,null,null,null,null,null,null,null,null,null,null,null,null,null,null,null,null,null,null,null,null,null,null,null,null,null,null,null,null,null,null,null,null,null,null,null,null,null,null,null,null,null,null,null,null,null,null,null,null,null,null,null,null,null,null,null,null,null,null,null,{"$f":"IF(OR(INDEX($BK$17:$BK$20,BY11),INDEX($BK$17:$BK$20,BZ11)),0,1)","v":1},{"$f":"INDEX($BL$17:$BL$20,MATCH($BY11,TeilnNr,0))","v":"Spieler 02"},"-",{"$f":"INDEX($BL$17:$BL$20,MATCH($BZ11,TeilnNr,0))","v":"Spieler 04"},null,null,{"$f":"BQ10","v":3},{"$f":"IF(BQ10>MAX(TeilnNr)-1,BQ10-(MAX(TeilnNr)-1),BQ10)","v":3},1,{"$f":"IF(AND(BX11=1,MOD(BW11,2)=IF(BV11>MAX(TeilnNr)-1,1,0)),MAX(TeilnNr),IF(MOD(BX11,2)=IF(BV11>MAX(TeilnNr)-1,1,0),IF(MAX(TeilnNr)/2-BX11+1-(BW11-MAX(TeilnNr)/2-1)>=1,MAX(TeilnNr)/2-BX11+1-(BW11-MAX(TeilnNr)/2-1),MAX(TeilnNr)/2-BX11+1-(BW11-MAX(TeilnNr)/2-1)+MAX(TeilnNr)-1),IF(BX11-(BW11-1)>=1,BX11-(BW11-1),BX11-(BW11-1)+MAX(TeilnNr)-1)))","v":2},{"$f":"IF(AND(BX11=1,MOD(BW11,2)<>IF(BV11>MAX(TeilnNr)-1,1,0)),MAX(TeilnNr),IF(MOD(BX11,2)<>IF(BV11>MAX(TeilnNr)-1,1,0),IF(MAX(TeilnNr)/2-BX11+1-(BW11-MAX(TeilnNr)/2-1)>=1,MAX(TeilnNr)/2-BX11+1-(BW11-MAX(TeilnNr)/2-1),MAX(TeilnNr)/2-BX11+1-(BW11-MAX(TeilnNr)/2-1)+MAX(TeilnNr)-1),IF(BX11-(BW11-1)>=1,BX11-(BW11-1),BX11-(BW11-1)+MAX(TeilnNr)-1)))","v":4},{"$f":"IF(LEFT(BU11,1)=\"V\",\"\",LEFT(BU11,1))","v":""},{"$f":"IF(RIGHT(BU11,1)=\"V\",\"\",RIGHT(BU11,1))","v":""},{"$f":"IF(BV11>MAX(TeilnNr)-1,ADDRESS(ROW(Teilnehmer)+BY11,COLUMN(Teilnehmer)+BZ11+BZ11),ADDRESS(ROW(Teilnehmer)+BY11,COLUMN(Teilnehmer)+BZ11+BZ11-1))","v":"$J$18"},{"$f":"IF(BV11>MAX(TeilnNr)-1,ADDRESS(ROW(Teilnehmer)+BZ11,COLUMN(Teilnehmer)+BY11+BY11),ADDRESS(ROW(Teilnehmer)+BZ11,COLUMN(Teilnehmer)+BY11+BY11-1))","v":"$F$20"},{"$f":"IF(OR(INDEX($BK$17:$BK$20,CN11),INDEX($BK$17:$BK$20,CO11)),0,1)","v":1},{"$f":"INDEX($BL$17:$BL$20,MATCH($CN11,TeilnNr,0))","v":"Spieler 04"},"-",{"$f":"INDEX($BL$17:$BL$20,MATCH($CO11,TeilnNr,0))","v":"Spieler 01"},null,null,{"$f":"CF10","v":4},{"$f":"IF(CF10>MAX(TeilnNr)-1,CF10-(MAX(TeilnNr)-1),CF10)","v":1},1,{"$f":"IF(AND(CM11=1,MOD(CL11,2)=IF(CK11>MAX(TeilnNr)-1,1,0)),MAX(TeilnNr),IF(MOD(CM11,2)=IF(CK11>MAX(TeilnNr)-1,1,0),IF(MAX(TeilnNr)/2-CM11+1-(CL11-MAX(TeilnNr)/2-1)>=1,MAX(TeilnNr)/2-CM11+1-(CL11-MAX(TeilnNr)/2-1),MAX(TeilnNr)/2-CM11+1-(CL11-MAX(TeilnNr)/2-1)+MAX(TeilnNr)-1),IF(CM11-(CL11-1)>=1,CM11-(CL11-1),CM11-(CL11-1)+MAX(TeilnNr)-1)))","v":4},{"$f":"IF(AND(CM11=1,MOD(CL11,2)<>IF(CK11>MAX(TeilnNr)-1,1,0)),MAX(TeilnNr),IF(MOD(CM11,2)<>IF(CK11>MAX(TeilnNr)-1,1,0),IF(MAX(TeilnNr)/2-CM11+1-(CL11-MAX(TeilnNr)/2-1)>=1,MAX(TeilnNr)/2-CM11+1-(CL11-MAX(TeilnNr)/2-1),MAX(TeilnNr)/2-CM11+1-(CL11-MAX(TeilnNr)/2-1)+MAX(TeilnNr)-1),IF(CM11-(CL11-1)>=1,CM11-(CL11-1),CM11-(CL11-1)+MAX(TeilnNr)-1)))","v":1},{"$f":"IF(LEFT(CJ11,1)=\"V\",\"\",LEFT(CJ11,1))","v":""},{"$f":"IF(RIGHT(CJ11,1)=\"V\",\"\",RIGHT(CJ11,1))","v":""},{"$f":"IF(CK11>MAX(TeilnNr)-1,ADDRESS(ROW(Teilnehmer)+CN11,COLUMN(Teilnehmer)+CO11+CO11),ADDRESS(ROW(Teilnehmer)+CN11,COLUMN(Teilnehmer)+CO11+CO11-1))","v":"$E$20"},{"$f":"IF(CK11>MAX(TeilnNr)-1,ADDRESS(ROW(Teilnehmer)+CO11,COLUMN(Teilnehmer)+CN11+CN11),ADDRESS(ROW(Teilnehmer)+CO11,COLUMN(Teilnehmer)+CN11+CN11-1))","v":"$K$17"},{"$f":"BP11","v":1},{"$f":"BQ11","v":"Spieler 02"},"-",{"$f":"BS11","v":"Spieler 04"},{"$f":"IF(ISNUMBER(BV11),IF(BV11>MAX(TeilnNr)-1,IF(BX11=1,1,IF(MOD(BX11,2)<>0,2,1)),IF(BX11=1,1,IF(MOD(BX11,2)<>0,1,2))),\"\")","v":1},null,{"$f":"IF(CX11=1,2,1)","v":2},{"$f":"CX11","v":1},null,{"$f":"IF(CM11=1,CZ11*10,CZ11)","v":20},{"$f":"CE11","v":1},{"$f":"CH11","v":"Spieler 01"},"-",{"$f":"CF11","v":"Spieler 04"},{"$f":"IF(ISNUMBER(CK11),IF(CK11>MAX(TeilnNr)-1,IF(CM11=1,2,IF(MOD(CM11,2)<>0,2,1)),IF(CM11=1,2,IF(MOD(CM11,2)<>0,1,2))),\"\")","v":2},null,{"$f":"IF(DH11=1,2,1)","v":1},{"$f":"DH11","v":2},null,{"$f":"IF(CM11=1,DJ11*10,DJ11)","v":10}]
[null,{"$f":"INDEX(Wertungskriterien,WertungskriterienA)","v":"1) Punkte 2) Anz. Partien 3) So-Be 4) direkte Begegnung 5) Manuelle Feinwertung "},null,null,null,null,null,null,null,null,null,null,null,null,null,null,null,null,null,null,null,null,null,null,null,null,null,null,null,null,null,null,null,null,null,null,null,null,null,null,null,null,null,null,null,null,null,null,null,null,null,null,null,null,null,null,null,null,null,null,null,null,null,null,null,null,null,{"$f":"BP11+1","v":2},{"$f":"INDEX($BL$17:$BL$20,MATCH($BY12,TeilnNr,0))","v":"Spieler 01"},"-",{"$f":"INDEX($BL$17:$BL$20,MATCH($BZ12,TeilnNr,0))","v":"Spieler 03"},null,null,{"$f":"BV11","v":3},{"$f":"BW11","v":3},{"$f":"BX11+1","v":2},1,3,{"$f":"IF(LEFT(BU12,1)=\"V\",\"\",LEFT(BU12,1))","v":""},{"$f":"IF(RIGHT(BU12,1)=\"V\",\"\",RIGHT(BU12,1))","v":""},"$H$17","$D$19",{"$f":"CE11+1","v":2},{"$f":"INDEX($BL$17:$BL$20,MATCH($CN12,TeilnNr,0))","v":"Spieler 02"},"-",{"$f":"INDEX($BL$17:$BL$20,MATCH($CO12,TeilnNr,0))","v":"Spieler 03"},null,null,{"$f":"CK11","v":4},{"$f":"CL11","v":1},{"$f":"CM11+1","v":2},2,3,{"$f":"IF(LEFT(CJ12,1)=\"V\",\"\",LEFT(CJ12,1))","v":""},{"$f":"IF(RIGHT(CJ12,1)=\"V\",\"\",RIGHT(CJ12,1))","v":""},"$I$18","$G$19",2,{"$f":"IF(BV12>MAX(TeilnNr)-1,BQ12,BS12)","v":"Spieler 03"},"-",{"$f":"IF(BV12>MAX(TeilnNr)-1,BS12,BQ12)","v":"Spieler 01"},{"$f":"IF(ISNUMBER(BV12),IF(BV12>MAX(TeilnNr)-1,IF(BX12=1,1,IF(MOD(BX12,2)<>0,2,1)),IF(BX12=1,1,IF(MOD(BX12,2)<>0,1,2))),\"\")","v":2},null,{"$f":"IF(CX12=1,2,1)","v":1},2,null,1,2,{"$f":"IF(CK12>MAX(TeilnNr)-1,CF12,CH12)","v":"Spieler 02"},"-",{"$f":"IF(CK12>MAX(TeilnNr)-1,CH12,CF12)","v":"Spieler 03"},{"$f":"IF(ISNUMBER(CK12),IF(CK12>MAX(TeilnNr)-1,IF(CM12=1,2,IF(MOD(CM12,2)<>0,2,1)),IF(CM12=1,2,IF(MOD(CM12,2)<>0,1,2))),\"\")","v":1},null,2,1,null,2]
[null,null,null,null,null,null,null,null,null,null,null,null,null,null,null,null,null,null,null,null,null,null,null,null,null,null,null,null,null,null,null,null,null,null,null,null,null,null,null,null,null,null,null,null,null,null,null,null,null,null,null,null,null,null,null,null,null,null,null,null,null,null,null,null,null,null,null,null,null,null,null,null,null,null,null,null,null,null,null,null,null,null,null,null,null,null,null,null,null,null,null,null,null,null,null,null,null,null,null,null,null,{"$f":"IF(ISNUMBER(BV13),IF(BV13>MAX(TeilnNr)-1,2,1),\"\")","v":""},null,null,{"$f":"IF(ISNUMBER(BY13),IF(BY13>MAX(TeilnNr)-1,2,1),\"\")","v":""},null,null,null,null,null,null,{"$f":"IF(ISNUMBER(CK13),IF(CK13>MAX(TeilnNr)-1,IF(CM13=1,1,IF(MOD(CM13,2)<>0,2,1)),IF(CM13=1,2,IF(MOD(CM13,2)<>0,1,2))),\"\")","v":""},null,null,{"$f":"IF(ISNUMBER(CI13),IF(CI13>MAX(TeilnNr)-1,2,1),\"\")","v":""}]
[null,"+",null,null,null,null,null,null,null,null,null,null,null,null,{"$f":"IF(EinAusblenden=\"-\",\"\",IF(FWPlusMinus=\"+\",\"é\",\"ê\"))","v":"é"},null,null,null,null,null,null,null,null,null,null,null,null,null,null,null,null,null,null,null,null,null,null,null,null,null,null,null,null,null,null,null,null,null,null,null,null,null,null,null,null,null,null,null,null,null,null,null,null,null,null,null,null,null,{"$f":"BQ10+2","v":5},null,null,null,null,"N°","R","B","SpNr w","SpNr s","Res w","Res s",null,null,null,{"$f":"CF10+2","v":6},null,null,null,null,"N°","R","B","SpNr w","SpNr s","Res w","Res s",null,null,null,{"$f":"BQ14","v":5},null,{"$f":"IF(BQ14=MAX(TeilnNr),\"-> Bretter drehen!\",\"\")","v":""},{"$f":"IF(ISNUMBER(BV14),IF(BV14>MAX(TeilnNr)-1,2,1),\"\")","v":""},null,null,{"$f":"IF(ISNUMBER(BY14),IF(BY14>MAX(TeilnNr)-1,2,1),\"\")","v":""},null,null,null,{"$f":"CF14","v":6},null,{"$f":"IF(CF14=MAX(TeilnNr),\"-> Bretter drehen!\",\"\")","v":""},{"$f":"IF(ISNUMBER(CK14),IF(CK14>MAX(TeilnNr)-1,IF(MOD(CM14,2)<>0,2,1),IF(MOD(CM14,2)<>0,1,2)),\"\")","v":""},null,null,{"$f":"IF(ISNUMBER(CI14),IF(CI14>MAX(TeilnNr)-1,2,1),\"\")","v":""}]
[null,"Turniertabelle",null,null,null,null,null,null,null,null,null,null,null,"manuelle Feinwertung: ","+","Partien",null,null,null,"Punkte",null,null,null,null,null,"Sonneborn-Berger-Berechnung",null,null,null,null,null,{"$f":"MAX(AF17:AF20)","v":0},null,null,null,null,{"$f":"FWPlusMinus=\"+\"","v":true},"Summierung Wertungskriterien vor direkter Begegnung",null,null,null,null,null,null,null,null,null,null,null,null,"Summierung Wertungskriterien nach direkter Begegnung",null,null,null,null,null,null,null,null,null,null,null,null,null,null,null,null,{"$f":"IF(OR(INDEX($BK$17:$BK$20,BY15),INDEX($BK$17:$BK$20,BZ15)),0,1)","v":1},{"$f":"INDEX($BL$17:$BL$20,MATCH($BY15,TeilnNr,0))","v":"Spieler 03"},"-",{"$f":"INDEX($BL$17:$BL$20,MATCH($BZ15,TeilnNr,0))","v":"Spieler 04"},null,null,{"$f":"BQ14","v":5},{"$f":"IF(BQ14>MAX(TeilnNr)-1,BQ14-(MAX(TeilnNr)-1),BQ14)","v":2},1,{"$f":"IF(AND(BX15=1,MOD(BW15,2)=IF(BV15>MAX(TeilnNr)-1,1,0)),MAX(TeilnNr),IF(MOD(BX15,2)=IF(BV15>MAX(TeilnNr)-1,1,0),IF(MAX(TeilnNr)/2-BX15+1-(BW15-MAX(TeilnNr)/2-1)>=1,MAX(TeilnNr)/2-BX15+1-(BW15-MAX(TeilnNr)/2-1),MAX(TeilnNr)/2-BX15+1-(BW15-MAX(TeilnNr)/2-1)+MAX(TeilnNr)-1),IF(BX15-(BW15-1)>=1,BX15-(BW15-1),BX15-(BW15-1)+MAX(TeilnNr)-1)))","v":3},{"$f":"IF(AND(BX15=1,MOD(BW15,2)<>IF(BV15>MAX(TeilnNr)-1,1,0)),MAX(TeilnNr),IF(MOD(BX15,2)<>IF(BV15>MAX(TeilnNr)-1,1,0),IF(MAX(TeilnNr)/2-BX15+1-(BW15-MAX(TeilnNr)/2-1)>=1,MAX(TeilnNr)/2-BX15+1-(BW15-MAX(TeilnNr)/2-1),MAX(TeilnNr)/2-BX15+1-(BW15-MAX(TeilnNr)/2-1)+MAX(TeilnNr)-1),IF(BX15-(BW15-1)>=1,BX15-(BW15-1),BX15-(BW15-1)+MAX(TeilnNr)-1)))","v":4},{"$f":"IF(LEFT(BU15,1)=\"V\",\"\",LEFT(BU15,1))","v":""},{"$f":"IF(RIGHT(BU15,1)=\"V\",\"\",RIGHT(BU15,1))","v":""},{"$f":"IF(BV15>MAX(TeilnNr)-1,ADDRESS(ROW(Teilnehmer)+BY15,COLUMN(Teilnehmer)+BZ15+BZ15),ADDRESS(ROW(Teilnehmer)+BY15,COLUMN(Teilnehmer)+BZ15+BZ15-1))","v":"$K$19"},{"$f":"IF(BV15>MAX(TeilnNr)-1,ADDRESS(ROW(Teilnehmer)+BZ15,COLUMN(Teilnehmer)+BY15+BY15),ADDRESS(ROW(Teilnehmer)+BZ15,COLUMN(Teilnehmer)+BY15+BY15-1))","v":"$I$20"},{"$f":"IF(OR(INDEX($BK$17:$BK$20,CN15),INDEX($BK$17:$BK$20,CO15)),0,1)","v":1},{"$f":"INDEX($BL$17:$BL$20,MATCH($CN15,TeilnNr,0))","v":"Spieler 04"},"-",{"$f":"INDEX($BL$17:$BL$20,MATCH($CO15,TeilnNr,0))","v":"Spieler 02"},null,null,{"$f":"CF14","v":6},{"$f":"IF(CF14>MAX(TeilnNr)-1,CF14-(MAX(TeilnNr)-1),CF14)","v":3},1,{"$f":"IF(AND(CM15=1,MOD(CL15,2)=IF(CK15>MAX(TeilnNr)-1,1,0)),MAX(TeilnNr),IF(MOD(CM15,2)=IF(CK15>MAX(TeilnNr)-1,1,0),IF(MAX(TeilnNr)/2-CM15+1-(CL15-MAX(TeilnNr)/2-1)>=1,MAX(TeilnNr)/2-CM15+1-(CL15-MAX(TeilnNr)/2-1),MAX(TeilnNr)/2-CM15+1-(CL15-MAX(TeilnNr)/2-1)+MAX(TeilnNr)-1),IF(CM15-(CL15-1)>=1,CM15-(CL15-1),CM15-(CL15-1)+MAX(TeilnNr)-1)))","v":4},{"$f":"IF(AND(CM15=1,MOD(CL15,2)<>IF(CK15>MAX(TeilnNr)-1,1,0)),MAX(TeilnNr),IF(MOD(CM15,2)<>IF(CK15>MAX(TeilnNr)-1,1,0),IF(MAX(TeilnNr)/2-CM15+1-(CL15-MAX(TeilnNr)/2-1)>=1,MAX(TeilnNr)/2-CM15+1-(CL15-MAX(TeilnNr)/2-1),MAX(TeilnNr)/2-CM15+1-(CL15-MAX(TeilnNr)/2-1)+MAX(TeilnNr)-1),IF(CM15-(CL15-1)>=1,CM15-(CL15-1),CM15-(CL15-1)+MAX(TeilnNr)-1)))","v":2},{"$f":"IF(LEFT(CJ15,1)=\"V\",\"\",LEFT(CJ15,1))","v":""},{"$f":"IF(RIGHT(CJ15,1)=\"V\",\"\",RIGHT(CJ15,1))","v":""},{"$f":"IF(CK15>MAX(TeilnNr)-1,ADDRESS(ROW(Teilnehmer)+CN15,COLUMN(Teilnehmer)+CO15+CO15),ADDRESS(ROW(Teilnehmer)+CN15,COLUMN(Teilnehmer)+CO15+CO15-1))","v":"$G$20"},{"$f":"IF(CK15>MAX(TeilnNr)-1,ADDRESS(ROW(Teilnehmer)+CO15,COLUMN(Teilnehmer)+CN15+CN15),ADDRESS(ROW(Teilnehmer)+CO15,COLUMN(Teilnehmer)+CN15+CN15-1))","v":"$K$18"},{"$f":"BP15","v":1},{"$f":"BQ15","v":"Spieler 03"},"-",{"$f":"BS15","v":"Spieler 04"},{"$f":"IF(ISNUMBER(BV15),IF(BV15>MAX(TeilnNr)-1,IF(BX15=1,1,IF(MOD(BX15,2)<>0,2,1)),IF(BX15=1,1,IF(MOD(BX15,2)<>0,1,2))),\"\")","v":1},null,{"$f":"IF(CX15=1,2,1)","v":2},{"$f":"CX15","v":1},null,{"$f":"IF(CM15=1,CZ15*10,CZ15)","v":20},{"$f":"CE15","v":1},{"$f":"CH15","v":"Spieler 02"},"-",{"$f":"CF15","v":"Spieler 04"},{"$f":"IF(ISNUMBER(CK15),IF(CK15>MAX(TeilnNr)-1,IF(CM15=1,2,IF(MOD(CM15,2)<>0,2,1)),IF(CM15=1,2,IF(MOD(CM15,2)<>0,1,2))),\"\")","v":2},null,{"$f":"IF(DH15=1,2,1)","v":1},{"$f":"DH15","v":2},null,{"$f":"IF(CM15=1,DJ15*10,DJ15)","v":10}]
[null,"Nr.","Teilnehmer",1,null,2,null,3,null,4,null,"Punkte","Spiele","So-Be","FWx","weiss","schw.","Rang",null,1,2,3,4,"P",null,1,2,3,4,"So-Be",null,{"$f":"IF(O16=\"\",\"FW2\",O16)","v":"FWx"},"RangPt","RangAnz","RangSoBe","RangSw","RangFW","Wertung 1","Wertung 2","Wertung 3","Wertung 4","Wertung 5","Wertung 6","Wertung 7","Wertung 8","Wertung 9","Wertung 10","Wertung","direkte Begegnung","Rang dirBg","Wertung 1","Wertung 2","Wertung 3","Wertung 4","Wertung 5","Wertung 6","Wertung 7","Wertung 8","Wertung 9","Wertung 10","Wertung2","Rang","Platzhltr?","Name","Alphabet","Rang&Alph","Reihflge",{"$f":"BP15+1","v":2},{"$f":"INDEX($BL$17:$BL$20,MATCH($BY16,TeilnNr,0))","v":"Spieler 01"},"-",{"$f":"INDEX($BL$17:$BL$20,MATCH($BZ16,TeilnNr,0))","v":"Spieler 02"},null,null,{"$f":"BV15","v":5},{"$f":"BW15","v":2},{"$f":"BX15+1","v":2},1,2,{"$f":"IF(LEFT(BU16,1)=\"V\",\"\",LEFT(BU16,1))","v":""},{"$f":"IF(RIGHT(BU16,1)=\"V\",\"\",RIGHT(BU16,1))","v":""},"$G$17","$E$18",{"$f":"CE15+1","v":2},{"$f":"INDEX($BL$17:$BL$20,MATCH($CN16,TeilnNr,0))","v":"Spieler 03"},"-",{"$f":"INDEX($BL$17:$BL$20,MATCH($CO16,TeilnNr,0))","v":"Spieler 01"},null,null,{"$f":"CK15","v":6},{"$f":"CL15","v":3},{"$f":"CM15+1","v":2},3,1,{"$f":"IF(LEFT(CJ16,1)=\"V\",\"\",LEFT(CJ16,1))","v":""},{"$f":"IF(RIGHT(CJ16,1)=\"V\",\"\",RIGHT(CJ16,1))","v":""},"$E$19","$I$17",2,{"$f":"IF(BV16>MAX(TeilnNr)-1,BQ16,BS16)","v":"Spieler 01"},"-",{"$f":"IF(BV16>MAX(TeilnNr)-1,BS16,BQ16)","v":"Spieler 02"},{"$f":"IF(ISNUMBER(BV16),IF(BV16>MAX(TeilnNr)-1,IF(BX16=1,1,IF(MOD(BX16,2)<>0,2,1)),IF(BX16=1,1,IF(MOD(BX16,2)<>0,1,2))),\"\")","v":1},null,2,1,null,2,2,{"$f":"IF(CK16>MAX(TeilnNr)-1,CF16,CH16)","v":"Spieler 03"},"-",{"$f":"IF(CK16>MAX(TeilnNr)-1,CH16,CF16)","v":"Spieler 01"},{"$f":"IF(ISNUMBER(CK16),IF(CK16>MAX(TeilnNr)-1,IF(CM16=1,2,IF(MOD(CM16,2)<>0,2,1)),IF(CM16=1,2,IF(MOD(CM16,2)<>0,1,2))),\"\")","v":1},null,2,1,null,2]
[null,1,null,{"$f":"IF(ISNA(MATCH(ADDRESS(ROW(),COLUMN()),$CC:$CC,0)),\"\",INDEX($CA:$CA,MATCH(ADDRESS(ROW(),COLUMN()),$CC:$CC,0)))&IF(ISNA(MATCH(ADDRESS(ROW(),COLUMN()),$CD:$CD,0)),\"\",INDEX($CB:$CB,MATCH(ADDRESS(ROW(),COLUMN()),$CD:$CD,0)))&IF(ISNA(MATCH(ADDRESS(ROW(),COLUMN()),$CR:$CR,0)),\"\",INDEX($CP:$CP,MATCH(ADDRESS(ROW(),COLUMN()),$CR:$CR,0)))&IF(ISNA(MATCH(ADDRESS(ROW(),COLUMN()),$CS:$CS,0)),\"\",INDEX($CQ:$CQ,MATCH(ADDRESS(ROW(),COLUMN()),$CS:$CS,0)))","v":""},"","","","","","","",{"$f":"X17","v":0},{"$f":"MAX($B$17:$B$20)*2-COUNTIF($D17:K17,\"\")","v":0},{"$f":"AD17","v":0},null,{"$f":"IF($BK17,0,COUNTIFS($BY:$BY,$B17,$BU:$BU,\"<>\")+COUNTIFS($CN:$CN,$B17,$CJ:$CJ,\"<>\"))","v":0},{"$f":"IF($BK17,0,COUNTIFS($BZ:$BZ,$B17,$BU:$BU,\"<>\")+COUNTIFS($CO:$CO,$B17,$CJ:$CJ,\"<>\"))","v":0},{"$f":"BJ17","v":1},null,{"$f":"IF(D17=\"\",0,VLOOKUP(D17,Wertung,3,FALSE))+IF(E17=\"\",0,VLOOKUP(E17,Wertung,3,FALSE))","v":0},{"$f":"IF(F17=\"\",0,VLOOKUP(F17,Wertung,3,FALSE))+IF(G17=\"\",0,VLOOKUP(G17,Wertung,3,FALSE))","v":0},{"$f":"IF(H17=\"\",0,VLOOKUP(H17,Wertung,3,FALSE))+IF(I17=\"\",0,VLOOKUP(I17,Wertung,3,FALSE))","v":0},{"$f":"IF(J17=\"\",0,VLOOKUP(J17,Wertung,3,FALSE))+IF(K17=\"\",0,VLOOKUP(K17,Wertung,3,FALSE))","v":0},{"$f":"SUM(T17:W17)","v":0},null,{"$f":"T17*INDEX($X:$X,ROW($Z$16)+T$16)","v":0},0,0,0,{"$f":"SUM(Z17:AC17)","v":0},null,{"$f":"O17","v":0},{"$f":"RANK($X17,$X$17:$X$20,0)","v":1},{"$f":"RANK($M17,$M$17:$M$20,1)","v":1},{"$f":"RANK($AD17,$AD$17:$AD$20,0)","v":1},{"$f":"RANK($Q17,$Q$17:$Q$20,0)","v":1},{"$f":"RANK($AF17,$AF$17:$AF$20,IF($AK$15,0,1))","v":1},{"$f":"VALUE(CONCATENATE(IF(BK17,\"1\",\"0\"),TEXT($AG17,\"00\"),TEXT($AI17,\"00\"),TEXT($AK17,\"00\")))","v":10101},{"$f":"VALUE(CONCATENATE(IF(BK17,\"1\",\"0\"),TEXT($AG17,\"00\"),TEXT($AI17,\"00\")))","v":101},{"$f":"VALUE(CONCATENATE(IF(BK17,\"1\",\"0\"),TEXT($AG17,\"00\"),TEXT($AH17,\"00\"),TEXT($AI17,\"00\"),TEXT($AK17,\"00\")))","v":1010101},{"$f":"VALUE(CONCATENATE(IF(BK17,\"1\",\"0\"),TEXT($AG17,\"00\"),TEXT($AH17,\"00\"),TEXT($AI17,\"00\")))","v":10101},{"$f":"VALUE(CONCATENATE(IF(BK17,\"1\",\"0\"),TEXT($AG17,\"00\"),TEXT($AH17,\"00\"),TEXT($AI17,\"00\")))","v":10101},{"$f":"VALUE(CONCATENATE(IF(BK17,\"1\",\"0\"),TEXT($AG17,\"00\"),TEXT($AH17,\"00\"),TEXT($AI17,\"00\"),TEXT($AJ17,\"00\")))","v":1010101},{"$f":"VALUE(CONCATENATE(IF(BK17,\"1\",\"0\"),TEXT($AG17,\"00\"),TEXT($AH17,\"00\")))","v":101},{"$f":"VALUE(CONCATENATE(IF(BK17,\"1\",\"0\"),TEXT($AG17,\"00\"),TEXT($AH17,\"00\")))","v":101},{"$f":"VALUE(CONCATENATE(IF(BK17,\"1\",\"0\"),TEXT($AG17,\"00\"),TEXT($AH17,\"00\"),TEXT($AJ17,\"00\"),TEXT($AI17,\"00\")))","v":1010101},{"$f":"VALUE(CONCATENATE(IF(BK17,\"1\",\"0\"),TEXT($AG17,\"00\"),TEXT($AH17,\"00\"),TEXT($AJ17,\"00\")))","v":10101},{"$f":"INDEX($AL17:$AU17,1,WertungskriterienA)","v":10101},{"$f":"SUM((TRANSPOSE($AV$17:$AV$20)=AV17)*$T17:$W17)","v":0},{"$f":"RANK($AW17,$AW$17:$AW$20,0)","v":1},{"$f":"$AV17","v":10101},{"$f":"VALUE(CONCATENATE($AV17,TEXT($AX17,\"00\"),TEXT($AK17,\"00\")))","v":101010101},{"$f":"$AV17","v":10101},{"$f":"VALUE(CONCATENATE($AV17,TEXT($AX17,\"00\"),TEXT($AK17,\"00\")))","v":101010101},{"$f":"VALUE(CONCATENATE($AV17,TEXT($AX17,\"00\"),TEXT($AJ17,\"00\"),TEXT($AK17,\"00\")))","v":10101010101},{"$f":"VALUE(CONCATENATE($AV17,TEXT($AX17,\"00\"),TEXT($AK17,\"00\")))","v":101010101},{"$f":"VALUE(CONCATENATE($AV17,TEXT($AX17,\"00\"),TEXT($AI17,\"00\"),TEXT($AJ17,\"00\"),TEXT($AK17,\"00\")))","v":1010101010101},{"$f":"VALUE(CONCATENATE($AV17,TEXT($AX17,\"00\"),TEXT($AJ17,\"00\"),TEXT($AI17,\"00\"),TEXT($AK17,\"00\")))","v":1010101010101},{"$f":"VALUE(CONCATENATE($AV17,TEXT($AX17,\"00\"),TEXT($AK17,\"00\")))","v":101010101},{"$f":"VALUE(CONCATENATE($AV17,TEXT($AX17,\"00\"),TEXT($AI17,\"00\"),TEXT($AK17,\"00\")))","v":10101010101},{"$f":"INDEX(AY17:BH17,1,WertungskriterienA)","v":101010101},{"$f":"RANK(BI17,$BI$17:$BI$20,1)","v":1},{"$f":"IF($C17=\"\",FALSE,AND(LEN($C17)=1,OR(CODE($C17)<65,CODE($C17)>122,AND(CODE($C17)>90,CODE($C17)<97)),NOT(AND(CODE($C17)>48,CODE($C17)<58))))","v":false},{"$f":"IF(BK17,$C17,IF($C17=\"\",\"Spieler \"&TEXT($B17,\"00\"),$C17))","v":"Spieler 01"},{"$f":"IF(BK17,MAX(TeilnNr),0)+SUMPRODUCT((BL17>$BL$17:$BL$20)*1)","v":0},{"$f":"BJ17+BM17/1000+B17/1000000","v":1.0000009999999999},{"$f":"RANK(BN17,$BN$17:$BN$20,1)","v":1},null,null,null,null,null,null,null,null,null,null,null,null,null,null,null,null,null,null,null,null,null,null,null,null,null,null,null,null,null,null,null,null,null,null,{"$f":"IF(ISNUMBER(BV17),IF(BV17>MAX(TeilnNr)-1,2,1),\"\")","v":""},null,null,{"$f":"IF(ISNUMBER(BY17),IF(BY17>MAX(TeilnNr)-1,2,1),\"\")","v":""},null,null,null,null,null,null,{"$f":"IF(ISNUMBER(CK17),IF(CK17>MAX(TeilnNr)-1,IF(CM17=1,1,IF(MOD(CM17,2)<>0,2,1)),IF(CM17=1,2,IF(MOD(CM17,2)<>0,1,2))),\"\")","v":""},null,null,{"$f":"IF(ISNUMBER(CI17),IF(CI17>MAX(TeilnNr)-1,2,1),\"\")","v":""}]
[null,2,null,"","","","","","","","",0,{"$f":"MAX($B$17:$B$20)*2-COUNTIF($D18:K18,\"\")","v":0},0,null,{"$f":"IF($BK18,0,COUNTIFS($BY:$BY,$B18,$BU:$BU,\"<>\")+COUNTIFS($CN:$CN,$B18,$CJ:$CJ,\"<>\"))","v":0},{"$f":"IF($BK18,0,COUNTIFS($BZ:$BZ,$B18,$BU:$BU,\"<>\")+COUNTIFS($CO:$CO,$B18,$CJ:$CJ,\"<>\"))","v":0},1,null,{"$f":"IF(D18=\"\",0,VLOOKUP(D18,Wertung,3,FALSE))+IF(E18=\"\",0,VLOOKUP(E18,Wertung,3,FALSE))","v":0},{"$f":"IF(F18=\"\",0,VLOOKUP(F18,Wertung,3,FALSE))+IF(G18=\"\",0,VLOOKUP(G18,Wertung,3,FALSE))","v":0},{"$f":"IF(H18=\"\",0,VLOOKUP(H18,Wertung,3,FALSE))+IF(I18=\"\",0,VLOOKUP(I18,Wertung,3,FALSE))","v":0},{"$f":"IF(J18=\"\",0,VLOOKUP(J18,Wertung,3,FALSE))+IF(K18=\"\",0,VLOOKUP(K18,Wertung,3,FALSE))","v":0},{"$f":"SUM(T18:W18)","v":0},null,0,0,0,0,{"$f":"SUM(Z18:AC18)","v":0},null,{"$f":"O18","v":0},{"$f":"RANK($X18,$X$17:$X$20,0)","v":1},{"$f":"RANK($M18,$M$17:$M$20,1)","v":1},{"$f":"RANK($AD18,$AD$17:$AD$20,0)","v":1},{"$f":"RANK($Q18,$Q$17:$Q$20,0)","v":1},{"$f":"RANK($AF18,$AF$17:$AF$20,IF($AK$15,0,1))","v":1},{"$f":"VALUE(CONCATENATE(IF(BK18,\"1\",\"0\"),TEXT($AG18,\"00\"),TEXT($AI18,\"00\"),TEXT($AK18,\"00\")))","v":10101},{"$f":"VALUE(CONCATENATE(IF(BK18,\"1\",\"0\"),TEXT($AG18,\"00\"),TEXT($AI18,\"00\")))","v":101},{"$f":"VALUE(CONCATENATE(IF(BK18,\"1\",\"0\"),TEXT($AG18,\"00\"),TEXT($AH18,\"00\"),TEXT($AI18,\"00\"),TEXT($AK18,\"00\")))","v":1010101},{"$f":"VALUE(CONCATENATE(IF(BK18,\"1\",\"0\"),TEXT($AG18,\"00\"),TEXT($AH18,\"00\"),TEXT($AI18,\"00\")))","v":10101},{"$f":"VALUE(CONCATENATE(IF(BK18,\"1\",\"0\"),TEXT($AG18,\"00\"),TEXT($AH18,\"00\"),TEXT($AI18,\"00\")))","v":10101},{"$f":"VALUE(CONCATENATE(IF(BK18,\"1\",\"0\"),TEXT($AG18,\"00\"),TEXT($AH18,\"00\"),TEXT($AI18,\"00\"),TEXT($AJ18,\"00\")))","v":1010101},{"$f":"VALUE(CONCATENATE(IF(BK18,\"1\",\"0\"),TEXT($AG18,\"00\"),TEXT($AH18,\"00\")))","v":101},{"$f":"VALUE(CONCATENATE(IF(BK18,\"1\",\"0\"),TEXT($AG18,\"00\"),TEXT($AH18,\"00\")))","v":101},{"$f":"VALUE(CONCATENATE(IF(BK18,\"1\",\"0\"),TEXT($AG18,\"00\"),TEXT($AH18,\"00\"),TEXT($AJ18,\"00\"),TEXT($AI18,\"00\")))","v":1010101},{"$f":"VALUE(CONCATENATE(IF(BK18,\"1\",\"0\"),TEXT($AG18,\"00\"),TEXT($AH18,\"00\"),TEXT($AJ18,\"00\")))","v":10101},{"$f":"INDEX($AL18:$AU18,1,WertungskriterienA)","v":10101},{"$f":"SUM((TRANSPOSE($AV$17:$AV$20)=AV18)*$T18:$W18)","v":0},{"$f":"RANK($AW18,$AW$17:$AW$20,0)","v":1},10101,101010101,10101,101010101,10101010101,101010101,1010101010101,1010101010101,101010101,10101010101,{"$f":"INDEX(AY18:BH18,1,WertungskriterienA)","v":101010101},{"$f":"RANK(BI18,$BI$17:$BI$20,1)","v":1},{"$f":"IF($C18=\"\",FALSE,AND(LEN($C18)=1,OR(CODE($C18)<65,CODE($C18)>122,AND(CODE($C18)>90,CODE($C18)<97)),NOT(AND(CODE($C18)>48,CODE($C18)<58))))","v":false},"Spieler 02",{"$f":"IF(BK18,MAX(TeilnNr),0)+SUMPRODUCT((BL18>$BL$17:$BL$20)*1)","v":1},{"$f":"BJ18+BM18/1000+B18/1000000","v":1.0010019999999999},{"$f":"RANK(BN18,$BN$17:$BN$20,1)","v":2},null,null,null,null,null,null,null,null,null,null,null,null,null,null,null,null,null,null,null,null,null,null,null,null,null,null,null,null,null,null,null,null,null,null,{"$f":"IF(ISNUMBER(BV18),IF(BV18>MAX(TeilnNr)-1,2,1),\"\")","v":""},null,null,{"$f":"IF(ISNUMBER(BY18),IF(BY18>MAX(TeilnNr)-1,2,1),\"\")","v":""},null,null,null,null,null,null,{"$f":"IF(ISNUMBER(CK18),IF(CK18>MAX(TeilnNr)-1,IF(MOD(CM18,2)<>0,2,1),IF(MOD(CM18,2)<>0,1,2)),\"\")","v":""},null,null,{"$f":"IF(ISNUMBER(CI18),IF(CI18>MAX(TeilnNr)-1,2,1),\"\")","v":""}]
[null,3,null,"","","","","","","","",0,{"$f":"MAX($B$17:$B$20)*2-COUNTIF($D19:K19,\"\")","v":0},0,null,{"$f":"IF($BK19,0,COUNTIFS($BY:$BY,$B19,$BU:$BU,\"<>\")+COUNTIFS($CN:$CN,$B19,$CJ:$CJ,\"<>\"))","v":0},{"$f":"IF($BK19,0,COUNTIFS($BZ:$BZ,$B19,$BU:$BU,\"<>\")+COUNTIFS($CO:$CO,$B19,$CJ:$CJ,\"<>\"))","v":0},1,null,{"$f":"IF(D19=\"\",0,VLOOKUP(D19,Wertung,3,FALSE))+IF(E19=\"\",0,VLOOKUP(E19,Wertung,3,FALSE))","v":0},{"$f":"IF(F19=\"\",0,VLOOKUP(F19,Wertung,3,FALSE))+IF(G19=\"\",0,VLOOKUP(G19,Wertung,3,FALSE))","v":0},{"$f":"IF(H19=\"\",0,VLOOKUP(H19,Wertung,3,FALSE))+IF(I19=\"\",0,VLOOKUP(I19,Wertung,3,FALSE))","v":0},{"$f":"IF(J19=\"\",0,VLOOKUP(J19,Wertung,3,FALSE))+IF(K19=\"\",0,VLOOKUP(K19,Wertung,3,FALSE))","v":0},{"$f":"SUM(T19:W19)","v":0},null,0,0,0,0,{"$f":"SUM(Z19:AC19)","v":0},null,{"$f":"O19","v":0},{"$f":"RANK($X19,$X$17:$X$20,0)","v":1},{"$f":"RANK($M19,$M$17:$M$20,1)","v":1},{"$f":"RANK($AD19,$AD$17:$AD$20,0)","v":1},{"$f":"RANK($Q19,$Q$17:$Q$20,0)","v":1},{"$f":"RANK($AF19,$AF$17:$AF$20,IF($AK$15,0,1))","v":1},10101,101,1010101,10101,10101,1010101,101,101,1010101,10101,{"$f":"INDEX($AL19:$AU19,1,WertungskriterienA)","v":10101},{"$f":"SUM((TRANSPOSE($AV$17:$AV$20)=AV19)*$T19:$W19)","v":0},{"$f":"RANK($AW19,$AW$17:$AW$20,0)","v":1},10101,101010101,10101,101010101,10101010101,101010101,1010101010101,1010101010101,101010101,10101010101,{"$f":"INDEX(AY19:BH19,1,WertungskriterienA)","v":101010101},{"$f":"RANK(BI19,$BI$17:$BI$20,1)","v":1},false,"Spieler 03",{"$f":"IF(BK19,MAX(TeilnNr),0)+SUMPRODUCT((BL19>$BL$17:$BL$20)*1)","v":2},{"$f":"BJ19+BM19/1000+B19/1000000","v":1.002003},{"$f":"RANK(BN19,$BN$17:$BN$20,1)","v":3}]
[null,4,null,"","","","","","","","",0,{"$f":"MAX($B$17:$B$20)*2-COUNTIF($D20:K20,\"\")","v":0},0,null,{"$f":"IF($BK20,0,COUNTIFS($BY:$BY,$B20,$BU:$BU,\"<>\")+COUNTIFS($CN:$CN,$B20,$CJ:$CJ,\"<>\"))","v":0},{"$f":"IF($BK20,0,COUNTIFS($BZ:$BZ,$B20,$BU:$BU,\"<>\")+COUNTIFS($CO:$CO,$B20,$CJ:$CJ,\"<>\"))","v":0},1,null,{"$f":"IF(D20=\"\",0,VLOOKUP(D20,Wertung,3,FALSE))+IF(E20=\"\",0,VLOOKUP(E20,Wertung,3,FALSE))","v":0},{"$f":"IF(F20=\"\",0,VLOOKUP(F20,Wertung,3,FALSE))+IF(G20=\"\",0,VLOOKUP(G20,Wertung,3,FALSE))","v":0},{"$f":"IF(H20=\"\",0,VLOOKUP(H20,Wertung,3,FALSE))+IF(I20=\"\",0,VLOOKUP(I20,Wertung,3,FALSE))","v":0},{"$f":"IF(J20=\"\",0,VLOOKUP(J20,Wertung,3,FALSE))+IF(K20=\"\",0,VLOOKUP(K20,Wertung,3,FALSE))","v":0},{"$f":"SUM(T20:W20)","v":0},null,0,0,0,0,{"$f":"SUM(Z20:AC20)","v":0},null,{"$f":"O20","v":0},{"$f":"RANK($X20,$X$17:$X$20,0)","v":1},{"$f":"RANK($M20,$M$17:$M$20,1)","v":1},{"$f":"RANK($AD20,$AD$17:$AD$20,0)","v":1},{"$f":"RANK($Q20,$Q$17:$Q$20,0)","v":1},{"$f":"RANK($AF20,$AF$17:$AF$20,IF($AK$15,0,1))","v":1},10101,101,1010101,10101,10101,1010101,101,101,1010101,10101,{"$f":"INDEX($AL20:$AU20,1,WertungskriterienA)","v":10101},{"$f":"SUM((TRANSPOSE($AV$17:$AV$20)=AV20)*$T20:$W20)","v":0},{"$f":"RANK($AW20,$AW$17:$AW$20,0)","v":1},10101,101010101,10101,101010101,10101010101,101010101,1010101010101,1010101010101,101010101,10101010101,{"$f":"INDEX(AY20:BH20,1,WertungskriterienA)","v":101010101},{"$f":"RANK(BI20,$BI$17:$BI$20,1)","v":1},false,"Spieler 04",{"$f":"IF(BK20,MAX(TeilnNr),0)+SUMPRODUCT((BL20>$BL$17:$BL$20)*1)","v":3},{"$f":"BJ20+BM20/1000+B20/1000000","v":1.0030039999999998},{"$f":"RANK(BN20,$BN$17:$BN$20,1)","v":4}]
[null,null,{"$f":"\"-> bei nur \"&MAX(TeilnNr)-1&\" Spielern an Pos. \"&MAX(TeilnNr)&\" einen Stern (*) eintragen\"","v":"-> bei nur 3 Spielern an Pos. 4 einen Stern (*) eintragen"},null,null,null,null,null,null,null,null,null,{"$f":"SUM(M17:M20)","v":0},null,null,{"$f":"SUM(P17:P20)","v":0},{"$f":"SUM(Q17:Q20)","v":0}]